{"text_format":"1","workbook":"xlsx","n_sheets":26,"sheets":["DATA","Controls1","Controls","Tables","WorksheetsTabs","SummaryTabControlsValues","Business Logic","Instructions","Summary","Funding Request","Signature - Affirm. Action Stmt","HTC Owner Cert","Project Description","Property Information","Housing Income","Income & Expense","Mortgage Calc","Cash Flow","Development Costs","Sources","HTC Info","Determination of Credit","Development Team","Buildings","Amortization","Controls Properties"],"not_rendered":{"charts":0,"images":5,"macros":1,"external_links":0,"defined_names":2878,"comments":12,"pivot_tables":0},"unopened":[],"bounds":{"document_bytes":16777216,"sheet_cells":100000,"rows_first":2000,"rows_last":500,"rows_between":2000,"halvings":0,"cell_chars":16384,"cell_head_chars":4096},"cells_cut":0,"cells_raw":0,"read":"whole","date_system":"1900"}

{"sheet":"DATA","index":0,"n_rows":4056,"n_cols":45,"rows_kept":2250,"cut":true,"hidden":true,"merged":[[50,9,50,18],[50,19,50,20],[50,21,50,24],[51,9,51,18],[51,19,51,20],[51,21,51,24],[0,40,0,41],[14,34,14,35],[49,9,49,18],[49,19,49,20],[49,21,49,24]],"bounds":{"rows_first":1000,"rows_last":250,"rows_between":1000,"halvings":1}}
["County","City (unique)","State",null,null,"App Type",null,"Type of Construction",null,"Type of Building",null,"Covered Parking",null,"Site Control",null,null,"Planning and Zoning",null,null,"Historic Pres Part I",null,"Federal Subsidy",null,null,null,"Risk of Loss",null,null,null,null,"State and Local Subsidy",null,null,null,"Subsidy Type",null,"Legal Status",null,null,"Interest Type","Construction Type",null,"OS Use Type","City NOT USED (Unique)","State"]
["Aitkin","Aastad","AL",null,null,"Consolidated RFP",null,"Wood Frame",null,"Duplex",null,"Attached Garage",null,"Contract for Deed",null,null,"Comp Plan",null,null,"Pending",null,"221(d)(3) Below Market Interest Rate",null,null,null,"No",null,null,null,null,"MN Hsg Rent Assistance",null,null,null,"State",null,"Community Development Agency",null,null,"Compound","New Construction",null,"Tenant Service Coord.","Aastad","AL"]
["Anoka","Aberdeen Line Junction","AK",null,null,"HTC Round 2",null,"Steel Frame",null,"Elevator",null,"Detached Garage",null,"Development Agreement",null,null,"TIF",null,null,"Submitted",null,"Section 236",null,null,null,"Yes, at Imminent Risk of Loss Due to Conversion",null,null,null,null,"MN Hsg Operating Subsidy",null,null,null,"Local",null,"Corporation",null,null,"Simple","Rehabilitation",null,"Front Desk","Aberdeen Line Junction","AK"]
["Becker","Acoma","AZ",null,null,"Pipeline",null,"Concrete",null,"Single Family",null,"Underground",null,"Donation",null,null,"PUD",null,null,"Approved",null,"Traditional Section 8",null,null,null,"Yes, at High Risk Due to Physical Needs",null,null,null,null,"DHS HSASMI Operating Subsidy",null,null,null,null,null,"Economic Develompent Agency",null,null,null,null,null,"Revenue Shortfall","Acoma","AZ"]
["Beltrami","Acton","AR",null,null,"RRDL",null,"Combination",null,"Townhouse",null,"Ramp",null,"Fee Simple",null,null,null,null,null,"N/A",null,"Rural Development Sec 515",null,null,null,"Yes, at High Risk Due to Change in Ownership",null,null,null,null,"GRH",null,null,null,null,null,"General Partnership",null,null,null,null,null,null,"Acton","AR"]
["Benton","Ada","CA",null,null,"OS Renewal",null,null,null,"Walk-up",null,null,null,"Lease",null,null,null,null,null,null,null,"Hollman Funds",null,null,null,null,null,null,null,null,"Other",null,null,null,null,null,"Housing Authority",null,null,null,null,null,null,"Ada","CA"]
["Big Stone","Adams","CO",null,null,"RA Renewal",null,null,null,"Combination",null,null,null,"Letter of Intent'",null,null,null,null,null,null,null,"PBV Section 8",null,null,null,null,null,null,null,null,null,null,null,null,null,null,"Husband and Wife",null,null,null,null,null,null,"Adams","CO"]
["Blue Earth","Adams Township","CT",null,null,null,null,null,null,null,null,null,null,"Purchase/Option Agreement",null,null,null,null,null,null,null,"SRO-Mod Rehab PBA",null,null,null,null,null,null,null,null,null,null,null,null,null,null,"Individual",null,null,null,null,null,null,"Adams Township","CT"]
["Brown","Addington Spur","DE",null,null,null,null,null,null,null,null,null,null,"Tribal Land",null,null,null,null,null,null,null,"COC Rental Assistance",null,null,null,null,null,null,null,null,null,null,null,null,null,null,"Limited Liability Company",null,null,null,null,null,null,"Addington Spur","DE"]
["Carlton","Adolph","DC",null,null,null,null,null,null,null,null,null,null,null,null,null,null,null,null,null,null,"Emergency Shelter Grant OS",null,null,null,null,null,null,null,null,null,null,null,null,null,null,"Limited Liability Limited Partnership",null,null,null,null,null,null,"Adolph","DC"]
["Carver","Adrian","FL",null,null,null,null,null,null,null,null,null,null,null,null,null,null,null,null,null,null,"Other",null,null,null,null,null,null,null,null,null,null,null,null,null,null,"Limited Liability Partnership",null,null,null,null,null,null,"Adrian","FL"]
["Cass","Adrian Township","GA",null,null,null,null,null,null,null,null,null,null,null,null,null,null,null,null,null,null,null,null,null,null,null,null,null,null,null,null,null,null,null,null,null,"Limited Partnership",null,null,null,null,null,null,"Adrian Township","GA"]
["Chippewa","Aetna","HI",null,null,null,null,null,null,null,null,null,null,null,null,null,null,null,null,null,null,null,null,null,null,null,null,null,null,null,null,null,null,null,null,null,"Local Government",null,null,null,null,null,null,"Aetna","HI"]
["Chisago","Afton","ID",null,null,null,null,null,null,null,null,null,null,null,null,null,null,null,null,null,null,null,null,null,null,null,null,null,null,null,null,null,null,null,null,null,"Non Profit Corporation",null,null,null,null,null,null,"Afton","ID"]
["Clay","Afton Township","IL",null,null,"Unit Type","Rent Limit Restriction",null,"Income Limit Restriction",null,null,"Utility Type",null,"RA/OS Type of Source",null,null,"RA/OS Name of Source","RA/OS Name of Source w Bridge",null,null,"Contribution",null,null,null,"Type of Credits",null,null,"Allocator",null,"Renewal Type",null,null,null,null,"Occupied ",null,"Non Profit Corporation - CHDO",null,null,"Mortgageable Reserves",null,null,null,"Afton Township","IL"]
["Clearwater","Agassiz","IN",null,null,"0BR/SRO","30% MTSP",null,"30% MTSP",null,null,"Electric",null,"Rental Assistance",null,null,"MN Hsg Operating Subsidy","MN Hsg Operating Subsidy",null,null,"Monetary Grant",null,null,null,"MHFA",null,null,"Minnesota Housing",null,"1 - Mark-Up-To-Market",null,null,null,null,"Yes",null,"Non Profit Organization",null,null,"Replacement Reserve",null,null,null,"Agassiz","IN"]
["Cook","Agate","IA",null,null,"1BR","50% MTSP",null,"50% MTSP",null,null,"Natural Gas",null,"Operating Subsidy",null,null,"MN Hsg Rental Assistance","MN Hsg Rental Assistance",null,null,"Monetary Donation",null,null,null,"MHFA Supplemental",null,null,"Dakota County",null,"2 - Rents at or below comparable market",null,null,null,null,"No",null,"Non Profit Organization - CHDO",null,null,"Operating Reserve",null,null,null,"Agate","IA"]
["Cottonwood","Agder","KS",null,null,"2BR","60% MTSP",null,"60% MTSP",null,null,"Oil",null,null,null,null,"CDBG RA","Bridges",null,null,"TIF Abatement",null,null,null,"Joint Powers Agreement",null,null,"St. Paul",null,"3 - OMHAR (contract rents greater than market)",null,null,null,null,"N/A",null,"Other",null,null,"Rent Up Reserve",null,null,null,"Agder","KS"]
["Crow Wing","Agram","KY",null,null,"3BR","30/30 MM",null,1,null,null,"Propane",null,null,null,null,"DHS HSASMI Operating Subsidy","Emergency Solutions Grant",null,null,"Tax Abatement",null,null,null,"Joint Power Supplemental",null,null,"Washington County",null,"4 - Exception projects (exempt from OMHAR)",null,null,null,null,null,null,"Sole Proprietorship",null,null,"Debt Service Reserve",null,null,null,"Agram","KY"]
["Dakota","Ah-Gwah-Ching","LA",null,null,"4BR","ALW",null,"30/30 MM",null,null,"Steam",null,null,null,null,"Emergency Grant Solutions (fka ESG)","Group Residential Housing",null,null,"Land Donation",null,null,null,"Suballocator",null,null,"Minneapolis",null,"5 - Portoflio Reengineering Demonstration",null,null,null,null,null,null,null,null,null,"Other",null,null,null,"Ah-Gwah-Ching","LA"]
["Dodge","Airlie","ME",null,null,"5BR","Market",null,"80>S/AMI",null,null,null,null,null,null,null,"Group Residential Housing","HOME TBRA",null,null,"City Land Writedown",null,null,null,"Suballocator Supplemental",null,null,"Duluth",null,"6 - Opt-Out",null,null,null,null,null,null,null,null,null,null,null,null,null,"Airlie","ME"]
["Douglas","Aitkin","MD",null,null,"6BR","RRDL limit",null,"None",null,null,null,null,null,null,null,"HOME TBRA","HOPWA",null,null,"Regulatory Cost Avoidance Measures",null,null,null,"MHFA Tax Exempt Bond",null,null,"St. Cloud",null,null,null,null,null,null,null,null,null,null,null,null,null,null,null,"Aitkin","MD"]
["Faribault","Aitkin Township","MA",null,null,null,null,null,null,null,null,null,null,null,null,null,"HOPWA","HUD 202 RA",null,null,"Regulatory Cost Reduction Measures",null,null,null,"Non-MHFA Tax Exempt Bond",null,null,"Rochester",null,null,null,null,null,null,null,null,null,null,null,null,null,null,null,"Aitkin Township","MA"]
["Fillmore","Akeley","MI",null,null,null,null,null,null,null,null,null,null,null,null,null,"HUD 202 RA","HUD COC Leasing",null,null,"NPV of Below Market Interest Rate",null,null,null,null,null,null,null,null,null,null,null,null,null,null,null,null,null,null,null,null,null,null,"Akeley","MI"]
["Freeborn","Akeley Township","MN",null,null,null,null,null,null,null,null,null,null,null,null,null,"HUD CoC Operating Funds","HUD CoC Operating Funds",null,null,"In-Kind Contribution",null,null,null,null,null,null,null,null,null,null,null,null,null,null,null,null,null,null,null,null,null,null,"Akeley Township","MN"]
["Goodhue","Akron","MS",null,null,null,null,null,null,null,null,null,null,null,null,null,"HUD CoC RA (fka S+C)","HUD CoC RA (fka S+C)",null,null,"Labor Donation",null,null,null,null,null,null,null,null,null,null,null,null,null,null,null,null,null,null,null,null,null,null,"Akron","MS"]
["Grant","Alango","MO",null,null,null,null,null,null,null,null,null,null,null,null,null,"HUD Section 811 PRA","HUD Section 811 PRA",null,null,"Materials Donation",null,null,null,null,null,null,null,null,null,null,null,null,null,null,null,null,null,null,null,null,null,null,"Alango","MO"]
["Hennepin","Alaska","MT",null,null,null,null,null,null,null,null,null,null,null,null,null,"Metro HRA Project Based","Metro HRA Project Based",null,null,"Service Donation",null,null,null,null,null,null,null,null,null,null,null,null,null,null,null,null,null,null,null,null,null,null,"Alaska","MT"]
["Houston","Alba","NE",null,null,"RA_Months",null,null,"RA_Years",null,null,null,null,null,null,null,"Minneapolis PHA Project Based","Minneapolis PHA Project Based",null,null,null,null,null,null,null,null,null,null,null,null,null,null,null,null,null,null,null,null,null,null,null,null,null,"Alba","NE"]
["Hubbard","Albany","NV",null,null,1,null,null,2014,null,null,null,null,null,null,null,"NAHASDA TBRA","NAHASDA TBRA",null,null,null,null,null,null,null,null,null,null,null,null,null,null,null,null,null,null,null,null,null,null,null,null,null,"Albany","NV"]
["Isanti","Albany Township","NH",null,null,2,null,null,2015,null,null,null,null,null,null,null,"RD RA","RD RA",null,null,null,null,null,null,null,null,null,null,null,null,null,null,null,null,null,null,null,null,null,null,null,null,null,"Albany Township","NH"]
["Itasca","Albert Lea","NJ",null,null,3,null,null,2016,null,null,null,null,null,null,null,"St. Paul PHA Project Based","St. Paul PHA Project Based",null,null,null,null,null,null,null,null,null,null,null,null,null,null,null,null,null,null,null,null,null,null,null,null,null,"Albert Lea","NJ"]
["Jackson","Albert Lea Township","NM",null,null,4,null,null,2017,null,null,null,null,null,null,null,"VASH RA","VASH RA",null,null,null,null,null,null,null,null,null,null,null,null,null,null,null,null,null,null,null,null,null,null,null,null,null,"Albert Lea Township","NM"]
["Kanabec","Alberta","NY",null,null,5,null,null,2018,null,null,null,null,null,null,null,null,"Other",null,null,null,null,null,null,null,null,null,null,null,null,null,null,null,null,null,null,null,null,null,null,null,null,null,"Alberta","NY"]
["Kandiyohi","Alberta Township","NC",null,null,6,null,null,2019,null,null,null,null,null,null,null,null,null,null,null,null,null,null,null,null,null,null,null,null,null,null,null,null,null,null,null,null,null,null,null,null,null,null,"Alberta Township","NC"]
["Kittson","Albertville","ND",null,null,7,null,null,2020,null,null,null,null,null,null,null,null,null,null,null,null,null,null,null,null,null,null,null,null,null,null,null,null,null,null,null,null,null,null,null,null,null,null,"Albertville","ND"]
["Koochiching","Albin","OH",null,null,8,null,null,null,null,null,null,null,null,null,null,null,null,null,null,null,null,null,null,null,null,null,null,null,null,null,null,null,null,null,null,null,null,null,null,null,null,null,"Albin","OH"]
["Lac Qiu Parle","Albion","OK",null,null,9,null,null,null,null,null,null,null,null,null,null,null,null,null,null,null,null,null,null,null,null,null,null,null,null,null,null,null,null,null,null,null,null,null,null,null,null,null,"Albion","OK"]
["Lake","Albion Center","OR",null,null,10,null,null,null,null,null,null,null,null,null,null,null,null,null,null,null,null,null,null,null,null,null,null,null,null,null,null,null,null,null,null,null,null,null,null,null,null,null,"Albion Center","OR"]
["Lake of the Woods","Alborn","PA",null,null,11,null,null,null,null,null,null,null,null,null,null,null,null,null,null,null,null,null,null,null,null,null,null,null,null,null,null,null,null,null,null,null,null,null,null,null,null,null,"Alborn","PA"]
["Le Sueur","Alborn Township","RI",null,null,12,null,null,null,null,null,null,null,null,null,null,null,null,null,null,null,null,null,null,null,null,null,null,null,null,null,null,null,null,null,null,null,null,null,null,null,null,null,"Alborn Township","RI"]
["Lincoln","Albright","SC",null,null,null,null,null,null,null,null,null,null,null,null,null,null,null,null,null,null,null,null,null,null,null,null,null,null,null,null,null,null,null,null,null,null,null,null,null,null,null,null,"Albright","SC"]
["Lyon","Alden","SD",null,null,null,null,null,null,null,null,null,null,null,null,null,null,null,null,null,null,null,null,null,null,null,null,null,null,null,null,null,null,null,null,null,null,null,null,null,null,null,null,"Alden","SD"]
["Mahnomen","Alden Township","TN",null,null,null,null,null,null,null,null,null,null,null,null,null,null,null,null,null,null,null,null,null,null,null,null,null,null,null,null,null,null,null,null,null,null,null,null,null,null,null,null,"Alden Township","TN"]
["Marshall","Alder","TX",null,null,null,null,null,null,null,null,null,null,null,null,null,null,null,null,null,null,null,null,null,null,null,null,null,null,null,null,null,null,null,null,null,null,null,null,null,null,null,null,"Alder","TX"]
["Martin","Aldrich","UT",null,null,null,null,null,null,null,null,null,null,null,null,null,null,null,null,null,null,null,null,null,null,null,null,null,null,null,null,null,null,null,null,null,null,null,null,null,null,null,null,"Aldrich","UT"]
["McLeod","Aldrich Township","VT",null,null,null,null,null,null,null,null,null,null,null,null,null,null,null,null,null,null,null,null,null,null,null,null,null,null,null,null,null,null,null,null,null,null,null,null,null,null,null,null,"Aldrich Township","VT"]
["Meeker","Alexandria","BA",null,null,null,null,null,null,null,null,null,null,null,null,null,null,null,null,null,null,null,null,null,null,null,null,null,null,null,null,null,null,null,null,null,null,null,null,null,null,null,null,"Alexandria","BA"]
["Mille Lacs","Alexandria Township","WA",null,null,null,null,null,null,null,null,null,null,null,null,null,null,null,null,null,null,null,null,null,null,null,null,null,null,null,null,null,null,null,null,null,null,null,null,null,null,null,null,"Alexandria Township","WA"]
["Morrison","Alford","WV",null,null,null,null,null,null,null,null,null,null,null,null,null,null,null,null,null,null,null,null,null,null,null,null,null,null,null,null,null,null,null,null,null,null,null,null,null,null,null,null,"Alford","WV"]
["Mower","Alfsborg","WI",null,null,null,null,null,null,null,null,null,null,null,null,null,null,null,null,null,null,null,null,null,null,null,null,null,null,null,null,null,null,null,null,null,null,null,null,null,null,null,null,"Alfsborg","WI"]
["Murray","Alger","WY",null,null,null,null,null,null,null,null,null,null,null,null,null,null,null,null,null,null,null,null,null,null,null,null,null,null,null,null,null,null,null,null,null,null,null,null,null,null,null,null,"Alger","WY"]
["Nicollet","Alida",null,null,null,null,null,null,null,null,null,null,null,null,null,null,null,null,null,null,null,null,null,null,null,null,null,null,null,null,null,null,null,null,null,null,null,null,null,null,null,null,null,"Alida"]
["Nobles","Allen Junction",null,null,null,null,null,null,null,null,null,null,null,null,null,null,null,null,null,null,null,null,null,null,null,null,null,null,null,null,null,null,null,null,null,null,null,null,null,null,null,null,null,"Allen Junction"]
["Norman","Alliance",null,null,null,null,null,null,null,null,null,null,null,"Subsidy Request Type",null,null,null,null,"Operating Subsidy Type",null,null,"Rent Asst Type",null,null,null,null,null,null,null,null,null,null,null,null,null,null,null,null,null,null,null,null,null,"Alliance"]
["Olmsted","Alma",null,null,null,null,null,null,null,null,null,null,null,"MN Hsg Rental Assistance:",null,null,null,null,"MN Hsg OS",null,null,"PB Section 8",null,null,null,null,null,null,null,null,null,null,null,null,null,null,null,null,null,null,null,null,null,"Alma"]
["Otter Tail","Alma City",null,null,null,null,null,null,null,null,null,null,null,"        HTF RA",null,null,null,null,"DHS HSASMI OS",null,null,"HUD COC RA",null,null,null,null,null,null,null,null,null,null,null,null,null,null,null,null,null,null,null,null,null,"Alma City"]
["Pennington","Almelund",null,null,null,null,null,null,null,null,null,null,null,"        Bridges RA",null,null,null,null,"HUD CoC Operating Funds",null,null,"MN Hsg RA",null,null,null,null,null,null,null,null,null,null,null,null,null,null,null,null,null,null,null,null,null,"Almelund"]
["Pine","Almond",null,null,null,null,null,null,null,null,null,null,null,"Metro HRA Project Based",null,null,null,null,"Other",null,null,"HUD 811 PRA",null,null,null,null,null,null,null,null,null,null,null,null,null,null,null,null,null,null,null,null,null,"Almond"]
["Pipestone","Almora",null,null,null,null,null,null,null,null,null,null,null,"St. Paul PHA Project Based",null,null,null,null,null,null,null,"GRH",null,null,null,null,null,null,null,null,null,null,null,null,null,null,null,null,null,null,null,null,null,"Almora"]
["Polk","Alpha",null,null,null,null,null,null,null,null,null,null,null,"Minneapolis PHA Project Based",null,null,null,null,null,null,null,"VASH RA",null,null,null,null,null,null,null,null,null,null,null,null,null,null,null,null,null,null,null,null,null,"Alpha"]
["Pope","Alta Vista",null,null,null,null,null,null,null,null,null,null,null,"HOPWA",null,null,null,null,null,null,null,"HOME TBRA",null,null,null,null,null,null,null,null,null,null,null,null,null,null,null,null,null,null,null,null,null,"Alta Vista"]
["Ramsey","Alton",null,null,null,null,null,null,null,null,null,null,null,"HUD Section 811",null,null,null,null,null,null,null,"RD RA",null,null,null,null,null,null,null,null,null,null,null,null,null,null,null,null,null,null,null,null,null,"Alton"]
["Red Lake","Altona",null,null,null,null,null,null,null,null,null,null,null,"MN Hsg Operating Subsidy",null,null,null,null,null,null,null,"NAHASDA TBRA",null,null,null,null,null,null,null,null,null,null,null,null,null,null,null,null,null,null,null,null,null,"Altona"]
["Redwood","Altura",null,null,null,null,null,null,null,null,null,null,null,"DHS HSASMI Operating Subsidy",null,null,null,null,null,null,null,"HOPWA",null,null,null,null,null,null,null,null,null,null,null,null,null,null,null,null,null,null,null,null,null,"Altura"]
["Renville","Alvarado",null,null,null,null,null,null,null,null,null,null,null,null,null,null,null,null,null,null,null,"HUD 202 RA",null,null,null,null,null,null,null,null,null,null,null,null,null,null,null,null,null,null,null,null,null,"Alvarado"]
["Rice","Alvwood",null,null,null,null,null,null,null,null,null,null,null,null,null,null,null,null,null,null,null,"CDBG RA",null,null,null,null,null,null,null,null,null,null,null,null,null,null,null,null,null,null,null,null,null,"Alvwood"]
["Rock","Alvwood Township",null,null,null,null,null,null,null,null,null,null,null,null,null,null,null,null,null,null,null,"Other",null,null,null,null,null,null,null,null,null,null,null,null,null,null,null,null,null,null,null,null,null,"Alvwood Township"]
["Roseau","Amador",null,null,null,null,null,null,null,null,null,null,null,null,null,null,null,null,null,null,null,null,null,null,null,null,null,null,null,null,null,null,null,null,null,null,null,null,null,null,null,null,null,"Amador"]
["Saint Louis","Amboy",null,null,null,null,null,null,null,null,null,null,null,null,null,null,null,null,null,null,null,null,null,null,null,null,null,null,null,null,null,null,null,null,null,null,null,null,null,null,null,null,null,"Amboy"]
["Scott","Amboy Township",null,null,null,null,null,null,null,null,null,null,null,null,null,null,null,null,null,null,null,null,null,null,null,null,null,null,null,null,null,null,null,null,null,null,null,null,null,null,null,null,null,"Amboy Township"]
["Sherburne","Amherst",null,null,null,null,null,null,null,null,null,null,null,null,null,null,null,null,null,null,null,null,null,null,null,null,null,null,null,null,null,null,null,null,null,null,null,null,null,null,null,null,null,"Amherst"]
["Sibley","Amherst Township",null,null,null,null,null,null,null,null,null,null,null,null,null,null,null,null,null,null,null,null,null,null,null,null,null,null,null,null,null,null,null,null,null,null,null,null,null,null,null,null,null,"Amherst Township"]
["Stearns","Amiret",null,null,null,null,null,null,null,null,null,null,null,null,null,null,null,null,null,null,null,null,null,null,null,null,null,null,null,null,null,null,null,null,null,null,null,null,null,null,null,null,null,"Amiret"]
["Steele","Amiret Township",null,null,null,null,null,null,null,null,null,null,null,null,null,null,null,null,null,null,null,null,null,null,null,null,null,null,null,null,null,null,null,null,null,null,null,null,null,null,null,null,null,"Amiret Township"]
["Stevens","Amo",null,null,null,null,null,null,null,null,null,null,null,null,null,null,null,null,null,null,null,null,null,null,null,null,null,null,null,null,null,null,null,null,null,null,null,null,null,null,null,null,null,"Amo"]
["Swift","Amor",null,null,null,null,null,null,null,null,null,null,null,null,null,null,null,null,null,null,null,null,null,null,null,null,null,null,null,null,null,null,null,null,null,null,null,null,null,null,null,null,null,"Amor"]
["Todd","Amor Township",null,null,null,null,null,null,null,null,null,null,null,null,null,null,null,null,null,null,null,null,null,null,null,null,null,null,null,null,null,null,null,null,null,null,null,null,null,null,null,null,null,"Amor Township"]
["Traverse","Andover",null,null,null,null,null,null,null,null,null,null,null,null,null,null,null,null,null,null,null,null,null,null,null,null,null,null,null,null,null,null,null,null,null,null,null,null,null,null,null,null,null,"Andover"]
["Wabasha","Andover Township",null,null,null,null,null,null,null,null,null,null,null,null,null,null,null,null,null,null,null,null,null,null,null,null,null,null,null,null,null,null,null,null,null,null,null,null,null,null,null,null,null,"Andover Township"]
["Wadena","Andrea",null,null,null,null,null,null,null,null,null,null,null,null,null,null,null,null,null,null,null,null,null,null,null,null,null,null,null,null,null,null,null,null,null,null,null,null,null,null,null,null,null,"Andrea"]
["Waseca","Andree",null,null,null,null,null,null,null,null,null,null,null,null,null,null,null,null,null,null,null,null,null,null,null,null,null,null,null,null,null,null,null,null,null,null,null,null,null,null,null,null,null,"Andree"]
["Washington","Andrusia",null,null,null,null,null,null,null,null,null,null,null,null,null,null,null,null,null,null,null,null,null,null,null,null,null,null,null,null,null,null,null,null,null,null,null,null,null,null,null,null,null,"Andrusia"]
["Watonwan","Andyville",null,null,null,null,null,null,null,null,null,null,null,null,null,null,null,null,null,null,null,null,null,null,null,null,null,null,null,null,null,null,null,null,null,null,null,null,null,null,null,null,null,"Andyville"]
["Wilkin","Angle Inlet",null,null,null,null,null,null,null,null,null,null,null,null,null,null,null,null,null,null,null,null,null,null,null,null,null,null,null,null,null,null,null,null,null,null,null,null,null,null,null,null,null,"Angle Inlet"]
["Winona","Anglim",null,null,null,null,null,null,null,null,null,null,null,null,null,null,null,null,null,null,null,null,null,null,null,null,null,null,null,null,null,null,null,null,null,null,null,null,null,null,null,null,null,"Anglim"]
["Wright","Angora",null,null,null,null,null,null,null,null,null,null,null,null,null,null,null,null,null,null,null,null,null,null,null,null,null,null,null,null,null,null,null,null,null,null,null,null,null,null,null,null,null,"Angora"]
["Yellow Medicine","Angora Township",null,null,null,null,null,null,null,null,null,null,null,null,null,null,null,null,null,null,null,null,null,null,null,null,null,null,null,null,null,null,null,null,null,null,null,null,null,null,null,null,null,"Angora Township"]
[null,"Angus",null,null,null,null,null,null,null,null,null,null,null,null,null,null,null,null,null,null,null,null,null,null,null,null,null,null,null,null,null,null,null,null,null,null,null,null,null,null,null,null,null,"Angus"]
[null,"Angus Township",null,null,null,null,null,null,null,null,null,null,null,null,null,null,null,null,null,null,null,null,null,null,null,null,null,null,null,null,null,null,null,null,null,null,null,null,null,null,null,null,null,"Angus Township"]
[null,"Ann",null,null,null,null,null,null,null,null,null,null,null,null,null,null,null,null,null,null,null,null,null,null,null,null,null,null,null,null,null,null,null,null,null,null,null,null,null,null,null,null,null,"Ann"]
[null,"Ann Lake",null,null,null,null,null,null,null,null,null,null,null,null,null,null,null,null,null,null,null,null,null,null,null,null,null,null,null,null,null,null,null,null,null,null,null,null,null,null,null,null,null,"Ann Lake"]
[null,"Annandale",null,null,null,null,null,null,null,null,null,null,null,null,null,null,null,null,null,null,null,null,null,null,null,null,null,null,null,null,null,null,null,null,null,null,null,null,null,null,null,null,null,"Annandale"]
[null,"Anoka",null,null,null,null,null,null,null,null,null,null,null,null,null,null,null,null,null,null,null,null,null,null,null,null,null,null,null,null,null,null,null,null,null,null,null,null,null,null,null,null,null,"Anoka"]
[null,"Ansel",null,null,null,null,null,null,null,null,null,null,null,null,null,null,null,null,null,null,null,null,null,null,null,null,null,null,null,null,null,null,null,null,null,null,null,null,null,null,null,null,null,"Ansel"]
[null,"Anthony",null,null,null,null,null,null,null,null,null,null,null,null,null,null,null,null,null,null,null,null,null,null,null,null,null,null,null,null,null,null,null,null,null,null,null,null,null,null,null,null,null,"Anthony"]
[null,"Anthony Township",null,null,null,null,null,null,null,null,null,null,null,null,null,null,null,null,null,null,null,null,null,null,null,null,null,null,null,null,null,null,null,null,null,null,null,null,null,null,null,null,null,"Anthony Township"]
[null,"Antlers Park",null,null,null,null,null,null,null,null,null,null,null,null,null,null,null,null,null,null,null,null,null,null,null,null,null,null,null,null,null,null,null,null,null,null,null,null,null,null,null,null,null,"Antlers Park"]
[null,"Antrim",null,null,null,null,null,null,null,null,null,null,null,null,null,null,null,null,null,null,null,null,null,null,null,null,null,null,null,null,null,null,null,null,null,null,null,null,null,null,null,null,null,"Antrim"]
[null,"Apple Valley",null,null,null,null,null,null,null,null,null,null,null,null,null,null,null,null,null,null,null,null,null,null,null,null,null,null,null,null,null,null,null,null,null,null,null,null,null,null,null,null,null,"Apple Valley"]
[null,"Appleton",null,null,null,null,null,null,null,null,null,null,null,null,null,null,null,null,null,null,null,null,null,null,null,null,null,null,null,null,null,null,null,null,null,null,null,null,null,null,null,null,null,"Appleton"]
[null,"Appleton Township",null,null,null,null,null,null,null,null,null,null,null,null,null,null,null,null,null,null,null,null,null,null,null,null,null,null,null,null,null,null,null,null,null,null,null,null,null,null,null,null,null,"Appleton Township"]
[null,"Arago",null,null,null,null,null,null,null,null,null,null,null,null,null,null,null,null,null,null,null,null,null,null,null,null,null,null,null,null,null,null,null,null,null,null,null,null,null,null,null,null,null,"Arago"]
[null,"Arago Township",null,null,null,null,null,null,null,null,null,null,null,null,null,null,null,null,null,null,null,null,null,null,null,null,null,null,null,null,null,null,null,null,null,null,null,null,null,null,null,null,null,"Arago Township"]
[null,"Arbo",null,null,null,null,null,null,null,null,null,null,null,null,null,null,null,null,null,null,null,null,null,null,null,null,null,null,null,null,null,null,null,null,null,null,null,null,null,null,null,null,null,"Arbo"]
[null,"Arbutus",null,null,null,null,null,null,null,null,null,null,null,null,null,null,null,null,null,null,null,null,null,null,null,null,null,null,null,null,null,null,null,null,null,null,null,null,null,null,null,null,null,"Arbutus"]
[null,"Arco",null,null,null,null,null,null,null,null,null,null,null,null,null,null,null,null,null,null,null,null,null,null,null,null,null,null,null,null,null,null,null,null,null,null,null,null,null,null,null,null,null,"Arco"]
[null,"Arcola",null,null,null,null,null,null,null,null,null,null,null,null,null,null,null,null,null,null,null,null,null,null,null,null,null,null,null,null,null,null,null,null,null,null,null,null,null,null,null,null,null,"Arcola"]
[null,"Arctander",null,null,null,null,null,null,null,null,null,null,null,null,null,null,null,null,null,null,null,null,null,null,null,null,null,null,null,null,null,null,null,null,null,null,null,null,null,null,null,null,null,"Arctander"]
[null,"Arcturus",null,null,null,null,null,null,null,null,null,null,null,null,null,null,null,null,null,null,null,null,null,null,null,null,null,null,null,null,null,null,null,null,null,null,null,null,null,null,null,null,null,"Arcturus"]
[null,"Arden Hills",null,null,null,null,null,null,null,null,null,null,null,null,null,null,null,null,null,null,null,null,null,null,null,null,null,null,null,null,null,null,null,null,null,null,null,null,null,null,null,null,null,"Arden Hills"]
[null,"Ardenhurst",null,null,null,null,null,null,null,null,null,null,null,null,null,null,null,null,null,null,null,null,null,null,null,null,null,null,null,null,null,null,null,null,null,null,null,null,null,null,null,null,null,"Ardenhurst"]
[null,"Arena",null,null,null,null,null,null,null,null,null,null,null,null,null,null,null,null,null,null,null,null,null,null,null,null,null,null,null,null,null,null,null,null,null,null,null,null,null,null,null,null,null,"Arena"]
[null,"Arendahl",null,null,null,null,null,null,null,null,null,null,null,null,null,null,null,null,null,null,null,null,null,null,null,null,null,null,null,null,null,null,null,null,null,null,null,null,null,null,null,null,null,"Arendahl"]
[null,"Arendahl Township",null,null,null,null,null,null,null,null,null,null,null,null,null,null,null,null,null,null,null,null,null,null,null,null,null,null,null,null,null,null,null,null,null,null,null,null,null,null,null,null,null,"Arendahl Township"]
[null,"Argonne",null,null,null,null,null,null,null,null,null,null,null,null,null,null,null,null,null,null,null,null,null,null,null,null,null,null,null,null,null,null,null,null,null,null,null,null,null,null,null,null,null,"Argonne"]
[null,"Argyle",null,null,null,null,null,null,null,null,null,null,null,null,null,null,null,null,null,null,null,null,null,null,null,null,null,null,null,null,null,null,null,null,null,null,null,null,null,null,null,null,null,"Argyle"]
[null,"Arlberg",null,null,null,null,null,null,null,null,null,null,null,null,null,null,null,null,null,null,null,null,null,null,null,null,null,null,null,null,null,null,null,null,null,null,null,null,null,null,null,null,null,"Arlberg"]
[null,"Arlington",null,null,null,null,null,null,null,null,null,null,null,null,null,null,null,null,null,null,null,null,null,null,null,null,null,null,null,null,null,null,null,null,null,null,null,null,null,null,null,null,null,"Arlington"]
[null,"Arlington Township",null,null,null,null,null,null,null,null,null,null,null,null,null,null,null,null,null,null,null,null,null,null,null,null,null,null,null,null,null,null,null,null,null,null,null,null,null,null,null,null,null,"Arlington Township"]
[null,"Arlone",null,null,null,null,null,null,null,null,null,null,null,null,null,null,null,null,null,null,null,null,null,null,null,null,null,null,null,null,null,null,null,null,null,null,null,null,null,null,null,null,null,"Arlone"]
[null,"Armour Number Two Mine",null,null,null,null,null,null,null,null,null,null,null,null,null,null,null,null,null,null,null,null,null,null,null,null,null,null,null,null,null,null,null,null,null,null,null,null,null,null,null,null,null,"Armour Number Two Mine"]
[null,"Armstrong",null,null,null,null,null,null,null,null,null,null,null,null,null,null,null,null,null,null,null,null,null,null,null,null,null,null,null,null,null,null,null,null,null,null,null,null,null,null,null,null,null,"Armstrong"]
[null,"Arna",null,null,null,null,null,null,null,null,null,null,null,null,null,null,null,null,null,null,null,null,null,null,null,null,null,null,null,null,null,null,null,null,null,null,null,null,null,null,null,null,null,"Arna"]
[null,"Arnesen",null,null,null,null,null,null,null,null,null,null,null,null,null,null,null,null,null,null,null,null,null,null,null,null,null,null,null,null,null,null,null,null,null,null,null,null,null,null,null,null,null,"Arnesen"]
[null,"Arnold",null,null,null,null,null,null,null,null,null,null,null,null,null,null,null,null,null,null,null,null,null,null,null,null,null,null,null,null,null,null,null,null,null,null,null,null,null,null,null,null,null,"Arnold"]
[null,"Arrowhead",null,null,null,null,null,null,null,null,null,null,null,null,null,null,null,null,null,null,null,null,null,null,null,null,null,null,null,null,null,null,null,null,null,null,null,null,null,null,null,null,null,"Arrowhead"]
[null,"Arthur",null,null,null,null,null,null,null,null,null,null,null,null,null,null,null,null,null,null,null,null,null,null,null,null,null,null,null,null,null,null,null,null,null,null,null,null,null,null,null,null,null,"Arthur"]
[null,"Arthyde",null,null,null,null,null,null,null,null,null,null,null,null,null,null,null,null,null,null,null,null,null,null,null,null,null,null,null,null,null,null,null,null,null,null,null,null,null,null,null,null,null,"Arthyde"]
[null,"Artichoke",null,null,null,null,null,null,null,null,null,null,null,null,null,null,null,null,null,null,null,null,null,null,null,null,null,null,null,null,null,null,null,null,null,null,null,null,null,null,null,null,null,"Artichoke"]
[null,"Artichoke Lake",null,null,null,null,null,null,null,null,null,null,null,null,null,null,null,null,null,null,null,null,null,null,null,null,null,null,null,null,null,null,null,null,null,null,null,null,null,null,null,null,null,"Artichoke Lake"]
[null,"Arveson",null,null,null,null,null,null,null,null,null,null,null,null,null,null,null,null,null,null,null,null,null,null,null,null,null,null,null,null,null,null,null,null,null,null,null,null,null,null,null,null,null,"Arveson"]
[null,"Asbury",null,null,null,null,null,null,null,null,null,null,null,null,null,null,null,null,null,null,null,null,null,null,null,null,null,null,null,null,null,null,null,null,null,null,null,null,null,null,null,null,null,"Asbury"]
[null,"Ash Lake",null,null,null,null,null,null,null,null,null,null,null,null,null,null,null,null,null,null,null,null,null,null,null,null,null,null,null,null,null,null,null,null,null,null,null,null,null,null,null,null,null,"Ash Lake"]
[null,"Ash Lake Township",null,null,null,null,null,null,null,null,null,null,null,null,null,null,null,null,null,null,null,null,null,null,null,null,null,null,null,null,null,null,null,null,null,null,null,null,null,null,null,null,null,"Ash Lake Township"]
[null,"Ashby",null,null,null,null,null,null,null,null,null,null,null,null,null,null,null,null,null,null,null,null,null,null,null,null,null,null,null,null,null,null,null,null,null,null,null,null,null,null,null,null,null,"Ashby"]
[null,"Ashcreek",null,null,null,null,null,null,null,null,null,null,null,null,null,null,null,null,null,null,null,null,null,null,null,null,null,null,null,null,null,null,null,null,null,null,null,null,null,null,null,null,null,"Ashcreek"]
[null,"Ashland",null,null,null,null,null,null,null,null,null,null,null,null,null,null,null,null,null,null,null,null,null,null,null,null,null,null,null,null,null,null,null,null,null,null,null,null,null,null,null,null,null,"Ashland"]
[null,"Ashley",null,null,null,null,null,null,null,null,null,null,null,null,null,null,null,null,null,null,null,null,null,null,null,null,null,null,null,null,null,null,null,null,null,null,null,null,null,null,null,null,null,"Ashley"]
[null,"Askov",null,null,null,null,null,null,null,null,null,null,null,null,null,null,null,null,null,null,null,null,null,null,null,null,null,null,null,null,null,null,null,null,null,null,null,null,null,null,null,null,null,"Askov"]
[null,"Aspelund",null,null,null,null,null,null,null,null,null,null,null,null,null,null,null,null,null,null,null,null,null,null,null,null,null,null,null,null,null,null,null,null,null,null,null,null,null,null,null,null,null,"Aspelund"]
[null,"Assumption",null,null,null,null,null,null,null,null,null,null,null,null,null,null,null,null,null,null,null,null,null,null,null,null,null,null,null,null,null,null,null,null,null,null,null,null,null,null,null,null,null,"Assumption"]
[null,"Athens",null,null,null,null,null,null,null,null,null,null,null,null,null,null,null,null,null,null,null,null,null,null,null,null,null,null,null,null,null,null,null,null,null,null,null,null,null,null,null,null,null,"Athens"]
[null,"Atherton",null,null,null,null,null,null,null,null,null,null,null,null,null,null,null,null,null,null,null,null,null,null,null,null,null,null,null,null,null,null,null,null,null,null,null,null,null,null,null,null,null,"Atherton"]
[null,"Atkinson",null,null,null,null,null,null,null,null,null,null,null,null,null,null,null,null,null,null,null,null,null,null,null,null,null,null,null,null,null,null,null,null,null,null,null,null,null,null,null,null,null,"Atkinson"]
[null,"Atkinson Township",null,null,null,null,null,null,null,null,null,null,null,null,null,null,null,null,null,null,null,null,null,null,null,null,null,null,null,null,null,null,null,null,null,null,null,null,null,null,null,null,null,"Atkinson Township"]
[null,"Atlanta",null,null,null,null,null,null,null,null,null,null,null,null,null,null,null,null,null,null,null,null,null,null,null,null,null,null,null,null,null,null,null,null,null,null,null,null,null,null,null,null,null,"Atlanta"]
[null,"Atwater",null,null,null,null,null,null,null,null,null,null,null,null,null,null,null,null,null,null,null,null,null,null,null,null,null,null,null,null,null,null,null,null,null,null,null,null,null,null,null,null,null,"Atwater"]
[null,"Atwood",null,null,null,null,null,null,null,null,null,null,null,null,null,null,null,null,null,null,null,null,null,null,null,null,null,null,null,null,null,null,null,null,null,null,null,null,null,null,null,null,null,"Atwood"]
[null,"Audubon",null,null,null,null,null,null,null,null,null,null,null,null,null,null,null,null,null,null,null,null,null,null,null,null,null,null,null,null,null,null,null,null,null,null,null,null,null,null,null,null,null,"Audubon"]
[null,"Audubon Township",null,null,null,null,null,null,null,null,null,null,null,null,null,null,null,null,null,null,null,null,null,null,null,null,null,null,null,null,null,null,null,null,null,null,null,null,null,null,null,null,null,"Audubon Township"]
[null,"Augsburg",null,null,null,null,null,null,null,null,null,null,null,null,null,null,null,null,null,null,null,null,null,null,null,null,null,null,null,null,null,null,null,null,null,null,null,null,null,null,null,null,null,"Augsburg"]
[null,"Augusta",null,null,null,null,null,null,null,null,null,null,null,null,null,null,null,null,null,null,null,null,null,null,null,null,null,null,null,null,null,null,null,null,null,null,null,null,null,null,null,null,null,"Augusta"]
[null,"Augusta Township",null,null,null,null,null,null,null,null,null,null,null,null,null,null,null,null,null,null,null,null,null,null,null,null,null,null,null,null,null,null,null,null,null,null,null,null,null,null,null,null,null,"Augusta Township"]
[null,"Ault",null,null,null,null,null,null,null,null,null,null,null,null,null,null,null,null,null,null,null,null,null,null,null,null,null,null,null,null,null,null,null,null,null,null,null,null,null,null,null,null,null,"Ault"]
[null,"Aurdal",null,null,null,null,null,null,null,null,null,null,null,null,null,null,null,null,null,null,null,null,null,null,null,null,null,null,null,null,null,null,null,null,null,null,null,null,null,null,null,null,null,"Aurdal"]
[null,"Aure",null,null,null,null,null,null,null,null,null,null,null,null,null,null,null,null,null,null,null,null,null,null,null,null,null,null,null,null,null,null,null,null,null,null,null,null,null,null,null,null,null,"Aure"]
[null,"Aurora",null,null,null,null,null,null,null,null,null,null,null,null,null,null,null,null,null,null,null,null,null,null,null,null,null,null,null,null,null,null,null,null,null,null,null,null,null,null,null,null,null,"Aurora"]
[null,"Aurora Township",null,null,null,null,null,null,null,null,null,null,null,null,null,null,null,null,null,null,null,null,null,null,null,null,null,null,null,null,null,null,null,null,null,null,null,null,null,null,null,null,null,"Aurora Township"]
[null,"Austin",null,null,null,null,null,null,null,null,null,null,null,null,null,null,null,null,null,null,null,null,null,null,null,null,null,null,null,null,null,null,null,null,null,null,null,null,null,null,null,null,null,"Austin"]
[null,"Austin Acres",null,null,null,null,null,null,null,null,null,null,null,null,null,null,null,null,null,null,null,null,null,null,null,null,null,null,null,null,null,null,null,null,null,null,null,null,null,null,null,null,null,"Austin Acres"]
[null,"Austin Junction",null,null,null,null,null,null,null,null,null,null,null,null,null,null,null,null,null,null,null,null,null,null,null,null,null,null,null,null,null,null,null,null,null,null,null,null,null,null,null,null,null,"Austin Junction"]
[null,"Austin Township",null,null,null,null,null,null,null,null,null,null,null,null,null,null,null,null,null,null,null,null,null,null,null,null,null,null,null,null,null,null,null,null,null,null,null,null,null,null,null,null,null,"Austin Township"]
[null,"Auto Club",null,null,null,null,null,null,null,null,null,null,null,null,null,null,null,null,null,null,null,null,null,null,null,null,null,null,null,null,null,null,null,null,null,null,null,null,null,null,null,null,null,"Auto Club"]
[null,"Automba",null,null,null,null,null,null,null,null,null,null,null,null,null,null,null,null,null,null,null,null,null,null,null,null,null,null,null,null,null,null,null,null,null,null,null,null,null,null,null,null,null,"Automba"]
[null,"Automba Township",null,null,null,null,null,null,null,null,null,null,null,null,null,null,null,null,null,null,null,null,null,null,null,null,null,null,null,null,null,null,null,null,null,null,null,null,null,null,null,null,null,"Automba Township"]
[null,"Averill",null,null,null,null,null,null,null,null,null,null,null,null,null,null,null,null,null,null,null,null,null,null,null,null,null,null,null,null,null,null,null,null,null,null,null,null,null,null,null,null,null,"Averill"]
[null,"Avoca",null,null,null,null,null,null,null,null,null,null,null,null,null,null,null,null,null,null,null,null,null,null,null,null,null,null,null,null,null,null,null,null,null,null,null,null,null,null,null,null,null,"Avoca"]
[null,"Avon",null,null,null,null,null,null,null,null,null,null,null,null,null,null,null,null,null,null,null,null,null,null,null,null,null,null,null,null,null,null,null,null,null,null,null,null,null,null,null,null,null,"Avon"]
[null,"Avon Township",null,null,null,null,null,null,null,null,null,null,null,null,null,null,null,null,null,null,null,null,null,null,null,null,null,null,null,null,null,null,null,null,null,null,null,null,null,null,null,null,null,"Avon Township"]
[null,"Babbitt",null,null,null,null,null,null,null,null,null,null,null,null,null,null,null,null,null,null,null,null,null,null,null,null,null,null,null,null,null,null,null,null,null,null,null,null,null,null,null,null,null,"Babbitt"]
[null,"Backus",null,null,null,null,null,null,null,null,null,null,null,null,null,null,null,null,null,null,null,null,null,null,null,null,null,null,null,null,null,null,null,null,null,null,null,null,null,null,null,null,null,"Backus"]
[null,"Baden",null,null,null,null,null,null,null,null,null,null,null,null,null,null,null,null,null,null,null,null,null,null,null,null,null,null,null,null,null,null,null,null,null,null,null,null,null,null,null,null,null,"Baden"]
[null,"Badger",null,null,null,null,null,null,null,null,null,null,null,null,null,null,null,null,null,null,null,null,null,null,null,null,null,null,null,null,null,null,null,null,null,null,null,null,null,null,null,null,null,"Badger"]
[null,"Badger Township",null,null,null,null,null,null,null,null,null,null,null,null,null,null,null,null,null,null,null,null,null,null,null,null,null,null,null,null,null,null,null,null,null,null,null,null,null,null,null,null,null,"Badger Township"]
[null,"Badoura",null,null,null,null,null,null,null,null,null,null,null,null,null,null,null,null,null,null,null,null,null,null,null,null,null,null,null,null,null,null,null,null,null,null,null,null,null,null,null,null,null,"Badoura"]
[null,"Badoura Township",null,null,null,null,null,null,null,null,null,null,null,null,null,null,null,null,null,null,null,null,null,null,null,null,null,null,null,null,null,null,null,null,null,null,null,null,null,null,null,null,null,"Badoura Township"]
[null,"Bagley",null,null,null,null,null,null,null,null,null,null,null,null,null,null,null,null,null,null,null,null,null,null,null,null,null,null,null,null,null,null,null,null,null,null,null,null,null,null,null,null,null,"Bagley"]
[null,"Bailey",null,null,null,null,null,null,null,null,null,null,null,null,null,null,null,null,null,null,null,null,null,null,null,null,null,null,null,null,null,null,null,null,null,null,null,null,null,null,null,null,null,"Bailey"]
[null,"Bain",null,null,null,null,null,null,null,null,null,null,null,null,null,null,null,null,null,null,null,null,null,null,null,null,null,null,null,null,null,null,null,null,null,null,null,null,null,null,null,null,null,"Bain"]
[null,"Baker",null,null,null,null,null,null,null,null,null,null,null,null,null,null,null,null,null,null,null,null,null,null,null,null,null,null,null,null,null,null,null,null,null,null,null,null,null,null,null,null,null,"Baker"]
[null,"Baker Township",null,null,null,null,null,null,null,null,null,null,null,null,null,null,null,null,null,null,null,null,null,null,null,null,null,null,null,null,null,null,null,null,null,null,null,null,null,null,null,null,null,"Baker Township"]
[null,"Balaton",null,null,null,null,null,null,null,null,null,null,null,null,null,null,null,null,null,null,null,null,null,null,null,null,null,null,null,null,null,null,null,null,null,null,null,null,null,null,null,null,null,"Balaton"]
[null,"Bald Eagle",null,null,null,null,null,null,null,null,null,null,null,null,null,null,null,null,null,null,null,null,null,null,null,null,null,null,null,null,null,null,null,null,null,null,null,null,null,null,null,null,null,"Bald Eagle"]
[null,"Bald Eagle Center",null,null,null,null,null,null,null,null,null,null,null,null,null,null,null,null,null,null,null,null,null,null,null,null,null,null,null,null,null,null,null,null,null,null,null,null,null,null,null,null,null,"Bald Eagle Center"]
[null,"Baldwin",null,null,null,null,null,null,null,null,null,null,null,null,null,null,null,null,null,null,null,null,null,null,null,null,null,null,null,null,null,null,null,null,null,null,null,null,null,null,null,null,null,"Baldwin"]
[null,"Balkan",null,null,null,null,null,null,null,null,null,null,null,null,null,null,null,null,null,null,null,null,null,null,null,null,null,null,null,null,null,null,null,null,null,null,null,null,null,null,null,null,null,"Balkan"]
[null,"Balkan Township",null,null,null,null,null,null,null,null,null,null,null,null,null,null,null,null,null,null,null,null,null,null,null,null,null,null,null,null,null,null,null,null,null,null,null,null,null,null,null,null,null,"Balkan Township"]
[null,"Ball Bluff",null,null,null,null,null,null,null,null,null,null,null,null,null,null,null,null,null,null,null,null,null,null,null,null,null,null,null,null,null,null,null,null,null,null,null,null,null,null,null,null,null,"Ball Bluff"]
[null,"Ball Bluff Township",null,null,null,null,null,null,null,null,null,null,null,null,null,null,null,null,null,null,null,null,null,null,null,null,null,null,null,null,null,null,null,null,null,null,null,null,null,null,null,null,null,"Ball Bluff Township"]
[null,"Ball Club",null,null,null,null,null,null,null,null,null,null,null,null,null,null,null,null,null,null,null,null,null,null,null,null,null,null,null,null,null,null,null,null,null,null,null,null,null,null,null,null,null,"Ball Club"]
[null,"Balmoral",null,null,null,null,null,null,null,null,null,null,null,null,null,null,null,null,null,null,null,null,null,null,null,null,null,null,null,null,null,null,null,null,null,null,null,null,null,null,null,null,null,"Balmoral"]
[null,"Balsam",null,null,null,null,null,null,null,null,null,null,null,null,null,null,null,null,null,null,null,null,null,null,null,null,null,null,null,null,null,null,null,null,null,null,null,null,null,null,null,null,null,"Balsam"]
[null,"Balsam Township",null,null,null,null,null,null,null,null,null,null,null,null,null,null,null,null,null,null,null,null,null,null,null,null,null,null,null,null,null,null,null,null,null,null,null,null,null,null,null,null,null,"Balsam Township"]
[null,"Bancroft",null,null,null,null,null,null,null,null,null,null,null,null,null,null,null,null,null,null,null,null,null,null,null,null,null,null,null,null,null,null,null,null,null,null,null,null,null,null,null,null,null,"Bancroft"]
[null,"Bancroft Township",null,null,null,null,null,null,null,null,null,null,null,null,null,null,null,null,null,null,null,null,null,null,null,null,null,null,null,null,null,null,null,null,null,null,null,null,null,null,null,null,null,"Bancroft Township"]
[null,"Bandon",null,null,null,null,null,null,null,null,null,null,null,null,null,null,null,null,null,null,null,null,null,null,null,null,null,null,null,null,null,null,null,null,null,null,null,null,null,null,null,null,null,"Bandon"]
[null,"Bangor",null,null,null,null,null,null,null,null,null,null,null,null,null,null,null,null,null,null,null,null,null,null,null,null,null,null,null,null,null,null,null,null,null,null,null,null,null,null,null,null,null,"Bangor"]
[null,"Banning",null,null,null,null,null,null,null,null,null,null,null,null,null,null,null,null,null,null,null,null,null,null,null,null,null,null,null,null,null,null,null,null,null,null,null,null,null,null,null,null,null,"Banning"]
[null,"Barber",null,null,null,null,null,null,null,null,null,null,null,null,null,null,null,null,null,null,null,null,null,null,null,null,null,null,null,null,null,null,null,null,null,null,null,null,null,null,null,null,null,"Barber"]
[null,"Barclay",null,null,null,null,null,null,null,null,null,null,null,null,null,null,null,null,null,null,null,null,null,null,null,null,null,null,null,null,null,null,null,null,null,null,null,null,null,null,null,null,null,"Barclay"]
[null,"Barden",null,null,null,null,null,null,null,null,null,null,null,null,null,null,null,null,null,null,null,null,null,null,null,null,null,null,null,null,null,null,null,null,null,null,null,null,null,null,null,null,null,"Barden"]
[null,"Barnesville",null,null,null,null,null,null,null,null,null,null,null,null,null,null,null,null,null,null,null,null,null,null,null,null,null,null,null,null,null,null,null,null,null,null,null,null,null,null,null,null,null,"Barnesville"]
[null,"Barnesville Township",null,null,null,null,null,null,null,null,null,null,null,null,null,null,null,null,null,null,null,null,null,null,null,null,null,null,null,null,null,null,null,null,null,null,null,null,null,null,null,null,null,"Barnesville Township"]
[null,"Barnett",null,null,null,null,null,null,null,null,null,null,null,null,null,null,null,null,null,null,null,null,null,null,null,null,null,null,null,null,null,null,null,null,null,null,null,null,null,null,null,null,null,"Barnett"]
[null,"Barnum",null,null,null,null,null,null,null,null,null,null,null,null,null,null,null,null,null,null,null,null,null,null,null,null,null,null,null,null,null,null,null,null,null,null,null,null,null,null,null,null,null,"Barnum"]
[null,"Barnum Township",null,null,null,null,null,null,null,null,null,null,null,null,null,null,null,null,null,null,null,null,null,null,null,null,null,null,null,null,null,null,null,null,null,null,null,null,null,null,null,null,null,"Barnum Township"]
[null,"Baroda",null,null,null,null,null,null,null,null,null,null,null,null,null,null,null,null,null,null,null,null,null,null,null,null,null,null,null,null,null,null,null,null,null,null,null,null,null,null,null,null,null,"Baroda"]
[null,"Barr",null,null,null,null,null,null,null,null,null,null,null,null,null,null,null,null,null,null,null,null,null,null,null,null,null,null,null,null,null,null,null,null,null,null,null,null,null,null,null,null,null,"Barr"]
[null,"Barrett",null,null,null,null,null,null,null,null,null,null,null,null,null,null,null,null,null,null,null,null,null,null,null,null,null,null,null,null,null,null,null,null,null,null,null,null,null,null,null,null,null,"Barrett"]
[null,"Barrows",null,null,null,null,null,null,null,null,null,null,null,null,null,null,null,null,null,null,null,null,null,null,null,null,null,null,null,null,null,null,null,null,null,null,null,null,null,null,null,null,null,"Barrows"]
[null,"Barry",null,null,null,null,null,null,null,null,null,null,null,null,null,null,null,null,null,null,null,null,null,null,null,null,null,null,null,null,null,null,null,null,null,null,null,null,null,null,null,null,null,"Barry"]
[null,"Barry Township",null,null,null,null,null,null,null,null,null,null,null,null,null,null,null,null,null,null,null,null,null,null,null,null,null,null,null,null,null,null,null,null,null,null,null,null,null,null,null,null,null,"Barry Township"]
[null,"Barsness",null,null,null,null,null,null,null,null,null,null,null,null,null,null,null,null,null,null,null,null,null,null,null,null,null,null,null,null,null,null,null,null,null,null,null,null,null,null,null,null,null,"Barsness"]
[null,"Bartlett",null,null,null,null,null,null,null,null,null,null,null,null,null,null,null,null,null,null,null,null,null,null,null,null,null,null,null,null,null,null,null,null,null,null,null,null,null,null,null,null,null,"Bartlett"]
[null,"Bartlett Township",null,null,null,null,null,null,null,null,null,null,null,null,null,null,null,null,null,null,null,null,null,null,null,null,null,null,null,null,null,null,null,null,null,null,null,null,null,null,null,null,null,"Bartlett Township"]
[null,"Barto",null,null,null,null,null,null,null,null,null,null,null,null,null,null,null,null,null,null,null,null,null,null,null,null,null,null,null,null,null,null,null,null,null,null,null,null,null,null,null,null,null,"Barto"]
[null,"Bashaw",null,null,null,null,null,null,null,null,null,null,null,null,null,null,null,null,null,null,null,null,null,null,null,null,null,null,null,null,null,null,null,null,null,null,null,null,null,null,null,null,null,"Bashaw"]
[null,"Bass Brook",null,null,null,null,null,null,null,null,null,null,null,null,null,null,null,null,null,null,null,null,null,null,null,null,null,null,null,null,null,null,null,null,null,null,null,null,null,null,null,null,null,"Bass Brook"]
[null,"Bassett",null,null,null,null,null,null,null,null,null,null,null,null,null,null,null,null,null,null,null,null,null,null,null,null,null,null,null,null,null,null,null,null,null,null,null,null,null,null,null,null,null,"Bassett"]
[null,"Bassett Township",null,null,null,null,null,null,null,null,null,null,null,null,null,null,null,null,null,null,null,null,null,null,null,null,null,null,null,null,null,null,null,null,null,null,null,null,null,null,null,null,null,"Bassett Township"]
[null,"Basswood",null,null,null,null,null,null,null,null,null,null,null,null,null,null,null,null,null,null,null,null,null,null,null,null,null,null,null,null,null,null,null,null,null,null,null,null,null,null,null,null,null,"Basswood"]
[null,"Basswood Grove",null,null,null,null,null,null,null,null,null,null,null,null,null,null,null,null,null,null,null,null,null,null,null,null,null,null,null,null,null,null,null,null,null,null,null,null,null,null,null,null,null,"Basswood Grove"]
[null,"Bath",null,null,null,null,null,null,null,null,null,null,null,null,null,null,null,null,null,null,null,null,null,null,null,null,null,null,null,null,null,null,null,null,null,null,null,null,null,null,null,null,null,"Bath"]
[null,"Bath Township",null,null,null,null,null,null,null,null,null,null,null,null,null,null,null,null,null,null,null,null,null,null,null,null,null,null,null,null,null,null,null,null,null,null,null,null,null,null,null,null,null,"Bath Township"]
[null,"Battle",null,null,null,null,null,null,null,null,null,null,null,null,null,null,null,null,null,null,null,null,null,null,null,null,null,null,null,null,null,null,null,null,null,null,null,null,null,null,null,null,null,"Battle"]
[null,"Battle Lake",null,null,null,null,null,null,null,null,null,null,null,null,null,null,null,null,null,null,null,null,null,null,null,null,null,null,null,null,null,null,null,null,null,null,null,null,null,null,null,null,null,"Battle Lake"]
[null,"Battle Plain",null,null,null,null,null,null,null,null,null,null,null,null,null,null,null,null,null,null,null,null,null,null,null,null,null,null,null,null,null,null,null,null,null,null,null,null,null,null,null,null,null,"Battle Plain"]
[null,"Battle River",null,null,null,null,null,null,null,null,null,null,null,null,null,null,null,null,null,null,null,null,null,null,null,null,null,null,null,null,null,null,null,null,null,null,null,null,null,null,null,null,null,"Battle River"]
[null,"Baudette",null,null,null,null,null,null,null,null,null,null,null,null,null,null,null,null,null,null,null,null,null,null,null,null,null,null,null,null,null,null,null,null,null,null,null,null,null,null,null,null,null,"Baudette"]
[null,"Baudette Air Force Station",null,null,null,null,null,null,null,null,null,null,null,null,null,null,null,null,null,null,null,null,null,null,null,null,null,null,null,null,null,null,null,null,null,null,null,null,null,null,null,null,null,"Baudette Air Force Station"]
[null,"Baxter",null,null,null,null,null,null,null,null,null,null,null,null,null,null,null,null,null,null,null,null,null,null,null,null,null,null,null,null,null,null,null,null,null,null,null,null,null,null,null,null,null,"Baxter"]
[null,"Baxter Township",null,null,null,null,null,null,null,null,null,null,null,null,null,null,null,null,null,null,null,null,null,null,null,null,null,null,null,null,null,null,null,null,null,null,null,null,null,null,null,null,null,"Baxter Township"]
[null,"Bay Lake",null,null,null,null,null,null,null,null,null,null,null,null,null,null,null,null,null,null,null,null,null,null,null,null,null,null,null,null,null,null,null,null,null,null,null,null,null,null,null,null,null,"Bay Lake"]
[null,"Bay Lake Township",null,null,null,null,null,null,null,null,null,null,null,null,null,null,null,null,null,null,null,null,null,null,null,null,null,null,null,null,null,null,null,null,null,null,null,null,null,null,null,null,null,"Bay Lake Township"]
[null,"Bayport",null,null,null,null,null,null,null,null,null,null,null,null,null,null,null,null,null,null,null,null,null,null,null,null,null,null,null,null,null,null,null,null,null,null,null,null,null,null,null,null,null,"Bayport"]
[null,"Baytown",null,null,null,null,null,null,null,null,null,null,null,null,null,null,null,null,null,null,null,null,null,null,null,null,null,null,null,null,null,null,null,null,null,null,null,null,null,null,null,null,null,"Baytown"]
[null,"Bayview",null,null,null,null,null,null,null,null,null,null,null,null,null,null,null,null,null,null,null,null,null,null,null,null,null,null,null,null,null,null,null,null,null,null,null,null,null,null,null,null,null,"Bayview"]
[null,"Bear Creek",null,null,null,null,null,null,null,null,null,null,null,null,null,null,null,null,null,null,null,null,null,null,null,null,null,null,null,null,null,null,null,null,null,null,null,null,null,null,null,null,null,"Bear Creek"]
[null,"Bear Island",null,null,null,null,null,null,null,null,null,null,null,null,null,null,null,null,null,null,null,null,null,null,null,null,null,null,null,null,null,null,null,null,null,null,null,null,null,null,null,null,null,"Bear Island"]
[null,"Bear Park",null,null,null,null,null,null,null,null,null,null,null,null,null,null,null,null,null,null,null,null,null,null,null,null,null,null,null,null,null,null,null,null,null,null,null,null,null,null,null,null,null,"Bear Park"]
[null,"Bear River",null,null,null,null,null,null,null,null,null,null,null,null,null,null,null,null,null,null,null,null,null,null,null,null,null,null,null,null,null,null,null,null,null,null,null,null,null,null,null,null,null,"Bear River"]
[null,"Bear Valley",null,null,null,null,null,null,null,null,null,null,null,null,null,null,null,null,null,null,null,null,null,null,null,null,null,null,null,null,null,null,null,null,null,null,null,null,null,null,null,null,null,"Bear Valley"]
[null,"Beardsley",null,null,null,null,null,null,null,null,null,null,null,null,null,null,null,null,null,null,null,null,null,null,null,null,null,null,null,null,null,null,null,null,null,null,null,null,null,null,null,null,null,"Beardsley"]
[null,"Bearville",null,null,null,null,null,null,null,null,null,null,null,null,null,null,null,null,null,null,null,null,null,null,null,null,null,null,null,null,null,null,null,null,null,null,null,null,null,null,null,null,null,"Bearville"]
[null,"Beatty",null,null,null,null,null,null,null,null,null,null,null,null,null,null,null,null,null,null,null,null,null,null,null,null,null,null,null,null,null,null,null,null,null,null,null,null,null,null,null,null,null,"Beatty"]
[null,"Beauford",null,null,null,null,null,null,null,null,null,null,null,null,null,null,null,null,null,null,null,null,null,null,null,null,null,null,null,null,null,null,null,null,null,null,null,null,null,null,null,null,null,"Beauford"]
[null,"Beauford Township",null,null,null,null,null,null,null,null,null,null,null,null,null,null,null,null,null,null,null,null,null,null,null,null,null,null,null,null,null,null,null,null,null,null,null,null,null,null,null,null,null,"Beauford Township"]
[null,"Beaulieu",null,null,null,null,null,null,null,null,null,null,null,null,null,null,null,null,null,null,null,null,null,null,null,null,null,null,null,null,null,null,null,null,null,null,null,null,null,null,null,null,null,"Beaulieu"]
[null,"Beaulieu Township",null,null,null,null,null,null,null,null,null,null,null,null,null,null,null,null,null,null,null,null,null,null,null,null,null,null,null,null,null,null,null,null,null,null,null,null,null,null,null,null,null,"Beaulieu Township"]
[null,"Beaver",null,null,null,null,null,null,null,null,null,null,null,null,null,null,null,null,null,null,null,null,null,null,null,null,null,null,null,null,null,null,null,null,null,null,null,null,null,null,null,null,null,"Beaver"]
[null,"Beaver Bay",null,null,null,null,null,null,null,null,null,null,null,null,null,null,null,null,null,null,null,null,null,null,null,null,null,null,null,null,null,null,null,null,null,null,null,null,null,null,null,null,null,"Beaver Bay"]
[null,"Beaver Bay Township",null,null,null,null,null,null,null,null,null,null,null,null,null,null,null,null,null,null,null,null,null,null,null,null,null,null,null,null,null,null,null,null,null,null,null,null,null,null,null,null,null,"Beaver Bay Township"]
[null,"Beaver Creek",null,null,null,null,null,null,null,null,null,null,null,null,null,null,null,null,null,null,null,null,null,null,null,null,null,null,null,null,null,null,null,null,null,null,null,null,null,null,null,null,null,"Beaver Creek"]
[null,"Beaver Creek Township",null,null,null,null,null,null,null,null,null,null,null,null,null,null,null,null,null,null,null,null,null,null,null,null,null,null,null,null,null,null,null,null,null,null,null,null,null,null,null,null,null,"Beaver Creek Township"]
[null,"Beaver Falls",null,null,null,null,null,null,null,null,null,null,null,null,null,null,null,null,null,null,null,null,null,null,null,null,null,null,null,null,null,null,null,null,null,null,null,null,null,null,null,null,null,"Beaver Falls"]
[null,"Beaver Falls Township",null,null,null,null,null,null,null,null,null,null,null,null,null,null,null,null,null,null,null,null,null,null,null,null,null,null,null,null,null,null,null,null,null,null,null,null,null,null,null,null,null,"Beaver Falls Township"]
[null,"Beaver Township",null,null,null,null,null,null,null,null,null,null,null,null,null,null,null,null,null,null,null,null,null,null,null,null,null,null,null,null,null,null,null,null,null,null,null,null,null,null,null,null,null,"Beaver Township"]
[null,"Bechyn",null,null,null,null,null,null,null,null,null,null,null,null,null,null,null,null,null,null,null,null,null,null,null,null,null,null,null,null,null,null,null,null,null,null,null,null,null,null,null,null,null,"Bechyn"]
[null,"Becida",null,null,null,null,null,null,null,null,null,null,null,null,null,null,null,null,null,null,null,null,null,null,null,null,null,null,null,null,null,null,null,null,null,null,null,null,null,null,null,null,null,"Becida"]
[null,"Becker",null,null,null,null,null,null,null,null,null,null,null,null,null,null,null,null,null,null,null,null,null,null,null,null,null,null,null,null,null,null,null,null,null,null,null,null,null,null,null,null,null,"Becker"]
[null,"Becker Township",null,null,null,null,null,null,null,null,null,null,null,null,null,null,null,null,null,null,null,null,null,null,null,null,null,null,null,null,null,null,null,null,null,null,null,null,null,null,null,null,null,"Becker Township"]
[null,"Beckville",null,null,null,null,null,null,null,null,null,null,null,null,null,null,null,null,null,null,null,null,null,null,null,null,null,null,null,null,null,null,null,null,null,null,null,null,null,null,null,null,null,"Beckville"]
[null,"Bee",null,null,null,null,null,null,null,null,null,null,null,null,null,null,null,null,null,null,null,null,null,null,null,null,null,null,null,null,null,null,null,null,null,null,null,null,null,null,null,null,null,"Bee"]
[null,"Bejou",null,null,null,null,null,null,null,null,null,null,null,null,null,null,null,null,null,null,null,null,null,null,null,null,null,null,null,null,null,null,null,null,null,null,null,null,null,null,null,null,null,"Bejou"]
[null,"Bejou Township",null,null,null,null,null,null,null,null,null,null,null,null,null,null,null,null,null,null,null,null,null,null,null,null,null,null,null,null,null,null,null,null,null,null,null,null,null,null,null,null,null,"Bejou Township"]
[null,"Belden",null,null,null,null,null,null,null,null,null,null,null,null,null,null,null,null,null,null,null,null,null,null,null,null,null,null,null,null,null,null,null,null,null,null,null,null,null,null,null,null,null,"Belden"]
[null,"Belfast",null,null,null,null,null,null,null,null,null,null,null,null,null,null,null,null,null,null,null,null,null,null,null,null,null,null,null,null,null,null,null,null,null,null,null,null,null,null,null,null,null,"Belfast"]
[null,"Belgium",null,null,null,null,null,null,null,null,null,null,null,null,null,null,null,null,null,null,null,null,null,null,null,null,null,null,null,null,null,null,null,null,null,null,null,null,null,null,null,null,null,"Belgium"]
[null,"Belgrade",null,null,null,null,null,null,null,null,null,null,null,null,null,null,null,null,null,null,null,null,null,null,null,null,null,null,null,null,null,null,null,null,null,null,null,null,null,null,null,null,null,"Belgrade"]
[null,"Belgrade Township",null,null,null,null,null,null,null,null,null,null,null,null,null,null,null,null,null,null,null,null,null,null,null,null,null,null,null,null,null,null,null,null,null,null,null,null,null,null,null,null,null,"Belgrade Township"]
[null,"Bellaire",null,null,null,null,null,null,null,null,null,null,null,null,null,null,null,null,null,null,null,null,null,null,null,null,null,null,null,null,null,null,null,null,null,null,null,null,null,null,null,null,null,"Bellaire"]
[null,"Belle Creek",null,null,null,null,null,null,null,null,null,null,null,null,null,null,null,null,null,null,null,null,null,null,null,null,null,null,null,null,null,null,null,null,null,null,null,null,null,null,null,null,null,"Belle Creek"]
[null,"Belle Plaine",null,null,null,null,null,null,null,null,null,null,null,null,null,null,null,null,null,null,null,null,null,null,null,null,null,null,null,null,null,null,null,null,null,null,null,null,null,null,null,null,null,"Belle Plaine"]
[null,"Belle Plaine Township",null,null,null,null,null,null,null,null,null,null,null,null,null,null,null,null,null,null,null,null,null,null,null,null,null,null,null,null,null,null,null,null,null,null,null,null,null,null,null,null,null,"Belle Plaine Township"]
[null,"Belle Prairie",null,null,null,null,null,null,null,null,null,null,null,null,null,null,null,null,null,null,null,null,null,null,null,null,null,null,null,null,null,null,null,null,null,null,null,null,null,null,null,null,null,"Belle Prairie"]
[null,"Belle Prairie Township",null,null,null,null,null,null,null,null,null,null,null,null,null,null,null,null,null,null,null,null,null,null,null,null,null,null,null,null,null,null,null,null,null,null,null,null,null,null,null,null,null,"Belle Prairie Township"]
[null,"Belle River",null,null,null,null,null,null,null,null,null,null,null,null,null,null,null,null,null,null,null,null,null,null,null,null,null,null,null,null,null,null,null,null,null,null,null,null,null,null,null,null,null,"Belle River"]
[null,"Bellechester",null,null,null,null,null,null,null,null,null,null,null,null,null,null,null,null,null,null,null,null,null,null,null,null,null,null,null,null,null,null,null,null,null,null,null,null,null,null,null,null,null,"Bellechester"]
[null,"Belleriver",null,null,null,null,null,null,null,null,null,null,null,null,null,null,null,null,null,null,null,null,null,null,null,null,null,null,null,null,null,null,null,null,null,null,null,null,null,null,null,null,null,"Belleriver"]
[null,"Bellevue",null,null,null,null,null,null,null,null,null,null,null,null,null,null,null,null,null,null,null,null,null,null,null,null,null,null,null,null,null,null,null,null,null,null,null,null,null,null,null,null,null,"Bellevue"]
[null,"Bellingham",null,null,null,null,null,null,null,null,null,null,null,null,null,null,null,null,null,null,null,null,null,null,null,null,null,null,null,null,null,null,null,null,null,null,null,null,null,null,null,null,null,"Bellingham"]
[null,"Belmont",null,null,null,null,null,null,null,null,null,null,null,null,null,null,null,null,null,null,null,null,null,null,null,null,null,null,null,null,null,null,null,null,null,null,null,null,null,null,null,null,null,"Belmont"]
[null,"Beltrami",null,null,null,null,null,null,null,null,null,null,null,null,null,null,null,null,null,null,null,null,null,null,null,null,null,null,null,null,null,null,null,null,null,null,null,null,null,null,null,null,null,"Beltrami"]
[null,"Beltrami Forest",null,null,null,null,null,null,null,null,null,null,null,null,null,null,null,null,null,null,null,null,null,null,null,null,null,null,null,null,null,null,null,null,null,null,null,null,null,null,null,null,null,"Beltrami Forest"]
[null,"Belvidere",null,null,null,null,null,null,null,null,null,null,null,null,null,null,null,null,null,null,null,null,null,null,null,null,null,null,null,null,null,null,null,null,null,null,null,null,null,null,null,null,null,"Belvidere"]
[null,"Belvidere Mills",null,null,null,null,null,null,null,null,null,null,null,null,null,null,null,null,null,null,null,null,null,null,null,null,null,null,null,null,null,null,null,null,null,null,null,null,null,null,null,null,null,"Belvidere Mills"]
[null,"Belview",null,null,null,null,null,null,null,null,null,null,null,null,null,null,null,null,null,null,null,null,null,null,null,null,null,null,null,null,null,null,null,null,null,null,null,null,null,null,null,null,null,"Belview"]
[null,"Bemidji",null,null,null,null,null,null,null,null,null,null,null,null,null,null,null,null,null,null,null,null,null,null,null,null,null,null,null,null,null,null,null,null,null,null,null,null,null,null,null,null,null,"Bemidji"]
[null,"Bemidji Municipal Airport",null,null,null,null,null,null,null,null,null,null,null,null,null,null,null,null,null,null,null,null,null,null,null,null,null,null,null,null,null,null,null,null,null,null,null,null,null,null,null,null,null,"Bemidji Municipal Airport"]
[null,"Bemidji Township",null,null,null,null,null,null,null,null,null,null,null,null,null,null,null,null,null,null,null,null,null,null,null,null,null,null,null,null,null,null,null,null,null,null,null,null,null,null,null,null,null,"Bemidji Township"]
[null,"Ben Wade",null,null,null,null,null,null,null,null,null,null,null,null,null,null,null,null,null,null,null,null,null,null,null,null,null,null,null,null,null,null,null,null,null,null,null,null,null,null,null,null,null,"Ben Wade"]
[null,"Bena",null,null,null,null,null,null,null,null,null,null,null,null,null,null,null,null,null,null,null,null,null,null,null,null,null,null,null,null,null,null,null,null,null,null,null,null,null,null,null,null,null,"Bena"]
[null,"Benedict",null,null,null,null,null,null,null,null,null,null,null,null,null,null,null,null,null,null,null,null,null,null,null,null,null,null,null,null,null,null,null,null,null,null,null,null,null,null,null,null,null,"Benedict"]
[null,"Bengal",null,null,null,null,null,null,null,null,null,null,null,null,null,null,null,null,null,null,null,null,null,null,null,null,null,null,null,null,null,null,null,null,null,null,null,null,null,null,null,null,null,"Bengal"]
[null,"Bennett",null,null,null,null,null,null,null,null,null,null,null,null,null,null,null,null,null,null,null,null,null,null,null,null,null,null,null,null,null,null,null,null,null,null,null,null,null,null,null,null,null,"Bennett"]
[null,"Bennettville",null,null,null,null,null,null,null,null,null,null,null,null,null,null,null,null,null,null,null,null,null,null,null,null,null,null,null,null,null,null,null,null,null,null,null,null,null,null,null,null,null,"Bennettville"]
[null,"Benning",null,null,null,null,null,null,null,null,null,null,null,null,null,null,null,null,null,null,null,null,null,null,null,null,null,null,null,null,null,null,null,null,null,null,null,null,null,null,null,null,null,"Benning"]
[null,"Bennington",null,null,null,null,null,null,null,null,null,null,null,null,null,null,null,null,null,null,null,null,null,null,null,null,null,null,null,null,null,null,null,null,null,null,null,null,null,null,null,null,null,"Bennington"]
[null,"Benoit",null,null,null,null,null,null,null,null,null,null,null,null,null,null,null,null,null,null,null,null,null,null,null,null,null,null,null,null,null,null,null,null,null,null,null,null,null,null,null,null,null,"Benoit"]
[null,"Benson",null,null,null,null,null,null,null,null,null,null,null,null,null,null,null,null,null,null,null,null,null,null,null,null,null,null,null,null,null,null,null,null,null,null,null,null,null,null,null,null,null,"Benson"]
[null,"Benson Township",null,null,null,null,null,null,null,null,null,null,null,null,null,null,null,null,null,null,null,null,null,null,null,null,null,null,null,null,null,null,null,null,null,null,null,null,null,null,null,null,null,"Benson Township"]
[null,"Benton",null,null,null,null,null,null,null,null,null,null,null,null,null,null,null,null,null,null,null,null,null,null,null,null,null,null,null,null,null,null,null,null,null,null,null,null,null,null,null,null,null,"Benton"]
[null,"Benton Township",null,null,null,null,null,null,null,null,null,null,null,null,null,null,null,null,null,null,null,null,null,null,null,null,null,null,null,null,null,null,null,null,null,null,null,null,null,null,null,null,null,"Benton Township"]
[null,"Benville",null,null,null,null,null,null,null,null,null,null,null,null,null,null,null,null,null,null,null,null,null,null,null,null,null,null,null,null,null,null,null,null,null,null,null,null,null,null,null,null,null,"Benville"]
[null,"Bergen",null,null,null,null,null,null,null,null,null,null,null,null,null,null,null,null,null,null,null,null,null,null,null,null,null,null,null,null,null,null,null,null,null,null,null,null,null,null,null,null,null,"Bergen"]
[null,"Bergen Township",null,null,null,null,null,null,null,null,null,null,null,null,null,null,null,null,null,null,null,null,null,null,null,null,null,null,null,null,null,null,null,null,null,null,null,null,null,null,null,null,null,"Bergen Township"]
[null,"Bergville",null,null,null,null,null,null,null,null,null,null,null,null,null,null,null,null,null,null,null,null,null,null,null,null,null,null,null,null,null,null,null,null,null,null,null,null,null,null,null,null,null,"Bergville"]
[null,"Berlin",null,null,null,null,null,null,null,null,null,null,null,null,null,null,null,null,null,null,null,null,null,null,null,null,null,null,null,null,null,null,null,null,null,null,null,null,null,null,null,null,null,"Berlin"]
[null,"Bernadotte",null,null,null,null,null,null,null,null,null,null,null,null,null,null,null,null,null,null,null,null,null,null,null,null,null,null,null,null,null,null,null,null,null,null,null,null,null,null,null,null,null,"Bernadotte"]
[null,"Bernadotte Township",null,null,null,null,null,null,null,null,null,null,null,null,null,null,null,null,null,null,null,null,null,null,null,null,null,null,null,null,null,null,null,null,null,null,null,null,null,null,null,null,null,"Bernadotte Township"]
[null,"Berne",null,null,null,null,null,null,null,null,null,null,null,null,null,null,null,null,null,null,null,null,null,null,null,null,null,null,null,null,null,null,null,null,null,null,null,null,null,null,null,null,null,"Berne"]
[null,"Berner",null,null,null,null,null,null,null,null,null,null,null,null,null,null,null,null,null,null,null,null,null,null,null,null,null,null,null,null,null,null,null,null,null,null,null,null,null,null,null,null,null,"Berner"]
[null,"Berning Mill",null,null,null,null,null,null,null,null,null,null,null,null,null,null,null,null,null,null,null,null,null,null,null,null,null,null,null,null,null,null,null,null,null,null,null,null,null,null,null,null,null,"Berning Mill"]
[null,"Beroun",null,null,null,null,null,null,null,null,null,null,null,null,null,null,null,null,null,null,null,null,null,null,null,null,null,null,null,null,null,null,null,null,null,null,null,null,null,null,null,null,null,"Beroun"]
[null,"Bertha",null,null,null,null,null,null,null,null,null,null,null,null,null,null,null,null,null,null,null,null,null,null,null,null,null,null,null,null,null,null,null,null,null,null,null,null,null,null,null,null,null,"Bertha"]
[null,"Bertha Township",null,null,null,null,null,null,null,null,null,null,null,null,null,null,null,null,null,null,null,null,null,null,null,null,null,null,null,null,null,null,null,null,null,null,null,null,null,null,null,null,null,"Bertha Township"]
[null,"Beseman",null,null,null,null,null,null,null,null,null,null,null,null,null,null,null,null,null,null,null,null,null,null,null,null,null,null,null,null,null,null,null,null,null,null,null,null,null,null,null,null,null,"Beseman"]
[null,"Bethany",null,null,null,null,null,null,null,null,null,null,null,null,null,null,null,null,null,null,null,null,null,null,null,null,null,null,null,null,null,null,null,null,null,null,null,null,null,null,null,null,null,"Bethany"]
[null,"Bethel",null,null,null,null,null,null,null,null,null,null,null,null,null,null,null,null,null,null,null,null,null,null,null,null,null,null,null,null,null,null,null,null,null,null,null,null,null,null,null,null,null,"Bethel"]
[null,"Beulah",null,null,null,null,null,null,null,null,null,null,null,null,null,null,null,null,null,null,null,null,null,null,null,null,null,null,null,null,null,null,null,null,null,null,null,null,null,null,null,null,null,"Beulah"]
[null,"Big Bend",null,null,null,null,null,null,null,null,null,null,null,null,null,null,null,null,null,null,null,null,null,null,null,null,null,null,null,null,null,null,null,null,null,null,null,null,null,null,null,null,null,"Big Bend"]
[null,"Big Bend City",null,null,null,null,null,null,null,null,null,null,null,null,null,null,null,null,null,null,null,null,null,null,null,null,null,null,null,null,null,null,null,null,null,null,null,null,null,null,null,null,null,"Big Bend City"]
[null,"Big Falls",null,null,null,null,null,null,null,null,null,null,null,null,null,null,null,null,null,null,null,null,null,null,null,null,null,null,null,null,null,null,null,null,null,null,null,null,null,null,null,null,null,"Big Falls"]
[null,"Big Island",null,null,null,null,null,null,null,null,null,null,null,null,null,null,null,null,null,null,null,null,null,null,null,null,null,null,null,null,null,null,null,null,null,null,null,null,null,null,null,null,null,"Big Island"]
[null,"Big Lake",null,null,null,null,null,null,null,null,null,null,null,null,null,null,null,null,null,null,null,null,null,null,null,null,null,null,null,null,null,null,null,null,null,null,null,null,null,null,null,null,null,"Big Lake"]
[null,"Big Lake Chapel",null,null,null,null,null,null,null,null,null,null,null,null,null,null,null,null,null,null,null,null,null,null,null,null,null,null,null,null,null,null,null,null,null,null,null,null,null,null,null,null,null,"Big Lake Chapel"]
[null,"Big Lake Township",null,null,null,null,null,null,null,null,null,null,null,null,null,null,null,null,null,null,null,null,null,null,null,null,null,null,null,null,null,null,null,null,null,null,null,null,null,null,null,null,null,"Big Lake Township"]
[null,"Big Spring",null,null,null,null,null,null,null,null,null,null,null,null,null,null,null,null,null,null,null,null,null,null,null,null,null,null,null,null,null,null,null,null,null,null,null,null,null,null,null,null,null,"Big Spring"]
[null,"Big Stone",null,null,null,null,null,null,null,null,null,null,null,null,null,null,null,null,null,null,null,null,null,null,null,null,null,null,null,null,null,null,null,null,null,null,null,null,null,null,null,null,null,"Big Stone"]
[null,"Big Stone City",null,null,null,null,null,null,null,null,null,null,null,null,null,null,null,null,null,null,null,null,null,null,null,null,null,null,null,null,null,null,null,null,null,null,null,null,null,null,null,null,null,"Big Stone City"]
[null,"Big Stone Colony",null,null,null,null,null,null,null,null,null,null,null,null,null,null,null,null,null,null,null,null,null,null,null,null,null,null,null,null,null,null,null,null,null,null,null,null,null,null,null,null,null,"Big Stone Colony"]
[null,"Big Woods",null,null,null,null,null,null,null,null,null,null,null,null,null,null,null,null,null,null,null,null,null,null,null,null,null,null,null,null,null,null,null,null,null,null,null,null,null,null,null,null,null,"Big Woods"]
[null,"Big Woods Township",null,null,null,null,null,null,null,null,null,null,null,null,null,null,null,null,null,null,null,null,null,null,null,null,null,null,null,null,null,null,null,null,null,null,null,null,null,null,null,null,null,"Big Woods Township"]
[null,"Bigelow",null,null,null,null,null,null,null,null,null,null,null,null,null,null,null,null,null,null,null,null,null,null,null,null,null,null,null,null,null,null,null,null,null,null,null,null,null,null,null,null,null,"Bigelow"]
[null,"Bigelow Township",null,null,null,null,null,null,null,null,null,null,null,null,null,null,null,null,null,null,null,null,null,null,null,null,null,null,null,null,null,null,null,null,null,null,null,null,null,null,null,null,null,"Bigelow Township"]
[null,"Bigfork",null,null,null,null,null,null,null,null,null,null,null,null,null,null,null,null,null,null,null,null,null,null,null,null,null,null,null,null,null,null,null,null,null,null,null,null,null,null,null,null,null,"Bigfork"]
[null,"Bigfork Township",null,null,null,null,null,null,null,null,null,null,null,null,null,null,null,null,null,null,null,null,null,null,null,null,null,null,null,null,null,null,null,null,null,null,null,null,null,null,null,null,null,"Bigfork Township"]
[null,"Bilspur",null,null,null,null,null,null,null,null,null,null,null,null,null,null,null,null,null,null,null,null,null,null,null,null,null,null,null,null,null,null,null,null,null,null,null,null,null,null,null,null,null,"Bilspur"]
[null,"Bingham",null,null,null,null,null,null,null,null,null,null,null,null,null,null,null,null,null,null,null,null,null,null,null,null,null,null,null,null,null,null,null,null,null,null,null,null,null,null,null,null,null,"Bingham"]
[null,"Bingham Lake",null,null,null,null,null,null,null,null,null,null,null,null,null,null,null,null,null,null,null,null,null,null,null,null,null,null,null,null,null,null,null,null,null,null,null,null,null,null,null,null,null,"Bingham Lake"]
[null,"Birch",null,null,null,null,null,null,null,null,null,null,null,null,null,null,null,null,null,null,null,null,null,null,null,null,null,null,null,null,null,null,null,null,null,null,null,null,null,null,null,null,null,"Birch"]
[null,"Birch Beach",null,null,null,null,null,null,null,null,null,null,null,null,null,null,null,null,null,null,null,null,null,null,null,null,null,null,null,null,null,null,null,null,null,null,null,null,null,null,null,null,null,"Birch Beach"]
[null,"Birch Cooley",null,null,null,null,null,null,null,null,null,null,null,null,null,null,null,null,null,null,null,null,null,null,null,null,null,null,null,null,null,null,null,null,null,null,null,null,null,null,null,null,null,"Birch Cooley"]
[{"$error":"#REF!"},"Birch Creek",null,null,null,null,null,null,null,null,null,null,null,null,null,null,null,null,null,null,null,null,null,null,null,null,null,null,null,null,null,null,null,null,null,null,null,null,null,null,null,null,null,"Birch Creek"]
[null,"Birch Lake",null,null,null,null,null,null,null,null,null,null,null,null,null,null,null,null,null,null,null,null,null,null,null,null,null,null,null,null,null,null,null,null,null,null,null,null,null,null,null,null,null,"Birch Lake"]
[null,"Birch Lake Township",null,null,null,null,null,null,null,null,null,null,null,null,null,null,null,null,null,null,null,null,null,null,null,null,null,null,null,null,null,null,null,null,null,null,null,null,null,null,null,null,null,"Birch Lake Township"]
[null,"Birch Township",null,null,null,null,null,null,null,null,null,null,null,null,null,null,null,null,null,null,null,null,null,null,null,null,null,null,null,null,null,null,null,null,null,null,null,null,null,null,null,null,null,"Birch Township"]
[null,"Birchdale",null,null,null,null,null,null,null,null,null,null,null,null,null,null,null,null,null,null,null,null,null,null,null,null,null,null,null,null,null,null,null,null,null,null,null,null,null,null,null,null,null,"Birchdale"]
[null,"Birchdale Township",null,null,null,null,null,null,null,null,null,null,null,null,null,null,null,null,null,null,null,null,null,null,null,null,null,null,null,null,null,null,null,null,null,null,null,null,null,null,null,null,null,"Birchdale Township"]
[null,"Birchmont",null,null,null,null,null,null,null,null,null,null,null,null,null,null,null,null,null,null,null,null,null,null,null,null,null,null,null,null,null,null,null,null,null,null,null,null,null,null,null,null,null,"Birchmont"]
[null,"Birchwood",null,null,null,null,null,null,null,null,null,null,null,null,null,null,null,null,null,null,null,null,null,null,null,null,null,null,null,null,null,null,null,null,null,null,null,null,null,null,null,null,null,"Birchwood"]
[null,"Birchwood Village",null,null,null,null,null,null,null,null,null,null,null,null,null,null,null,null,null,null,null,null,null,null,null,null,null,null,null,null,null,null,null,null,null,null,null,null,null,null,null,null,null,"Birchwood Village"]
[null,"Bird Island",null,null,null,null,null,null,null,null,null,null,null,null,null,null,null,null,null,null,null,null,null,null,null,null,null,null,null,null,null,null,null,null,null,null,null,null,null,null,null,null,null,"Bird Island"]
[null,"Bird Island Township",null,null,null,null,null,null,null,null,null,null,null,null,null,null,null,null,null,null,null,null,null,null,null,null,null,null,null,null,null,null,null,null,null,null,null,null,null,null,null,null,null,"Bird Island Township"]
[null,"Biscay",null,null,null,null,null,null,null,null,null,null,null,null,null,null,null,null,null,null,null,null,null,null,null,null,null,null,null,null,null,null,null,null,null,null,null,null,null,null,null,null,null,"Biscay"]
[null,"Bismarck",null,null,null,null,null,null,null,null,null,null,null,null,null,null,null,null,null,null,null,null,null,null,null,null,null,null,null,null,null,null,null,null,null,null,null,null,null,null,null,null,null,"Bismarck"]
[null,"Biwabik",null,null,null,null,null,null,null,null,null,null,null,null,null,null,null,null,null,null,null,null,null,null,null,null,null,null,null,null,null,null,null,null,null,null,null,null,null,null,null,null,null,"Biwabik"]
[null,"Biwabik Township",null,null,null,null,null,null,null,null,null,null,null,null,null,null,null,null,null,null,null,null,null,null,null,null,null,null,null,null,null,null,null,null,null,null,null,null,null,null,null,null,null,"Biwabik Township"]
[null,"Bixby",null,null,null,null,null,null,null,null,null,null,null,null,null,null,null,null,null,null,null,null,null,null,null,null,null,null,null,null,null,null,null,null,null,null,null,null,null,null,null,null,null,"Bixby"]
[null,"Black Dog",null,null,null,null,null,null,null,null,null,null,null,null,null,null,null,null,null,null,null,null,null,null,null,null,null,null,null,null,null,null,null,null,null,null,null,null,null,null,null,null,null,"Black Dog"]
[null,"Black Hammer",null,null,null,null,null,null,null,null,null,null,null,null,null,null,null,null,null,null,null,null,null,null,null,null,null,null,null,null,null,null,null,null,null,null,null,null,null,null,null,null,null,"Black Hammer"]
[null,"Black Hammer Township",null,null,null,null,null,null,null,null,null,null,null,null,null,null,null,null,null,null,null,null,null,null,null,null,null,null,null,null,null,null,null,null,null,null,null,null,null,null,null,null,null,"Black Hammer Township"]
[null,"Black River",null,null,null,null,null,null,null,null,null,null,null,null,null,null,null,null,null,null,null,null,null,null,null,null,null,null,null,null,null,null,null,null,null,null,null,null,null,null,null,null,null,"Black River"]
[null,"Black River Township",null,null,null,null,null,null,null,null,null,null,null,null,null,null,null,null,null,null,null,null,null,null,null,null,null,null,null,null,null,null,null,null,null,null,null,null,null,null,null,null,null,"Black River Township"]
[null,"Blackberry",null,null,null,null,null,null,null,null,null,null,null,null,null,null,null,null,null,null,null,null,null,null,null,null,null,null,null,null,null,null,null,null,null,null,null,null,null,null,null,null,null,"Blackberry"]
[null,"Blackberry Township",null,null,null,null,null,null,null,null,null,null,null,null,null,null,null,null,null,null,null,null,null,null,null,null,null,null,null,null,null,null,null,null,null,null,null,null,null,null,null,null,null,"Blackberry Township"]
[null,"Blackduck",null,null,null,null,null,null,null,null,null,null,null,null,null,null,null,null,null,null,null,null,null,null,null,null,null,null,null,null,null,null,null,null,null,null,null,null,null,null,null,null,null,"Blackduck"]
[null,"Blackhoof",null,null,null,null,null,null,null,null,null,null,null,null,null,null,null,null,null,null,null,null,null,null,null,null,null,null,null,null,null,null,null,null,null,null,null,null,null,null,null,null,null,"Blackhoof"]
[null,"Blackhoof Township",null,null,null,null,null,null,null,null,null,null,null,null,null,null,null,null,null,null,null,null,null,null,null,null,null,null,null,null,null,null,null,null,null,null,null,null,null,null,null,null,null,"Blackhoof Township"]
[null,"Blaine",null,null,null,null,null,null,null,null,null,null,null,null,null,null,null,null,null,null,null,null,null,null,null,null,null,null,null,null,null,null,null,null,null,null,null,null,null,null,null,null,null,"Blaine"]
[null,"Blakeley",null,null,null,null,null,null,null,null,null,null,null,null,null,null,null,null,null,null,null,null,null,null,null,null,null,null,null,null,null,null,null,null,null,null,null,null,null,null,null,null,null,"Blakeley"]
[null,"Blakeley Township",null,null,null,null,null,null,null,null,null,null,null,null,null,null,null,null,null,null,null,null,null,null,null,null,null,null,null,null,null,null,null,null,null,null,null,null,null,null,null,null,null,"Blakeley Township"]
[null,"Blind Lake",null,null,null,null,null,null,null,null,null,null,null,null,null,null,null,null,null,null,null,null,null,null,null,null,null,null,null,null,null,null,null,null,null,null,null,null,null,null,null,null,null,"Blind Lake"]
[null,"Blomford",null,null,null,null,null,null,null,null,null,null,null,null,null,null,null,null,null,null,null,null,null,null,null,null,null,null,null,null,null,null,null,null,null,null,null,null,null,null,null,null,null,"Blomford"]
[null,"Blomkest",null,null,null,null,null,null,null,null,null,null,null,null,null,null,null,null,null,null,null,null,null,null,null,null,null,null,null,null,null,null,null,null,null,null,null,null,null,null,null,null,null,"Blomkest"]
[null,"Bloom",null,null,null,null,null,null,null,null,null,null,null,null,null,null,null,null,null,null,null,null,null,null,null,null,null,null,null,null,null,null,null,null,null,null,null,null,null,null,null,null,null,"Bloom"]
[null,"Bloom Dale",null,null,null,null,null,null,null,null,null,null,null,null,null,null,null,null,null,null,null,null,null,null,null,null,null,null,null,null,null,null,null,null,null,null,null,null,null,null,null,null,null,"Bloom Dale"]
[null,"Bloomer",null,null,null,null,null,null,null,null,null,null,null,null,null,null,null,null,null,null,null,null,null,null,null,null,null,null,null,null,null,null,null,null,null,null,null,null,null,null,null,null,null,"Bloomer"]
[null,"Bloomfield",null,null,null,null,null,null,null,null,null,null,null,null,null,null,null,null,null,null,null,null,null,null,null,null,null,null,null,null,null,null,null,null,null,null,null,null,null,null,null,null,null,"Bloomfield"]
[null,"Blooming Grove",null,null,null,null,null,null,null,null,null,null,null,null,null,null,null,null,null,null,null,null,null,null,null,null,null,null,null,null,null,null,null,null,null,null,null,null,null,null,null,null,null,"Blooming Grove"]
[null,"Blooming Prairie",null,null,null,null,null,null,null,null,null,null,null,null,null,null,null,null,null,null,null,null,null,null,null,null,null,null,null,null,null,null,null,null,null,null,null,null,null,null,null,null,null,"Blooming Prairie"]
[null,"Blooming Prairie Township",null,null,null,null,null,null,null,null,null,null,null,null,null,null,null,null,null,null,null,null,null,null,null,null,null,null,null,null,null,null,null,null,null,null,null,null,null,null,null,null,null,"Blooming Prairie Township"]
[null,"Blooming Valley",null,null,null,null,null,null,null,null,null,null,null,null,null,null,null,null,null,null,null,null,null,null,null,null,null,null,null,null,null,null,null,null,null,null,null,null,null,null,null,null,null,"Blooming Valley"]
[null,"Bloomington",null,null,null,null,null,null,null,null,null,null,null,null,null,null,null,null,null,null,null,null,null,null,null,null,null,null,null,null,null,null,null,null,null,null,null,null,null,null,null,null,null,"Bloomington"]
[null,"Bloomington Ferry",null,null,null,null,null,null,null,null,null,null,null,null,null,null,null,null,null,null,null,null,null,null,null,null,null,null,null,null,null,null,null,null,null,null,null,null,null,null,null,null,null,"Bloomington Ferry"]
[null,"Blowers",null,null,null,null,null,null,null,null,null,null,null,null,null,null,null,null,null,null,null,null,null,null,null,null,null,null,null,null,null,null,null,null,null,null,null,null,null,null,null,null,null,"Blowers"]
[null,"Blue Earth",null,null,null,null,null,null,null,null,null,null,null,null,null,null,null,null,null,null,null,null,null,null,null,null,null,null,null,null,null,null,null,null,null,null,null,null,null,null,null,null,null,"Blue Earth"]
[null,"Blue Earth City",null,null,null,null,null,null,null,null,null,null,null,null,null,null,null,null,null,null,null,null,null,null,null,null,null,null,null,null,null,null,null,null,null,null,null,null,null,null,null,null,null,"Blue Earth City"]
[null,"Blue Grass",null,null,null,null,null,null,null,null,null,null,null,null,null,null,null,null,null,null,null,null,null,null,null,null,null,null,null,null,null,null,null,null,null,null,null,null,null,null,null,null,null,"Blue Grass"]
[null,"Blue Hill",null,null,null,null,null,null,null,null,null,null,null,null,null,null,null,null,null,null,null,null,null,null,null,null,null,null,null,null,null,null,null,null,null,null,null,null,null,null,null,null,null,"Blue Hill"]
[null,"Blue Mounds",null,null,null,null,null,null,null,null,null,null,null,null,null,null,null,null,null,null,null,null,null,null,null,null,null,null,null,null,null,null,null,null,null,null,null,null,null,null,null,null,null,"Blue Mounds"]
[null,"Blueberry",null,null,null,null,null,null,null,null,null,null,null,null,null,null,null,null,null,null,null,null,null,null,null,null,null,null,null,null,null,null,null,null,null,null,null,null,null,null,null,null,null,"Blueberry"]
[null,"Bluffton",null,null,null,null,null,null,null,null,null,null,null,null,null,null,null,null,null,null,null,null,null,null,null,null,null,null,null,null,null,null,null,null,null,null,null,null,null,null,null,null,null,"Bluffton"]
[null,"Bluffton Township",null,null,null,null,null,null,null,null,null,null,null,null,null,null,null,null,null,null,null,null,null,null,null,null,null,null,null,null,null,null,null,null,null,null,null,null,null,null,null,null,null,"Bluffton Township"]
[null,"Bock",null,null,null,null,null,null,null,null,null,null,null,null,null,null,null,null,null,null,null,null,null,null,null,null,null,null,null,null,null,null,null,null,null,null,null,null,null,null,null,null,null,"Bock"]
[null,"Bodum",null,null,null,null,null,null,null,null,null,null,null,null,null,null,null,null,null,null,null,null,null,null,null,null,null,null,null,null,null,null,null,null,null,null,null,null,null,null,null,null,null,"Bodum"]
[null,"Bogus Brook",null,null,null,null,null,null,null,null,null,null,null,null,null,null,null,null,null,null,null,null,null,null,null,null,null,null,null,null,null,null,null,null,null,null,null,null,null,null,null,null,null,"Bogus Brook"]
[null,"Bois Fort",null,null,null,null,null,null,null,null,null,null,null,null,null,null,null,null,null,null,null,null,null,null,null,null,null,null,null,null,null,null,null,null,null,null,null,null,null,null,null,null,null,"Bois Fort"]
[null,"Bois Forte Indian Reservation",null,null,null,null,null,null,null,null,null,null,null,null,null,null,null,null,null,null,null,null,null,null,null,null,null,null,null,null,null,null,null,null,null,null,null,null,null,null,null,null,null,"Bois Forte Indian Reservation"]
[null,"Boisberg",null,null,null,null,null,null,null,null,null,null,null,null,null,null,null,null,null,null,null,null,null,null,null,null,null,null,null,null,null,null,null,null,null,null,null,null,null,null,null,null,null,"Boisberg"]
[null,"Bombay",null,null,null,null,null,null,null,null,null,null,null,null,null,null,null,null,null,null,null,null,null,null,null,null,null,null,null,null,null,null,null,null,null,null,null,null,null,null,null,null,null,"Bombay"]
[null,"Bonanza Grove",null,null,null,null,null,null,null,null,null,null,null,null,null,null,null,null,null,null,null,null,null,null,null,null,null,null,null,null,null,null,null,null,null,null,null,null,null,null,null,null,null,"Bonanza Grove"]
[null,"Bondin",null,null,null,null,null,null,null,null,null,null,null,null,null,null,null,null,null,null,null,null,null,null,null,null,null,null,null,null,null,null,null,null,null,null,null,null,null,null,null,null,null,"Bondin"]
[null,"Bongards",null,null,null,null,null,null,null,null,null,null,null,null,null,null,null,null,null,null,null,null,null,null,null,null,null,null,null,null,null,null,null,null,null,null,null,null,null,null,null,null,null,"Bongards"]
[null,"Bonnie Glen",null,null,null,null,null,null,null,null,null,null,null,null,null,null,null,null,null,null,null,null,null,null,null,null,null,null,null,null,null,null,null,null,null,null,null,null,null,null,null,null,null,"Bonnie Glen"]
[null,"Boon Lake",null,null,null,null,null,null,null,null,null,null,null,null,null,null,null,null,null,null,null,null,null,null,null,null,null,null,null,null,null,null,null,null,null,null,null,null,null,null,null,null,null,"Boon Lake"]
[null,"Border",null,null,null,null,null,null,null,null,null,null,null,null,null,null,null,null,null,null,null,null,null,null,null,null,null,null,null,null,null,null,null,null,null,null,null,null,null,null,null,null,null,"Border"]
[null,"Borgholm",null,null,null,null,null,null,null,null,null,null,null,null,null,null,null,null,null,null,null,null,null,null,null,null,null,null,null,null,null,null,null,null,null,null,null,null,null,null,null,null,null,"Borgholm"]
[null,"Borup",null,null,null,null,null,null,null,null,null,null,null,null,null,null,null,null,null,null,null,null,null,null,null,null,null,null,null,null,null,null,null,null,null,null,null,null,null,null,null,null,null,"Borup"]
[null,"Bovey",null,null,null,null,null,null,null,null,null,null,null,null,null,null,null,null,null,null,null,null,null,null,null,null,null,null,null,null,null,null,null,null,null,null,null,null,null,null,null,null,null,"Bovey"]
[null,"Bowlus",null,null,null,null,null,null,null,null,null,null,null,null,null,null,null,null,null,null,null,null,null,null,null,null,null,null,null,null,null,null,null,null,null,null,null,null,null,null,null,null,null,"Bowlus"]
[null,"Bowstring",null,null,null,null,null,null,null,null,null,null,null,null,null,null,null,null,null,null,null,null,null,null,null,null,null,null,null,null,null,null,null,null,null,null,null,null,null,null,null,null,null,"Bowstring"]
[null,"Bowstring Lake",null,null,null,null,null,null,null,null,null,null,null,null,null,null,null,null,null,null,null,null,null,null,null,null,null,null,null,null,null,null,null,null,null,null,null,null,null,null,null,null,null,"Bowstring Lake"]
[null,"Bowstring Township",null,null,null,null,null,null,null,null,null,null,null,null,null,null,null,null,null,null,null,null,null,null,null,null,null,null,null,null,null,null,null,null,null,null,null,null,null,null,null,null,null,"Bowstring Township"]
[null,"Boxville",null,null,null,null,null,null,null,null,null,null,null,null,null,null,null,null,null,null,null,null,null,null,null,null,null,null,null,null,null,null,null,null,null,null,null,null,null,null,null,null,null,"Boxville"]
[null,"Boy Lake",null,null,null,null,null,null,null,null,null,null,null,null,null,null,null,null,null,null,null,null,null,null,null,null,null,null,null,null,null,null,null,null,null,null,null,null,null,null,null,null,null,"Boy Lake"]
[null,"Boy River",null,null,null,null,null,null,null,null,null,null,null,null,null,null,null,null,null,null,null,null,null,null,null,null,null,null,null,null,null,null,null,null,null,null,null,null,null,null,null,null,null,"Boy River"]
[null,"Boy River Township",null,null,null,null,null,null,null,null,null,null,null,null,null,null,null,null,null,null,null,null,null,null,null,null,null,null,null,null,null,null,null,null,null,null,null,null,null,null,null,null,null,"Boy River Township"]
[null,"Boyd",null,null,null,null,null,null,null,null,null,null,null,null,null,null,null,null,null,null,null,null,null,null,null,null,null,null,null,null,null,null,null,null,null,null,null,null,null,null,null,null,null,"Boyd"]
[null,"Bradbury",null,null,null,null,null,null,null,null,null,null,null,null,null,null,null,null,null,null,null,null,null,null,null,null,null,null,null,null,null,null,null,null,null,null,null,null,null,null,null,null,null,"Bradbury"]
[null,"Bradford",null,null,null,null,null,null,null,null,null,null,null,null,null,null,null,null,null,null,null,null,null,null,null,null,null,null,null,null,null,null,null,null,null,null,null,null,null,null,null,null,null,"Bradford"]
[null,"Bradford Township",null,null,null,null,null,null,null,null,null,null,null,null,null,null,null,null,null,null,null,null,null,null,null,null,null,null,null,null,null,null,null,null,null,null,null,null,null,null,null,null,null,"Bradford Township"]
[null,"Braham",null,null,null,null,null,null,null,null,null,null,null,null,null,null,null,null,null,null,null,null,null,null,null,null,null,null,null,null,null,null,null,null,null,null,null,null,null,null,null,null,null,"Braham"]
[null,"Brainerd",null,null,null,null,null,null,null,null,null,null,null,null,null,null,null,null,null,null,null,null,null,null,null,null,null,null,null,null,null,null,null,null,null,null,null,null,null,null,null,null,null,"Brainerd"]
[null,"Brainerd-Crow Wing County Airp",null,null,null,null,null,null,null,null,null,null,null,null,null,null,null,null,null,null,null,null,null,null,null,null,null,null,null,null,null,null,null,null,null,null,null,null,null,null,null,null,null,"Brainerd-Crow Wing County Airp"]
[null,"Branch",null,null,null,null,null,null,null,null,null,null,null,null,null,null,null,null,null,null,null,null,null,null,null,null,null,null,null,null,null,null,null,null,null,null,null,null,null,null,null,null,null,"Branch"]
[null,"Brandon",null,null,null,null,null,null,null,null,null,null,null,null,null,null,null,null,null,null,null,null,null,null,null,null,null,null,null,null,null,null,null,null,null,null,null,null,null,null,null,null,null,"Brandon"]
[null,"Brandon Township",null,null,null,null,null,null,null,null,null,null,null,null,null,null,null,null,null,null,null,null,null,null,null,null,null,null,null,null,null,null,null,null,null,null,null,null,null,null,null,null,null,"Brandon Township"]
[null,"Brandrup",null,null,null,null,null,null,null,null,null,null,null,null,null,null,null,null,null,null,null,null,null,null,null,null,null,null,null,null,null,null,null,null,null,null,null,null,null,null,null,null,null,"Brandrup"]
[null,"Brandsvold",null,null,null,null,null,null,null,null,null,null,null,null,null,null,null,null,null,null,null,null,null,null,null,null,null,null,null,null,null,null,null,null,null,null,null,null,null,null,null,null,null,"Brandsvold"]
[null,"Brandt",null,null,null,null,null,null,null,null,null,null,null,null,null,null,null,null,null,null,null,null,null,null,null,null,null,null,null,null,null,null,null,null,null,null,null,null,null,null,null,null,null,"Brandt"]
[null,"Bratsberg",null,null,null,null,null,null,null,null,null,null,null,null,null,null,null,null,null,null,null,null,null,null,null,null,null,null,null,null,null,null,null,null,null,null,null,null,null,null,null,null,null,"Bratsberg"]
[null,"Bray",null,null,null,null,null,null,null,null,null,null,null,null,null,null,null,null,null,null,null,null,null,null,null,null,null,null,null,null,null,null,null,null,null,null,null,null,null,null,null,null,null,"Bray"]
[null,"Breckenridge",null,null,null,null,null,null,null,null,null,null,null,null,null,null,null,null,null,null,null,null,null,null,null,null,null,null,null,null,null,null,null,null,null,null,null,null,null,null,null,null,null,"Breckenridge"]
[null,"Breckenridge Township",null,null,null,null,null,null,null,null,null,null,null,null,null,null,null,null,null,null,null,null,null,null,null,null,null,null,null,null,null,null,null,null,null,null,null,null,null,null,null,null,null,"Breckenridge Township"]
[null,"Breda",null,null,null,null,null,null,null,null,null,null,null,null,null,null,null,null,null,null,null,null,null,null,null,null,null,null,null,null,null,null,null,null,null,null,null,null,null,null,null,null,null,"Breda"]
[null,"Breezy Point",null,null,null,null,null,null,null,null,null,null,null,null,null,null,null,null,null,null,null,null,null,null,null,null,null,null,null,null,null,null,null,null,null,null,null,null,null,null,null,null,null,"Breezy Point"]
[null,"Breitung",null,null,null,null,null,null,null,null,null,null,null,null,null,null,null,null,null,null,null,null,null,null,null,null,null,null,null,null,null,null,null,null,null,null,null,null,null,null,null,null,null,"Breitung"]
[null,"Bremen",null,null,null,null,null,null,null,null,null,null,null,null,null,null,null,null,null,null,null,null,null,null,null,null,null,null,null,null,null,null,null,null,null,null,null,null,null,null,null,null,null,"Bremen"]
[null,"Bremen Township",null,null,null,null,null,null,null,null,null,null,null,null,null,null,null,null,null,null,null,null,null,null,null,null,null,null,null,null,null,null,null,null,null,null,null,null,null,null,null,null,null,"Bremen Township"]
[null,"Brennyville",null,null,null,null,null,null,null,null,null,null,null,null,null,null,null,null,null,null,null,null,null,null,null,null,null,null,null,null,null,null,null,null,null,null,null,null,null,null,null,null,null,"Brennyville"]
[null,"Brevator",null,null,null,null,null,null,null,null,null,null,null,null,null,null,null,null,null,null,null,null,null,null,null,null,null,null,null,null,null,null,null,null,null,null,null,null,null,null,null,null,null,"Brevator"]
[null,"Brevik",null,null,null,null,null,null,null,null,null,null,null,null,null,null,null,null,null,null,null,null,null,null,null,null,null,null,null,null,null,null,null,null,null,null,null,null,null,null,null,null,null,"Brevik"]
[null,"Brewer",null,null,null,null,null,null,null,null,null,null,null,null,null,null,null,null,null,null,null,null,null,null,null,null,null,null,null,null,null,null,null,null,null,null,null,null,null,null,null,null,null,"Brewer"]
[null,"Brewster",null,null,null,null,null,null,null,null,null,null,null,null,null,null,null,null,null,null,null,null,null,null,null,null,null,null,null,null,null,null,null,null,null,null,null,null,null,null,null,null,null,"Brewster"]
[null,"Bricelyn",null,null,null,null,null,null,null,null,null,null,null,null,null,null,null,null,null,null,null,null,null,null,null,null,null,null,null,null,null,null,null,null,null,null,null,null,null,null,null,null,null,"Bricelyn"]
[null,"Brickton",null,null,null,null,null,null,null,null,null,null,null,null,null,null,null,null,null,null,null,null,null,null,null,null,null,null,null,null,null,null,null,null,null,null,null,null,null,null,null,null,null,"Brickton"]
[null,"Bridge Court",null,null,null,null,null,null,null,null,null,null,null,null,null,null,null,null,null,null,null,null,null,null,null,null,null,null,null,null,null,null,null,null,null,null,null,null,null,null,null,null,null,"Bridge Court"]
[null,"Bridgeman",null,null,null,null,null,null,null,null,null,null,null,null,null,null,null,null,null,null,null,null,null,null,null,null,null,null,null,null,null,null,null,null,null,null,null,null,null,null,null,null,null,"Bridgeman"]
[null,"Bridgewater",null,null,null,null,null,null,null,null,null,null,null,null,null,null,null,null,null,null,null,null,null,null,null,null,null,null,null,null,null,null,null,null,null,null,null,null,null,null,null,null,null,"Bridgewater"]
[null,"Bridgewater Township",null,null,null,null,null,null,null,null,null,null,null,null,null,null,null,null,null,null,null,null,null,null,null,null,null,null,null,null,null,null,null,null,null,null,null,null,null,null,null,null,null,"Bridgewater Township"]
[null,"Briggs Lake",null,null,null,null,null,null,null,null,null,null,null,null,null,null,null,null,null,null,null,null,null,null,null,null,null,null,null,null,null,null,null,null,null,null,null,null,null,null,null,null,null,"Briggs Lake"]
[null,"Brighton",null,null,null,null,null,null,null,null,null,null,null,null,null,null,null,null,null,null,null,null,null,null,null,null,null,null,null,null,null,null,null,null,null,null,null,null,null,null,null,null,null,"Brighton"]
[null,"Brimson",null,null,null,null,null,null,null,null,null,null,null,null,null,null,null,null,null,null,null,null,null,null,null,null,null,null,null,null,null,null,null,null,null,null,null,null,null,null,null,null,null,"Brimson"]
[null,"Brislet",null,null,null,null,null,null,null,null,null,null,null,null,null,null,null,null,null,null,null,null,null,null,null,null,null,null,null,null,null,null,null,null,null,null,null,null,null,null,null,null,null,"Brislet"]
[null,"Bristol",null,null,null,null,null,null,null,null,null,null,null,null,null,null,null,null,null,null,null,null,null,null,null,null,null,null,null,null,null,null,null,null,null,null,null,null,null,null,null,null,null,"Bristol"]
[null,"Bristol Township",null,null,null,null,null,null,null,null,null,null,null,null,null,null,null,null,null,null,null,null,null,null,null,null,null,null,null,null,null,null,null,null,null,null,null,null,null,null,null,null,null,"Bristol Township"]
[null,"Britt",null,null,null,null,null,null,null,null,null,null,null,null,null,null,null,null,null,null,null,null,null,null,null,null,null,null,null,null,null,null,null,null,null,null,null,null,null,null,null,null,null,"Britt"]
[null,"Brittmount",null,null,null,null,null,null,null,null,null,null,null,null,null,null,null,null,null,null,null,null,null,null,null,null,null,null,null,null,null,null,null,null,null,null,null,null,null,null,null,null,null,"Brittmount"]
[null,"Brockway",null,null,null,null,null,null,null,null,null,null,null,null,null,null,null,null,null,null,null,null,null,null,null,null,null,null,null,null,null,null,null,null,null,null,null,null,null,null,null,null,null,"Brockway"]
[null,"Broeker",null,null,null,null,null,null,null,null,null,null,null,null,null,null,null,null,null,null,null,null,null,null,null,null,null,null,null,null,null,null,null,null,null,null,null,null,null,null,null,null,null,"Broeker"]
[null,"Brook Lake",null,null,null,null,null,null,null,null,null,null,null,null,null,null,null,null,null,null,null,null,null,null,null,null,null,null,null,null,null,null,null,null,null,null,null,null,null,null,null,null,null,"Brook Lake"]
[null,"Brook Park",null,null,null,null,null,null,null,null,null,null,null,null,null,null,null,null,null,null,null,null,null,null,null,null,null,null,null,null,null,null,null,null,null,null,null,null,null,null,null,null,null,"Brook Park"]
[null,"Brook Park Junction",null,null,null,null,null,null,null,null,null,null,null,null,null,null,null,null,null,null,null,null,null,null,null,null,null,null,null,null,null,null,null,null,null,null,null,null,null,null,null,null,null,"Brook Park Junction"]
[null,"Brook Park Township",null,null,null,null,null,null,null,null,null,null,null,null,null,null,null,null,null,null,null,null,null,null,null,null,null,null,null,null,null,null,null,null,null,null,null,null,null,null,null,null,null,"Brook Park Township"]
[null,"Brookfield",null,null,null,null,null,null,null,null,null,null,null,null,null,null,null,null,null,null,null,null,null,null,null,null,null,null,null,null,null,null,null,null,null,null,null,null,null,null,null,null,null,"Brookfield"]
[null,"Brooklyn",null,null,null,null,null,null,null,null,null,null,null,null,null,null,null,null,null,null,null,null,null,null,null,null,null,null,null,null,null,null,null,null,null,null,null,null,null,null,null,null,null,"Brooklyn"]
[null,"Brooklyn Center",null,null,null,null,null,null,null,null,null,null,null,null,null,null,null,null,null,null,null,null,null,null,null,null,null,null,null,null,null,null,null,null,null,null,null,null,null,null,null,null,null,"Brooklyn Center"]
[null,"Brooklyn Park",null,null,null,null,null,null,null,null,null,null,null,null,null,null,null,null,null,null,null,null,null,null,null,null,null,null,null,null,null,null,null,null,null,null,null,null,null,null,null,null,null,"Brooklyn Park"]
[null,"Brooks",null,null,null,null,null,null,null,null,null,null,null,null,null,null,null,null,null,null,null,null,null,null,null,null,null,null,null,null,null,null,null,null,null,null,null,null,null,null,null,null,null,"Brooks"]
[null,"Brookston",null,null,null,null,null,null,null,null,null,null,null,null,null,null,null,null,null,null,null,null,null,null,null,null,null,null,null,null,null,null,null,null,null,null,null,null,null,null,null,null,null,"Brookston"]
[null,"Brookville",null,null,null,null,null,null,null,null,null,null,null,null,null,null,null,null,null,null,null,null,null,null,null,null,null,null,null,null,null,null,null,null,null,null,null,null,null,null,null,null,null,"Brookville"]
[null,"Brooten",null,null,null,null,null,null,null,null,null,null,null,null,null,null,null,null,null,null,null,null,null,null,null,null,null,null,null,null,null,null,null,null,null,null,null,null,null,null,null,null,null,"Brooten"]
[null,"Browerville",null,null,null,null,null,null,null,null,null,null,null,null,null,null,null,null,null,null,null,null,null,null,null,null,null,null,null,null,null,null,null,null,null,null,null,null,null,null,null,null,null,"Browerville"]
[null,"Brownell",null,null,null,null,null,null,null,null,null,null,null,null,null,null,null,null,null,null,null,null,null,null,null,null,null,null,null,null,null,null,null,null,null,null,null,null,null,null,null,null,null,"Brownell"]
[null,"Browns Creek",null,null,null,null,null,null,null,null,null,null,null,null,null,null,null,null,null,null,null,null,null,null,null,null,null,null,null,null,null,null,null,null,null,null,null,null,null,null,null,null,null,"Browns Creek"]
[null,"Browns Valley",null,null,null,null,null,null,null,null,null,null,null,null,null,null,null,null,null,null,null,null,null,null,null,null,null,null,null,null,null,null,null,null,null,null,null,null,null,null,null,null,null,"Browns Valley"]
[null,"Browns Valley Township",null,null,null,null,null,null,null,null,null,null,null,null,null,null,null,null,null,null,null,null,null,null,null,null,null,null,null,null,null,null,null,null,null,null,null,null,null,null,null,null,null,"Browns Valley Township"]
[null,"Brownsdale",null,null,null,null,null,null,null,null,null,null,null,null,null,null,null,null,null,null,null,null,null,null,null,null,null,null,null,null,null,null,null,null,null,null,null,null,null,null,null,null,null,"Brownsdale"]
[null,"Brownsville",null,null,null,null,null,null,null,null,null,null,null,null,null,null,null,null,null,null,null,null,null,null,null,null,null,null,null,null,null,null,null,null,null,null,null,null,null,null,null,null,null,"Brownsville"]
[null,"Brownsville Township",null,null,null,null,null,null,null,null,null,null,null,null,null,null,null,null,null,null,null,null,null,null,null,null,null,null,null,null,null,null,null,null,null,null,null,null,null,null,null,null,null,"Brownsville Township"]
[null,"Brownton",null,null,null,null,null,null,null,null,null,null,null,null,null,null,null,null,null,null,null,null,null,null,null,null,null,null,null,null,null,null,null,null,null,null,null,null,null,null,null,null,null,"Brownton"]
[null,"Bruce",null,null,null,null,null,null,null,null,null,null,null,null,null,null,null,null,null,null,null,null,null,null,null,null,null,null,null,null,null,null,null,null,null,null,null,null,null,null,null,null,null,"Bruce"]
[null,"Bruce Township",null,null,null,null,null,null,null,null,null,null,null,null,null,null,null,null,null,null,null,null,null,null,null,null,null,null,null,null,null,null,null,null,null,null,null,null,null,null,null,null,null,"Bruce Township"]
[null,"Bruno",null,null,null,null,null,null,null,null,null,null,null,null,null,null,null,null,null,null,null,null,null,null,null,null,null,null,null,null,null,null,null,null,null,null,null,null,null,null,null,null,null,"Bruno"]
[null,"Bruno Township",null,null,null,null,null,null,null,null,null,null,null,null,null,null,null,null,null,null,null,null,null,null,null,null,null,null,null,null,null,null,null,null,null,null,null,null,null,null,null,null,null,"Bruno Township"]
[null,"Brunswick",null,null,null,null,null,null,null,null,null,null,null,null,null,null,null,null,null,null,null,null,null,null,null,null,null,null,null,null,null,null,null,null,null,null,null,null,null,null,null,null,null,"Brunswick"]
[null,"Brunswick Township",null,null,null,null,null,null,null,null,null,null,null,null,null,null,null,null,null,null,null,null,null,null,null,null,null,null,null,null,null,null,null,null,null,null,null,null,null,null,null,null,null,"Brunswick Township"]
[null,"Brush Creek",null,null,null,null,null,null,null,null,null,null,null,null,null,null,null,null,null,null,null,null,null,null,null,null,null,null,null,null,null,null,null,null,null,null,null,null,null,null,null,null,null,"Brush Creek"]
[null,"Brush Creek Township",null,null,null,null,null,null,null,null,null,null,null,null,null,null,null,null,null,null,null,null,null,null,null,null,null,null,null,null,null,null,null,null,null,null,null,null,null,null,null,null,null,"Brush Creek Township"]
[null,"Brushvale",null,null,null,null,null,null,null,null,null,null,null,null,null,null,null,null,null,null,null,null,null,null,null,null,null,null,null,null,null,null,null,null,null,null,null,null,null,null,null,null,null,"Brushvale"]
[null,"Buckman",null,null,null,null,null,null,null,null,null,null,null,null,null,null,null,null,null,null,null,null,null,null,null,null,null,null,null,null,null,null,null,null,null,null,null,null,null,null,null,null,null,"Buckman"]
[null,"Buckman Township",null,null,null,null,null,null,null,null,null,null,null,null,null,null,null,null,null,null,null,null,null,null,null,null,null,null,null,null,null,null,null,null,null,null,null,null,null,null,null,null,null,"Buckman Township"]
[null,"Bucks Mill",null,null,null,null,null,null,null,null,null,null,null,null,null,null,null,null,null,null,null,null,null,null,null,null,null,null,null,null,null,null,null,null,null,null,null,null,null,null,null,null,null,"Bucks Mill"]
[null,"Bucksnort",null,null,null,null,null,null,null,null,null,null,null,null,null,null,null,null,null,null,null,null,null,null,null,null,null,null,null,null,null,null,null,null,null,null,null,null,null,null,null,null,null,"Bucksnort"]
[null,"Buffalo",null,null,null,null,null,null,null,null,null,null,null,null,null,null,null,null,null,null,null,null,null,null,null,null,null,null,null,null,null,null,null,null,null,null,null,null,null,null,null,null,null,"Buffalo"]
[null,"Buffalo Lake",null,null,null,null,null,null,null,null,null,null,null,null,null,null,null,null,null,null,null,null,null,null,null,null,null,null,null,null,null,null,null,null,null,null,null,null,null,null,null,null,null,"Buffalo Lake"]
[null,"Buffalo Township",null,null,null,null,null,null,null,null,null,null,null,null,null,null,null,null,null,null,null,null,null,null,null,null,null,null,null,null,null,null,null,null,null,null,null,null,null,null,null,null,null,"Buffalo Township"]
[null,"Buh",null,null,null,null,null,null,null,null,null,null,null,null,null,null,null,null,null,null,null,null,null,null,null,null,null,null,null,null,null,null,null,null,null,null,null,null,null,null,null,null,null,"Buh"]
[null,"Buhl",null,null,null,null,null,null,null,null,null,null,null,null,null,null,null,null,null,null,null,null,null,null,null,null,null,null,null,null,null,null,null,null,null,null,null,null,null,null,null,null,null,"Buhl"]
[null,"Bull Moose",null,null,null,null,null,null,null,null,null,null,null,null,null,null,null,null,null,null,null,null,null,null,null,null,null,null,null,null,null,null,null,null,null,null,null,null,null,null,null,null,null,"Bull Moose"]
[null,"Bullard",null,null,null,null,null,null,null,null,null,null,null,null,null,null,null,null,null,null,null,null,null,null,null,null,null,null,null,null,null,null,null,null,null,null,null,null,null,null,null,null,null,"Bullard"]
[null,"Bunde",null,null,null,null,null,null,null,null,null,null,null,null,null,null,null,null,null,null,null,null,null,null,null,null,null,null,null,null,null,null,null,null,null,null,null,null,null,null,null,null,null,"Bunde"]
[null,"Bungo",null,null,null,null,null,null,null,null,null,null,null,null,null,null,null,null,null,null,null,null,null,null,null,null,null,null,null,null,null,null,null,null,null,null,null,null,null,null,null,null,null,"Bungo"]
[null,"Burbank",null,null,null,null,null,null,null,null,null,null,null,null,null,null,null,null,null,null,null,null,null,null,null,null,null,null,null,null,null,null,null,null,null,null,null,null,null,null,null,null,null,"Burbank"]
[null,"Burchard",null,null,null,null,null,null,null,null,null,null,null,null,null,null,null,null,null,null,null,null,null,null,null,null,null,null,null,null,null,null,null,null,null,null,null,null,null,null,null,null,null,"Burchard"]
[null,"Burke",null,null,null,null,null,null,null,null,null,null,null,null,null,null,null,null,null,null,null,null,null,null,null,null,null,null,null,null,null,null,null,null,null,null,null,null,null,null,null,null,null,"Burke"]
[null,"Burleene",null,null,null,null,null,null,null,null,null,null,null,null,null,null,null,null,null,null,null,null,null,null,null,null,null,null,null,null,null,null,null,null,null,null,null,null,null,null,null,null,null,"Burleene"]
[null,"Burlington",null,null,null,null,null,null,null,null,null,null,null,null,null,null,null,null,null,null,null,null,null,null,null,null,null,null,null,null,null,null,null,null,null,null,null,null,null,null,null,null,null,"Burlington"]
[null,"Burnett",null,null,null,null,null,null,null,null,null,null,null,null,null,null,null,null,null,null,null,null,null,null,null,null,null,null,null,null,null,null,null,null,null,null,null,null,null,null,null,null,null,"Burnett"]
[null,"Burnhamville",null,null,null,null,null,null,null,null,null,null,null,null,null,null,null,null,null,null,null,null,null,null,null,null,null,null,null,null,null,null,null,null,null,null,null,null,null,null,null,null,null,"Burnhamville"]
[null,"Burns",null,null,null,null,null,null,null,null,null,null,null,null,null,null,null,null,null,null,null,null,null,null,null,null,null,null,null,null,null,null,null,null,null,null,null,null,null,null,null,null,null,"Burns"]
[null,"Burnside",null,null,null,null,null,null,null,null,null,null,null,null,null,null,null,null,null,null,null,null,null,null,null,null,null,null,null,null,null,null,null,null,null,null,null,null,null,null,null,null,null,"Burnside"]
[null,"Burnstown",null,null,null,null,null,null,null,null,null,null,null,null,null,null,null,null,null,null,null,null,null,null,null,null,null,null,null,null,null,null,null,null,null,null,null,null,null,null,null,null,null,"Burnstown"]
[null,"Burnsville",null,null,null,null,null,null,null,null,null,null,null,null,null,null,null,null,null,null,null,null,null,null,null,null,null,null,null,null,null,null,null,null,null,null,null,null,null,null,null,null,null,"Burnsville"]
[null,"Burntside",null,null,null,null,null,null,null,null,null,null,null,null,null,null,null,null,null,null,null,null,null,null,null,null,null,null,null,null,null,null,null,null,null,null,null,null,null,null,null,null,null,"Burntside"]
[null,"Burntside Lake",null,null,null,null,null,null,null,null,null,null,null,null,null,null,null,null,null,null,null,null,null,null,null,null,null,null,null,null,null,null,null,null,null,null,null,null,null,null,null,null,null,"Burntside Lake"]
[null,"Burr",null,null,null,null,null,null,null,null,null,null,null,null,null,null,null,null,null,null,null,null,null,null,null,null,null,null,null,null,null,null,null,null,null,null,null,null,null,null,null,null,null,"Burr"]
[null,"Burschville",null,null,null,null,null,null,null,null,null,null,null,null,null,null,null,null,null,null,null,null,null,null,null,null,null,null,null,null,null,null,null,null,null,null,null,null,null,null,null,null,null,"Burschville"]
[null,"Burton",null,null,null,null,null,null,null,null,null,null,null,null,null,null,null,null,null,null,null,null,null,null,null,null,null,null,null,null,null,null,null,null,null,null,null,null,null,null,null,null,null,"Burton"]
[null,"Burtrum",null,null,null,null,null,null,null,null,null,null,null,null,null,null,null,null,null,null,null,null,null,null,null,null,null,null,null,null,null,null,null,null,null,null,null,null,null,null,null,null,null,"Burtrum"]
[null,"Burwell",null,null,null,null,null,null,null,null,null,null,null,null,null,null,null,null,null,null,null,null,null,null,null,null,null,null,null,null,null,null,null,null,null,null,null,null,null,null,null,null,null,"Burwell"]
[null,"Buse",null,null,null,null,null,null,null,null,null,null,null,null,null,null,null,null,null,null,null,null,null,null,null,null,null,null,null,null,null,null,null,null,null,null,null,null,null,null,null,null,null,"Buse"]
[null,"Butler",null,null,null,null,null,null,null,null,null,null,null,null,null,null,null,null,null,null,null,null,null,null,null,null,null,null,null,null,null,null,null,null,null,null,null,null,null,null,null,null,null,"Butler"]
[null,"Butler Township",null,null,null,null,null,null,null,null,null,null,null,null,null,null,null,null,null,null,null,null,null,null,null,null,null,null,null,null,null,null,null,null,null,null,null,null,null,null,null,null,null,"Butler Township"]
[null,"Butterfield",null,null,null,null,null,null,null,null,null,null,null,null,null,null,null,null,null,null,null,null,null,null,null,null,null,null,null,null,null,null,null,null,null,null,null,null,null,null,null,null,null,"Butterfield"]
[null,"Butterfield Township",null,null,null,null,null,null,null,null,null,null,null,null,null,null,null,null,null,null,null,null,null,null,null,null,null,null,null,null,null,null,null,null,null,null,null,null,null,null,null,null,null,"Butterfield Township"]
[null,"Butterfly Lake",null,null,null,null,null,null,null,null,null,null,null,null,null,null,null,null,null,null,null,null,null,null,null,null,null,null,null,null,null,null,null,null,null,null,null,null,null,null,null,null,null,"Butterfly Lake"]
[null,"Butternut",null,null,null,null,null,null,null,null,null,null,null,null,null,null,null,null,null,null,null,null,null,null,null,null,null,null,null,null,null,null,null,null,null,null,null,null,null,null,null,null,null,"Butternut"]
[null,"Butternut Valley",null,null,null,null,null,null,null,null,null,null,null,null,null,null,null,null,null,null,null,null,null,null,null,null,null,null,null,null,null,null,null,null,null,null,null,null,null,null,null,null,null,"Butternut Valley"]
[null,"Buyck",null,null,null,null,null,null,null,null,null,null,null,null,null,null,null,null,null,null,null,null,null,null,null,null,null,null,null,null,null,null,null,null,null,null,null,null,null,null,null,null,null,"Buyck"]
[null,"Buzzle",null,null,null,null,null,null,null,null,null,null,null,null,null,null,null,null,null,null,null,null,null,null,null,null,null,null,null,null,null,null,null,null,null,null,null,null,null,null,null,null,null,"Buzzle"]
[null,"Bygland",null,null,null,null,null,null,null,null,null,null,null,null,null,null,null,null,null,null,null,null,null,null,null,null,null,null,null,null,null,null,null,null,null,null,null,null,null,null,null,null,null,"Bygland"]
[null,"Bygland Township",null,null,null,null,null,null,null,null,null,null,null,null,null,null,null,null,null,null,null,null,null,null,null,null,null,null,null,null,null,null,null,null,null,null,null,null,null,null,null,null,null,"Bygland Township"]
[null,"Byron",null,null,null,null,null,null,null,null,null,null,null,null,null,null,null,null,null,null,null,null,null,null,null,null,null,null,null,null,null,null,null,null,null,null,null,null,null,null,null,null,null,"Byron"]
[null,"Byron Township",null,null,null,null,null,null,null,null,null,null,null,null,null,null,null,null,null,null,null,null,null,null,null,null,null,null,null,null,null,null,null,null,null,null,null,null,null,null,null,null,null,"Byron Township"]
[null,"Cable",null,null,null,null,null,null,null,null,null,null,null,null,null,null,null,null,null,null,null,null,null,null,null,null,null,null,null,null,null,null,null,null,null,null,null,null,null,null,null,null,null,"Cable"]
[null,"Cairo",null,null,null,null,null,null,null,null,null,null,null,null,null,null,null,null,null,null,null,null,null,null,null,null,null,null,null,null,null,null,null,null,null,null,null,null,null,null,null,null,null,"Cairo"]
[null,"Caledonia",null,null,null,null,null,null,null,null,null,null,null,null,null,null,null,null,null,null,null,null,null,null,null,null,null,null,null,null,null,null,null,null,null,null,null,null,null,null,null,null,null,"Caledonia"]
[null,"Caledonia Township",null,null,null,null,null,null,null,null,null,null,null,null,null,null,null,null,null,null,null,null,null,null,null,null,null,null,null,null,null,null,null,null,null,null,null,null,null,null,null,null,null,"Caledonia Township"]
[null,"Calhoun Beach",null,null,null,null,null,null,null,null,null,null,null,null,null,null,null,null,null,null,null,null,null,null,null,null,null,null,null,null,null,null,null,null,null,null,null,null,null,null,null,null,null,"Calhoun Beach"]
[null,"Callaway",null,null,null,null,null,null,null,null,null,null,null,null,null,null,null,null,null,null,null,null,null,null,null,null,null,null,null,null,null,null,null,null,null,null,null,null,null,null,null,null,null,"Callaway"]
[null,"Callaway Township",null,null,null,null,null,null,null,null,null,null,null,null,null,null,null,null,null,null,null,null,null,null,null,null,null,null,null,null,null,null,null,null,null,null,null,null,null,null,null,null,null,"Callaway Township"]
[null,"Calumet",null,null,null,null,null,null,null,null,null,null,null,null,null,null,null,null,null,null,null,null,null,null,null,null,null,null,null,null,null,null,null,null,null,null,null,null,null,null,null,null,null,"Calumet"]
[null,"Cambria",null,null,null,null,null,null,null,null,null,null,null,null,null,null,null,null,null,null,null,null,null,null,null,null,null,null,null,null,null,null,null,null,null,null,null,null,null,null,null,null,null,"Cambria"]
[null,"Cambria Township",null,null,null,null,null,null,null,null,null,null,null,null,null,null,null,null,null,null,null,null,null,null,null,null,null,null,null,null,null,null,null,null,null,null,null,null,null,null,null,null,null,"Cambria Township"]
[null,"Cambridge",null,null,null,null,null,null,null,null,null,null,null,null,null,null,null,null,null,null,null,null,null,null,null,null,null,null,null,null,null,null,null,null,null,null,null,null,null,null,null,null,null,"Cambridge"]
[null,"Cambridge Township",null,null,null,null,null,null,null,null,null,null,null,null,null,null,null,null,null,null,null,null,null,null,null,null,null,null,null,null,null,null,null,null,null,null,null,null,null,null,null,null,null,"Cambridge Township"]
[null,"Camden",null,null,null,null,null,null,null,null,null,null,null,null,null,null,null,null,null,null,null,null,null,null,null,null,null,null,null,null,null,null,null,null,null,null,null,null,null,null,null,null,null,"Camden"]
[null,"Camden Township",null,null,null,null,null,null,null,null,null,null,null,null,null,null,null,null,null,null,null,null,null,null,null,null,null,null,null,null,null,null,null,null,null,null,null,null,null,null,null,null,null,"Camden Township"]
[null,"Cameron",null,null,null,null,null,null,null,null,null,null,null,null,null,null,null,null,null,null,null,null,null,null,null,null,null,null,null,null,null,null,null,null,null,null,null,null,null,null,null,null,null,"Cameron"]
[null,"Camp",null,null,null,null,null,null,null,null,null,null,null,null,null,null,null,null,null,null,null,null,null,null,null,null,null,null,null,null,null,null,null,null,null,null,null,null,null,null,null,null,null,"Camp"]
[null,"Camp Lake",null,null,null,null,null,null,null,null,null,null,null,null,null,null,null,null,null,null,null,null,null,null,null,null,null,null,null,null,null,null,null,null,null,null,null,null,null,null,null,null,null,"Camp Lake"]
[null,"Camp Release",null,null,null,null,null,null,null,null,null,null,null,null,null,null,null,null,null,null,null,null,null,null,null,null,null,null,null,null,null,null,null,null,null,null,null,null,null,null,null,null,null,"Camp Release"]
[null,"Camp Ripley",null,null,null,null,null,null,null,null,null,null,null,null,null,null,null,null,null,null,null,null,null,null,null,null,null,null,null,null,null,null,null,null,null,null,null,null,null,null,null,null,null,"Camp Ripley"]
[null,"Camp Ripley Junction",null,null,null,null,null,null,null,null,null,null,null,null,null,null,null,null,null,null,null,null,null,null,null,null,null,null,null,null,null,null,null,null,null,null,null,null,null,null,null,null,null,"Camp Ripley Junction"]
[null,"Campbell",null,null,null,null,null,null,null,null,null,null,null,null,null,null,null,null,null,null,null,null,null,null,null,null,null,null,null,null,null,null,null,null,null,null,null,null,null,null,null,null,null,"Campbell"]
[null,"Campbell Township",null,null,null,null,null,null,null,null,null,null,null,null,null,null,null,null,null,null,null,null,null,null,null,null,null,null,null,null,null,null,null,null,null,null,null,null,null,null,null,null,null,"Campbell Township"]
[null,"Canby",null,null,null,null,null,null,null,null,null,null,null,null,null,null,null,null,null,null,null,null,null,null,null,null,null,null,null,null,null,null,null,null,null,null,null,null,null,null,null,null,null,"Canby"]
[null,"Candor",null,null,null,null,null,null,null,null,null,null,null,null,null,null,null,null,null,null,null,null,null,null,null,null,null,null,null,null,null,null,null,null,null,null,null,null,null,null,null,null,null,"Candor"]
[null,"Canisteo",null,null,null,null,null,null,null,null,null,null,null,null,null,null,null,null,null,null,null,null,null,null,null,null,null,null,null,null,null,null,null,null,null,null,null,null,null,null,null,null,null,"Canisteo"]
[null,"Canisteo Township",null,null,null,null,null,null,null,null,null,null,null,null,null,null,null,null,null,null,null,null,null,null,null,null,null,null,null,null,null,null,null,null,null,null,null,null,null,null,null,null,null,"Canisteo Township"]
[null,"Cannon",null,null,null,null,null,null,null,null,null,null,null,null,null,null,null,null,null,null,null,null,null,null,null,null,null,null,null,null,null,null,null,null,null,null,null,null,null,null,null,null,null,"Cannon"]
[null,"Cannon City",null,null,null,null,null,null,null,null,null,null,null,null,null,null,null,null,null,null,null,null,null,null,null,null,null,null,null,null,null,null,null,null,null,null,null,null,null,null,null,null,null,"Cannon City"]
[null,"Cannon City Township",null,null,null,null,null,null,null,null,null,null,null,null,null,null,null,null,null,null,null,null,null,null,null,null,null,null,null,null,null,null,null,null,null,null,null,null,null,null,null,null,null,"Cannon City Township"]
[null,"Cannon Falls",null,null,null,null,null,null,null,null,null,null,null,null,null,null,null,null,null,null,null,null,null,null,null,null,null,null,null,null,null,null,null,null,null,null,null,null,null,null,null,null,null,"Cannon Falls"]
[null,"Cannon Falls Township",null,null,null,null,null,null,null,null,null,null,null,null,null,null,null,null,null,null,null,null,null,null,null,null,null,null,null,null,null,null,null,null,null,null,null,null,null,null,null,null,null,"Cannon Falls Township"]
[null,"Cannon Lake",null,null,null,null,null,null,null,null,null,null,null,null,null,null,null,null,null,null,null,null,null,null,null,null,null,null,null,null,null,null,null,null,null,null,null,null,null,null,null,null,null,"Cannon Lake"]
[null,"Canosia",null,null,null,null,null,null,null,null,null,null,null,null,null,null,null,null,null,null,null,null,null,null,null,null,null,null,null,null,null,null,null,null,null,null,null,null,null,null,null,null,null,"Canosia"]
[null,"Canton",null,null,null,null,null,null,null,null,null,null,null,null,null,null,null,null,null,null,null,null,null,null,null,null,null,null,null,null,null,null,null,null,null,null,null,null,null,null,null,null,null,"Canton"]
[null,"Canton Township",null,null,null,null,null,null,null,null,null,null,null,null,null,null,null,null,null,null,null,null,null,null,null,null,null,null,null,null,null,null,null,null,null,null,null,null,null,null,null,null,null,"Canton Township"]
[null,"Canyon",null,null,null,null,null,null,null,null,null,null,null,null,null,null,null,null,null,null,null,null,null,null,null,null,null,null,null,null,null,null,null,null,null,null,null,null,null,null,null,null,null,"Canyon"]
[null,"Cardigan Junction",null,null,null,null,null,null,null,null,null,null,null,null,null,null,null,null,null,null,null,null,null,null,null,null,null,null,null,null,null,null,null,null,null,null,null,null,null,null,null,null,null,"Cardigan Junction"]
[null,"Caribou",null,null,null,null,null,null,null,null,null,null,null,null,null,null,null,null,null,null,null,null,null,null,null,null,null,null,null,null,null,null,null,null,null,null,null,null,null,null,null,null,null,"Caribou"]
[null,"Caribou Township",null,null,null,null,null,null,null,null,null,null,null,null,null,null,null,null,null,null,null,null,null,null,null,null,null,null,null,null,null,null,null,null,null,null,null,null,null,null,null,null,null,"Caribou Township"]
[null,"Carimona",null,null,null,null,null,null,null,null,null,null,null,null,null,null,null,null,null,null,null,null,null,null,null,null,null,null,null,null,null,null,null,null,null,null,null,null,null,null,null,null,null,"Carimona"]
[null,"Carimona Township",null,null,null,null,null,null,null,null,null,null,null,null,null,null,null,null,null,null,null,null,null,null,null,null,null,null,null,null,null,null,null,null,null,null,null,null,null,null,null,null,null,"Carimona Township"]
[null,"Carlisle",null,null,null,null,null,null,null,null,null,null,null,null,null,null,null,null,null,null,null,null,null,null,null,null,null,null,null,null,null,null,null,null,null,null,null,null,null,null,null,null,null,"Carlisle"]
[null,"Carlisle Township",null,null,null,null,null,null,null,null,null,null,null,null,null,null,null,null,null,null,null,null,null,null,null,null,null,null,null,null,null,null,null,null,null,null,null,null,null,null,null,null,null,"Carlisle Township"]
[null,"Carlos",null,null,null,null,null,null,null,null,null,null,null,null,null,null,null,null,null,null,null,null,null,null,null,null,null,null,null,null,null,null,null,null,null,null,null,null,null,null,null,null,null,"Carlos"]
[null,"Carlos Township",null,null,null,null,null,null,null,null,null,null,null,null,null,null,null,null,null,null,null,null,null,null,null,null,null,null,null,null,null,null,null,null,null,null,null,null,null,null,null,null,null,"Carlos Township"]
[null,"Carlston",null,null,null,null,null,null,null,null,null,null,null,null,null,null,null,null,null,null,null,null,null,null,null,null,null,null,null,null,null,null,null,null,null,null,null,null,null,null,null,null,null,"Carlston"]
[null,"Carlton",null,null,null,null,null,null,null,null,null,null,null,null,null,null,null,null,null,null,null,null,null,null,null,null,null,null,null,null,null,null,null,null,null,null,null,null,null,null,null,null,null,"Carlton"]
[null,"Carmel",null,null,null,null,null,null,null,null,null,null,null,null,null,null,null,null,null,null,null,null,null,null,null,null,null,null,null,null,null,null,null,null,null,null,null,null,null,null,null,null,null,"Carmel"]
[null,"Carmody",null,null,null,null,null,null,null,null,null,null,null,null,null,null,null,null,null,null,null,null,null,null,null,null,null,null,null,null,null,null,null,null,null,null,null,null,null,null,null,null,null,"Carmody"]
[null,"Carnelian Junction",null,null,null,null,null,null,null,null,null,null,null,null,null,null,null,null,null,null,null,null,null,null,null,null,null,null,null,null,null,null,null,null,null,null,null,null,null,null,null,null,null,"Carnelian Junction"]
[null,"Carp",null,null,null,null,null,null,null,null,null,null,null,null,null,null,null,null,null,null,null,null,null,null,null,null,null,null,null,null,null,null,null,null,null,null,null,null,null,null,null,null,null,"Carp"]
[null,"Carpenter",null,null,null,null,null,null,null,null,null,null,null,null,null,null,null,null,null,null,null,null,null,null,null,null,null,null,null,null,null,null,null,null,null,null,null,null,null,null,null,null,null,"Carpenter"]
[null,"Carrolton",null,null,null,null,null,null,null,null,null,null,null,null,null,null,null,null,null,null,null,null,null,null,null,null,null,null,null,null,null,null,null,null,null,null,null,null,null,null,null,null,null,"Carrolton"]
[null,"Carson",null,null,null,null,null,null,null,null,null,null,null,null,null,null,null,null,null,null,null,null,null,null,null,null,null,null,null,null,null,null,null,null,null,null,null,null,null,null,null,null,null,"Carson"]
[null,"Carsonville",null,null,null,null,null,null,null,null,null,null,null,null,null,null,null,null,null,null,null,null,null,null,null,null,null,null,null,null,null,null,null,null,null,null,null,null,null,null,null,null,null,"Carsonville"]
[null,"Carver",null,null,null,null,null,null,null,null,null,null,null,null,null,null,null,null,null,null,null,null,null,null,null,null,null,null,null,null,null,null,null,null,null,null,null,null,null,null,null,null,null,"Carver"]
[null,"Carver Beach",null,null,null,null,null,null,null,null,null,null,null,null,null,null,null,null,null,null,null,null,null,null,null,null,null,null,null,null,null,null,null,null,null,null,null,null,null,null,null,null,null,"Carver Beach"]
[null,"Cascade",null,null,null,null,null,null,null,null,null,null,null,null,null,null,null,null,null,null,null,null,null,null,null,null,null,null,null,null,null,null,null,null,null,null,null,null,null,null,null,null,null,"Cascade"]
[null,"Casco",null,null,null,null,null,null,null,null,null,null,null,null,null,null,null,null,null,null,null,null,null,null,null,null,null,null,null,null,null,null,null,null,null,null,null,null,null,null,null,null,null,"Casco"]
[null,"Casey",null,null,null,null,null,null,null,null,null,null,null,null,null,null,null,null,null,null,null,null,null,null,null,null,null,null,null,null,null,null,null,null,null,null,null,null,null,null,null,null,null,"Casey"]
[null,"Cashel",null,null,null,null,null,null,null,null,null,null,null,null,null,null,null,null,null,null,null,null,null,null,null,null,null,null,null,null,null,null,null,null,null,null,null,null,null,null,null,null,null,"Cashel"]
[null,"Cashtown",null,null,null,null,null,null,null,null,null,null,null,null,null,null,null,null,null,null,null,null,null,null,null,null,null,null,null,null,null,null,null,null,null,null,null,null,null,null,null,null,null,"Cashtown"]
[null,"Casino",null,null,null,null,null,null,null,null,null,null,null,null,null,null,null,null,null,null,null,null,null,null,null,null,null,null,null,null,null,null,null,null,null,null,null,null,null,null,null,null,null,"Casino"]
[null,"Casperson",null,null,null,null,null,null,null,null,null,null,null,null,null,null,null,null,null,null,null,null,null,null,null,null,null,null,null,null,null,null,null,null,null,null,null,null,null,null,null,null,null,"Casperson"]
[null,"Cass Lake",null,null,null,null,null,null,null,null,null,null,null,null,null,null,null,null,null,null,null,null,null,null,null,null,null,null,null,null,null,null,null,null,null,null,null,null,null,null,null,null,null,"Cass Lake"]
[null,"Castle Danger",null,null,null,null,null,null,null,null,null,null,null,null,null,null,null,null,null,null,null,null,null,null,null,null,null,null,null,null,null,null,null,null,null,null,null,null,null,null,null,null,null,"Castle Danger"]
[null,"Castle Rock",null,null,null,null,null,null,null,null,null,null,null,null,null,null,null,null,null,null,null,null,null,null,null,null,null,null,null,null,null,null,null,null,null,null,null,null,null,null,null,null,null,"Castle Rock"]
[null,"Castle Rock Township",null,null,null,null,null,null,null,null,null,null,null,null,null,null,null,null,null,null,null,null,null,null,null,null,null,null,null,null,null,null,null,null,null,null,null,null,null,null,null,null,null,"Castle Rock Township"]
[null,"Cazenovia",null,null,null,null,null,null,null,null,null,null,null,null,null,null,null,null,null,null,null,null,null,null,null,null,null,null,null,null,null,null,null,null,null,null,null,null,null,null,null,null,null,"Cazenovia"]
[null,"Cedar",null,null,null,null,null,null,null,null,null,null,null,null,null,null,null,null,null,null,null,null,null,null,null,null,null,null,null,null,null,null,null,null,null,null,null,null,null,null,null,null,null,"Cedar"]
[null,"Cedar Beach",null,null,null,null,null,null,null,null,null,null,null,null,null,null,null,null,null,null,null,null,null,null,null,null,null,null,null,null,null,null,null,null,null,null,null,null,null,null,null,null,null,"Cedar Beach"]
[null,"Cedar Grove",null,null,null,null,null,null,null,null,null,null,null,null,null,null,null,null,null,null,null,null,null,null,null,null,null,null,null,null,null,null,null,null,null,null,null,null,null,null,null,null,null,"Cedar Grove"]
[null,"Cedar Lake",null,null,null,null,null,null,null,null,null,null,null,null,null,null,null,null,null,null,null,null,null,null,null,null,null,null,null,null,null,null,null,null,null,null,null,null,null,null,null,null,null,"Cedar Lake"]
[null,"Cedar Mills",null,null,null,null,null,null,null,null,null,null,null,null,null,null,null,null,null,null,null,null,null,null,null,null,null,null,null,null,null,null,null,null,null,null,null,null,null,null,null,null,null,"Cedar Mills"]
[null,"Cedar Mills Township",null,null,null,null,null,null,null,null,null,null,null,null,null,null,null,null,null,null,null,null,null,null,null,null,null,null,null,null,null,null,null,null,null,null,null,null,null,null,null,null,null,"Cedar Mills Township"]
[null,"Cedar Riverside",null,null,null,null,null,null,null,null,null,null,null,null,null,null,null,null,null,null,null,null,null,null,null,null,null,null,null,null,null,null,null,null,null,null,null,null,null,null,null,null,null,"Cedar Riverside"]
[null,"Cedar Township",null,null,null,null,null,null,null,null,null,null,null,null,null,null,null,null,null,null,null,null,null,null,null,null,null,null,null,null,null,null,null,null,null,null,null,null,null,null,null,null,null,"Cedar Township"]
[null,"Cedar Valley",null,null,null,null,null,null,null,null,null,null,null,null,null,null,null,null,null,null,null,null,null,null,null,null,null,null,null,null,null,null,null,null,null,null,null,null,null,null,null,null,null,"Cedar Valley"]
[null,"Cedarbend",null,null,null,null,null,null,null,null,null,null,null,null,null,null,null,null,null,null,null,null,null,null,null,null,null,null,null,null,null,null,null,null,null,null,null,null,null,null,null,null,null,"Cedarbend"]
[null,"Cee Jefferson",null,null,null,null,null,null,null,null,null,null,null,null,null,null,null,null,null,null,null,null,null,null,null,null,null,null,null,null,null,null,null,null,null,null,null,null,null,null,null,null,null,"Cee Jefferson"]
[null,"Celina",null,null,null,null,null,null,null,null,null,null,null,null,null,null,null,null,null,null,null,null,null,null,null,null,null,null,null,null,null,null,null,null,null,null,null,null,null,null,null,null,null,"Celina"]
[null,"Center",null,null,null,null,null,null,null,null,null,null,null,null,null,null,null,null,null,null,null,null,null,null,null,null,null,null,null,null,null,null,null,null,null,null,null,null,null,null,null,null,null,"Center"]
[null,"Center City",null,null,null,null,null,null,null,null,null,null,null,null,null,null,null,null,null,null,null,null,null,null,null,null,null,null,null,null,null,null,null,null,null,null,null,null,null,null,null,null,null,"Center City"]
[null,"Center Creek",null,null,null,null,null,null,null,null,null,null,null,null,null,null,null,null,null,null,null,null,null,null,null,null,null,null,null,null,null,null,null,null,null,null,null,null,null,null,null,null,null,"Center Creek"]
[null,"Centerville",null,null,null,null,null,null,null,null,null,null,null,null,null,null,null,null,null,null,null,null,null,null,null,null,null,null,null,null,null,null,null,null,null,null,null,null,null,null,null,null,null,"Centerville"]
[null,"Central",null,null,null,null,null,null,null,null,null,null,null,null,null,null,null,null,null,null,null,null,null,null,null,null,null,null,null,null,null,null,null,null,null,null,null,null,null,null,null,null,null,"Central"]
[null,"Central Avenue",null,null,null,null,null,null,null,null,null,null,null,null,null,null,null,null,null,null,null,null,null,null,null,null,null,null,null,null,null,null,null,null,null,null,null,null,null,null,null,null,null,"Central Avenue"]
[null,"Central Lakes",null,null,null,null,null,null,null,null,null,null,null,null,null,null,null,null,null,null,null,null,null,null,null,null,null,null,null,null,null,null,null,null,null,null,null,null,null,null,null,null,null,"Central Lakes"]
[null,"Central Point",null,null,null,null,null,null,null,null,null,null,null,null,null,null,null,null,null,null,null,null,null,null,null,null,null,null,null,null,null,null,null,null,null,null,null,null,null,null,null,null,null,"Central Point"]
[null,"Ceresco",null,null,null,null,null,null,null,null,null,null,null,null,null,null,null,null,null,null,null,null,null,null,null,null,null,null,null,null,null,null,null,null,null,null,null,null,null,null,null,null,null,"Ceresco"]
[null,"Cerro Gordo",null,null,null,null,null,null,null,null,null,null,null,null,null,null,null,null,null,null,null,null,null,null,null,null,null,null,null,null,null,null,null,null,null,null,null,null,null,null,null,null,null,"Cerro Gordo"]
[null,"Cerro Gordo Township",null,null,null,null,null,null,null,null,null,null,null,null,null,null,null,null,null,null,null,null,null,null,null,null,null,null,null,null,null,null,null,null,null,null,null,null,null,null,null,null,null,"Cerro Gordo Township"]
[null,"Ceylon",null,null,null,null,null,null,null,null,null,null,null,null,null,null,null,null,null,null,null,null,null,null,null,null,null,null,null,null,null,null,null,null,null,null,null,null,null,null,null,null,null,"Ceylon"]
[null,"Chamberlain",null,null,null,null,null,null,null,null,null,null,null,null,null,null,null,null,null,null,null,null,null,null,null,null,null,null,null,null,null,null,null,null,null,null,null,null,null,null,null,null,null,"Chamberlain"]
[null,"Champion",null,null,null,null,null,null,null,null,null,null,null,null,null,null,null,null,null,null,null,null,null,null,null,null,null,null,null,null,null,null,null,null,null,null,null,null,null,null,null,null,null,"Champion"]
[null,"Champlin",null,null,null,null,null,null,null,null,null,null,null,null,null,null,null,null,null,null,null,null,null,null,null,null,null,null,null,null,null,null,null,null,null,null,null,null,null,null,null,null,null,"Champlin"]
[null,"Champlin Township",null,null,null,null,null,null,null,null,null,null,null,null,null,null,null,null,null,null,null,null,null,null,null,null,null,null,null,null,null,null,null,null,null,null,null,null,null,null,null,null,null,"Champlin Township"]
[null,"Chanarambie",null,null,null,null,null,null,null,null,null,null,null,null,null,null,null,null,null,null,null,null,null,null,null,null,null,null,null,null,null,null,null,null,null,null,null,null,null,null,null,null,null,"Chanarambie"]
[null,"Chandler",null,null,null,null,null,null,null,null,null,null,null,null,null,null,null,null,null,null,null,null,null,null,null,null,null,null,null,null,null,null,null,null,null,null,null,null,null,null,null,null,null,"Chandler"]
[null,"Chanhassen",null,null,null,null,null,null,null,null,null,null,null,null,null,null,null,null,null,null,null,null,null,null,null,null,null,null,null,null,null,null,null,null,null,null,null,null,null,null,null,null,null,"Chanhassen"]
[null,"Charlestown",null,null,null,null,null,null,null,null,null,null,null,null,null,null,null,null,null,null,null,null,null,null,null,null,null,null,null,null,null,null,null,null,null,null,null,null,null,null,null,null,null,"Charlestown"]
[null,"Charlesville",null,null,null,null,null,null,null,null,null,null,null,null,null,null,null,null,null,null,null,null,null,null,null,null,null,null,null,null,null,null,null,null,null,null,null,null,null,null,null,null,null,"Charlesville"]
[null,"Chaska",null,null,null,null,null,null,null,null,null,null,null,null,null,null,null,null,null,null,null,null,null,null,null,null,null,null,null,null,null,null,null,null,null,null,null,null,null,null,null,null,null,"Chaska"]
[null,"Chaska Township",null,null,null,null,null,null,null,null,null,null,null,null,null,null,null,null,null,null,null,null,null,null,null,null,null,null,null,null,null,null,null,null,null,null,null,null,null,null,null,null,null,"Chaska Township"]
[null,"Chatfield",null,null,null,null,null,null,null,null,null,null,null,null,null,null,null,null,null,null,null,null,null,null,null,null,null,null,null,null,null,null,null,null,null,null,null,null,null,null,null,null,null,"Chatfield"]
[null,"Chatfield Junction",null,null,null,null,null,null,null,null,null,null,null,null,null,null,null,null,null,null,null,null,null,null,null,null,null,null,null,null,null,null,null,null,null,null,null,null,null,null,null,null,null,"Chatfield Junction"]
[null,"Chatfield Township",null,null,null,null,null,null,null,null,null,null,null,null,null,null,null,null,null,null,null,null,null,null,null,null,null,null,null,null,null,null,null,null,null,null,null,null,null,null,null,null,null,"Chatfield Township"]
[null,"Chatham",null,null,null,null,null,null,null,null,null,null,null,null,null,null,null,null,null,null,null,null,null,null,null,null,null,null,null,null,null,null,null,null,null,null,null,null,null,null,null,null,null,"Chatham"]
[null,"Chemolite",null,null,null,null,null,null,null,null,null,null,null,null,null,null,null,null,null,null,null,null,null,null,null,null,null,null,null,null,null,null,null,null,null,null,null,null,null,null,null,null,null,"Chemolite"]
[null,"Chengwatana",null,null,null,null,null,null,null,null,null,null,null,null,null,null,null,null,null,null,null,null,null,null,null,null,null,null,null,null,null,null,null,null,null,null,null,null,null,null,null,null,null,"Chengwatana"]
[null,"Cherry",null,null,null,null,null,null,null,null,null,null,null,null,null,null,null,null,null,null,null,null,null,null,null,null,null,null,null,null,null,null,null,null,null,null,null,null,null,null,null,null,null,"Cherry"]
[null,"Cherry Grove",null,null,null,null,null,null,null,null,null,null,null,null,null,null,null,null,null,null,null,null,null,null,null,null,null,null,null,null,null,null,null,null,null,null,null,null,null,null,null,null,null,"Cherry Grove"]
[null,"Cherry Grove Township",null,null,null,null,null,null,null,null,null,null,null,null,null,null,null,null,null,null,null,null,null,null,null,null,null,null,null,null,null,null,null,null,null,null,null,null,null,null,null,null,null,"Cherry Grove Township"]
[null,"Cherry Township",null,null,null,null,null,null,null,null,null,null,null,null,null,null,null,null,null,null,null,null,null,null,null,null,null,null,null,null,null,null,null,null,null,null,null,null,null,null,null,null,null,"Cherry Township"]
[null,"Chester",null,null,null,null,null,null,null,null,null,null,null,null,null,null,null,null,null,null,null,null,null,null,null,null,null,null,null,null,null,null,null,null,null,null,null,null,null,null,null,null,null,"Chester"]
[null,"Chester Township",null,null,null,null,null,null,null,null,null,null,null,null,null,null,null,null,null,null,null,null,null,null,null,null,null,null,null,null,null,null,null,null,null,null,null,null,null,null,null,null,null,"Chester Township"]
[null,"Chicago Bay",null,null,null,null,null,null,null,null,null,null,null,null,null,null,null,null,null,null,null,null,null,null,null,null,null,null,null,null,null,null,null,null,null,null,null,null,null,null,null,null,null,"Chicago Bay"]
[null,"Chicago Lake",null,null,null,null,null,null,null,null,null,null,null,null,null,null,null,null,null,null,null,null,null,null,null,null,null,null,null,null,null,null,null,null,null,null,null,null,null,null,null,null,null,"Chicago Lake"]
[null,"Chickamaw Beach",null,null,null,null,null,null,null,null,null,null,null,null,null,null,null,null,null,null,null,null,null,null,null,null,null,null,null,null,null,null,null,null,null,null,null,null,null,null,null,null,null,"Chickamaw Beach"]
[null,"Chief",null,null,null,null,null,null,null,null,null,null,null,null,null,null,null,null,null,null,null,null,null,null,null,null,null,null,null,null,null,null,null,null,null,null,null,null,null,null,null,null,null,"Chief"]
[null,"Childs",null,null,null,null,null,null,null,null,null,null,null,null,null,null,null,null,null,null,null,null,null,null,null,null,null,null,null,null,null,null,null,null,null,null,null,null,null,null,null,null,null,"Childs"]
[null,"Chippewa City",null,null,null,null,null,null,null,null,null,null,null,null,null,null,null,null,null,null,null,null,null,null,null,null,null,null,null,null,null,null,null,null,null,null,null,null,null,null,null,null,null,"Chippewa City"]
[null,"Chippewa Falls",null,null,null,null,null,null,null,null,null,null,null,null,null,null,null,null,null,null,null,null,null,null,null,null,null,null,null,null,null,null,null,null,null,null,null,null,null,null,null,null,null,"Chippewa Falls"]
[null,"Chisago City",null,null,null,null,null,null,null,null,null,null,null,null,null,null,null,null,null,null,null,null,null,null,null,null,null,null,null,null,null,null,null,null,null,null,null,null,null,null,null,null,null,"Chisago City"]
[null,"Chisago Lake",null,null,null,null,null,null,null,null,null,null,null,null,null,null,null,null,null,null,null,null,null,null,null,null,null,null,null,null,null,null,null,null,null,null,null,null,null,null,null,null,null,"Chisago Lake"]
[null,"Chisholm",null,null,null,null,null,null,null,null,null,null,null,null,null,null,null,null,null,null,null,null,null,null,null,null,null,null,null,null,null,null,null,null,null,null,null,null,null,null,null,null,null,"Chisholm"]
[null,"Chisholm Junction",null,null,null,null,null,null,null,null,null,null,null,null,null,null,null,null,null,null,null,null,null,null,null,null,null,null,null,null,null,null,null,null,null,null,null,null,null,null,null,null,null,"Chisholm Junction"]
[null,"Chisholm-Hibbing Airport",null,null,null,null,null,null,null,null,null,null,null,null,null,null,null,null,null,null,null,null,null,null,null,null,null,null,null,null,null,null,null,null,null,null,null,null,null,null,null,null,null,"Chisholm-Hibbing Airport"]
[null,"Choice",null,null,null,null,null,null,null,null,null,null,null,null,null,null,null,null,null,null,null,null,null,null,null,null,null,null,null,null,null,null,null,null,null,null,null,null,null,null,null,null,null,"Choice"]
[null,"Chokio",null,null,null,null,null,null,null,null,null,null,null,null,null,null,null,null,null,null,null,null,null,null,null,null,null,null,null,null,null,null,null,null,null,null,null,null,null,null,null,null,null,"Chokio"]
[null,"Chowens Corner",null,null,null,null,null,null,null,null,null,null,null,null,null,null,null,null,null,null,null,null,null,null,null,null,null,null,null,null,null,null,null,null,null,null,null,null,null,null,null,null,null,"Chowens Corner"]
[null,"Christiania",null,null,null,null,null,null,null,null,null,null,null,null,null,null,null,null,null,null,null,null,null,null,null,null,null,null,null,null,null,null,null,null,null,null,null,null,null,null,null,null,null,"Christiania"]
[null,"Churchill",null,null,null,null,null,null,null,null,null,null,null,null,null,null,null,null,null,null,null,null,null,null,null,null,null,null,null,null,null,null,null,null,null,null,null,null,null,null,null,null,null,"Churchill"]
[null,"Circle Pines",null,null,null,null,null,null,null,null,null,null,null,null,null,null,null,null,null,null,null,null,null,null,null,null,null,null,null,null,null,null,null,null,null,null,null,null,null,null,null,null,null,"Circle Pines"]
[null,"City",null,null,null,null,null,null,null,null,null,null,null,null,null,null,null,null,null,null,null,null,null,null,null,null,null,null,null,null,null,null,null,null,null,null,null,null,null,null,null,null,null,"City"]
[null,"Civic Center",null,null,null,null,null,null,null,null,null,null,null,null,null,null,null,null,null,null,null,null,null,null,null,null,null,null,null,null,null,null,null,null,null,null,null,null,null,null,null,null,null,"Civic Center"]
[null,"Clappers",null,null,null,null,null,null,null,null,null,null,null,null,null,null,null,null,null,null,null,null,null,null,null,null,null,null,null,null,null,null,null,null,null,null,null,null,null,null,null,null,null,"Clappers"]
[null,"Clara City",null,null,null,null,null,null,null,null,null,null,null,null,null,null,null,null,null,null,null,null,null,null,null,null,null,null,null,null,null,null,null,null,null,null,null,null,null,null,null,null,null,"Clara City"]
[null,"Claremont",null,null,null,null,null,null,null,null,null,null,null,null,null,null,null,null,null,null,null,null,null,null,null,null,null,null,null,null,null,null,null,null,null,null,null,null,null,null,null,null,null,"Claremont"]
[null,"Claremont Township",null,null,null,null,null,null,null,null,null,null,null,null,null,null,null,null,null,null,null,null,null,null,null,null,null,null,null,null,null,null,null,null,null,null,null,null,null,null,null,null,null,"Claremont Township"]
[null,"Clarissa",null,null,null,null,null,null,null,null,null,null,null,null,null,null,null,null,null,null,null,null,null,null,null,null,null,null,null,null,null,null,null,null,null,null,null,null,null,null,null,null,null,"Clarissa"]
[null,"Clark",null,null,null,null,null,null,null,null,null,null,null,null,null,null,null,null,null,null,null,null,null,null,null,null,null,null,null,null,null,null,null,null,null,null,null,null,null,null,null,null,null,"Clark"]
[null,"Clarkfield",null,null,null,null,null,null,null,null,null,null,null,null,null,null,null,null,null,null,null,null,null,null,null,null,null,null,null,null,null,null,null,null,null,null,null,null,null,null,null,null,null,"Clarkfield"]
[null,"Clarks Grove",null,null,null,null,null,null,null,null,null,null,null,null,null,null,null,null,null,null,null,null,null,null,null,null,null,null,null,null,null,null,null,null,null,null,null,null,null,null,null,null,null,"Clarks Grove"]
[null,"Clay",null,null,null,null,null,null,null,null,null,null,null,null,null,null,null,null,null,null,null,null,null,null,null,null,null,null,null,null,null,null,null,null,null,null,null,null,null,null,null,null,null,"Clay"]
[null,"Claybank",null,null,null,null,null,null,null,null,null,null,null,null,null,null,null,null,null,null,null,null,null,null,null,null,null,null,null,null,null,null,null,null,null,null,null,null,null,null,null,null,null,"Claybank"]
[null,"Claymont",null,null,null,null,null,null,null,null,null,null,null,null,null,null,null,null,null,null,null,null,null,null,null,null,null,null,null,null,null,null,null,null,null,null,null,null,null,null,null,null,null,"Claymont"]
[null,"Clayton",null,null,null,null,null,null,null,null,null,null,null,null,null,null,null,null,null,null,null,null,null,null,null,null,null,null,null,null,null,null,null,null,null,null,null,null,null,null,null,null,null,"Clayton"]
[null,"Clear Creek",null,null,null,null,null,null,null,null,null,null,null,null,null,null,null,null,null,null,null,null,null,null,null,null,null,null,null,null,null,null,null,null,null,null,null,null,null,null,null,null,null,"Clear Creek"]
[null,"Clear Lake",null,null,null,null,null,null,null,null,null,null,null,null,null,null,null,null,null,null,null,null,null,null,null,null,null,null,null,null,null,null,null,null,null,null,null,null,null,null,null,null,null,"Clear Lake"]
[null,"Clear Lake Township",null,null,null,null,null,null,null,null,null,null,null,null,null,null,null,null,null,null,null,null,null,null,null,null,null,null,null,null,null,null,null,null,null,null,null,null,null,null,null,null,null,"Clear Lake Township"]
[null,"Clearbrook",null,null,null,null,null,null,null,null,null,null,null,null,null,null,null,null,null,null,null,null,null,null,null,null,null,null,null,null,null,null,null,null,null,null,null,null,null,null,null,null,null,"Clearbrook"]
[null,"Clearwater",null,null,null,null,null,null,null,null,null,null,null,null,null,null,null,null,null,null,null,null,null,null,null,null,null,null,null,null,null,null,null,null,null,null,null,null,null,null,null,null,null,"Clearwater"]
[null,"Clearwater Township",null,null,null,null,null,null,null,null,null,null,null,null,null,null,null,null,null,null,null,null,null,null,null,null,null,null,null,null,null,null,null,null,null,null,null,null,null,null,null,null,null,"Clearwater Township"]
[null,"Clements",null,null,null,null,null,null,null,null,null,null,null,null,null,null,null,null,null,null,null,null,null,null,null,null,null,null,null,null,null,null,null,null,null,null,null,null,null,null,null,null,null,"Clements"]
[null,"Clementson",null,null,null,null,null,null,null,null,null,null,null,null,null,null,null,null,null,null,null,null,null,null,null,null,null,null,null,null,null,null,null,null,null,null,null,null,null,null,null,null,null,"Clementson"]
[null,"Cleveland",null,null,null,null,null,null,null,null,null,null,null,null,null,null,null,null,null,null,null,null,null,null,null,null,null,null,null,null,null,null,null,null,null,null,null,null,null,null,null,null,null,"Cleveland"]
[null,"Cleveland Township",null,null,null,null,null,null,null,null,null,null,null,null,null,null,null,null,null,null,null,null,null,null,null,null,null,null,null,null,null,null,null,null,null,null,null,null,null,null,null,null,null,"Cleveland Township"]
[null,"Cliff",null,null,null,null,null,null,null,null,null,null,null,null,null,null,null,null,null,null,null,null,null,null,null,null,null,null,null,null,null,null,null,null,null,null,null,null,null,null,null,null,null,"Cliff"]
[null,"Clifton",null,null,null,null,null,null,null,null,null,null,null,null,null,null,null,null,null,null,null,null,null,null,null,null,null,null,null,null,null,null,null,null,null,null,null,null,null,null,null,null,null,"Clifton"]
[null,"Clifton Township",null,null,null,null,null,null,null,null,null,null,null,null,null,null,null,null,null,null,null,null,null,null,null,null,null,null,null,null,null,null,null,null,null,null,null,null,null,null,null,null,null,"Clifton Township"]
[null,"Climax",null,null,null,null,null,null,null,null,null,null,null,null,null,null,null,null,null,null,null,null,null,null,null,null,null,null,null,null,null,null,null,null,null,null,null,null,null,null,null,null,null,"Climax"]
[null,"Clinton",null,null,null,null,null,null,null,null,null,null,null,null,null,null,null,null,null,null,null,null,null,null,null,null,null,null,null,null,null,null,null,null,null,null,null,null,null,null,null,null,null,"Clinton"]
[null,"Clinton Falls",null,null,null,null,null,null,null,null,null,null,null,null,null,null,null,null,null,null,null,null,null,null,null,null,null,null,null,null,null,null,null,null,null,null,null,null,null,null,null,null,null,"Clinton Falls"]
[null,"Clinton Falls Township",null,null,null,null,null,null,null,null,null,null,null,null,null,null,null,null,null,null,null,null,null,null,null,null,null,null,null,null,null,null,null,null,null,null,null,null,null,null,null,null,null,"Clinton Falls Township"]
[null,"Clinton Township",null,null,null,null,null,null,null,null,null,null,null,null,null,null,null,null,null,null,null,null,null,null,null,null,null,null,null,null,null,null,null,null,null,null,null,null,null,null,null,null,null,"Clinton Township"]
[null,"Clitherall",null,null,null,null,null,null,null,null,null,null,null,null,null,null,null,null,null,null,null,null,null,null,null,null,null,null,null,null,null,null,null,null,null,null,null,null,null,null,null,null,null,"Clitherall"]
[null,"Clitherall Township",null,null,null,null,null,null,null,null,null,null,null,null,null,null,null,null,null,null,null,null,null,null,null,null,null,null,null,null,null,null,null,null,null,null,null,null,null,null,null,null,null,"Clitherall Township"]
[null,"Clontarf",null,null,null,null,null,null,null,null,null,null,null,null,null,null,null,null,null,null,null,null,null,null,null,null,null,null,null,null,null,null,null,null,null,null,null,null,null,null,null,null,null,"Clontarf"]
[null,"Clontarf Township",null,null,null,null,null,null,null,null,null,null,null,null,null,null,null,null,null,null,null,null,null,null,null,null,null,null,null,null,null,null,null,null,null,null,null,null,null,null,null,null,null,"Clontarf Township"]
[null,"Cloquet",null,null,null,null,null,null,null,null,null,null,null,null,null,null,null,null,null,null,null,null,null,null,null,null,null,null,null,null,null,null,null,null,null,null,null,null,null,null,null,null,null,"Cloquet"]
[null,"Clotho",null,null,null,null,null,null,null,null,null,null,null,null,null,null,null,null,null,null,null,null,null,null,null,null,null,null,null,null,null,null,null,null,null,null,null,null,null,null,null,null,null,"Clotho"]
[null,"Clough",null,null,null,null,null,null,null,null,null,null,null,null,null,null,null,null,null,null,null,null,null,null,null,null,null,null,null,null,null,null,null,null,null,null,null,null,null,null,null,null,null,"Clough"]
[null,"Clover",null,null,null,null,null,null,null,null,null,null,null,null,null,null,null,null,null,null,null,null,null,null,null,null,null,null,null,null,null,null,null,null,null,null,null,null,null,null,null,null,null,"Clover"]
[null,"Clover Leaf",null,null,null,null,null,null,null,null,null,null,null,null,null,null,null,null,null,null,null,null,null,null,null,null,null,null,null,null,null,null,null,null,null,null,null,null,null,null,null,null,null,"Clover Leaf"]
[null,"Cloverdale",null,null,null,null,null,null,null,null,null,null,null,null,null,null,null,null,null,null,null,null,null,null,null,null,null,null,null,null,null,null,null,null,null,null,null,null,null,null,null,null,null,"Cloverdale"]
[null,"Cloverton",null,null,null,null,null,null,null,null,null,null,null,null,null,null,null,null,null,null,null,null,null,null,null,null,null,null,null,null,null,null,null,null,null,null,null,null,null,null,null,null,null,"Cloverton"]
[null,"Clow",null,null,null,null,null,null,null,null,null,null,null,null,null,null,null,null,null,null,null,null,null,null,null,null,null,null,null,null,null,null,null,null,null,null,null,null,null,null,null,null,null,"Clow"]
[null,"Clyde",null,null,null,null,null,null,null,null,null,null,null,null,null,null,null,null,null,null,null,null,null,null,null,null,null,null,null,null,null,null,null,null,null,null,null,null,null,null,null,null,null,"Clyde"]
[null,"Coates",null,null,null,null,null,null,null,null,null,null,null,null,null,null,null,null,null,null,null,null,null,null,null,null,null,null,null,null,null,null,null,null,null,null,null,null,null,null,null,null,null,"Coates"]
[null,"Cobden",null,null,null,null,null,null,null,null,null,null,null,null,null,null,null,null,null,null,null,null,null,null,null,null,null,null,null,null,null,null,null,null,null,null,null,null,null,null,null,null,null,"Cobden"]
[null,"Cohasset",null,null,null,null,null,null,null,null,null,null,null,null,null,null,null,null,null,null,null,null,null,null,null,null,null,null,null,null,null,null,null,null,null,null,null,null,null,null,null,null,null,"Cohasset"]
[null,"Coin",null,null,null,null,null,null,null,null,null,null,null,null,null,null,null,null,null,null,null,null,null,null,null,null,null,null,null,null,null,null,null,null,null,null,null,null,null,null,null,null,null,"Coin"]
[null,"Cokato",null,null,null,null,null,null,null,null,null,null,null,null,null,null,null,null,null,null,null,null,null,null,null,null,null,null,null,null,null,null,null,null,null,null,null,null,null,null,null,null,null,"Cokato"]
[null,"Cokato Township",null,null,null,null,null,null,null,null,null,null,null,null,null,null,null,null,null,null,null,null,null,null,null,null,null,null,null,null,null,null,null,null,null,null,null,null,null,null,null,null,null,"Cokato Township"]
[null,"Colby",null,null,null,null,null,null,null,null,null,null,null,null,null,null,null,null,null,null,null,null,null,null,null,null,null,null,null,null,null,null,null,null,null,null,null,null,null,null,null,null,null,"Colby"]
[null,"Cold Spring",null,null,null,null,null,null,null,null,null,null,null,null,null,null,null,null,null,null,null,null,null,null,null,null,null,null,null,null,null,null,null,null,null,null,null,null,null,null,null,null,null,"Cold Spring"]
[null,"Coleraine",null,null,null,null,null,null,null,null,null,null,null,null,null,null,null,null,null,null,null,null,null,null,null,null,null,null,null,null,null,null,null,null,null,null,null,null,null,null,null,null,null,"Coleraine"]
[null,"Coleraine Junction",null,null,null,null,null,null,null,null,null,null,null,null,null,null,null,null,null,null,null,null,null,null,null,null,null,null,null,null,null,null,null,null,null,null,null,null,null,null,null,null,null,"Coleraine Junction"]
[null,"Colfax",null,null,null,null,null,null,null,null,null,null,null,null,null,null,null,null,null,null,null,null,null,null,null,null,null,null,null,null,null,null,null,null,null,null,null,null,null,null,null,null,null,"Colfax"]
[null,"Collegeville",null,null,null,null,null,null,null,null,null,null,null,null,null,null,null,null,null,null,null,null,null,null,null,null,null,null,null,null,null,null,null,null,null,null,null,null,null,null,null,null,null,"Collegeville"]
[null,"Collegeville Township",null,null,null,null,null,null,null,null,null,null,null,null,null,null,null,null,null,null,null,null,null,null,null,null,null,null,null,null,null,null,null,null,null,null,null,null,null,null,null,null,null,"Collegeville Township"]
[null,"Collins",null,null,null,null,null,null,null,null,null,null,null,null,null,null,null,null,null,null,null,null,null,null,null,null,null,null,null,null,null,null,null,null,null,null,null,null,null,null,null,null,null,"Collins"]
[null,"Collinwood",null,null,null,null,null,null,null,null,null,null,null,null,null,null,null,null,null,null,null,null,null,null,null,null,null,null,null,null,null,null,null,null,null,null,null,null,null,null,null,null,null,"Collinwood"]
[null,"Collis",null,null,null,null,null,null,null,null,null,null,null,null,null,null,null,null,null,null,null,null,null,null,null,null,null,null,null,null,null,null,null,null,null,null,null,null,null,null,null,null,null,"Collis"]
[null,"Cologne",null,null,null,null,null,null,null,null,null,null,null,null,null,null,null,null,null,null,null,null,null,null,null,null,null,null,null,null,null,null,null,null,null,null,null,null,null,null,null,null,null,"Cologne"]
[null,"Columbia",null,null,null,null,null,null,null,null,null,null,null,null,null,null,null,null,null,null,null,null,null,null,null,null,null,null,null,null,null,null,null,null,null,null,null,null,null,null,null,null,null,"Columbia"]
[null,"Columbia Heights",null,null,null,null,null,null,null,null,null,null,null,null,null,null,null,null,null,null,null,null,null,null,null,null,null,null,null,null,null,null,null,null,null,null,null,null,null,null,null,null,null,"Columbia Heights"]
[null,"Columbus",null,null,null,null,null,null,null,null,null,null,null,null,null,null,null,null,null,null,null,null,null,null,null,null,null,null,null,null,null,null,null,null,null,null,null,null,null,null,null,null,null,"Columbus"]
[null,"Colvin",null,null,null,null,null,null,null,null,null,null,null,null,null,null,null,null,null,null,null,null,null,null,null,null,null,null,null,null,null,null,null,null,null,null,null,null,null,null,null,null,null,"Colvin"]
[null,"Comfort",null,null,null,null,null,null,null,null,null,null,null,null,null,null,null,null,null,null,null,null,null,null,null,null,null,null,null,null,null,null,null,null,null,null,null,null,null,null,null,null,null,"Comfort"]
[null,"Comfrey",null,null,null,null,null,null,null,null,null,null,null,null,null,null,null,null,null,null,null,null,null,null,null,null,null,null,null,null,null,null,null,null,null,null,null,null,null,null,null,null,null,"Comfrey"]
[null,"Commerce",null,null,null,null,null,null,null,null,null,null,null,null,null,null,null,null,null,null,null,null,null,null,null,null,null,null,null,null,null,null,null,null,null,null,null,null,null,null,null,null,null,"Commerce"]
[null,"Como",null,null,null,null,null,null,null,null,null,null,null,null,null,null,null,null,null,null,null,null,null,null,null,null,null,null,null,null,null,null,null,null,null,null,null,null,null,null,null,null,null,"Como"]
[null,"Como Township",null,null,null,null,null,null,null,null,null,null,null,null,null,null,null,null,null,null,null,null,null,null,null,null,null,null,null,null,null,null,null,null,null,null,null,null,null,null,null,null,null,"Como Township"]
[null,"Compton",null,null,null,null,null,null,null,null,null,null,null,null,null,null,null,null,null,null,null,null,null,null,null,null,null,null,null,null,null,null,null,null,null,null,null,null,null,null,null,null,null,"Compton"]
[null,"Comstock",null,null,null,null,null,null,null,null,null,null,null,null,null,null,null,null,null,null,null,null,null,null,null,null,null,null,null,null,null,null,null,null,null,null,null,null,null,null,null,null,null,"Comstock"]
[null,"Comstock Township",null,null,null,null,null,null,null,null,null,null,null,null,null,null,null,null,null,null,null,null,null,null,null,null,null,null,null,null,null,null,null,null,null,null,null,null,null,null,null,null,null,"Comstock Township"]
[null,"Comus",null,null,null,null,null,null,null,null,null,null,null,null,null,null,null,null,null,null,null,null,null,null,null,null,null,null,null,null,null,null,null,null,null,null,null,null,null,null,null,null,null,"Comus"]
[null,"Conception",null,null,null,null,null,null,null,null,null,null,null,null,null,null,null,null,null,null,null,null,null,null,null,null,null,null,null,null,null,null,null,null,null,null,null,null,null,null,null,null,null,"Conception"]
[null,"Concord",null,null,null,null,null,null,null,null,null,null,null,null,null,null,null,null,null,null,null,null,null,null,null,null,null,null,null,null,null,null,null,null,null,null,null,null,null,null,null,null,null,"Concord"]
[null,"Concord Township",null,null,null,null,null,null,null,null,null,null,null,null,null,null,null,null,null,null,null,null,null,null,null,null,null,null,null,null,null,null,null,null,null,null,null,null,null,null,null,null,null,"Concord Township"]
[null,"Conger",null,null,null,null,null,null,null,null,null,null,null,null,null,null,null,null,null,null,null,null,null,null,null,null,null,null,null,null,null,null,null,null,null,null,null,null,null,null,null,null,null,"Conger"]
[null,"Connelly",null,null,null,null,null,null,null,null,null,null,null,null,null,null,null,null,null,null,null,null,null,null,null,null,null,null,null,null,null,null,null,null,null,null,null,null,null,null,null,null,null,"Connelly"]
[null,"Constance",null,null,null,null,null,null,null,null,null,null,null,null,null,null,null,null,null,null,null,null,null,null,null,null,null,null,null,null,null,null,null,null,null,null,null,null,null,null,null,null,null,"Constance"]
[null,"Cook",null,null,null,null,null,null,null,null,null,null,null,null,null,null,null,null,null,null,null,null,null,null,null,null,null,null,null,null,null,null,null,null,null,null,null,null,null,null,null,null,null,"Cook"]
[null,"Cooley",null,null,null,null,null,null,null,null,null,null,null,null,null,null,null,null,null,null,null,null,null,null,null,null,null,null,null,null,null,null,null,null,null,null,null,null,null,null,null,null,null,"Cooley"]
[null,"Coon Creek",null,null,null,null,null,null,null,null,null,null,null,null,null,null,null,null,null,null,null,null,null,null,null,null,null,null,null,null,null,null,null,null,null,null,null,null,null,null,null,null,null,"Coon Creek"]
[null,"Coon Lake Beach",null,null,null,null,null,null,null,null,null,null,null,null,null,null,null,null,null,null,null,null,null,null,null,null,null,null,null,null,null,null,null,null,null,null,null,null,null,null,null,null,null,"Coon Lake Beach"]
[null,"Coon Rapids",null,null,null,null,null,null,null,null,null,null,null,null,null,null,null,null,null,null,null,null,null,null,null,null,null,null,null,null,null,null,null,null,null,null,null,null,null,null,null,null,null,"Coon Rapids"]
[null,"Coopers Corner",null,null,null,null,null,null,null,null,null,null,null,null,null,null,null,null,null,null,null,null,null,null,null,null,null,null,null,null,null,null,null,null,null,null,null,null,null,null,null,null,null,"Coopers Corner"]
[null,"Copas",null,null,null,null,null,null,null,null,null,null,null,null,null,null,null,null,null,null,null,null,null,null,null,null,null,null,null,null,null,null,null,null,null,null,null,null,null,null,null,null,null,"Copas"]
[null,"Copley",null,null,null,null,null,null,null,null,null,null,null,null,null,null,null,null,null,null,null,null,null,null,null,null,null,null,null,null,null,null,null,null,null,null,null,null,null,null,null,null,null,"Copley"]
[null,"Corcoran",null,null,null,null,null,null,null,null,null,null,null,null,null,null,null,null,null,null,null,null,null,null,null,null,null,null,null,null,null,null,null,null,null,null,null,null,null,null,null,null,null,"Corcoran"]
[null,"Cordova",null,null,null,null,null,null,null,null,null,null,null,null,null,null,null,null,null,null,null,null,null,null,null,null,null,null,null,null,null,null,null,null,null,null,null,null,null,null,null,null,null,"Cordova"]
[null,"Cordova Township",null,null,null,null,null,null,null,null,null,null,null,null,null,null,null,null,null,null,null,null,null,null,null,null,null,null,null,null,null,null,null,null,null,null,null,null,null,null,null,null,null,"Cordova Township"]
[null,"Corinna",null,null,null,null,null,null,null,null,null,null,null,null,null,null,null,null,null,null,null,null,null,null,null,null,null,null,null,null,null,null,null,null,null,null,null,null,null,null,null,null,null,"Corinna"]
[null,"Corliss",null,null,null,null,null,null,null,null,null,null,null,null,null,null,null,null,null,null,null,null,null,null,null,null,null,null,null,null,null,null,null,null,null,null,null,null,null,null,null,null,null,"Corliss"]
[null,"Cormant",null,null,null,null,null,null,null,null,null,null,null,null,null,null,null,null,null,null,null,null,null,null,null,null,null,null,null,null,null,null,null,null,null,null,null,null,null,null,null,null,null,"Cormant"]
[null,"Cormorant",null,null,null,null,null,null,null,null,null,null,null,null,null,null,null,null,null,null,null,null,null,null,null,null,null,null,null,null,null,null,null,null,null,null,null,null,null,null,null,null,null,"Cormorant"]
[null,"Cormorant Township",null,null,null,null,null,null,null,null,null,null,null,null,null,null,null,null,null,null,null,null,null,null,null,null,null,null,null,null,null,null,null,null,null,null,null,null,null,null,null,null,null,"Cormorant Township"]
[null,"Corning",null,null,null,null,null,null,null,null,null,null,null,null,null,null,null,null,null,null,null,null,null,null,null,null,null,null,null,null,null,null,null,null,null,null,null,null,null,null,null,null,null,"Corning"]
[null,"Cornish",null,null,null,null,null,null,null,null,null,null,null,null,null,null,null,null,null,null,null,null,null,null,null,null,null,null,null,null,null,null,null,null,null,null,null,null,null,null,null,null,null,"Cornish"]
[null,"Corona",null,null,null,null,null,null,null,null,null,null,null,null,null,null,null,null,null,null,null,null,null,null,null,null,null,null,null,null,null,null,null,null,null,null,null,null,null,null,null,null,null,"Corona"]
[null,"Correll",null,null,null,null,null,null,null,null,null,null,null,null,null,null,null,null,null,null,null,null,null,null,null,null,null,null,null,null,null,null,null,null,null,null,null,null,null,null,null,null,null,"Correll"]
[null,"Cort",null,null,null,null,null,null,null,null,null,null,null,null,null,null,null,null,null,null,null,null,null,null,null,null,null,null,null,null,null,null,null,null,null,null,null,null,null,null,null,null,null,"Cort"]
[null,"Corvuso",null,null,null,null,null,null,null,null,null,null,null,null,null,null,null,null,null,null,null,null,null,null,null,null,null,null,null,null,null,null,null,null,null,null,null,null,null,null,null,null,null,"Corvuso"]
[null,"Cosmos",null,null,null,null,null,null,null,null,null,null,null,null,null,null,null,null,null,null,null,null,null,null,null,null,null,null,null,null,null,null,null,null,null,null,null,null,null,null,null,null,null,"Cosmos"]
[null,"Cosmos Township",null,null,null,null,null,null,null,null,null,null,null,null,null,null,null,null,null,null,null,null,null,null,null,null,null,null,null,null,null,null,null,null,null,null,null,null,null,null,null,null,null,"Cosmos Township"]
[null,"Cottage Grove",null,null,null,null,null,null,null,null,null,null,null,null,null,null,null,null,null,null,null,null,null,null,null,null,null,null,null,null,null,null,null,null,null,null,null,null,null,null,null,null,null,"Cottage Grove"]
[null,"Cottage Wood",null,null,null,null,null,null,null,null,null,null,null,null,null,null,null,null,null,null,null,null,null,null,null,null,null,null,null,null,null,null,null,null,null,null,null,null,null,null,null,null,null,"Cottage Wood"]
[null,"Cotton",null,null,null,null,null,null,null,null,null,null,null,null,null,null,null,null,null,null,null,null,null,null,null,null,null,null,null,null,null,null,null,null,null,null,null,null,null,null,null,null,null,"Cotton"]
[null,"Cotton Township",null,null,null,null,null,null,null,null,null,null,null,null,null,null,null,null,null,null,null,null,null,null,null,null,null,null,null,null,null,null,null,null,null,null,null,null,null,null,null,null,null,"Cotton Township"]
[null,"Cottonwood",null,null,null,null,null,null,null,null,null,null,null,null,null,null,null,null,null,null,null,null,null,null,null,null,null,null,null,null,null,null,null,null,null,null,null,null,null,null,null,null,null,"Cottonwood"]
[null,"Cottonwood Township",null,null,null,null,null,null,null,null,null,null,null,null,null,null,null,null,null,null,null,null,null,null,null,null,null,null,null,null,null,null,null,null,null,null,null,null,null,null,null,null,null,"Cottonwood Township"]
[null,"Courtland",null,null,null,null,null,null,null,null,null,null,null,null,null,null,null,null,null,null,null,null,null,null,null,null,null,null,null,null,null,null,null,null,null,null,null,null,null,null,null,null,null,"Courtland"]
[null,"Courtland Township",null,null,null,null,null,null,null,null,null,null,null,null,null,null,null,null,null,null,null,null,null,null,null,null,null,null,null,null,null,null,null,null,null,null,null,null,null,null,null,null,null,"Courtland Township"]
[null,"Cove",null,null,null,null,null,null,null,null,null,null,null,null,null,null,null,null,null,null,null,null,null,null,null,null,null,null,null,null,null,null,null,null,null,null,null,null,null,null,null,null,null,"Cove"]
[null,"Craigville",null,null,null,null,null,null,null,null,null,null,null,null,null,null,null,null,null,null,null,null,null,null,null,null,null,null,null,null,null,null,null,null,null,null,null,null,null,null,null,null,null,"Craigville"]
[null,"Cramer",null,null,null,null,null,null,null,null,null,null,null,null,null,null,null,null,null,null,null,null,null,null,null,null,null,null,null,null,null,null,null,null,null,null,null,null,null,null,null,null,null,"Cramer"]
[null,"Crane Lake",null,null,null,null,null,null,null,null,null,null,null,null,null,null,null,null,null,null,null,null,null,null,null,null,null,null,null,null,null,null,null,null,null,null,null,null,null,null,null,null,null,"Crane Lake"]
[null,"Crate",null,null,null,null,null,null,null,null,null,null,null,null,null,null,null,null,null,null,null,null,null,null,null,null,null,null,null,null,null,null,null,null,null,null,null,null,null,null,null,null,null,"Crate"]
[null,"Cray",null,null,null,null,null,null,null,null,null,null,null,null,null,null,null,null,null,null,null,null,null,null,null,null,null,null,null,null,null,null,null,null,null,null,null,null,null,null,null,null,null,"Cray"]
[null,"Credit River",null,null,null,null,null,null,null,null,null,null,null,null,null,null,null,null,null,null,null,null,null,null,null,null,null,null,null,null,null,null,null,null,null,null,null,null,null,null,null,null,null,"Credit River"]
[null,"Credit River Township",null,null,null,null,null,null,null,null,null,null,null,null,null,null,null,null,null,null,null,null,null,null,null,null,null,null,null,null,null,null,null,null,null,null,null,null,null,null,null,null,null,"Credit River Township"]
[null,"Crescent Beach",null,null,null,null,null,null,null,null,null,null,null,null,null,null,null,null,null,null,null,null,null,null,null,null,null,null,null,null,null,null,null,null,null,null,null,null,null,null,null,null,null,"Crescent Beach"]
[null,"Cresson",null,null,null,null,null,null,null,null,null,null,null,null,null,null,null,null,null,null,null,null,null,null,null,null,null,null,null,null,null,null,null,null,null,null,null,null,null,null,null,null,null,"Cresson"]
[null,"Croftville",null,null,null,null,null,null,null,null,null,null,null,null,null,null,null,null,null,null,null,null,null,null,null,null,null,null,null,null,null,null,null,null,null,null,null,null,null,null,null,null,null,"Croftville"]
[null,"Croke",null,null,null,null,null,null,null,null,null,null,null,null,null,null,null,null,null,null,null,null,null,null,null,null,null,null,null,null,null,null,null,null,null,null,null,null,null,null,null,null,null,"Croke"]
[null,"Cromwell",null,null,null,null,null,null,null,null,null,null,null,null,null,null,null,null,null,null,null,null,null,null,null,null,null,null,null,null,null,null,null,null,null,null,null,null,null,null,null,null,null,"Cromwell"]
[null,"Cromwell Township",null,null,null,null,null,null,null,null,null,null,null,null,null,null,null,null,null,null,null,null,null,null,null,null,null,null,null,null,null,null,null,null,null,null,null,null,null,null,null,null,null,"Cromwell Township"]
[null,"Crooked Creek",null,null,null,null,null,null,null,null,null,null,null,null,null,null,null,null,null,null,null,null,null,null,null,null,null,null,null,null,null,null,null,null,null,null,null,null,null,null,null,null,null,"Crooked Creek"]
[null,"Crooked Lake",null,null,null,null,null,null,null,null,null,null,null,null,null,null,null,null,null,null,null,null,null,null,null,null,null,null,null,null,null,null,null,null,null,null,null,null,null,null,null,null,null,"Crooked Lake"]
[null,"Crooks",null,null,null,null,null,null,null,null,null,null,null,null,null,null,null,null,null,null,null,null,null,null,null,null,null,null,null,null,null,null,null,null,null,null,null,null,null,null,null,null,null,"Crooks"]
[null,"Crookston",null,null,null,null,null,null,null,null,null,null,null,null,null,null,null,null,null,null,null,null,null,null,null,null,null,null,null,null,null,null,null,null,null,null,null,null,null,null,null,null,null,"Crookston"]
[null,"Crookston Junction",null,null,null,null,null,null,null,null,null,null,null,null,null,null,null,null,null,null,null,null,null,null,null,null,null,null,null,null,null,null,null,null,null,null,null,null,null,null,null,null,null,"Crookston Junction"]
[null,"Crookston Township",null,null,null,null,null,null,null,null,null,null,null,null,null,null,null,null,null,null,null,null,null,null,null,null,null,null,null,null,null,null,null,null,null,null,null,null,null,null,null,null,null,"Crookston Township"]
[null,"Crosby",null,null,null,null,null,null,null,null,null,null,null,null,null,null,null,null,null,null,null,null,null,null,null,null,null,null,null,null,null,null,null,null,null,null,null,null,null,null,null,null,null,"Crosby"]
[null,"Crosby Beach",null,null,null,null,null,null,null,null,null,null,null,null,null,null,null,null,null,null,null,null,null,null,null,null,null,null,null,null,null,null,null,null,null,null,null,null,null,null,null,null,null,"Crosby Beach"]
[null,"Crosby Township",null,null,null,null,null,null,null,null,null,null,null,null,null,null,null,null,null,null,null,null,null,null,null,null,null,null,null,null,null,null,null,null,null,null,null,null,null,null,null,null,null,"Crosby Township"]
[null,"Crosslake",null,null,null,null,null,null,null,null,null,null,null,null,null,null,null,null,null,null,null,null,null,null,null,null,null,null,null,null,null,null,null,null,null,null,null,null,null,null,null,null,null,"Crosslake"]
[null,"Crow Lake",null,null,null,null,null,null,null,null,null,null,null,null,null,null,null,null,null,null,null,null,null,null,null,null,null,null,null,null,null,null,null,null,null,null,null,null,null,null,null,null,null,"Crow Lake"]
[null,"Crow River",null,null,null,null,null,null,null,null,null,null,null,null,null,null,null,null,null,null,null,null,null,null,null,null,null,null,null,null,null,null,null,null,null,null,null,null,null,null,null,null,null,"Crow River"]
[null,"Crow River Township",null,null,null,null,null,null,null,null,null,null,null,null,null,null,null,null,null,null,null,null,null,null,null,null,null,null,null,null,null,null,null,null,null,null,null,null,null,null,null,null,null,"Crow River Township"]
[null,"Crow Wing",null,null,null,null,null,null,null,null,null,null,null,null,null,null,null,null,null,null,null,null,null,null,null,null,null,null,null,null,null,null,null,null,null,null,null,null,null,null,null,null,null,"Crow Wing"]
[null,"Crow Wing Lake",null,null,null,null,null,null,null,null,null,null,null,null,null,null,null,null,null,null,null,null,null,null,null,null,null,null,null,null,null,null,null,null,null,null,null,null,null,null,null,null,null,"Crow Wing Lake"]
[null,"Crow Wing Township",null,null,null,null,null,null,null,null,null,null,null,null,null,null,null,null,null,null,null,null,null,null,null,null,null,null,null,null,null,null,null,null,null,null,null,null,null,null,null,null,null,"Crow Wing Township"]
[null,"Crown",null,null,null,null,null,null,null,null,null,null,null,null,null,null,null,null,null,null,null,null,null,null,null,null,null,null,null,null,null,null,null,null,null,null,null,null,null,null,null,null,null,"Crown"]
[null,"Crystal",null,null,null,null,null,null,null,null,null,null,null,null,null,null,null,null,null,null,null,null,null,null,null,null,null,null,null,null,null,null,null,null,null,null,null,null,null,null,null,null,null,"Crystal"]
[null,"Crystal Bay",null,null,null,null,null,null,null,null,null,null,null,null,null,null,null,null,null,null,null,null,null,null,null,null,null,null,null,null,null,null,null,null,null,null,null,null,null,null,null,null,null,"Crystal Bay"]
[null,"Crystal Bay Township",null,null,null,null,null,null,null,null,null,null,null,null,null,null,null,null,null,null,null,null,null,null,null,null,null,null,null,null,null,null,null,null,null,null,null,null,null,null,null,null,null,"Crystal Bay Township"]
[null,"Crystal Spring",null,null,null,null,null,null,null,null,null,null,null,null,null,null,null,null,null,null,null,null,null,null,null,null,null,null,null,null,null,null,null,null,null,null,null,null,null,null,null,null,null,"Crystal Spring"]
[null,"Cuba",null,null,null,null,null,null,null,null,null,null,null,null,null,null,null,null,null,null,null,null,null,null,null,null,null,null,null,null,null,null,null,null,null,null,null,null,null,null,null,null,null,"Cuba"]
[null,"Culdrum",null,null,null,null,null,null,null,null,null,null,null,null,null,null,null,null,null,null,null,null,null,null,null,null,null,null,null,null,null,null,null,null,null,null,null,null,null,null,null,null,null,"Culdrum"]
[null,"Culver",null,null,null,null,null,null,null,null,null,null,null,null,null,null,null,null,null,null,null,null,null,null,null,null,null,null,null,null,null,null,null,null,null,null,null,null,null,null,null,null,null,"Culver"]
[null,"Culver Township",null,null,null,null,null,null,null,null,null,null,null,null,null,null,null,null,null,null,null,null,null,null,null,null,null,null,null,null,null,null,null,null,null,null,null,null,null,null,null,null,null,"Culver Township"]
[null,"Cummingsville",null,null,null,null,null,null,null,null,null,null,null,null,null,null,null,null,null,null,null,null,null,null,null,null,null,null,null,null,null,null,null,null,null,null,null,null,null,null,null,null,null,"Cummingsville"]
[null,"Current Lake",null,null,null,null,null,null,null,null,null,null,null,null,null,null,null,null,null,null,null,null,null,null,null,null,null,null,null,null,null,null,null,null,null,null,null,null,null,null,null,null,null,"Current Lake"]
[null,"Currie",null,null,null,null,null,null,null,null,null,null,null,null,null,null,null,null,null,null,null,null,null,null,null,null,null,null,null,null,null,null,null,null,null,null,null,null,null,null,null,null,null,"Currie"]
[null,"Cushing",null,null,null,null,null,null,null,null,null,null,null,null,null,null,null,null,null,null,null,null,null,null,null,null,null,null,null,null,null,null,null,null,null,null,null,null,null,null,null,null,null,"Cushing"]
[null,"Cushing Township",null,null,null,null,null,null,null,null,null,null,null,null,null,null,null,null,null,null,null,null,null,null,null,null,null,null,null,null,null,null,null,null,null,null,null,null,null,null,null,null,null,"Cushing Township"]
[null,"Cusson",null,null,null,null,null,null,null,null,null,null,null,null,null,null,null,null,null,null,null,null,null,null,null,null,null,null,null,null,null,null,null,null,null,null,null,null,null,null,null,null,null,"Cusson"]
[null,"Custer",null,null,null,null,null,null,null,null,null,null,null,null,null,null,null,null,null,null,null,null,null,null,null,null,null,null,null,null,null,null,null,null,null,null,null,null,null,null,null,null,null,"Custer"]
[null,"Cuyuna",null,null,null,null,null,null,null,null,null,null,null,null,null,null,null,null,null,null,null,null,null,null,null,null,null,null,null,null,null,null,null,null,null,null,null,null,null,null,null,null,null,"Cuyuna"]
[null,"Cyrus",null,null,null,null,null,null,null,null,null,null,null,null,null,null,null,null,null,null,null,null,null,null,null,null,null,null,null,null,null,null,null,null,null,null,null,null,null,null,null,null,null,"Cyrus"]
[null,"Daggett Brook",null,null,null,null,null,null,null,null,null,null,null,null,null,null,null,null,null,null,null,null,null,null,null,null,null,null,null,null,null,null,null,null,null,null,null,null,null,null,null,null,null,"Daggett Brook"]
[null,"Dahlgren",null,null,null,null,null,null,null,null,null,null,null,null,null,null,null,null,null,null,null,null,null,null,null,null,null,null,null,null,null,null,null,null,null,null,null,null,null,null,null,null,null,"Dahlgren"]
[null,"Dailey",null,null,null,null,null,null,null,null,null,null,null,null,null,null,null,null,null,null,null,null,null,null,null,null,null,null,null,null,null,null,null,null,null,null,null,null,null,null,null,null,null,"Dailey"]
[null,"Dakomin",null,null,null,null,null,null,null,null,null,null,null,null,null,null,null,null,null,null,null,null,null,null,null,null,null,null,null,null,null,null,null,null,null,null,null,null,null,null,null,null,null,"Dakomin"]
[null,"Dakota",null,null,null,null,null,null,null,null,null,null,null,null,null,null,null,null,null,null,null,null,null,null,null,null,null,null,null,null,null,null,null,null,null,null,null,null,null,null,null,null,null,"Dakota"]
[null,"Dakota Junction",null,null,null,null,null,null,null,null,null,null,null,null,null,null,null,null,null,null,null,null,null,null,null,null,null,null,null,null,null,null,null,null,null,null,null,null,null,null,null,null,null,"Dakota Junction"]
[null,"Dalbo",null,null,null,null,null,null,null,null,null,null,null,null,null,null,null,null,null,null,null,null,null,null,null,null,null,null,null,null,null,null,null,null,null,null,null,null,null,null,null,null,null,"Dalbo"]
[null,"Dalbo Township",null,null,null,null,null,null,null,null,null,null,null,null,null,null,null,null,null,null,null,null,null,null,null,null,null,null,null,null,null,null,null,null,null,null,null,null,null,null,null,null,null,"Dalbo Township"]
[null,"Dale",null,null,null,null,null,null,null,null,null,null,null,null,null,null,null,null,null,null,null,null,null,null,null,null,null,null,null,null,null,null,null,null,null,null,null,null,null,null,null,null,null,"Dale"]
[null,"Dale Township",null,null,null,null,null,null,null,null,null,null,null,null,null,null,null,null,null,null,null,null,null,null,null,null,null,null,null,null,null,null,null,null,null,null,null,null,null,null,null,null,null,"Dale Township"]
[null,"Dalton",null,null,null,null,null,null,null,null,null,null,null,null,null,null,null,null,null,null,null,null,null,null,null,null,null,null,null,null,null,null,null,null,null,null,null,null,null,null,null,null,null,"Dalton"]
[null,"Dane Prairie",null,null,null,null,null,null,null,null,null,null,null,null,null,null,null,null,null,null,null,null,null,null,null,null,null,null,null,null,null,null,null,null,null,null,null,null,null,null,null,null,null,"Dane Prairie"]
[null,"Danesville",null,null,null,null,null,null,null,null,null,null,null,null,null,null,null,null,null,null,null,null,null,null,null,null,null,null,null,null,null,null,null,null,null,null,null,null,null,null,null,null,null,"Danesville"]
[null,"Danforth",null,null,null,null,null,null,null,null,null,null,null,null,null,null,null,null,null,null,null,null,null,null,null,null,null,null,null,null,null,null,null,null,null,null,null,null,null,null,null,null,null,"Danforth"]
[null,"Danielson",null,null,null,null,null,null,null,null,null,null,null,null,null,null,null,null,null,null,null,null,null,null,null,null,null,null,null,null,null,null,null,null,null,null,null,null,null,null,null,null,null,"Danielson"]
[null,"Danube",null,null,null,null,null,null,null,null,null,null,null,null,null,null,null,null,null,null,null,null,null,null,null,null,null,null,null,null,null,null,null,null,null,null,null,null,null,null,null,null,null,"Danube"]
[null,"Danvers",null,null,null,null,null,null,null,null,null,null,null,null,null,null,null,null,null,null,null,null,null,null,null,null,null,null,null,null,null,null,null,null,null,null,null,null,null,null,null,null,null,"Danvers"]
[null,"Danville",null,null,null,null,null,null,null,null,null,null,null,null,null,null,null,null,null,null,null,null,null,null,null,null,null,null,null,null,null,null,null,null,null,null,null,null,null,null,null,null,null,"Danville"]
[null,"Darby Junction",null,null,null,null,null,null,null,null,null,null,null,null,null,null,null,null,null,null,null,null,null,null,null,null,null,null,null,null,null,null,null,null,null,null,null,null,null,null,null,null,null,"Darby Junction"]
[null,"Darfur",null,null,null,null,null,null,null,null,null,null,null,null,null,null,null,null,null,null,null,null,null,null,null,null,null,null,null,null,null,null,null,null,null,null,null,null,null,null,null,null,null,"Darfur"]
[null,"Darling",null,null,null,null,null,null,null,null,null,null,null,null,null,null,null,null,null,null,null,null,null,null,null,null,null,null,null,null,null,null,null,null,null,null,null,null,null,null,null,null,null,"Darling"]
[null,"Darling Township",null,null,null,null,null,null,null,null,null,null,null,null,null,null,null,null,null,null,null,null,null,null,null,null,null,null,null,null,null,null,null,null,null,null,null,null,null,null,null,null,null,"Darling Township"]
[null,"Darnen",null,null,null,null,null,null,null,null,null,null,null,null,null,null,null,null,null,null,null,null,null,null,null,null,null,null,null,null,null,null,null,null,null,null,null,null,null,null,null,null,null,"Darnen"]
[null,"Darwin",null,null,null,null,null,null,null,null,null,null,null,null,null,null,null,null,null,null,null,null,null,null,null,null,null,null,null,null,null,null,null,null,null,null,null,null,null,null,null,null,null,"Darwin"]
[null,"Darwin Township",null,null,null,null,null,null,null,null,null,null,null,null,null,null,null,null,null,null,null,null,null,null,null,null,null,null,null,null,null,null,null,null,null,null,null,null,null,null,null,null,null,"Darwin Township"]
[null,"Dassel",null,null,null,null,null,null,null,null,null,null,null,null,null,null,null,null,null,null,null,null,null,null,null,null,null,null,null,null,null,null,null,null,null,null,null,null,null,null,null,null,null,"Dassel"]
[null,"Dassel Township",null,null,null,null,null,null,null,null,null,null,null,null,null,null,null,null,null,null,null,null,null,null,null,null,null,null,null,null,null,null,null,null,null,null,null,null,null,null,null,null,null,"Dassel Township"]
[null,"Davidson",null,null,null,null,null,null,null,null,null,null,null,null,null,null,null,null,null,null,null,null,null,null,null,null,null,null,null,null,null,null,null,null,null,null,null,null,null,null,null,null,null,"Davidson"]
[null,"Davies",null,null,null,null,null,null,null,null,null,null,null,null,null,null,null,null,null,null,null,null,null,null,null,null,null,null,null,null,null,null,null,null,null,null,null,null,null,null,null,null,null,"Davies"]
[null,"Davis",null,null,null,null,null,null,null,null,null,null,null,null,null,null,null,null,null,null,null,null,null,null,null,null,null,null,null,null,null,null,null,null,null,null,null,null,null,null,null,null,null,"Davis"]
[null,"Davis Township",null,null,null,null,null,null,null,null,null,null,null,null,null,null,null,null,null,null,null,null,null,null,null,null,null,null,null,null,null,null,null,null,null,null,null,null,null,null,null,null,null,"Davis Township"]
[null,"Dawson",null,null,null,null,null,null,null,null,null,null,null,null,null,null,null,null,null,null,null,null,null,null,null,null,null,null,null,null,null,null,null,null,null,null,null,null,null,null,null,null,null,"Dawson"]
[null,"Day",null,null,null,null,null,null,null,null,null,null,null,null,null,null,null,null,null,null,null,null,null,null,null,null,null,null,null,null,null,null,null,null,null,null,null,null,null,null,null,null,null,"Day"]
[null,"Days High Landing",null,null,null,null,null,null,null,null,null,null,null,null,null,null,null,null,null,null,null,null,null,null,null,null,null,null,null,null,null,null,null,null,null,null,null,null,null,null,null,null,null,"Days High Landing"]
[null,"Dayton",null,null,null,null,null,null,null,null,null,null,null,null,null,null,null,null,null,null,null,null,null,null,null,null,null,null,null,null,null,null,null,null,null,null,null,null,null,null,null,null,null,"Dayton"]
[null,"Dayton Township",null,null,null,null,null,null,null,null,null,null,null,null,null,null,null,null,null,null,null,null,null,null,null,null,null,null,null,null,null,null,null,null,null,null,null,null,null,null,null,null,null,"Dayton Township"]
[null,"Daytons Bluff",null,null,null,null,null,null,null,null,null,null,null,null,null,null,null,null,null,null,null,null,null,null,null,null,null,null,null,null,null,null,null,null,null,null,null,null,null,null,null,null,null,"Daytons Bluff"]
[null,"De Forest",null,null,null,null,null,null,null,null,null,null,null,null,null,null,null,null,null,null,null,null,null,null,null,null,null,null,null,null,null,null,null,null,null,null,null,null,null,null,null,null,null,"De Forest"]
[null,"De Graff",null,null,null,null,null,null,null,null,null,null,null,null,null,null,null,null,null,null,null,null,null,null,null,null,null,null,null,null,null,null,null,null,null,null,null,null,null,null,null,null,null,"De Graff"]
[null,"Dead Lake",null,null,null,null,null,null,null,null,null,null,null,null,null,null,null,null,null,null,null,null,null,null,null,null,null,null,null,null,null,null,null,null,null,null,null,null,null,null,null,null,null,"Dead Lake"]
[null,"Dean Lake",null,null,null,null,null,null,null,null,null,null,null,null,null,null,null,null,null,null,null,null,null,null,null,null,null,null,null,null,null,null,null,null,null,null,null,null,null,null,null,null,null,"Dean Lake"]
[null,"Debs",null,null,null,null,null,null,null,null,null,null,null,null,null,null,null,null,null,null,null,null,null,null,null,null,null,null,null,null,null,null,null,null,null,null,null,null,null,null,null,null,null,"Debs"]
[null,"Decoria",null,null,null,null,null,null,null,null,null,null,null,null,null,null,null,null,null,null,null,null,null,null,null,null,null,null,null,null,null,null,null,null,null,null,null,null,null,null,null,null,null,"Decoria"]
[null,"Deephaven",null,null,null,null,null,null,null,null,null,null,null,null,null,null,null,null,null,null,null,null,null,null,null,null,null,null,null,null,null,null,null,null,null,null,null,null,null,null,null,null,null,"Deephaven"]
[null,"Deer",null,null,null,null,null,null,null,null,null,null,null,null,null,null,null,null,null,null,null,null,null,null,null,null,null,null,null,null,null,null,null,null,null,null,null,null,null,null,null,null,null,"Deer"]
[null,"Deer Creek",null,null,null,null,null,null,null,null,null,null,null,null,null,null,null,null,null,null,null,null,null,null,null,null,null,null,null,null,null,null,null,null,null,null,null,null,null,null,null,null,null,"Deer Creek"]
[null,"Deer Creek Indian Reservation",null,null,null,null,null,null,null,null,null,null,null,null,null,null,null,null,null,null,null,null,null,null,null,null,null,null,null,null,null,null,null,null,null,null,null,null,null,null,null,null,null,"Deer Creek Indian Reservation"]
[null,"Deer Creek Township",null,null,null,null,null,null,null,null,null,null,null,null,null,null,null,null,null,null,null,null,null,null,null,null,null,null,null,null,null,null,null,null,null,null,null,null,null,null,null,null,null,"Deer Creek Township"]
[null,"Deer Lake",null,null,null,null,null,null,null,null,null,null,null,null,null,null,null,null,null,null,null,null,null,null,null,null,null,null,null,null,null,null,null,null,null,null,null,null,null,null,null,null,null,"Deer Lake"]
[null,"Deer Lane",null,null,null,null,null,null,null,null,null,null,null,null,null,null,null,null,null,null,null,null,null,null,null,null,null,null,null,null,null,null,null,null,null,null,null,null,null,null,null,null,null,"Deer Lane"]
[null,"Deer Park",null,null,null,null,null,null,null,null,null,null,null,null,null,null,null,null,null,null,null,null,null,null,null,null,null,null,null,null,null,null,null,null,null,null,null,null,null,null,null,null,null,"Deer Park"]
[null,"Deer Park Township",null,null,null,null,null,null,null,null,null,null,null,null,null,null,null,null,null,null,null,null,null,null,null,null,null,null,null,null,null,null,null,null,null,null,null,null,null,null,null,null,null,"Deer Park Township"]
[null,"Deer River",null,null,null,null,null,null,null,null,null,null,null,null,null,null,null,null,null,null,null,null,null,null,null,null,null,null,null,null,null,null,null,null,null,null,null,null,null,null,null,null,null,"Deer River"]
[null,"Deer River Township",null,null,null,null,null,null,null,null,null,null,null,null,null,null,null,null,null,null,null,null,null,null,null,null,null,null,null,null,null,null,null,null,null,null,null,null,null,null,null,null,null,"Deer River Township"]
[null,"Deerfield",null,null,null,null,null,null,null,null,null,null,null,null,null,null,null,null,null,null,null,null,null,null,null,null,null,null,null,null,null,null,null,null,null,null,null,null,null,null,null,null,null,"Deerfield"]
[null,"Deerfield Township",null,null,null,null,null,null,null,null,null,null,null,null,null,null,null,null,null,null,null,null,null,null,null,null,null,null,null,null,null,null,null,null,null,null,null,null,null,null,null,null,null,"Deerfield Township"]
[null,"Deerhorn",null,null,null,null,null,null,null,null,null,null,null,null,null,null,null,null,null,null,null,null,null,null,null,null,null,null,null,null,null,null,null,null,null,null,null,null,null,null,null,null,null,"Deerhorn"]
[null,"Deerwood",null,null,null,null,null,null,null,null,null,null,null,null,null,null,null,null,null,null,null,null,null,null,null,null,null,null,null,null,null,null,null,null,null,null,null,null,null,null,null,null,null,"Deerwood"]
[null,"Deerwood Township",null,null,null,null,null,null,null,null,null,null,null,null,null,null,null,null,null,null,null,null,null,null,null,null,null,null,null,null,null,null,null,null,null,null,null,null,null,null,null,null,null,"Deerwood Township"]
[null,"Delafield",null,null,null,null,null,null,null,null,null,null,null,null,null,null,null,null,null,null,null,null,null,null,null,null,null,null,null,null,null,null,null,null,null,null,null,null,null,null,null,null,null,"Delafield"]
[null,"Delano",null,null,null,null,null,null,null,null,null,null,null,null,null,null,null,null,null,null,null,null,null,null,null,null,null,null,null,null,null,null,null,null,null,null,null,null,null,null,null,null,null,"Delano"]
[null,"Delavan",null,null,null,null,null,null,null,null,null,null,null,null,null,null,null,null,null,null,null,null,null,null,null,null,null,null,null,null,null,null,null,null,null,null,null,null,null,null,null,null,null,"Delavan"]
[null,"Delavan Township",null,null,null,null,null,null,null,null,null,null,null,null,null,null,null,null,null,null,null,null,null,null,null,null,null,null,null,null,null,null,null,null,null,null,null,null,null,null,null,null,null,"Delavan Township"]
[null,"Delaware",null,null,null,null,null,null,null,null,null,null,null,null,null,null,null,null,null,null,null,null,null,null,null,null,null,null,null,null,null,null,null,null,null,null,null,null,null,null,null,null,null,"Delaware"]
[null,"Delft",null,null,null,null,null,null,null,null,null,null,null,null,null,null,null,null,null,null,null,null,null,null,null,null,null,null,null,null,null,null,null,null,null,null,null,null,null,null,null,null,null,"Delft"]
[null,"Delhi",null,null,null,null,null,null,null,null,null,null,null,null,null,null,null,null,null,null,null,null,null,null,null,null,null,null,null,null,null,null,null,null,null,null,null,null,null,null,null,null,null,"Delhi"]
[null,"Delhi Township",null,null,null,null,null,null,null,null,null,null,null,null,null,null,null,null,null,null,null,null,null,null,null,null,null,null,null,null,null,null,null,null,null,null,null,null,null,null,null,null,null,"Delhi Township"]
[null,"Dell",null,null,null,null,null,null,null,null,null,null,null,null,null,null,null,null,null,null,null,null,null,null,null,null,null,null,null,null,null,null,null,null,null,null,null,null,null,null,null,null,null,"Dell"]
[null,"Dell Grove",null,null,null,null,null,null,null,null,null,null,null,null,null,null,null,null,null,null,null,null,null,null,null,null,null,null,null,null,null,null,null,null,null,null,null,null,null,null,null,null,null,"Dell Grove"]
[null,"Dellwood",null,null,null,null,null,null,null,null,null,null,null,null,null,null,null,null,null,null,null,null,null,null,null,null,null,null,null,null,null,null,null,null,null,null,null,null,null,null,null,null,null,"Dellwood"]
[null,"Delorme",null,null,null,null,null,null,null,null,null,null,null,null,null,null,null,null,null,null,null,null,null,null,null,null,null,null,null,null,null,null,null,null,null,null,null,null,null,null,null,null,null,"Delorme"]
[null,"Delton",null,null,null,null,null,null,null,null,null,null,null,null,null,null,null,null,null,null,null,null,null,null,null,null,null,null,null,null,null,null,null,null,null,null,null,null,null,null,null,null,null,"Delton"]
[null,"Denham",null,null,null,null,null,null,null,null,null,null,null,null,null,null,null,null,null,null,null,null,null,null,null,null,null,null,null,null,null,null,null,null,null,null,null,null,null,null,null,null,null,"Denham"]
[null,"Denmark",null,null,null,null,null,null,null,null,null,null,null,null,null,null,null,null,null,null,null,null,null,null,null,null,null,null,null,null,null,null,null,null,null,null,null,null,null,null,null,null,null,"Denmark"]
[null,"Dennison",null,null,null,null,null,null,null,null,null,null,null,null,null,null,null,null,null,null,null,null,null,null,null,null,null,null,null,null,null,null,null,null,null,null,null,null,null,null,null,null,null,"Dennison"]
[null,"Dent",null,null,null,null,null,null,null,null,null,null,null,null,null,null,null,null,null,null,null,null,null,null,null,null,null,null,null,null,null,null,null,null,null,null,null,null,null,null,null,null,null,"Dent"]
[null,"Denver",null,null,null,null,null,null,null,null,null,null,null,null,null,null,null,null,null,null,null,null,null,null,null,null,null,null,null,null,null,null,null,null,null,null,null,null,null,null,null,null,null,"Denver"]
[null,"Derrynane",null,null,null,null,null,null,null,null,null,null,null,null,null,null,null,null,null,null,null,null,null,null,null,null,null,null,null,null,null,null,null,null,null,null,null,null,null,null,null,null,null,"Derrynane"]
[null,"Des Moines",null,null,null,null,null,null,null,null,null,null,null,null,null,null,null,null,null,null,null,null,null,null,null,null,null,null,null,null,null,null,null,null,null,null,null,null,null,null,null,null,null,"Des Moines"]
[null,"Des Moines River",null,null,null,null,null,null,null,null,null,null,null,null,null,null,null,null,null,null,null,null,null,null,null,null,null,null,null,null,null,null,null,null,null,null,null,null,null,null,null,null,null,"Des Moines River"]
[null,"Detroit",null,null,null,null,null,null,null,null,null,null,null,null,null,null,null,null,null,null,null,null,null,null,null,null,null,null,null,null,null,null,null,null,null,null,null,null,null,null,null,null,null,"Detroit"]
[null,"Detroit Lakes",null,null,null,null,null,null,null,null,null,null,null,null,null,null,null,null,null,null,null,null,null,null,null,null,null,null,null,null,null,null,null,null,null,null,null,null,null,null,null,null,null,"Detroit Lakes"]
[null,"Dewald",null,null,null,null,null,null,null,null,null,null,null,null,null,null,null,null,null,null,null,null,null,null,null,null,null,null,null,null,null,null,null,null,null,null,null,null,null,null,null,null,null,"Dewald"]
[null,"Dewey",null,null,null,null,null,null,null,null,null,null,null,null,null,null,null,null,null,null,null,null,null,null,null,null,null,null,null,null,null,null,null,null,null,null,null,null,null,null,null,null,null,"Dewey"]
[null,"Dexter",null,null,null,null,null,null,null,null,null,null,null,null,null,null,null,null,null,null,null,null,null,null,null,null,null,null,null,null,null,null,null,null,null,null,null,null,null,null,null,null,null,"Dexter"]
[null,"Dexter Township",null,null,null,null,null,null,null,null,null,null,null,null,null,null,null,null,null,null,null,null,null,null,null,null,null,null,null,null,null,null,null,null,null,null,null,null,null,null,null,null,null,"Dexter Township"]
[null,"Diamond Lake",null,null,null,null,null,null,null,null,null,null,null,null,null,null,null,null,null,null,null,null,null,null,null,null,null,null,null,null,null,null,null,null,null,null,null,null,null,null,null,null,null,"Diamond Lake"]
[null,"Diamond Lake Township",null,null,null,null,null,null,null,null,null,null,null,null,null,null,null,null,null,null,null,null,null,null,null,null,null,null,null,null,null,null,null,null,null,null,null,null,null,null,null,null,null,"Diamond Lake Township"]
[null,"Dieter",null,null,null,null,null,null,null,null,null,null,null,null,null,null,null,null,null,null,null,null,null,null,null,null,null,null,null,null,null,null,null,null,null,null,null,null,null,null,null,null,null,"Dieter"]
[null,"Dilworth",null,null,null,null,null,null,null,null,null,null,null,null,null,null,null,null,null,null,null,null,null,null,null,null,null,null,null,null,null,null,null,null,null,null,null,null,null,null,null,null,null,"Dilworth"]
[null,"Dinkytown",null,null,null,null,null,null,null,null,null,null,null,null,null,null,null,null,null,null,null,null,null,null,null,null,null,null,null,null,null,null,null,null,null,null,null,null,null,null,null,null,null,"Dinkytown"]
[null,"District 1",null,null,null,null,null,null,null,null,null,null,null,null,null,null,null,null,null,null,null,null,null,null,null,null,null,null,null,null,null,null,null,null,null,null,null,null,null,null,null,null,null,"District 1"]
[null,"District 2",null,null,null,null,null,null,null,null,null,null,null,null,null,null,null,null,null,null,null,null,null,null,null,null,null,null,null,null,null,null,null,null,null,null,null,null,null,null,null,null,null,"District 2"]
[null,"District 3",null,null,null,null,null,null,null,null,null,null,null,null,null,null,null,null,null,null,null,null,null,null,null,null,null,null,null,null,null,null,null,null,null,null,null,null,null,null,null,null,null,"District 3"]
[null,"District 4",null,null,null,null,null,null,null,null,null,null,null,null,null,null,null,null,null,null,null,null,null,null,null,null,null,null,null,null,null,null,null,null,null,null,null,null,null,null,null,null,null,"District 4"]
[null,"District 5",null,null,null,null,null,null,null,null,null,null,null,null,null,null,null,null,null,null,null,null,null,null,null,null,null,null,null,null,null,null,null,null,null,null,null,null,null,null,null,null,null,"District 5"]
[null,"Ditter",null,null,null,null,null,null,null,null,null,null,null,null,null,null,null,null,null,null,null,null,null,null,null,null,null,null,null,null,null,null,null,null,null,null,null,null,null,null,null,null,null,"Ditter"]
[null,"Dodge Center",null,null,null,null,null,null,null,null,null,null,null,null,null,null,null,null,null,null,null,null,null,null,null,null,null,null,null,null,null,null,null,null,null,null,null,null,null,null,null,null,null,"Dodge Center"]
[null,"Dollymount",null,null,null,null,null,null,null,null,null,null,null,null,null,null,null,null,null,null,null,null,null,null,null,null,null,null,null,null,null,null,null,null,null,null,null,null,null,null,null,null,null,"Dollymount"]
[null,"Domaas",null,null,null,null,null,null,null,null,null,null,null,null,null,null,null,null,null,null,null,null,null,null,null,null,null,null,null,null,null,null,null,null,null,null,null,null,null,null,null,null,null,"Domaas"]
[null,"Donaldson",null,null,null,null,null,null,null,null,null,null,null,null,null,null,null,null,null,null,null,null,null,null,null,null,null,null,null,null,null,null,null,null,null,null,null,null,null,null,null,null,null,"Donaldson"]
[null,"Donehower",null,null,null,null,null,null,null,null,null,null,null,null,null,null,null,null,null,null,null,null,null,null,null,null,null,null,null,null,null,null,null,null,null,null,null,null,null,null,null,null,null,"Donehower"]
[null,"Donnelly",null,null,null,null,null,null,null,null,null,null,null,null,null,null,null,null,null,null,null,null,null,null,null,null,null,null,null,null,null,null,null,null,null,null,null,null,null,null,null,null,null,"Donnelly"]
[null,"Donnelly Township",null,null,null,null,null,null,null,null,null,null,null,null,null,null,null,null,null,null,null,null,null,null,null,null,null,null,null,null,null,null,null,null,null,null,null,null,null,null,null,null,null,"Donnelly Township"]
[null,"Dora",null,null,null,null,null,null,null,null,null,null,null,null,null,null,null,null,null,null,null,null,null,null,null,null,null,null,null,null,null,null,null,null,null,null,null,null,null,null,null,null,null,"Dora"]
[null,"Dora Lake",null,null,null,null,null,null,null,null,null,null,null,null,null,null,null,null,null,null,null,null,null,null,null,null,null,null,null,null,null,null,null,null,null,null,null,null,null,null,null,null,null,"Dora Lake"]
[null,"Doran",null,null,null,null,null,null,null,null,null,null,null,null,null,null,null,null,null,null,null,null,null,null,null,null,null,null,null,null,null,null,null,null,null,null,null,null,null,null,null,null,null,"Doran"]
[null,"Dormer Junction",null,null,null,null,null,null,null,null,null,null,null,null,null,null,null,null,null,null,null,null,null,null,null,null,null,null,null,null,null,null,null,null,null,null,null,null,null,null,null,null,null,"Dormer Junction"]
[null,"Dorothy",null,null,null,null,null,null,null,null,null,null,null,null,null,null,null,null,null,null,null,null,null,null,null,null,null,null,null,null,null,null,null,null,null,null,null,null,null,null,null,null,null,"Dorothy"]
[null,"Dorset",null,null,null,null,null,null,null,null,null,null,null,null,null,null,null,null,null,null,null,null,null,null,null,null,null,null,null,null,null,null,null,null,null,null,null,null,null,null,null,null,null,"Dorset"]
[null,"Dotson",null,null,null,null,null,null,null,null,null,null,null,null,null,null,null,null,null,null,null,null,null,null,null,null,null,null,null,null,null,null,null,null,null,null,null,null,null,null,null,null,null,"Dotson"]
[null,"Douglas",null,null,null,null,null,null,null,null,null,null,null,null,null,null,null,null,null,null,null,null,null,null,null,null,null,null,null,null,null,null,null,null,null,null,null,null,null,null,null,null,null,"Douglas"]
[null,"Douglas Township",null,null,null,null,null,null,null,null,null,null,null,null,null,null,null,null,null,null,null,null,null,null,null,null,null,null,null,null,null,null,null,null,null,null,null,null,null,null,null,null,null,"Douglas Township"]
[null,"Dover",null,null,null,null,null,null,null,null,null,null,null,null,null,null,null,null,null,null,null,null,null,null,null,null,null,null,null,null,null,null,null,null,null,null,null,null,null,null,null,null,null,"Dover"]
[null,"Dover Township",null,null,null,null,null,null,null,null,null,null,null,null,null,null,null,null,null,null,null,null,null,null,null,null,null,null,null,null,null,null,null,null,null,null,null,null,null,null,null,null,null,"Dover Township"]
[null,"Dovray",null,null,null,null,null,null,null,null,null,null,null,null,null,null,null,null,null,null,null,null,null,null,null,null,null,null,null,null,null,null,null,null,null,null,null,null,null,null,null,null,null,"Dovray"]
[null,"Dovray Township",null,null,null,null,null,null,null,null,null,null,null,null,null,null,null,null,null,null,null,null,null,null,null,null,null,null,null,null,null,null,null,null,null,null,null,null,null,null,null,null,null,"Dovray Township"]
[null,"Dovre",null,null,null,null,null,null,null,null,null,null,null,null,null,null,null,null,null,null,null,null,null,null,null,null,null,null,null,null,null,null,null,null,null,null,null,null,null,null,null,null,null,"Dovre"]
[null,"Downer",null,null,null,null,null,null,null,null,null,null,null,null,null,null,null,null,null,null,null,null,null,null,null,null,null,null,null,null,null,null,null,null,null,null,null,null,null,null,null,null,null,"Downer"]
[null,"Doyle",null,null,null,null,null,null,null,null,null,null,null,null,null,null,null,null,null,null,null,null,null,null,null,null,null,null,null,null,null,null,null,null,null,null,null,null,null,null,null,null,null,"Doyle"]
[null,"Drammen",null,null,null,null,null,null,null,null,null,null,null,null,null,null,null,null,null,null,null,null,null,null,null,null,null,null,null,null,null,null,null,null,null,null,null,null,null,null,null,null,null,"Drammen"]
[null,"Dresbach",null,null,null,null,null,null,null,null,null,null,null,null,null,null,null,null,null,null,null,null,null,null,null,null,null,null,null,null,null,null,null,null,null,null,null,null,null,null,null,null,null,"Dresbach"]
[null,"Dresbach Township",null,null,null,null,null,null,null,null,null,null,null,null,null,null,null,null,null,null,null,null,null,null,null,null,null,null,null,null,null,null,null,null,null,null,null,null,null,null,null,null,null,"Dresbach Township"]
[null,"Dryden",null,null,null,null,null,null,null,null,null,null,null,null,null,null,null,null,null,null,null,null,null,null,null,null,null,null,null,null,null,null,null,null,null,null,null,null,null,null,null,null,null,"Dryden"]
[null,"Dublin",null,null,null,null,null,null,null,null,null,null,null,null,null,null,null,null,null,null,null,null,null,null,null,null,null,null,null,null,null,null,null,null,null,null,null,null,null,null,null,null,null,"Dublin"]
[null,"Dudley",null,null,null,null,null,null,null,null,null,null,null,null,null,null,null,null,null,null,null,null,null,null,null,null,null,null,null,null,null,null,null,null,null,null,null,null,null,null,null,null,null,"Dudley"]
[null,"Dudley Township",null,null,null,null,null,null,null,null,null,null,null,null,null,null,null,null,null,null,null,null,null,null,null,null,null,null,null,null,null,null,null,null,null,null,null,null,null,null,null,null,null,"Dudley Township"]
[null,"Duelm",null,null,null,null,null,null,null,null,null,null,null,null,null,null,null,null,null,null,null,null,null,null,null,null,null,null,null,null,null,null,null,null,null,null,null,null,null,null,null,null,null,"Duelm"]
[null,"Duesler",null,null,null,null,null,null,null,null,null,null,null,null,null,null,null,null,null,null,null,null,null,null,null,null,null,null,null,null,null,null,null,null,null,null,null,null,null,null,null,null,null,"Duesler"]
[null,"Dugdale",null,null,null,null,null,null,null,null,null,null,null,null,null,null,null,null,null,null,null,null,null,null,null,null,null,null,null,null,null,null,null,null,null,null,null,null,null,null,null,null,null,"Dugdale"]
[null,"Duluth",null,null,null,null,null,null,null,null,null,null,null,null,null,null,null,null,null,null,null,null,null,null,null,null,null,null,null,null,null,null,null,null,null,null,null,null,null,null,null,null,null,"Duluth"]
[null,"Duluth Air National Guard Stat",null,null,null,null,null,null,null,null,null,null,null,null,null,null,null,null,null,null,null,null,null,null,null,null,null,null,null,null,null,null,null,null,null,null,null,null,null,null,null,null,null,"Duluth Air National Guard Stat"]
[null,"Duluth Heights",null,null,null,null,null,null,null,null,null,null,null,null,null,null,null,null,null,null,null,null,null,null,null,null,null,null,null,null,null,null,null,null,null,null,null,null,null,null,null,null,null,"Duluth Heights"]
[null,"Duluth International Airport",null,null,null,null,null,null,null,null,null,null,null,null,null,null,null,null,null,null,null,null,null,null,null,null,null,null,null,null,null,null,null,null,null,null,null,null,null,null,null,null,null,"Duluth International Airport"]
[null,"Duluth Junction",null,null,null,null,null,null,null,null,null,null,null,null,null,null,null,null,null,null,null,null,null,null,null,null,null,null,null,null,null,null,null,null,null,null,null,null,null,null,null,null,null,"Duluth Junction"]
[null,"Dumblane",null,null,null,null,null,null,null,null,null,null,null,null,null,null,null,null,null,null,null,null,null,null,null,null,null,null,null,null,null,null,null,null,null,null,null,null,null,null,null,null,null,"Dumblane"]
[null,"Dumfries",null,null,null,null,null,null,null,null,null,null,null,null,null,null,null,null,null,null,null,null,null,null,null,null,null,null,null,null,null,null,null,null,null,null,null,null,null,null,null,null,null,"Dumfries"]
[null,"Dumont",null,null,null,null,null,null,null,null,null,null,null,null,null,null,null,null,null,null,null,null,null,null,null,null,null,null,null,null,null,null,null,null,null,null,null,null,null,null,null,null,null,"Dumont"]
[null,"Dunbar",null,null,null,null,null,null,null,null,null,null,null,null,null,null,null,null,null,null,null,null,null,null,null,null,null,null,null,null,null,null,null,null,null,null,null,null,null,null,null,null,null,"Dunbar"]
[null,"Dunbar Township",null,null,null,null,null,null,null,null,null,null,null,null,null,null,null,null,null,null,null,null,null,null,null,null,null,null,null,null,null,null,null,null,null,null,null,null,null,null,null,null,null,"Dunbar Township"]
[null,"Dundas",null,null,null,null,null,null,null,null,null,null,null,null,null,null,null,null,null,null,null,null,null,null,null,null,null,null,null,null,null,null,null,null,null,null,null,null,null,null,null,null,null,"Dundas"]
[null,"Dundee",null,null,null,null,null,null,null,null,null,null,null,null,null,null,null,null,null,null,null,null,null,null,null,null,null,null,null,null,null,null,null,null,null,null,null,null,null,null,null,null,null,"Dundee"]
[null,"Dunn",null,null,null,null,null,null,null,null,null,null,null,null,null,null,null,null,null,null,null,null,null,null,null,null,null,null,null,null,null,null,null,null,null,null,null,null,null,null,null,null,null,"Dunn"]
[null,"Dunnell",null,null,null,null,null,null,null,null,null,null,null,null,null,null,null,null,null,null,null,null,null,null,null,null,null,null,null,null,null,null,null,null,null,null,null,null,null,null,null,null,null,"Dunnell"]
[null,"Dunvilla",null,null,null,null,null,null,null,null,null,null,null,null,null,null,null,null,null,null,null,null,null,null,null,null,null,null,null,null,null,null,null,null,null,null,null,null,null,null,null,null,null,"Dunvilla"]
[null,"Dunwoody",null,null,null,null,null,null,null,null,null,null,null,null,null,null,null,null,null,null,null,null,null,null,null,null,null,null,null,null,null,null,null,null,null,null,null,null,null,null,null,null,null,"Dunwoody"]
[null,"Dunwoody Junction",null,null,null,null,null,null,null,null,null,null,null,null,null,null,null,null,null,null,null,null,null,null,null,null,null,null,null,null,null,null,null,null,null,null,null,null,null,null,null,null,null,"Dunwoody Junction"]
[null,"Dupont",null,null,null,null,null,null,null,null,null,null,null,null,null,null,null,null,null,null,null,null,null,null,null,null,null,null,null,null,null,null,null,null,null,null,null,null,null,null,null,null,null,"Dupont"]
[null,"Duquette",null,null,null,null,null,null,null,null,null,null,null,null,null,null,null,null,null,null,null,null,null,null,null,null,null,null,null,null,null,null,null,null,null,null,null,null,null,null,null,null,null,"Duquette"]
[null,"Durand",null,null,null,null,null,null,null,null,null,null,null,null,null,null,null,null,null,null,null,null,null,null,null,null,null,null,null,null,null,null,null,null,null,null,null,null,null,null,null,null,null,"Durand"]
[null,"Duxbury",null,null,null,null,null,null,null,null,null,null,null,null,null,null,null,null,null,null,null,null,null,null,null,null,null,null,null,null,null,null,null,null,null,null,null,null,null,null,null,null,null,"Duxbury"]
[null,"Eagan",null,null,null,null,null,null,null,null,null,null,null,null,null,null,null,null,null,null,null,null,null,null,null,null,null,null,null,null,null,null,null,null,null,null,null,null,null,null,null,null,null,"Eagan"]
[null,"Eagan Township",null,null,null,null,null,null,null,null,null,null,null,null,null,null,null,null,null,null,null,null,null,null,null,null,null,null,null,null,null,null,null,null,null,null,null,null,null,null,null,null,null,"Eagan Township"]
[null,"Eagandale",null,null,null,null,null,null,null,null,null,null,null,null,null,null,null,null,null,null,null,null,null,null,null,null,null,null,null,null,null,null,null,null,null,null,null,null,null,null,null,null,null,"Eagandale"]
[null,"Eagle",null,null,null,null,null,null,null,null,null,null,null,null,null,null,null,null,null,null,null,null,null,null,null,null,null,null,null,null,null,null,null,null,null,null,null,null,null,null,null,null,null,"Eagle"]
[null,"Eagle Bend",null,null,null,null,null,null,null,null,null,null,null,null,null,null,null,null,null,null,null,null,null,null,null,null,null,null,null,null,null,null,null,null,null,null,null,null,null,null,null,null,null,"Eagle Bend"]
[null,"Eagle Creek",null,null,null,null,null,null,null,null,null,null,null,null,null,null,null,null,null,null,null,null,null,null,null,null,null,null,null,null,null,null,null,null,null,null,null,null,null,null,null,null,null,"Eagle Creek"]
[null,"Eagle Lake",null,null,null,null,null,null,null,null,null,null,null,null,null,null,null,null,null,null,null,null,null,null,null,null,null,null,null,null,null,null,null,null,null,null,null,null,null,null,null,null,null,"Eagle Lake"]
[null,"Eagle Lake Township",null,null,null,null,null,null,null,null,null,null,null,null,null,null,null,null,null,null,null,null,null,null,null,null,null,null,null,null,null,null,null,null,null,null,null,null,null,null,null,null,null,"Eagle Lake Township"]
[null,"Eagle Point",null,null,null,null,null,null,null,null,null,null,null,null,null,null,null,null,null,null,null,null,null,null,null,null,null,null,null,null,null,null,null,null,null,null,null,null,null,null,null,null,null,"Eagle Point"]
[null,"Eagle Valley",null,null,null,null,null,null,null,null,null,null,null,null,null,null,null,null,null,null,null,null,null,null,null,null,null,null,null,null,null,null,null,null,null,null,null,null,null,null,null,null,null,"Eagle Valley"]
[null,"Eagle View",null,null,null,null,null,null,null,null,null,null,null,null,null,null,null,null,null,null,null,null,null,null,null,null,null,null,null,null,null,null,null,null,null,null,null,null,null,null,null,null,null,"Eagle View"]
[null,"Eagles Nest",null,null,null,null,null,null,null,null,null,null,null,null,null,null,null,null,null,null,null,null,null,null,null,null,null,null,null,null,null,null,null,null,null,null,null,null,null,null,null,null,null,"Eagles Nest"]
[null,"Eagle's Nest",null,null,null,null,null,null,null,null,null,null,null,null,null,null,null,null,null,null,null,null,null,null,null,null,null,null,null,null,null,null,null,null,null,null,null,null,null,null,null,null,null,"Eagle's Nest"]
[null,"East Beaver Bay",null,null,null,null,null,null,null,null,null,null,null,null,null,null,null,null,null,null,null,null,null,null,null,null,null,null,null,null,null,null,null,null,null,null,null,null,null,null,null,null,null,"East Beaver Bay"]
[null,"East Bethel",null,null,null,null,null,null,null,null,null,null,null,null,null,null,null,null,null,null,null,null,null,null,null,null,null,null,null,null,null,null,null,null,null,null,null,null,null,null,null,null,null,"East Bethel"]
[null,"East Cass",null,null,null,null,null,null,null,null,null,null,null,null,null,null,null,null,null,null,null,null,null,null,null,null,null,null,null,null,null,null,null,null,null,null,null,null,null,null,null,null,null,"East Cass"]
[null,"East Chain",null,null,null,null,null,null,null,null,null,null,null,null,null,null,null,null,null,null,null,null,null,null,null,null,null,null,null,null,null,null,null,null,null,null,null,null,null,null,null,null,null,"East Chain"]
[null,"East Cook",null,null,null,null,null,null,null,null,null,null,null,null,null,null,null,null,null,null,null,null,null,null,null,null,null,null,null,null,null,null,null,null,null,null,null,null,null,null,null,null,null,"East Cook"]
[null,"East End",null,null,null,null,null,null,null,null,null,null,null,null,null,null,null,null,null,null,null,null,null,null,null,null,null,null,null,null,null,null,null,null,null,null,null,null,null,null,null,null,null,"East End"]
[null,"East Hastings",null,null,null,null,null,null,null,null,null,null,null,null,null,null,null,null,null,null,null,null,null,null,null,null,null,null,null,null,null,null,null,null,null,null,null,null,null,null,null,null,null,"East Hastings"]
[null,"East Lake Francis Shores",null,null,null,null,null,null,null,null,null,null,null,null,null,null,null,null,null,null,null,null,null,null,null,null,null,null,null,null,null,null,null,null,null,null,null,null,null,null,null,null,null,"East Lake Francis Shores"]
[null,"East Park",null,null,null,null,null,null,null,null,null,null,null,null,null,null,null,null,null,null,null,null,null,null,null,null,null,null,null,null,null,null,null,null,null,null,null,null,null,null,null,null,null,"East Park"]
[null,"East Prairieville",null,null,null,null,null,null,null,null,null,null,null,null,null,null,null,null,null,null,null,null,null,null,null,null,null,null,null,null,null,null,null,null,null,null,null,null,null,null,null,null,null,"East Prairieville"]
[null,"East Side",null,null,null,null,null,null,null,null,null,null,null,null,null,null,null,null,null,null,null,null,null,null,null,null,null,null,null,null,null,null,null,null,null,null,null,null,null,null,null,null,null,"East Side"]
[null,"Eastern",null,null,null,null,null,null,null,null,null,null,null,null,null,null,null,null,null,null,null,null,null,null,null,null,null,null,null,null,null,null,null,null,null,null,null,null,null,null,null,null,null,"Eastern"]
[null,"Ebro",null,null,null,null,null,null,null,null,null,null,null,null,null,null,null,null,null,null,null,null,null,null,null,null,null,null,null,null,null,null,null,null,null,null,null,null,null,null,null,null,null,"Ebro"]
[null,"Echols",null,null,null,null,null,null,null,null,null,null,null,null,null,null,null,null,null,null,null,null,null,null,null,null,null,null,null,null,null,null,null,null,null,null,null,null,null,null,null,null,null,"Echols"]
[null,"Eddsville",null,null,null,null,null,null,null,null,null,null,null,null,null,null,null,null,null,null,null,null,null,null,null,null,null,null,null,null,null,null,null,null,null,null,null,null,null,null,null,null,null,"Eddsville"]
[null,"Eden Lake",null,null,null,null,null,null,null,null,null,null,null,null,null,null,null,null,null,null,null,null,null,null,null,null,null,null,null,null,null,null,null,null,null,null,null,null,null,null,null,null,null,"Eden Lake"]
[null,"Eden Valley",null,null,null,null,null,null,null,null,null,null,null,null,null,null,null,null,null,null,null,null,null,null,null,null,null,null,null,null,null,null,null,null,null,null,null,null,null,null,null,null,null,"Eden Valley"]
[null,"Edina",null,null,null,null,null,null,null,null,null,null,null,null,null,null,null,null,null,null,null,null,null,null,null,null,null,null,null,null,null,null,null,null,null,null,null,null,null,null,null,null,null,"Edina"]
[null,"Edison",null,null,null,null,null,null,null,null,null,null,null,null,null,null,null,null,null,null,null,null,null,null,null,null,null,null,null,null,null,null,null,null,null,null,null,null,null,null,null,null,null,"Edison"]
[null,"Edwards Township",null,null,null,null,null,null,null,null,null,null,null,null,null,null,null,null,null,null,null,null,null,null,null,null,null,null,null,null,null,null,null,null,null,null,null,null,null,null,null,null,null,"Edwards Township"]
[null,"Eggleston",null,null,null,null,null,null,null,null,null,null,null,null,null,null,null,null,null,null,null,null,null,null,null,null,null,null,null,null,null,null,null,null,null,null,null,null,null,null,null,null,null,"Eggleston"]
[null,"Eidswold",null,null,null,null,null,null,null,null,null,null,null,null,null,null,null,null,null,null,null,null,null,null,null,null,null,null,null,null,null,null,null,null,null,null,null,null,null,null,null,null,null,"Eidswold"]
[null,"Elba Township",null,null,null,null,null,null,null,null,null,null,null,null,null,null,null,null,null,null,null,null,null,null,null,null,null,null,null,null,null,null,null,null,null,null,null,null,null,null,null,null,null,"Elba Township"]
[null,"Elbow Lake Village",null,null,null,null,null,null,null,null,null,null,null,null,null,null,null,null,null,null,null,null,null,null,null,null,null,null,null,null,null,null,null,null,null,null,null,null,null,null,null,null,null,"Elbow Lake Village"]
[null,"Eldes Corner",null,null,null,null,null,null,null,null,null,null,null,null,null,null,null,null,null,null,null,null,null,null,null,null,null,null,null,null,null,null,null,null,null,null,null,null,null,null,null,null,null,"Eldes Corner"]
[null,"Eldorado",null,null,null,null,null,null,null,null,null,null,null,null,null,null,null,null,null,null,null,null,null,null,null,null,null,null,null,null,null,null,null,null,null,null,null,null,null,null,null,null,null,"Eldorado"]
[null,"Elgin Township",null,null,null,null,null,null,null,null,null,null,null,null,null,null,null,null,null,null,null,null,null,null,null,null,null,null,null,null,null,null,null,null,null,null,null,null,null,null,null,null,null,"Elgin Township"]
[null,"Elk",null,null,null,null,null,null,null,null,null,null,null,null,null,null,null,null,null,null,null,null,null,null,null,null,null,null,null,null,null,null,null,null,null,null,null,null,null,null,null,null,null,"Elk"]
[null,"Elkland",null,null,null,null,null,null,null,null,null,null,null,null,null,null,null,null,null,null,null,null,null,null,null,null,null,null,null,null,null,null,null,null,null,null,null,null,null,null,null,null,null,"Elkland"]
[null,"Elkton",null,null,null,null,null,null,null,null,null,null,null,null,null,null,null,null,null,null,null,null,null,null,null,null,null,null,null,null,null,null,null,null,null,null,null,null,null,null,null,null,null,"Elkton"]
[null,"Ellerth",null,null,null,null,null,null,null,null,null,null,null,null,null,null,null,null,null,null,null,null,null,null,null,null,null,null,null,null,null,null,null,null,null,null,null,null,null,null,null,null,null,"Ellerth"]
[null,"Ellsburg",null,null,null,null,null,null,null,null,null,null,null,null,null,null,null,null,null,null,null,null,null,null,null,null,null,null,null,null,null,null,null,null,null,null,null,null,null,null,null,null,null,"Ellsburg"]
[null,"Ellsworth Township",null,null,null,null,null,null,null,null,null,null,null,null,null,null,null,null,null,null,null,null,null,null,null,null,null,null,null,null,null,null,null,null,null,null,null,null,null,null,null,null,null,"Ellsworth Township"]
[null,"Elm Creek",null,null,null,null,null,null,null,null,null,null,null,null,null,null,null,null,null,null,null,null,null,null,null,null,null,null,null,null,null,null,null,null,null,null,null,null,null,null,null,null,null,"Elm Creek"]
[null,"Elmer",null,null,null,null,null,null,null,null,null,null,null,null,null,null,null,null,null,null,null,null,null,null,null,null,null,null,null,null,null,null,null,null,null,null,null,null,null,null,null,null,null,"Elmer"]
[null,"Elmer Township",null,null,null,null,null,null,null,null,null,null,null,null,null,null,null,null,null,null,null,null,null,null,null,null,null,null,null,null,null,null,null,null,null,null,null,null,null,null,null,null,null,"Elmer Township"]
[null,"Elmore Township",null,null,null,null,null,null,null,null,null,null,null,null,null,null,null,null,null,null,null,null,null,null,null,null,null,null,null,null,null,null,null,null,null,null,null,null,null,null,null,null,null,"Elmore Township"]
[null,"Elrosa",null,null,null,null,null,null,null,null,null,null,null,null,null,null,null,null,null,null,null,null,null,null,null,null,null,null,null,null,null,null,null,null,null,null,null,null,null,null,null,null,null,"Elrosa"]
[null,"Ely",null,null,null,null,null,null,null,null,null,null,null,null,null,null,null,null,null,null,null,null,null,null,null,null,null,null,null,null,null,null,null,null,null,null,null,null,null,null,null,null,null,"Ely"]
[null,"Emardville",null,null,null,null,null,null,null,null,null,null,null,null,null,null,null,null,null,null,null,null,null,null,null,null,null,null,null,null,null,null,null,null,null,null,null,null,null,null,null,null,null,"Emardville"]
[null,"Embarrass Township",null,null,null,null,null,null,null,null,null,null,null,null,null,null,null,null,null,null,null,null,null,null,null,null,null,null,null,null,null,null,null,null,null,null,null,null,null,null,null,null,null,"Embarrass Township"]
[null,"Emco",null,null,null,null,null,null,null,null,null,null,null,null,null,null,null,null,null,null,null,null,null,null,null,null,null,null,null,null,null,null,null,null,null,null,null,null,null,null,null,null,null,"Emco"]
[null,"Emmaville",null,null,null,null,null,null,null,null,null,null,null,null,null,null,null,null,null,null,null,null,null,null,null,null,null,null,null,null,null,null,null,null,null,null,null,null,null,null,null,null,null,"Emmaville"]
[null,"Emmons",null,null,null,null,null,null,null,null,null,null,null,null,null,null,null,null,null,null,null,null,null,null,null,null,null,null,null,null,null,null,null,null,null,null,null,null,null,null,null,null,null,"Emmons"]
[null,"Enfield",null,null,null,null,null,null,null,null,null,null,null,null,null,null,null,null,null,null,null,null,null,null,null,null,null,null,null,null,null,null,null,null,null,null,null,null,null,null,null,null,null,"Enfield"]
[null,"Enok",null,null,null,null,null,null,null,null,null,null,null,null,null,null,null,null,null,null,null,null,null,null,null,null,null,null,null,null,null,null,null,null,null,null,null,null,null,null,null,null,null,"Enok"]
[null,"Equality",null,null,null,null,null,null,null,null,null,null,null,null,null,null,null,null,null,null,null,null,null,null,null,null,null,null,null,null,null,null,null,null,null,null,null,null,null,null,null,null,null,"Equality"]
[null,"Erhard",null,null,null,null,null,null,null,null,null,null,null,null,null,null,null,null,null,null,null,null,null,null,null,null,null,null,null,null,null,null,null,null,null,null,null,null,null,null,null,null,null,"Erhard"]
[null,"Ericsburg",null,null,null,null,null,null,null,null,null,null,null,null,null,null,null,null,null,null,null,null,null,null,null,null,null,null,null,null,null,null,null,null,null,null,null,null,null,null,null,null,null,"Ericsburg"]
[null,"Ericson",null,null,null,null,null,null,null,null,null,null,null,null,null,null,null,null,null,null,null,null,null,null,null,null,null,null,null,null,null,null,null,null,null,null,null,null,null,null,null,null,null,"Ericson"]
[null,"Erskine",null,null,null,null,null,null,null,null,null,null,null,null,null,null,null,null,null,null,null,null,null,null,null,null,null,null,null,null,null,null,null,null,null,null,null,null,null,null,null,null,null,"Erskine"]
[null,"Esko",null,null,null,null,null,null,null,null,null,null,null,null,null,null,null,null,null,null,null,null,null,null,null,null,null,null,null,null,null,null,null,null,null,null,null,null,null,null,null,null,null,"Esko"]
[null,"Estes Brook",null,null,null,null,null,null,null,null,null,null,null,null,null,null,null,null,null,null,null,null,null,null,null,null,null,null,null,null,null,null,null,null,null,null,null,null,null,null,null,null,null,"Estes Brook"]
[null,"Etter",null,null,null,null,null,null,null,null,null,null,null,null,null,null,null,null,null,null,null,null,null,null,null,null,null,null,null,null,null,null,null,null,null,null,null,null,null,null,null,null,null,"Etter"]
[null,"Eureka Center",null,null,null,null,null,null,null,null,null,null,null,null,null,null,null,null,null,null,null,null,null,null,null,null,null,null,null,null,null,null,null,null,null,null,null,null,null,null,null,null,null,"Eureka Center"]
[null,"Eureka Township",null,null,null,null,null,null,null,null,null,null,null,null,null,null,null,null,null,null,null,null,null,null,null,null,null,null,null,null,null,null,null,null,null,null,null,null,null,null,null,null,null,"Eureka Township"]
[null,"Eveleth",null,null,null,null,null,null,null,null,null,null,null,null,null,null,null,null,null,null,null,null,null,null,null,null,null,null,null,null,null,null,null,null,null,null,null,null,null,null,null,null,null,"Eveleth"]
[null,"Everdell",null,null,null,null,null,null,null,null,null,null,null,null,null,null,null,null,null,null,null,null,null,null,null,null,null,null,null,null,null,null,null,null,null,null,null,null,null,null,null,null,null,"Everdell"]
[null,"Evergreen Township",null,null,null,null,null,null,null,null,null,null,null,null,null,null,null,null,null,null,null,null,null,null,null,null,null,null,null,null,null,null,null,null,null,null,null,null,null,null,null,null,null,"Evergreen Township"]
[null,"Excelsior",null,null,null,null,null,null,null,null,null,null,null,null,null,null,null,null,null,null,null,null,null,null,null,null,null,null,null,null,null,null,null,null,null,null,null,null,null,null,null,null,null,"Excelsior"]
[null,"Eyota Township",null,null,null,null,null,null,null,null,null,null,null,null,null,null,null,null,null,null,null,null,null,null,null,null,null,null,null,null,null,null,null,null,null,null,null,null,null,null,null,null,null,"Eyota Township"]
[null,"Fair Haven",null,null,null,null,null,null,null,null,null,null,null,null,null,null,null,null,null,null,null,null,null,null,null,null,null,null,null,null,null,null,null,null,null,null,null,null,null,null,null,null,null,"Fair Haven"]
[null,"Fairfax Township",null,null,null,null,null,null,null,null,null,null,null,null,null,null,null,null,null,null,null,null,null,null,null,null,null,null,null,null,null,null,null,null,null,null,null,null,null,null,null,null,null,"Fairfax Township"]
[null,"Fairland",null,null,null,null,null,null,null,null,null,null,null,null,null,null,null,null,null,null,null,null,null,null,null,null,null,null,null,null,null,null,null,null,null,null,null,null,null,null,null,null,null,"Fairland"]
[null,"Fairmont Municipal Airport",null,null,null,null,null,null,null,null,null,null,null,null,null,null,null,null,null,null,null,null,null,null,null,null,null,null,null,null,null,null,null,null,null,null,null,null,null,null,null,null,null,"Fairmont Municipal Airport"]
[null,"Fairmont Township",null,null,null,null,null,null,null,null,null,null,null,null,null,null,null,null,null,null,null,null,null,null,null,null,null,null,null,null,null,null,null,null,null,null,null,null,null,null,null,null,null,"Fairmont Township"]
[null,"Faith",null,null,null,null,null,null,null,null,null,null,null,null,null,null,null,null,null,null,null,null,null,null,null,null,null,null,null,null,null,null,null,null,null,null,null,null,null,null,null,null,null,"Faith"]
[null,"Falls International Airport",null,null,null,null,null,null,null,null,null,null,null,null,null,null,null,null,null,null,null,null,null,null,null,null,null,null,null,null,null,null,null,null,null,null,null,null,null,null,null,null,null,"Falls International Airport"]
[null,"Fanny",null,null,null,null,null,null,null,null,null,null,null,null,null,null,null,null,null,null,null,null,null,null,null,null,null,null,null,null,null,null,null,null,null,null,null,null,null,null,null,null,null,"Fanny"]
[null,"Farley",null,null,null,null,null,null,null,null,null,null,null,null,null,null,null,null,null,null,null,null,null,null,null,null,null,null,null,null,null,null,null,null,null,null,null,null,null,null,null,null,null,"Farley"]
[null,"Farmington",null,null,null,null,null,null,null,null,null,null,null,null,null,null,null,null,null,null,null,null,null,null,null,null,null,null,null,null,null,null,null,null,null,null,null,null,null,null,null,null,null,"Farmington"]
[null,"Farmington Township",null,null,null,null,null,null,null,null,null,null,null,null,null,null,null,null,null,null,null,null,null,null,null,null,null,null,null,null,null,null,null,null,null,null,null,null,null,null,null,null,null,"Farmington Township"]
[null,"Fawn Lake",null,null,null,null,null,null,null,null,null,null,null,null,null,null,null,null,null,null,null,null,null,null,null,null,null,null,null,null,null,null,null,null,null,null,null,null,null,null,null,null,null,"Fawn Lake"]
[null,"Faxon",null,null,null,null,null,null,null,null,null,null,null,null,null,null,null,null,null,null,null,null,null,null,null,null,null,null,null,null,null,null,null,null,null,null,null,null,null,null,null,null,null,"Faxon"]
[null,"Featherstone",null,null,null,null,null,null,null,null,null,null,null,null,null,null,null,null,null,null,null,null,null,null,null,null,null,null,null,null,null,null,null,null,null,null,null,null,null,null,null,null,null,"Featherstone"]
[null,"Felton Township",null,null,null,null,null,null,null,null,null,null,null,null,null,null,null,null,null,null,null,null,null,null,null,null,null,null,null,null,null,null,null,null,null,null,null,null,null,null,null,null,null,"Felton Township"]
[null,"Fergus Falls",null,null,null,null,null,null,null,null,null,null,null,null,null,null,null,null,null,null,null,null,null,null,null,null,null,null,null,null,null,null,null,null,null,null,null,null,null,null,null,null,null,"Fergus Falls"]
[null,"Fermory",null,null,null,null,null,null,null,null,null,null,null,null,null,null,null,null,null,null,null,null,null,null,null,null,null,null,null,null,null,null,null,null,null,null,null,null,null,null,null,null,null,"Fermory"]
[null,"Field",null,null,null,null,null,null,null,null,null,null,null,null,null,null,null,null,null,null,null,null,null,null,null,null,null,null,null,null,null,null,null,null,null,null,null,null,null,null,null,null,null,"Field"]
[null,"Fillmore",null,null,null,null,null,null,null,null,null,null,null,null,null,null,null,null,null,null,null,null,null,null,null,null,null,null,null,null,null,null,null,null,null,null,null,null,null,null,null,null,null,"Fillmore"]
[null,"Fillmore Township",null,null,null,null,null,null,null,null,null,null,null,null,null,null,null,null,null,null,null,null,null,null,null,null,null,null,null,null,null,null,null,null,null,null,null,null,null,null,null,null,null,"Fillmore Township"]
[null,"Finland",null,null,null,null,null,null,null,null,null,null,null,null,null,null,null,null,null,null,null,null,null,null,null,null,null,null,null,null,null,null,null,null,null,null,null,null,null,null,null,null,null,"Finland"]
[null,"Finlayson",null,null,null,null,null,null,null,null,null,null,null,null,null,null,null,null,null,null,null,null,null,null,null,null,null,null,null,null,null,null,null,null,null,null,null,null,null,null,null,null,null,"Finlayson"]
[null,"Fisher Township",null,null,null,null,null,null,null,null,null,null,null,null,null,null,null,null,null,null,null,null,null,null,null,null,null,null,null,null,null,null,null,null,null,null,null,null,null,null,null,null,null,"Fisher Township"]
[null,"Flaming",null,null,null,null,null,null,null,null,null,null,null,null,null,null,null,null,null,null,null,null,null,null,null,null,null,null,null,null,null,null,null,null,null,null,null,null,null,null,null,null,null,"Flaming"]
[null,"Fletcher",null,null,null,null,null,null,null,null,null,null,null,null,null,null,null,null,null,null,null,null,null,null,null,null,null,null,null,null,null,null,null,null,null,null,null,null,null,null,null,null,null,"Fletcher"]
[null,"Floodwood",null,null,null,null,null,null,null,null,null,null,null,null,null,null,null,null,null,null,null,null,null,null,null,null,null,null,null,null,null,null,null,null,null,null,null,null,null,null,null,null,null,"Floodwood"]
[null,"Florence",null,null,null,null,null,null,null,null,null,null,null,null,null,null,null,null,null,null,null,null,null,null,null,null,null,null,null,null,null,null,null,null,null,null,null,null,null,null,null,null,null,"Florence"]
[null,"Florence Township",null,null,null,null,null,null,null,null,null,null,null,null,null,null,null,null,null,null,null,null,null,null,null,null,null,null,null,null,null,null,null,null,null,null,null,null,null,null,null,null,null,"Florence Township"]
[null,"Florida",null,null,null,null,null,null,null,null,null,null,null,null,null,null,null,null,null,null,null,null,null,null,null,null,null,null,null,null,null,null,null,null,null,null,null,null,null,null,null,null,null,"Florida"]
[null,"Folden",null,null,null,null,null,null,null,null,null,null,null,null,null,null,null,null,null,null,null,null,null,null,null,null,null,null,null,null,null,null,null,null,null,null,null,null,null,null,null,null,null,"Folden"]
[null,"Fond du Lac",null,null,null,null,null,null,null,null,null,null,null,null,null,null,null,null,null,null,null,null,null,null,null,null,null,null,null,null,null,null,null,null,null,null,null,null,null,null,null,null,null,"Fond du Lac"]
[null,"Forbes",null,null,null,null,null,null,null,null,null,null,null,null,null,null,null,null,null,null,null,null,null,null,null,null,null,null,null,null,null,null,null,null,null,null,null,null,null,null,null,null,null,"Forbes"]
[null,"Forest",null,null,null,null,null,null,null,null,null,null,null,null,null,null,null,null,null,null,null,null,null,null,null,null,null,null,null,null,null,null,null,null,null,null,null,null,null,null,null,null,null,"Forest"]
[null,"Forest Grove",null,null,null,null,null,null,null,null,null,null,null,null,null,null,null,null,null,null,null,null,null,null,null,null,null,null,null,null,null,null,null,null,null,null,null,null,null,null,null,null,null,"Forest Grove"]
[null,"Forest Mills",null,null,null,null,null,null,null,null,null,null,null,null,null,null,null,null,null,null,null,null,null,null,null,null,null,null,null,null,null,null,null,null,null,null,null,null,null,null,null,null,null,"Forest Mills"]
[null,"Foreston",null,null,null,null,null,null,null,null,null,null,null,null,null,null,null,null,null,null,null,null,null,null,null,null,null,null,null,null,null,null,null,null,null,null,null,null,null,null,null,null,null,"Foreston"]
[null,"Forestville",null,null,null,null,null,null,null,null,null,null,null,null,null,null,null,null,null,null,null,null,null,null,null,null,null,null,null,null,null,null,null,null,null,null,null,null,null,null,null,null,null,"Forestville"]
[null,"Fort Ripley",null,null,null,null,null,null,null,null,null,null,null,null,null,null,null,null,null,null,null,null,null,null,null,null,null,null,null,null,null,null,null,null,null,null,null,null,null,null,null,null,null,"Fort Ripley"]
[null,"Fort Snelling Military Reserva",null,null,null,null,null,null,null,null,null,null,null,null,null,null,null,null,null,null,null,null,null,null,null,null,null,null,null,null,null,null,null,null,null,null,null,null,null,null,null,null,null,"Fort Snelling Military Reserva"]
[null,"Fossum",null,null,null,null,null,null,null,null,null,null,null,null,null,null,null,null,null,null,null,null,null,null,null,null,null,null,null,null,null,null,null,null,null,null,null,null,null,null,null,null,null,"Fossum"]
[null,"Foster",null,null,null,null,null,null,null,null,null,null,null,null,null,null,null,null,null,null,null,null,null,null,null,null,null,null,null,null,null,null,null,null,null,null,null,null,null,null,null,null,null,"Foster"]
[null,"Fountain Township",null,null,null,null,null,null,null,null,null,null,null,null,null,null,null,null,null,null,null,null,null,null,null,null,null,null,null,null,null,null,null,null,null,null,null,null,null,null,null,null,null,"Fountain Township"]
[null,"Fox",null,null,null,null,null,null,null,null,null,null,null,null,null,null,null,null,null,null,null,null,null,null,null,null,null,null,null,null,null,null,null,null,null,null,null,null,null,null,null,null,null,"Fox"]
[null,"Fox Lake",null,null,null,null,null,null,null,null,null,null,null,null,null,null,null,null,null,null,null,null,null,null,null,null,null,null,null,null,null,null,null,null,null,null,null,null,null,null,null,null,null,"Fox Lake"]
[null,"Foxhome Township",null,null,null,null,null,null,null,null,null,null,null,null,null,null,null,null,null,null,null,null,null,null,null,null,null,null,null,null,null,null,null,null,null,null,null,null,null,null,null,null,null,"Foxhome Township"]
[null,"Franconia Township",null,null,null,null,null,null,null,null,null,null,null,null,null,null,null,null,null,null,null,null,null,null,null,null,null,null,null,null,null,null,null,null,null,null,null,null,null,null,null,null,null,"Franconia Township"]
[null,"Franklin",null,null,null,null,null,null,null,null,null,null,null,null,null,null,null,null,null,null,null,null,null,null,null,null,null,null,null,null,null,null,null,null,null,null,null,null,null,null,null,null,null,"Franklin"]
[null,"Fraser",null,null,null,null,null,null,null,null,null,null,null,null,null,null,null,null,null,null,null,null,null,null,null,null,null,null,null,null,null,null,null,null,null,null,null,null,null,null,null,null,null,"Fraser"]
[null,"Freeborn Township",null,null,null,null,null,null,null,null,null,null,null,null,null,null,null,null,null,null,null,null,null,null,null,null,null,null,null,null,null,null,null,null,null,null,null,null,null,null,null,null,null,"Freeborn Township"]
[null,"Freedom",null,null,null,null,null,null,null,null,null,null,null,null,null,null,null,null,null,null,null,null,null,null,null,null,null,null,null,null,null,null,null,null,null,null,null,null,null,null,null,null,null,"Freedom"]
[null,"Freeman Township",null,null,null,null,null,null,null,null,null,null,null,null,null,null,null,null,null,null,null,null,null,null,null,null,null,null,null,null,null,null,null,null,null,null,null,null,null,null,null,null,null,"Freeman Township"]
[null,"Freiheit Spring",null,null,null,null,null,null,null,null,null,null,null,null,null,null,null,null,null,null,null,null,null,null,null,null,null,null,null,null,null,null,null,null,null,null,null,null,null,null,null,null,null,"Freiheit Spring"]
[null,"Fremont",null,null,null,null,null,null,null,null,null,null,null,null,null,null,null,null,null,null,null,null,null,null,null,null,null,null,null,null,null,null,null,null,null,null,null,null,null,null,null,null,null,"Fremont"]
[null,"French Lake Township",null,null,null,null,null,null,null,null,null,null,null,null,null,null,null,null,null,null,null,null,null,null,null,null,null,null,null,null,null,null,null,null,null,null,null,null,null,null,null,null,null,"French Lake Township"]
[null,"Friberg",null,null,null,null,null,null,null,null,null,null,null,null,null,null,null,null,null,null,null,null,null,null,null,null,null,null,null,null,null,null,null,null,null,null,null,null,null,null,null,null,null,"Friberg"]
[null,"Friesland",null,null,null,null,null,null,null,null,null,null,null,null,null,null,null,null,null,null,null,null,null,null,null,null,null,null,null,null,null,null,null,null,null,null,null,null,null,null,null,null,null,"Friesland"]
[null,"Frohn",null,null,null,null,null,null,null,null,null,null,null,null,null,null,null,null,null,null,null,null,null,null,null,null,null,null,null,null,null,null,null,null,null,null,null,null,null,null,null,null,null,"Frohn"]
[null,"Fruitville",null,null,null,null,null,null,null,null,null,null,null,null,null,null,null,null,null,null,null,null,null,null,null,null,null,null,null,null,null,null,null,null,null,null,null,null,null,null,null,null,null,"Fruitville"]
[null,"Gail Lake",null,null,null,null,null,null,null,null,null,null,null,null,null,null,null,null,null,null,null,null,null,null,null,null,null,null,null,null,null,null,null,null,null,null,null,null,null,null,null,null,null,"Gail Lake"]
[null,"Galena",null,null,null,null,null,null,null,null,null,null,null,null,null,null,null,null,null,null,null,null,null,null,null,null,null,null,null,null,null,null,null,null,null,null,null,null,null,null,null,null,null,"Galena"]
[null,"Garden City",null,null,null,null,null,null,null,null,null,null,null,null,null,null,null,null,null,null,null,null,null,null,null,null,null,null,null,null,null,null,null,null,null,null,null,null,null,null,null,null,null,"Garden City"]
[null,"Garnes",null,null,null,null,null,null,null,null,null,null,null,null,null,null,null,null,null,null,null,null,null,null,null,null,null,null,null,null,null,null,null,null,null,null,null,null,null,null,null,null,null,"Garnes"]
[null,"Garrison Township",null,null,null,null,null,null,null,null,null,null,null,null,null,null,null,null,null,null,null,null,null,null,null,null,null,null,null,null,null,null,null,null,null,null,null,null,null,null,null,null,null,"Garrison Township"]
[null,"Gatzke",null,null,null,null,null,null,null,null,null,null,null,null,null,null,null,null,null,null,null,null,null,null,null,null,null,null,null,null,null,null,null,null,null,null,null,null,null,null,null,null,null,"Gatzke"]
[null,"Geneva",null,null,null,null,null,null,null,null,null,null,null,null,null,null,null,null,null,null,null,null,null,null,null,null,null,null,null,null,null,null,null,null,null,null,null,null,null,null,null,null,null,"Geneva"]
[null,"Genoa",null,null,null,null,null,null,null,null,null,null,null,null,null,null,null,null,null,null,null,null,null,null,null,null,null,null,null,null,null,null,null,null,null,null,null,null,null,null,null,null,null,"Genoa"]
[null,"Genola",null,null,null,null,null,null,null,null,null,null,null,null,null,null,null,null,null,null,null,null,null,null,null,null,null,null,null,null,null,null,null,null,null,null,null,null,null,null,null,null,null,"Genola"]
[null,"Gentilly Township",null,null,null,null,null,null,null,null,null,null,null,null,null,null,null,null,null,null,null,null,null,null,null,null,null,null,null,null,null,null,null,null,null,null,null,null,null,null,null,null,null,"Gentilly Township"]
[null,"Georgeville",null,null,null,null,null,null,null,null,null,null,null,null,null,null,null,null,null,null,null,null,null,null,null,null,null,null,null,null,null,null,null,null,null,null,null,null,null,null,null,null,null,"Georgeville"]
[null,"Getty",null,null,null,null,null,null,null,null,null,null,null,null,null,null,null,null,null,null,null,null,null,null,null,null,null,null,null,null,null,null,null,null,null,null,null,null,null,null,null,null,null,"Getty"]
[null,"Ghent",null,null,null,null,null,null,null,null,null,null,null,null,null,null,null,null,null,null,null,null,null,null,null,null,null,null,null,null,null,null,null,null,null,null,null,null,null,null,null,null,null,"Ghent"]
[null,"Gilbert",null,null,null,null,null,null,null,null,null,null,null,null,null,null,null,null,null,null,null,null,null,null,null,null,null,null,null,null,null,null,null,null,null,null,null,null,null,null,null,null,null,"Gilbert"]
[null,"Gilfillan",null,null,null,null,null,null,null,null,null,null,null,null,null,null,null,null,null,null,null,null,null,null,null,null,null,null,null,null,null,null,null,null,null,null,null,null,null,null,null,null,null,"Gilfillan"]
[null,"Gilmanton",null,null,null,null,null,null,null,null,null,null,null,null,null,null,null,null,null,null,null,null,null,null,null,null,null,null,null,null,null,null,null,null,null,null,null,null,null,null,null,null,null,"Gilmanton"]
[null,"Girard",null,null,null,null,null,null,null,null,null,null,null,null,null,null,null,null,null,null,null,null,null,null,null,null,null,null,null,null,null,null,null,null,null,null,null,null,null,null,null,null,null,"Girard"]
[null,"Glasgow",null,null,null,null,null,null,null,null,null,null,null,null,null,null,null,null,null,null,null,null,null,null,null,null,null,null,null,null,null,null,null,null,null,null,null,null,null,null,null,null,null,"Glasgow"]
[null,"Glen Township",null,null,null,null,null,null,null,null,null,null,null,null,null,null,null,null,null,null,null,null,null,null,null,null,null,null,null,null,null,null,null,null,null,null,null,null,null,null,null,null,null,"Glen Township"]
[null,"Glendorado",null,null,null,null,null,null,null,null,null,null,null,null,null,null,null,null,null,null,null,null,null,null,null,null,null,null,null,null,null,null,null,null,null,null,null,null,null,null,null,null,null,"Glendorado"]
[null,"Glenville",null,null,null,null,null,null,null,null,null,null,null,null,null,null,null,null,null,null,null,null,null,null,null,null,null,null,null,null,null,null,null,null,null,null,null,null,null,null,null,null,null,"Glenville"]
[null,"Glenwood Township",null,null,null,null,null,null,null,null,null,null,null,null,null,null,null,null,null,null,null,null,null,null,null,null,null,null,null,null,null,null,null,null,null,null,null,null,null,null,null,null,null,"Glenwood Township"]
[null,"Glyndon",null,null,null,null,null,null,null,null,null,null,null,null,null,null,null,null,null,null,null,null,null,null,null,null,null,null,null,null,null,null,null,null,null,null,null,null,null,null,null,null,null,"Glyndon"]
[null,"Godahl",null,null,null,null,null,null,null,null,null,null,null,null,null,null,null,null,null,null,null,null,null,null,null,null,null,null,null,null,null,null,null,null,null,null,null,null,null,null,null,null,null,"Godahl"]
[null,"Godfrey",null,null,null,null,null,null,null,null,null,null,null,null,null,null,null,null,null,null,null,null,null,null,null,null,null,null,null,null,null,null,null,null,null,null,null,null,null,null,null,null,null,"Godfrey"]
[null,"Golden Hills",null,null,null,null,null,null,null,null,null,null,null,null,null,null,null,null,null,null,null,null,null,null,null,null,null,null,null,null,null,null,null,null,null,null,null,null,null,null,null,null,null,"Golden Hills"]
[null,"Goldenrod",null,null,null,null,null,null,null,null,null,null,null,null,null,null,null,null,null,null,null,null,null,null,null,null,null,null,null,null,null,null,null,null,null,null,null,null,null,null,null,null,null,"Goldenrod"]
[null,"Goodhue",null,null,null,null,null,null,null,null,null,null,null,null,null,null,null,null,null,null,null,null,null,null,null,null,null,null,null,null,null,null,null,null,null,null,null,null,null,null,null,null,null,"Goodhue"]
[null,"Goodland Township",null,null,null,null,null,null,null,null,null,null,null,null,null,null,null,null,null,null,null,null,null,null,null,null,null,null,null,null,null,null,null,null,null,null,null,null,null,null,null,null,null,"Goodland Township"]
[null,"Goodview",null,null,null,null,null,null,null,null,null,null,null,null,null,null,null,null,null,null,null,null,null,null,null,null,null,null,null,null,null,null,null,null,null,null,null,null,null,null,null,null,null,"Goodview"]
[null,"Gordon Township",null,null,null,null,null,null,null,null,null,null,null,null,null,null,null,null,null,null,null,null,null,null,null,null,null,null,null,null,null,null,null,null,null,null,null,null,null,null,null,null,null,"Gordon Township"]
[null,"Gorton",null,null,null,null,null,null,null,null,null,null,null,null,null,null,null,null,null,null,null,null,null,null,null,null,null,null,null,null,null,null,null,null,null,null,null,null,null,null,null,null,null,"Gorton"]
[null,"Gotha",null,null,null,null,null,null,null,null,null,null,null,null,null,null,null,null,null,null,null,null,null,null,null,null,null,null,null,null,null,null,null,null,null,null,null,null,null,null,null,null,null,"Gotha"]
[null,"Grace",null,null,null,null,null,null,null,null,null,null,null,null,null,null,null,null,null,null,null,null,null,null,null,null,null,null,null,null,null,null,null,null,null,null,null,null,null,null,null,null,null,"Grace"]
[null,"Graceville",null,null,null,null,null,null,null,null,null,null,null,null,null,null,null,null,null,null,null,null,null,null,null,null,null,null,null,null,null,null,null,null,null,null,null,null,null,null,null,null,null,"Graceville"]
[null,"Grafton",null,null,null,null,null,null,null,null,null,null,null,null,null,null,null,null,null,null,null,null,null,null,null,null,null,null,null,null,null,null,null,null,null,null,null,null,null,null,null,null,null,"Grafton"]
[null,"Grainwood",null,null,null,null,null,null,null,null,null,null,null,null,null,null,null,null,null,null,null,null,null,null,null,null,null,null,null,null,null,null,null,null,null,null,null,null,null,null,null,null,null,"Grainwood"]
[null,"Grand Forks",null,null,null,null,null,null,null,null,null,null,null,null,null,null,null,null,null,null,null,null,null,null,null,null,null,null,null,null,null,null,null,null,null,null,null,null,null,null,null,null,null,"Grand Forks"]
[null,"Grand Meadow",null,null,null,null,null,null,null,null,null,null,null,null,null,null,null,null,null,null,null,null,null,null,null,null,null,null,null,null,null,null,null,null,null,null,null,null,null,null,null,null,null,"Grand Meadow"]
[null,"Grand Plain",null,null,null,null,null,null,null,null,null,null,null,null,null,null,null,null,null,null,null,null,null,null,null,null,null,null,null,null,null,null,null,null,null,null,null,null,null,null,null,null,null,"Grand Plain"]
[null,"Grand Portage",null,null,null,null,null,null,null,null,null,null,null,null,null,null,null,null,null,null,null,null,null,null,null,null,null,null,null,null,null,null,null,null,null,null,null,null,null,null,null,null,null,"Grand Portage"]
[null,"Grand Prairie",null,null,null,null,null,null,null,null,null,null,null,null,null,null,null,null,null,null,null,null,null,null,null,null,null,null,null,null,null,null,null,null,null,null,null,null,null,null,null,null,null,"Grand Prairie"]
[null,"Grand View Heights",null,null,null,null,null,null,null,null,null,null,null,null,null,null,null,null,null,null,null,null,null,null,null,null,null,null,null,null,null,null,null,null,null,null,null,null,null,null,null,null,null,"Grand View Heights"]
[null,"Granger",null,null,null,null,null,null,null,null,null,null,null,null,null,null,null,null,null,null,null,null,null,null,null,null,null,null,null,null,null,null,null,null,null,null,null,null,null,null,null,null,null,"Granger"]
[null,"Granite Falls",null,null,null,null,null,null,null,null,null,null,null,null,null,null,null,null,null,null,null,null,null,null,null,null,null,null,null,null,null,null,null,null,null,null,null,null,null,null,null,null,null,"Granite Falls"]
[null,"Grant",null,null,null,null,null,null,null,null,null,null,null,null,null,null,null,null,null,null,null,null,null,null,null,null,null,null,null,null,null,null,null,null,null,null,null,null,null,null,null,null,null,"Grant"]
[null,"Granville",null,null,null,null,null,null,null,null,null,null,null,null,null,null,null,null,null,null,null,null,null,null,null,null,null,null,null,null,null,null,null,null,null,null,null,null,null,null,null,null,null,"Granville"]
[null,"Grasston",null,null,null,null,null,null,null,null,null,null,null,null,null,null,null,null,null,null,null,null,null,null,null,null,null,null,null,null,null,null,null,null,null,null,null,null,null,null,null,null,null,"Grasston"]
[null,"Grattan",null,null,null,null,null,null,null,null,null,null,null,null,null,null,null,null,null,null,null,null,null,null,null,null,null,null,null,null,null,null,null,null,null,null,null,null,null,null,null,null,null,"Grattan"]
[null,"Greaney",null,null,null,null,null,null,null,null,null,null,null,null,null,null,null,null,null,null,null,null,null,null,null,null,null,null,null,null,null,null,null,null,null,null,null,null,null,null,null,null,null,"Greaney"]
[null,"Great Scott",null,null,null,null,null,null,null,null,null,null,null,null,null,null,null,null,null,null,null,null,null,null,null,null,null,null,null,null,null,null,null,null,null,null,null,null,null,null,null,null,null,"Great Scott"]
[null,"Green Isle",null,null,null,null,null,null,null,null,null,null,null,null,null,null,null,null,null,null,null,null,null,null,null,null,null,null,null,null,null,null,null,null,null,null,null,null,null,null,null,null,null,"Green Isle"]
[null,"Green Meadow",null,null,null,null,null,null,null,null,null,null,null,null,null,null,null,null,null,null,null,null,null,null,null,null,null,null,null,null,null,null,null,null,null,null,null,null,null,null,null,null,null,"Green Meadow"]
[null,"Greenbush",null,null,null,null,null,null,null,null,null,null,null,null,null,null,null,null,null,null,null,null,null,null,null,null,null,null,null,null,null,null,null,null,null,null,null,null,null,null,null,null,null,"Greenbush"]
[null,"Greenfield Township",null,null,null,null,null,null,null,null,null,null,null,null,null,null,null,null,null,null,null,null,null,null,null,null,null,null,null,null,null,null,null,null,null,null,null,null,null,null,null,null,null,"Greenfield Township"]
[null,"Greenleaf",null,null,null,null,null,null,null,null,null,null,null,null,null,null,null,null,null,null,null,null,null,null,null,null,null,null,null,null,null,null,null,null,null,null,null,null,null,null,null,null,null,"Greenleaf"]
[null,"Greenleaf Township",null,null,null,null,null,null,null,null,null,null,null,null,null,null,null,null,null,null,null,null,null,null,null,null,null,null,null,null,null,null,null,null,null,null,null,null,null,null,null,null,null,"Greenleaf Township"]
[null,"Greenview",null,null,null,null,null,null,null,null,null,null,null,null,null,null,null,null,null,null,null,null,null,null,null,null,null,null,null,null,null,null,null,null,null,null,null,null,null,null,null,null,null,"Greenview"]
[null,"Greenwood Junction",null,null,null,null,null,null,null,null,null,null,null,null,null,null,null,null,null,null,null,null,null,null,null,null,null,null,null,null,null,null,null,null,null,null,null,null,null,null,null,null,null,"Greenwood Junction"]
[null,"Gregory Township",null,null,null,null,null,null,null,null,null,null,null,null,null,null,null,null,null,null,null,null,null,null,null,null,null,null,null,null,null,null,null,null,null,null,null,null,null,null,null,null,null,"Gregory Township"]
[null,"Grey Eagle",null,null,null,null,null,null,null,null,null,null,null,null,null,null,null,null,null,null,null,null,null,null,null,null,null,null,null,null,null,null,null,null,null,null,null,null,null,null,null,null,null,"Grey Eagle"]
[null,"Groningen",null,null,null,null,null,null,null,null,null,null,null,null,null,null,null,null,null,null,null,null,null,null,null,null,null,null,null,null,null,null,null,null,null,null,null,null,null,null,null,null,null,"Groningen"]
[null,"Grove Lake",null,null,null,null,null,null,null,null,null,null,null,null,null,null,null,null,null,null,null,null,null,null,null,null,null,null,null,null,null,null,null,null,null,null,null,null,null,null,null,null,null,"Grove Lake"]
[null,"Grove Park-Tilden",null,null,null,null,null,null,null,null,null,null,null,null,null,null,null,null,null,null,null,null,null,null,null,null,null,null,null,null,null,null,null,null,null,null,null,null,null,null,null,null,null,"Grove Park-Tilden"]
[null,"Groveland",null,null,null,null,null,null,null,null,null,null,null,null,null,null,null,null,null,null,null,null,null,null,null,null,null,null,null,null,null,null,null,null,null,null,null,null,null,null,null,null,null,"Groveland"]
[null,"Gully",null,null,null,null,null,null,null,null,null,null,null,null,null,null,null,null,null,null,null,null,null,null,null,null,null,null,null,null,null,null,null,null,null,null,null,null,null,null,null,null,null,"Gully"]
[null,"Gunn",null,null,null,null,null,null,null,null,null,null,null,null,null,null,null,null,null,null,null,null,null,null,null,null,null,null,null,null,null,null,null,null,null,null,null,null,null,null,null,null,null,"Gunn"]
[null,"Guthrie Township",null,null,null,null,null,null,null,null,null,null,null,null,null,null,null,null,null,null,null,null,null,null,null,null,null,null,null,null,null,null,null,null,null,null,null,null,null,null,null,null,null,"Guthrie Township"]
[null,"Hader",null,null,null,null,null,null,null,null,null,null,null,null,null,null,null,null,null,null,null,null,null,null,null,null,null,null,null,null,null,null,null,null,null,null,null,null,null,null,null,null,null,"Hader"]
[null,"Hagan",null,null,null,null,null,null,null,null,null,null,null,null,null,null,null,null,null,null,null,null,null,null,null,null,null,null,null,null,null,null,null,null,null,null,null,null,null,null,null,null,null,"Hagan"]
[null,"Hagen",null,null,null,null,null,null,null,null,null,null,null,null,null,null,null,null,null,null,null,null,null,null,null,null,null,null,null,null,null,null,null,null,null,null,null,null,null,null,null,null,null,"Hagen"]
[null,"Hale",null,null,null,null,null,null,null,null,null,null,null,null,null,null,null,null,null,null,null,null,null,null,null,null,null,null,null,null,null,null,null,null,null,null,null,null,null,null,null,null,null,"Hale"]
[null,"Hallock Township",null,null,null,null,null,null,null,null,null,null,null,null,null,null,null,null,null,null,null,null,null,null,null,null,null,null,null,null,null,null,null,null,null,null,null,null,null,null,null,null,null,"Hallock Township"]
[null,"Halstad Township",null,null,null,null,null,null,null,null,null,null,null,null,null,null,null,null,null,null,null,null,null,null,null,null,null,null,null,null,null,null,null,null,null,null,null,null,null,null,null,null,null,"Halstad Township"]
[null,"Hamden",null,null,null,null,null,null,null,null,null,null,null,null,null,null,null,null,null,null,null,null,null,null,null,null,null,null,null,null,null,null,null,null,null,null,null,null,null,null,null,null,null,"Hamden"]
[null,"Hamlin",null,null,null,null,null,null,null,null,null,null,null,null,null,null,null,null,null,null,null,null,null,null,null,null,null,null,null,null,null,null,null,null,null,null,null,null,null,null,null,null,null,"Hamlin"]
[null,"Hammond",null,null,null,null,null,null,null,null,null,null,null,null,null,null,null,null,null,null,null,null,null,null,null,null,null,null,null,null,null,null,null,null,null,null,null,null,null,null,null,null,null,"Hammond"]
[null,"Hampton Township",null,null,null,null,null,null,null,null,null,null,null,null,null,null,null,null,null,null,null,null,null,null,null,null,null,null,null,null,null,null,null,null,null,null,null,null,null,null,null,null,null,"Hampton Township"]
[null,"Hancock Township",null,null,null,null,null,null,null,null,null,null,null,null,null,null,null,null,null,null,null,null,null,null,null,null,null,null,null,null,null,null,null,null,null,null,null,null,null,null,null,null,null,"Hancock Township"]
[null,"Hangaard",null,null,null,null,null,null,null,null,null,null,null,null,null,null,null,null,null,null,null,null,null,null,null,null,null,null,null,null,null,null,null,null,null,null,null,null,null,null,null,null,null,"Hangaard"]
[null,"Hanska",null,null,null,null,null,null,null,null,null,null,null,null,null,null,null,null,null,null,null,null,null,null,null,null,null,null,null,null,null,null,null,null,null,null,null,null,null,null,null,null,null,"Hanska"]
[null,"Hantho",null,null,null,null,null,null,null,null,null,null,null,null,null,null,null,null,null,null,null,null,null,null,null,null,null,null,null,null,null,null,null,null,null,null,null,null,null,null,null,null,null,"Hantho"]
[null,"Harlis",null,null,null,null,null,null,null,null,null,null,null,null,null,null,null,null,null,null,null,null,null,null,null,null,null,null,null,null,null,null,null,null,null,null,null,null,null,null,null,null,null,"Harlis"]
[null,"Harmony Township",null,null,null,null,null,null,null,null,null,null,null,null,null,null,null,null,null,null,null,null,null,null,null,null,null,null,null,null,null,null,null,null,null,null,null,null,null,null,null,null,null,"Harmony Township"]
[null,"Harris",null,null,null,null,null,null,null,null,null,null,null,null,null,null,null,null,null,null,null,null,null,null,null,null,null,null,null,null,null,null,null,null,null,null,null,null,null,null,null,null,null,"Harris"]
[null,"Hart",null,null,null,null,null,null,null,null,null,null,null,null,null,null,null,null,null,null,null,null,null,null,null,null,null,null,null,null,null,null,null,null,null,null,null,null,null,null,null,null,null,"Hart"]
[null,"Hart Lake",null,null,null,null,null,null,null,null,null,null,null,null,null,null,null,null,null,null,null,null,null,null,null,null,null,null,null,null,null,null,null,null,null,null,null,null,null,null,null,null,null,"Hart Lake"]
[null,"Hartford",null,null,null,null,null,null,null,null,null,null,null,null,null,null,null,null,null,null,null,null,null,null,null,null,null,null,null,null,null,null,null,null,null,null,null,null,null,null,null,null,null,"Hartford"]
[null,"Hartley Spur",null,null,null,null,null,null,null,null,null,null,null,null,null,null,null,null,null,null,null,null,null,null,null,null,null,null,null,null,null,null,null,null,null,null,null,null,null,null,null,null,null,"Hartley Spur"]
[null,"Hassan Valley",null,null,null,null,null,null,null,null,null,null,null,null,null,null,null,null,null,null,null,null,null,null,null,null,null,null,null,null,null,null,null,null,null,null,null,null,null,null,null,null,null,"Hassan Valley"]
[null,"Hatfield",null,null,null,null,null,null,null,null,null,null,null,null,null,null,null,null,null,null,null,null,null,null,null,null,null,null,null,null,null,null,null,null,null,null,null,null,null,null,null,null,null,"Hatfield"]
[null,"Havana",null,null,null,null,null,null,null,null,null,null,null,null,null,null,null,null,null,null,null,null,null,null,null,null,null,null,null,null,null,null,null,null,null,null,null,null,null,null,null,null,null,"Havana"]
[null,"Haven",null,null,null,null,null,null,null,null,null,null,null,null,null,null,null,null,null,null,null,null,null,null,null,null,null,null,null,null,null,null,null,null,null,null,null,null,null,null,null,null,null,"Haven"]
[null,"Hawk Creek",null,null,null,null,null,null,null,null,null,null,null,null,null,null,null,null,null,null,null,null,null,null,null,null,null,null,null,null,null,null,null,null,null,null,null,null,null,null,null,null,null,"Hawk Creek"]
[null,"Hay Brook",null,null,null,null,null,null,null,null,null,null,null,null,null,null,null,null,null,null,null,null,null,null,null,null,null,null,null,null,null,null,null,null,null,null,null,null,null,null,null,null,null,"Hay Brook"]
[null,"Hay Creek",null,null,null,null,null,null,null,null,null,null,null,null,null,null,null,null,null,null,null,null,null,null,null,null,null,null,null,null,null,null,null,null,null,null,null,null,null,null,null,null,null,"Hay Creek"]
[null,"Haydenville",null,null,null,null,null,null,null,null,null,null,null,null,null,null,null,null,null,null,null,null,null,null,null,null,null,null,null,null,null,null,null,null,null,null,null,null,null,null,null,null,null,"Haydenville"]
[null,"Hayfield",null,null,null,null,null,null,null,null,null,null,null,null,null,null,null,null,null,null,null,null,null,null,null,null,null,null,null,null,null,null,null,null,null,null,null,null,null,null,null,null,null,"Hayfield"]
[null,"Hayward",null,null,null,null,null,null,null,null,null,null,null,null,null,null,null,null,null,null,null,null,null,null,null,null,null,null,null,null,null,null,null,null,null,null,null,null,null,null,null,null,null,"Hayward"]
[null,"Hazel Park",null,null,null,null,null,null,null,null,null,null,null,null,null,null,null,null,null,null,null,null,null,null,null,null,null,null,null,null,null,null,null,null,null,null,null,null,null,null,null,null,null,"Hazel Park"]
[null,"Hazelton",null,null,null,null,null,null,null,null,null,null,null,null,null,null,null,null,null,null,null,null,null,null,null,null,null,null,null,null,null,null,null,null,null,null,null,null,null,null,null,null,null,"Hazelton"]
[null,"Hazelwood",null,null,null,null,null,null,null,null,null,null,null,null,null,null,null,null,null,null,null,null,null,null,null,null,null,null,null,null,null,null,null,null,null,null,null,null,null,null,null,null,null,"Hazelwood"]
[null,"Hector Township",null,null,null,null,null,null,null,null,null,null,null,null,null,null,null,null,null,null,null,null,null,null,null,null,null,null,null,null,null,null,null,null,null,null,null,null,null,null,null,null,null,"Hector Township"]
[null,"Hegbert",null,null,null,null,null,null,null,null,null,null,null,null,null,null,null,null,null,null,null,null,null,null,null,null,null,null,null,null,null,null,null,null,null,null,null,null,null,null,null,null,null,"Hegbert"]
[null,"Heidelberg",null,null,null,null,null,null,null,null,null,null,null,null,null,null,null,null,null,null,null,null,null,null,null,null,null,null,null,null,null,null,null,null,null,null,null,null,null,null,null,null,null,"Heidelberg"]
[null,"Heinola",null,null,null,null,null,null,null,null,null,null,null,null,null,null,null,null,null,null,null,null,null,null,null,null,null,null,null,null,null,null,null,null,null,null,null,null,null,null,null,null,null,"Heinola"]
[null,"Helen",null,null,null,null,null,null,null,null,null,null,null,null,null,null,null,null,null,null,null,null,null,null,null,null,null,null,null,null,null,null,null,null,null,null,null,null,null,null,null,null,null,"Helen"]
[null,"Helgeland",null,null,null,null,null,null,null,null,null,null,null,null,null,null,null,null,null,null,null,null,null,null,null,null,null,null,null,null,null,null,null,null,null,null,null,null,null,null,null,null,null,"Helgeland"]
[null,"Hendricks Township",null,null,null,null,null,null,null,null,null,null,null,null,null,null,null,null,null,null,null,null,null,null,null,null,null,null,null,null,null,null,null,null,null,null,null,null,null,null,null,null,null,"Hendricks Township"]
[null,"Hendrum Township",null,null,null,null,null,null,null,null,null,null,null,null,null,null,null,null,null,null,null,null,null,null,null,null,null,null,null,null,null,null,null,null,null,null,null,null,null,null,null,null,null,"Hendrum Township"]
[null,"Henrietta",null,null,null,null,null,null,null,null,null,null,null,null,null,null,null,null,null,null,null,null,null,null,null,null,null,null,null,null,null,null,null,null,null,null,null,null,null,null,null,null,null,"Henrietta"]
[null,"Henrytown",null,null,null,null,null,null,null,null,null,null,null,null,null,null,null,null,null,null,null,null,null,null,null,null,null,null,null,null,null,null,null,null,null,null,null,null,null,null,null,null,null,"Henrytown"]
[null,"Henryville",null,null,null,null,null,null,null,null,null,null,null,null,null,null,null,null,null,null,null,null,null,null,null,null,null,null,null,null,null,null,null,null,null,null,null,null,null,null,null,null,null,"Henryville"]
[null,"Hermantown",null,null,null,null,null,null,null,null,null,null,null,null,null,null,null,null,null,null,null,null,null,null,null,null,null,null,null,null,null,null,null,null,null,null,null,null,null,null,null,null,null,"Hermantown"]
[null,"Hersey",null,null,null,null,null,null,null,null,null,null,null,null,null,null,null,null,null,null,null,null,null,null,null,null,null,null,null,null,null,null,null,null,null,null,null,null,null,null,null,null,null,"Hersey"]
[null,"Hibbing",null,null,null,null,null,null,null,null,null,null,null,null,null,null,null,null,null,null,null,null,null,null,null,null,null,null,null,null,null,null,null,null,null,null,null,null,null,null,null,null,null,"Hibbing"]
[null,"Hidden Valley",null,null,null,null,null,null,null,null,null,null,null,null,null,null,null,null,null,null,null,null,null,null,null,null,null,null,null,null,null,null,null,null,null,null,null,null,null,null,null,null,null,"Hidden Valley"]
[null,"High Landing",null,null,null,null,null,null,null,null,null,null,null,null,null,null,null,null,null,null,null,null,null,null,null,null,null,null,null,null,null,null,null,null,null,null,null,null,null,null,null,null,null,"High Landing"]
[null,"Highland Park",null,null,null,null,null,null,null,null,null,null,null,null,null,null,null,null,null,null,null,null,null,null,null,null,null,null,null,null,null,null,null,null,null,null,null,null,null,null,null,null,null,"Highland Park"]
[null,"Highland Township",null,null,null,null,null,null,null,null,null,null,null,null,null,null,null,null,null,null,null,null,null,null,null,null,null,null,null,null,null,null,null,null,null,null,null,null,null,null,null,null,null,"Highland Township"]
[null,"Highwood",null,null,null,null,null,null,null,null,null,null,null,null,null,null,null,null,null,null,null,null,null,null,null,null,null,null,null,null,null,null,null,null,null,null,null,null,null,null,null,null,null,"Highwood"]
[null,"Hill River",null,null,null,null,null,null,null,null,null,null,null,null,null,null,null,null,null,null,null,null,null,null,null,null,null,null,null,null,null,null,null,null,null,null,null,null,null,null,null,null,null,"Hill River"]
[null,"Hillman Township",null,null,null,null,null,null,null,null,null,null,null,null,null,null,null,null,null,null,null,null,null,null,null,null,null,null,null,null,null,null,null,null,null,null,null,null,null,null,null,null,null,"Hillman Township"]
[null,"Hillside",null,null,null,null,null,null,null,null,null,null,null,null,null,null,null,null,null,null,null,null,null,null,null,null,null,null,null,null,null,null,null,null,null,null,null,null,null,null,null,null,null,"Hillside"]
[null,"Hinckley Township",null,null,null,null,null,null,null,null,null,null,null,null,null,null,null,null,null,null,null,null,null,null,null,null,null,null,null,null,null,null,null,null,null,null,null,null,null,null,null,null,null,"Hinckley Township"]
[null,"Hinsdale",null,null,null,null,null,null,null,null,null,null,null,null,null,null,null,null,null,null,null,null,null,null,null,null,null,null,null,null,null,null,null,null,null,null,null,null,null,null,null,null,null,"Hinsdale"]
[null,"Hiram",null,null,null,null,null,null,null,null,null,null,null,null,null,null,null,null,null,null,null,null,null,null,null,null,null,null,null,null,null,null,null,null,null,null,null,null,null,null,null,null,null,"Hiram"]
[null,"Hodges",null,null,null,null,null,null,null,null,null,null,null,null,null,null,null,null,null,null,null,null,null,null,null,null,null,null,null,null,null,null,null,null,null,null,null,null,null,null,null,null,null,"Hodges"]
[null,"Hoff",null,null,null,null,null,null,null,null,null,null,null,null,null,null,null,null,null,null,null,null,null,null,null,null,null,null,null,null,null,null,null,null,null,null,null,null,null,null,null,null,null,"Hoff"]
[null,"Hokah Township",null,null,null,null,null,null,null,null,null,null,null,null,null,null,null,null,null,null,null,null,null,null,null,null,null,null,null,null,null,null,null,null,null,null,null,null,null,null,null,null,null,"Hokah Township"]
[null,"Holdingford",null,null,null,null,null,null,null,null,null,null,null,null,null,null,null,null,null,null,null,null,null,null,null,null,null,null,null,null,null,null,null,null,null,null,null,null,null,null,null,null,null,"Holdingford"]
[null,"Hollandale",null,null,null,null,null,null,null,null,null,null,null,null,null,null,null,null,null,null,null,null,null,null,null,null,null,null,null,null,null,null,null,null,null,null,null,null,null,null,null,null,null,"Hollandale"]
[null,"Holloway",null,null,null,null,null,null,null,null,null,null,null,null,null,null,null,null,null,null,null,null,null,null,null,null,null,null,null,null,null,null,null,null,null,null,null,null,null,null,null,null,null,"Holloway"]
[null,"Holman",null,null,null,null,null,null,null,null,null,null,null,null,null,null,null,null,null,null,null,null,null,null,null,null,null,null,null,null,null,null,null,null,null,null,null,null,null,null,null,null,null,"Holman"]
[null,"Holman Junction",null,null,null,null,null,null,null,null,null,null,null,null,null,null,null,null,null,null,null,null,null,null,null,null,null,null,null,null,null,null,null,null,null,null,null,null,null,null,null,null,null,"Holman Junction"]
[null,"Holmesville",null,null,null,null,null,null,null,null,null,null,null,null,null,null,null,null,null,null,null,null,null,null,null,null,null,null,null,null,null,null,null,null,null,null,null,null,null,null,null,null,null,"Holmesville"]
[null,"Holt Township",null,null,null,null,null,null,null,null,null,null,null,null,null,null,null,null,null,null,null,null,null,null,null,null,null,null,null,null,null,null,null,null,null,null,null,null,null,null,null,null,null,"Holt Township"]
[null,"Home",null,null,null,null,null,null,null,null,null,null,null,null,null,null,null,null,null,null,null,null,null,null,null,null,null,null,null,null,null,null,null,null,null,null,null,null,null,null,null,null,null,"Home"]
[null,"Home Lake",null,null,null,null,null,null,null,null,null,null,null,null,null,null,null,null,null,null,null,null,null,null,null,null,null,null,null,null,null,null,null,null,null,null,null,null,null,null,null,null,null,"Home Lake"]
[null,"Honner",null,null,null,null,null,null,null,null,null,null,null,null,null,null,null,null,null,null,null,null,null,null,null,null,null,null,null,null,null,null,null,null,null,null,null,null,null,null,null,null,null,"Honner"]
[null,"Hope Township",null,null,null,null,null,null,null,null,null,null,null,null,null,null,null,null,null,null,null,null,null,null,null,null,null,null,null,null,null,null,null,null,null,null,null,null,null,null,null,null,null,"Hope Township"]
[null,"Hornet",null,null,null,null,null,null,null,null,null,null,null,null,null,null,null,null,null,null,null,null,null,null,null,null,null,null,null,null,null,null,null,null,null,null,null,null,null,null,null,null,null,"Hornet"]
[null,"Horton",null,null,null,null,null,null,null,null,null,null,null,null,null,null,null,null,null,null,null,null,null,null,null,null,null,null,null,null,null,null,null,null,null,null,null,null,null,null,null,null,null,"Horton"]
[null,"Houpt",null,null,null,null,null,null,null,null,null,null,null,null,null,null,null,null,null,null,null,null,null,null,null,null,null,null,null,null,null,null,null,null,null,null,null,null,null,null,null,null,null,"Houpt"]
[null,"Hovland",null,null,null,null,null,null,null,null,null,null,null,null,null,null,null,null,null,null,null,null,null,null,null,null,null,null,null,null,null,null,null,null,null,null,null,null,null,null,null,null,null,"Hovland"]
[null,"Hubbard Township",null,null,null,null,null,null,null,null,null,null,null,null,null,null,null,null,null,null,null,null,null,null,null,null,null,null,null,null,null,null,null,null,null,null,null,null,null,null,null,null,null,"Hubbard Township"]
[null,"Hull",null,null,null,null,null,null,null,null,null,null,null,null,null,null,null,null,null,null,null,null,null,null,null,null,null,null,null,null,null,null,null,null,null,null,null,null,null,null,null,null,null,"Hull"]
[null,"Humboldt Yard",null,null,null,null,null,null,null,null,null,null,null,null,null,null,null,null,null,null,null,null,null,null,null,null,null,null,null,null,null,null,null,null,null,null,null,null,null,null,null,null,null,"Humboldt Yard"]
[null,"Huntersville",null,null,null,null,null,null,null,null,null,null,null,null,null,null,null,null,null,null,null,null,null,null,null,null,null,null,null,null,null,null,null,null,null,null,null,null,null,null,null,null,null,"Huntersville"]
[null,"Huntly",null,null,null,null,null,null,null,null,null,null,null,null,null,null,null,null,null,null,null,null,null,null,null,null,null,null,null,null,null,null,null,null,null,null,null,null,null,null,null,null,null,"Huntly"]
[null,"Huntsville",null,null,null,null,null,null,null,null,null,null,null,null,null,null,null,null,null,null,null,null,null,null,null,null,null,null,null,null,null,null,null,null,null,null,null,null,null,null,null,null,null,"Huntsville"]
[null,"Huss",null,null,null,null,null,null,null,null,null,null,null,null,null,null,null,null,null,null,null,null,null,null,null,null,null,null,null,null,null,null,null,null,null,null,null,null,null,null,null,null,null,"Huss"]
[null,"Hutton",null,null,null,null,null,null,null,null,null,null,null,null,null,null,null,null,null,null,null,null,null,null,null,null,null,null,null,null,null,null,null,null,null,null,null,null,null,null,null,null,null,"Hutton"]
[null,"Ida",null,null,null,null,null,null,null,null,null,null,null,null,null,null,null,null,null,null,null,null,null,null,null,null,null,null,null,null,null,null,null,null,null,null,null,null,null,null,null,null,null,"Ida"]
[null,"Ideal Corners",null,null,null,null,null,null,null,null,null,null,null,null,null,null,null,null,null,null,null,null,null,null,null,null,null,null,null,null,null,null,null,null,null,null,null,null,null,null,null,null,null,"Ideal Corners"]
[null,"Illgen City",null,null,null,null,null,null,null,null,null,null,null,null,null,null,null,null,null,null,null,null,null,null,null,null,null,null,null,null,null,null,null,null,null,null,null,null,null,null,null,null,null,"Illgen City"]
[null,"Indian Lake",null,null,null,null,null,null,null,null,null,null,null,null,null,null,null,null,null,null,null,null,null,null,null,null,null,null,null,null,null,null,null,null,null,null,null,null,null,null,null,null,null,"Indian Lake"]
[null,"Industrial Township",null,null,null,null,null,null,null,null,null,null,null,null,null,null,null,null,null,null,null,null,null,null,null,null,null,null,null,null,null,null,null,null,null,null,null,null,null,null,null,null,null,"Industrial Township"]
[null,"Inez",null,null,null,null,null,null,null,null,null,null,null,null,null,null,null,null,null,null,null,null,null,null,null,null,null,null,null,null,null,null,null,null,null,null,null,null,null,null,null,null,null,"Inez"]
[null,"Inguadona",null,null,null,null,null,null,null,null,null,null,null,null,null,null,null,null,null,null,null,null,null,null,null,null,null,null,null,null,null,null,null,null,null,null,null,null,null,null,null,null,null,"Inguadona"]
[null,"International Falls",null,null,null,null,null,null,null,null,null,null,null,null,null,null,null,null,null,null,null,null,null,null,null,null,null,null,null,null,null,null,null,null,null,null,null,null,null,null,null,null,null,"International Falls"]
[null,"Iona Township",null,null,null,null,null,null,null,null,null,null,null,null,null,null,null,null,null,null,null,null,null,null,null,null,null,null,null,null,null,null,null,null,null,null,null,null,null,null,null,null,null,"Iona Township"]
[null,"Iron Range",null,null,null,null,null,null,null,null,null,null,null,null,null,null,null,null,null,null,null,null,null,null,null,null,null,null,null,null,null,null,null,null,null,null,null,null,null,null,null,null,null,"Iron Range"]
[null,"Ironton",null,null,null,null,null,null,null,null,null,null,null,null,null,null,null,null,null,null,null,null,null,null,null,null,null,null,null,null,null,null,null,null,null,null,null,null,null,null,null,null,null,"Ironton"]
[null,"Isanti",null,null,null,null,null,null,null,null,null,null,null,null,null,null,null,null,null,null,null,null,null,null,null,null,null,null,null,null,null,null,null,null,null,null,null,null,null,null,null,null,null,"Isanti"]
[null,"Island",null,null,null,null,null,null,null,null,null,null,null,null,null,null,null,null,null,null,null,null,null,null,null,null,null,null,null,null,null,null,null,null,null,null,null,null,null,null,null,null,null,"Island"]
[null,"Island Lake",null,null,null,null,null,null,null,null,null,null,null,null,null,null,null,null,null,null,null,null,null,null,null,null,null,null,null,null,null,null,null,null,null,null,null,null,null,null,null,null,null,"Island Lake"]
[null,"Island View",null,null,null,null,null,null,null,null,null,null,null,null,null,null,null,null,null,null,null,null,null,null,null,null,null,null,null,null,null,null,null,null,null,null,null,null,null,null,null,null,null,"Island View"]
[null,"Itasca",null,null,null,null,null,null,null,null,null,null,null,null,null,null,null,null,null,null,null,null,null,null,null,null,null,null,null,null,null,null,null,null,null,null,null,null,null,null,null,null,null,"Itasca"]
[null,"Jack Pine",null,null,null,null,null,null,null,null,null,null,null,null,null,null,null,null,null,null,null,null,null,null,null,null,null,null,null,null,null,null,null,null,null,null,null,null,null,null,null,null,null,"Jack Pine"]
[null,"Jacobs Prairie",null,null,null,null,null,null,null,null,null,null,null,null,null,null,null,null,null,null,null,null,null,null,null,null,null,null,null,null,null,null,null,null,null,null,null,null,null,null,null,null,null,"Jacobs Prairie"]
[null,"Jameson",null,null,null,null,null,null,null,null,null,null,null,null,null,null,null,null,null,null,null,null,null,null,null,null,null,null,null,null,null,null,null,null,null,null,null,null,null,null,null,null,null,"Jameson"]
[null,"Janesville Township",null,null,null,null,null,null,null,null,null,null,null,null,null,null,null,null,null,null,null,null,null,null,null,null,null,null,null,null,null,null,null,null,null,null,null,null,null,null,null,null,null,"Janesville Township"]
[null,"Jarretts",null,null,null,null,null,null,null,null,null,null,null,null,null,null,null,null,null,null,null,null,null,null,null,null,null,null,null,null,null,null,null,null,null,null,null,null,null,null,null,null,null,"Jarretts"]
[null,"Jasper",null,null,null,null,null,null,null,null,null,null,null,null,null,null,null,null,null,null,null,null,null,null,null,null,null,null,null,null,null,null,null,null,null,null,null,null,null,null,null,null,null,"Jasper"]
[null,"Jefferson",null,null,null,null,null,null,null,null,null,null,null,null,null,null,null,null,null,null,null,null,null,null,null,null,null,null,null,null,null,null,null,null,null,null,null,null,null,null,null,null,null,"Jefferson"]
[null,"Jennie",null,null,null,null,null,null,null,null,null,null,null,null,null,null,null,null,null,null,null,null,null,null,null,null,null,null,null,null,null,null,null,null,null,null,null,null,null,null,null,null,null,"Jennie"]
[null,"Jessie Lake",null,null,null,null,null,null,null,null,null,null,null,null,null,null,null,null,null,null,null,null,null,null,null,null,null,null,null,null,null,null,null,null,null,null,null,null,null,null,null,null,null,"Jessie Lake"]
[null,"Jewett",null,null,null,null,null,null,null,null,null,null,null,null,null,null,null,null,null,null,null,null,null,null,null,null,null,null,null,null,null,null,null,null,null,null,null,null,null,null,null,null,null,"Jewett"]
[null,"Johnson",null,null,null,null,null,null,null,null,null,null,null,null,null,null,null,null,null,null,null,null,null,null,null,null,null,null,null,null,null,null,null,null,null,null,null,null,null,null,null,null,null,"Johnson"]
[null,"Johnsville",null,null,null,null,null,null,null,null,null,null,null,null,null,null,null,null,null,null,null,null,null,null,null,null,null,null,null,null,null,null,null,null,null,null,null,null,null,null,null,null,null,"Johnsville"]
[null,"Jonathan",null,null,null,null,null,null,null,null,null,null,null,null,null,null,null,null,null,null,null,null,null,null,null,null,null,null,null,null,null,null,null,null,null,null,null,null,null,null,null,null,null,"Jonathan"]
[null,"Jordan",null,null,null,null,null,null,null,null,null,null,null,null,null,null,null,null,null,null,null,null,null,null,null,null,null,null,null,null,null,null,null,null,null,null,null,null,null,null,null,null,null,"Jordan"]
[null,"Judson Township",null,null,null,null,null,null,null,null,null,null,null,null,null,null,null,null,null,null,null,null,null,null,null,null,null,null,null,null,null,null,null,null,null,null,null,null,null,null,null,null,null,"Judson Township"]
[null,"Jurgenson",null,null,null,null,null,null,null,null,null,null,null,null,null,null,null,null,null,null,null,null,null,null,null,null,null,null,null,null,null,null,null,null,null,null,null,null,null,null,null,null,null,"Jurgenson"]
[null,"Kalevala",null,null,null,null,null,null,null,null,null,null,null,null,null,null,null,null,null,null,null,null,null,null,null,null,null,null,null,null,null,null,null,null,null,null,null,null,null,null,null,null,null,"Kalevala"]
[null,"Kanaranzi",null,null,null,null,null,null,null,null,null,null,null,null,null,null,null,null,null,null,null,null,null,null,null,null,null,null,null,null,null,null,null,null,null,null,null,null,null,null,null,null,null,"Kanaranzi"]
[null,"Kandota",null,null,null,null,null,null,null,null,null,null,null,null,null,null,null,null,null,null,null,null,null,null,null,null,null,null,null,null,null,null,null,null,null,null,null,null,null,null,null,null,null,"Kandota"]
[null,"Kasota",null,null,null,null,null,null,null,null,null,null,null,null,null,null,null,null,null,null,null,null,null,null,null,null,null,null,null,null,null,null,null,null,null,null,null,null,null,null,null,null,null,"Kasota"]
[null,"Kasson",null,null,null,null,null,null,null,null,null,null,null,null,null,null,null,null,null,null,null,null,null,null,null,null,null,null,null,null,null,null,null,null,null,null,null,null,null,null,null,null,null,"Kasson"]
[null,"Kathio",null,null,null,null,null,null,null,null,null,null,null,null,null,null,null,null,null,null,null,null,null,null,null,null,null,null,null,null,null,null,null,null,null,null,null,null,null,null,null,null,null,"Kathio"]
[null,"Keewatin",null,null,null,null,null,null,null,null,null,null,null,null,null,null,null,null,null,null,null,null,null,null,null,null,null,null,null,null,null,null,null,null,null,null,null,null,null,null,null,null,null,"Keewatin"]
[null,"Kellogg",null,null,null,null,null,null,null,null,null,null,null,null,null,null,null,null,null,null,null,null,null,null,null,null,null,null,null,null,null,null,null,null,null,null,null,null,null,null,null,null,null,"Kellogg"]
[null,"Kelsey Township",null,null,null,null,null,null,null,null,null,null,null,null,null,null,null,null,null,null,null,null,null,null,null,null,null,null,null,null,null,null,null,null,null,null,null,null,null,null,null,null,null,"Kelsey Township"]
[null,"Kennedy",null,null,null,null,null,null,null,null,null,null,null,null,null,null,null,null,null,null,null,null,null,null,null,null,null,null,null,null,null,null,null,null,null,null,null,null,null,null,null,null,null,"Kennedy"]
[null,"Kenwood",null,null,null,null,null,null,null,null,null,null,null,null,null,null,null,null,null,null,null,null,null,null,null,null,null,null,null,null,null,null,null,null,null,null,null,null,null,null,null,null,null,"Kenwood"]
[null,"Kerkhoven",null,null,null,null,null,null,null,null,null,null,null,null,null,null,null,null,null,null,null,null,null,null,null,null,null,null,null,null,null,null,null,null,null,null,null,null,null,null,null,null,null,"Kerkhoven"]
[null,"Kerkhoven Township",null,null,null,null,null,null,null,null,null,null,null,null,null,null,null,null,null,null,null,null,null,null,null,null,null,null,null,null,null,null,null,null,null,null,null,null,null,null,null,null,null,"Kerkhoven Township"]
[null,"Kerrick",null,null,null,null,null,null,null,null,null,null,null,null,null,null,null,null,null,null,null,null,null,null,null,null,null,null,null,null,null,null,null,null,null,null,null,null,null,null,null,null,null,"Kerrick"]
[null,"Kettle River",null,null,null,null,null,null,null,null,null,null,null,null,null,null,null,null,null,null,null,null,null,null,null,null,null,null,null,null,null,null,null,null,null,null,null,null,null,null,null,null,null,"Kettle River"]
[null,"Kevin",null,null,null,null,null,null,null,null,null,null,null,null,null,null,null,null,null,null,null,null,null,null,null,null,null,null,null,null,null,null,null,null,null,null,null,null,null,null,null,null,null,"Kevin"]
[null,"Kiester",null,null,null,null,null,null,null,null,null,null,null,null,null,null,null,null,null,null,null,null,null,null,null,null,null,null,null,null,null,null,null,null,null,null,null,null,null,null,null,null,null,"Kiester"]
[null,"Kilkenny Township",null,null,null,null,null,null,null,null,null,null,null,null,null,null,null,null,null,null,null,null,null,null,null,null,null,null,null,null,null,null,null,null,null,null,null,null,null,null,null,null,null,"Kilkenny Township"]
[null,"Kimberly",null,null,null,null,null,null,null,null,null,null,null,null,null,null,null,null,null,null,null,null,null,null,null,null,null,null,null,null,null,null,null,null,null,null,null,null,null,null,null,null,null,"Kimberly"]
[null,"Kimberly Township",null,null,null,null,null,null,null,null,null,null,null,null,null,null,null,null,null,null,null,null,null,null,null,null,null,null,null,null,null,null,null,null,null,null,null,null,null,null,null,null,null,"Kimberly Township"]
[null,"King",null,null,null,null,null,null,null,null,null,null,null,null,null,null,null,null,null,null,null,null,null,null,null,null,null,null,null,null,null,null,null,null,null,null,null,null,null,null,null,null,null,"King"]
[null,"Kings Park",null,null,null,null,null,null,null,null,null,null,null,null,null,null,null,null,null,null,null,null,null,null,null,null,null,null,null,null,null,null,null,null,null,null,null,null,null,null,null,null,null,"Kings Park"]
[null,"Kingston Township",null,null,null,null,null,null,null,null,null,null,null,null,null,null,null,null,null,null,null,null,null,null,null,null,null,null,null,null,null,null,null,null,null,null,null,null,null,null,null,null,null,"Kingston Township"]
[null,"Kirk",null,null,null,null,null,null,null,null,null,null,null,null,null,null,null,null,null,null,null,null,null,null,null,null,null,null,null,null,null,null,null,null,null,null,null,null,null,null,null,null,null,"Kirk"]
[null,"Klondyke",null,null,null,null,null,null,null,null,null,null,null,null,null,null,null,null,null,null,null,null,null,null,null,null,null,null,null,null,null,null,null,null,null,null,null,null,null,null,null,null,null,"Klondyke"]
[null,"Knife Falls",null,null,null,null,null,null,null,null,null,null,null,null,null,null,null,null,null,null,null,null,null,null,null,null,null,null,null,null,null,null,null,null,null,null,null,null,null,null,null,null,null,"Knife Falls"]
[null,"Knute",null,null,null,null,null,null,null,null,null,null,null,null,null,null,null,null,null,null,null,null,null,null,null,null,null,null,null,null,null,null,null,null,null,null,null,null,null,null,null,null,null,"Knute"]
[null,"Kragero",null,null,null,null,null,null,null,null,null,null,null,null,null,null,null,null,null,null,null,null,null,null,null,null,null,null,null,null,null,null,null,null,null,null,null,null,null,null,null,null,null,"Kragero"]
[null,"Kragnes",null,null,null,null,null,null,null,null,null,null,null,null,null,null,null,null,null,null,null,null,null,null,null,null,null,null,null,null,null,null,null,null,null,null,null,null,null,null,null,null,null,"Kragnes"]
[null,"Kratka",null,null,null,null,null,null,null,null,null,null,null,null,null,null,null,null,null,null,null,null,null,null,null,null,null,null,null,null,null,null,null,null,null,null,null,null,null,null,null,null,null,"Kratka"]
[null,"Kugler",null,null,null,null,null,null,null,null,null,null,null,null,null,null,null,null,null,null,null,null,null,null,null,null,null,null,null,null,null,null,null,null,null,null,null,null,null,null,null,null,null,"Kugler"]
[null,"La Crescent Township",null,null,null,null,null,null,null,null,null,null,null,null,null,null,null,null,null,null,null,null,null,null,null,null,null,null,null,null,null,null,null,null,null,null,null,null,null,null,null,null,null,"La Crescent Township"]
[null,"La Grand",null,null,null,null,null,null,null,null,null,null,null,null,null,null,null,null,null,null,null,null,null,null,null,null,null,null,null,null,null,null,null,null,null,null,null,null,null,null,null,null,null,"La Grand"]
[null,"LaBelle",null,null,null,null,null,null,null,null,null,null,null,null,null,null,null,null,null,null,null,null,null,null,null,null,null,null,null,null,null,null,null,null,null,null,null,null,null,null,null,null,null,"LaBelle"]
[null,"Lafayette",null,null,null,null,null,null,null,null,null,null,null,null,null,null,null,null,null,null,null,null,null,null,null,null,null,null,null,null,null,null,null,null,null,null,null,null,null,null,null,null,null,"Lafayette"]
[null,"Lafayette Township",null,null,null,null,null,null,null,null,null,null,null,null,null,null,null,null,null,null,null,null,null,null,null,null,null,null,null,null,null,null,null,null,null,null,null,null,null,null,null,null,null,"Lafayette Township"]
[null,"Lake",null,null,null,null,null,null,null,null,null,null,null,null,null,null,null,null,null,null,null,null,null,null,null,null,null,null,null,null,null,null,null,null,null,null,null,null,null,null,null,null,null,"Lake"]
[null,"Lake Belt",null,null,null,null,null,null,null,null,null,null,null,null,null,null,null,null,null,null,null,null,null,null,null,null,null,null,null,null,null,null,null,null,null,null,null,null,null,null,null,null,null,"Lake Belt"]
[null,"Lake Center",null,null,null,null,null,null,null,null,null,null,null,null,null,null,null,null,null,null,null,null,null,null,null,null,null,null,null,null,null,null,null,null,null,null,null,null,null,null,null,null,null,"Lake Center"]
[null,"Lake Edwards",null,null,null,null,null,null,null,null,null,null,null,null,null,null,null,null,null,null,null,null,null,null,null,null,null,null,null,null,null,null,null,null,null,null,null,null,null,null,null,null,null,"Lake Edwards"]
[null,"Lake Elysian",null,null,null,null,null,null,null,null,null,null,null,null,null,null,null,null,null,null,null,null,null,null,null,null,null,null,null,null,null,null,null,null,null,null,null,null,null,null,null,null,null,"Lake Elysian"]
[null,"Lake Eunice Township",null,null,null,null,null,null,null,null,null,null,null,null,null,null,null,null,null,null,null,null,null,null,null,null,null,null,null,null,null,null,null,null,null,null,null,null,null,null,null,null,null,"Lake Eunice Township"]
[null,"Lake Fremont Township",null,null,null,null,null,null,null,null,null,null,null,null,null,null,null,null,null,null,null,null,null,null,null,null,null,null,null,null,null,null,null,null,null,null,null,null,null,null,null,null,null,"Lake Fremont Township"]
[null,"Lake George",null,null,null,null,null,null,null,null,null,null,null,null,null,null,null,null,null,null,null,null,null,null,null,null,null,null,null,null,null,null,null,null,null,null,null,null,null,null,null,null,null,"Lake George"]
[null,"Lake Hanska",null,null,null,null,null,null,null,null,null,null,null,null,null,null,null,null,null,null,null,null,null,null,null,null,null,null,null,null,null,null,null,null,null,null,null,null,null,null,null,null,null,"Lake Hanska"]
[null,"Lake Henry Township",null,null,null,null,null,null,null,null,null,null,null,null,null,null,null,null,null,null,null,null,null,null,null,null,null,null,null,null,null,null,null,null,null,null,null,null,null,null,null,null,null,"Lake Henry Township"]
[null,"Lake Itasca",null,null,null,null,null,null,null,null,null,null,null,null,null,null,null,null,null,null,null,null,null,null,null,null,null,null,null,null,null,null,null,null,null,null,null,null,null,null,null,null,null,"Lake Itasca"]
[null,"Lake Lena",null,null,null,null,null,null,null,null,null,null,null,null,null,null,null,null,null,null,null,null,null,null,null,null,null,null,null,null,null,null,null,null,null,null,null,null,null,null,null,null,null,"Lake Lena"]
[null,"Lake Marshall",null,null,null,null,null,null,null,null,null,null,null,null,null,null,null,null,null,null,null,null,null,null,null,null,null,null,null,null,null,null,null,null,null,null,null,null,null,null,null,null,null,"Lake Marshall"]
[null,"Lake No 1",null,null,null,null,null,null,null,null,null,null,null,null,null,null,null,null,null,null,null,null,null,null,null,null,null,null,null,null,null,null,null,null,null,null,null,null,null,null,null,null,null,"Lake No 1"]
[null,"Lake Park",null,null,null,null,null,null,null,null,null,null,null,null,null,null,null,null,null,null,null,null,null,null,null,null,null,null,null,null,null,null,null,null,null,null,null,null,null,null,null,null,null,"Lake Park"]
[null,"Lake Park Township",null,null,null,null,null,null,null,null,null,null,null,null,null,null,null,null,null,null,null,null,null,null,null,null,null,null,null,null,null,null,null,null,null,null,null,null,null,null,null,null,null,"Lake Park Township"]
[null,"Lake Saint Croix Beach",null,null,null,null,null,null,null,null,null,null,null,null,null,null,null,null,null,null,null,null,null,null,null,null,null,null,null,null,null,null,null,null,null,null,null,null,null,null,null,null,null,"Lake Saint Croix Beach"]
[null,"Lake Shore Park",null,null,null,null,null,null,null,null,null,null,null,null,null,null,null,null,null,null,null,null,null,null,null,null,null,null,null,null,null,null,null,null,null,null,null,null,null,null,null,null,null,"Lake Shore Park"]
[null,"Lake Valley",null,null,null,null,null,null,null,null,null,null,null,null,null,null,null,null,null,null,null,null,null,null,null,null,null,null,null,null,null,null,null,null,null,null,null,null,null,null,null,null,null,"Lake Valley"]
[null,"Lake View",null,null,null,null,null,null,null,null,null,null,null,null,null,null,null,null,null,null,null,null,null,null,null,null,null,null,null,null,null,null,null,null,null,null,null,null,null,null,null,null,null,"Lake View"]
[null,"Lakeland",null,null,null,null,null,null,null,null,null,null,null,null,null,null,null,null,null,null,null,null,null,null,null,null,null,null,null,null,null,null,null,null,null,null,null,null,null,null,null,null,null,"Lakeland"]
[null,"Lakeside",null,null,null,null,null,null,null,null,null,null,null,null,null,null,null,null,null,null,null,null,null,null,null,null,null,null,null,null,null,null,null,null,null,null,null,null,null,null,null,null,null,"Lakeside"]
[null,"Lakeview",null,null,null,null,null,null,null,null,null,null,null,null,null,null,null,null,null,null,null,null,null,null,null,null,null,null,null,null,null,null,null,null,null,null,null,null,null,null,null,null,null,"Lakeview"]
[null,"Lakeville",null,null,null,null,null,null,null,null,null,null,null,null,null,null,null,null,null,null,null,null,null,null,null,null,null,null,null,null,null,null,null,null,null,null,null,null,null,null,null,null,null,"Lakeville"]
[null,"Lambert",null,null,null,null,null,null,null,null,null,null,null,null,null,null,null,null,null,null,null,null,null,null,null,null,null,null,null,null,null,null,null,null,null,null,null,null,null,null,null,null,null,"Lambert"]
[null,"Lamberton",null,null,null,null,null,null,null,null,null,null,null,null,null,null,null,null,null,null,null,null,null,null,null,null,null,null,null,null,null,null,null,null,null,null,null,null,null,null,null,null,null,"Lamberton"]
[null,"Lamson",null,null,null,null,null,null,null,null,null,null,null,null,null,null,null,null,null,null,null,null,null,null,null,null,null,null,null,null,null,null,null,null,null,null,null,null,null,null,null,null,null,"Lamson"]
[null,"Land Olakes",null,null,null,null,null,null,null,null,null,null,null,null,null,null,null,null,null,null,null,null,null,null,null,null,null,null,null,null,null,null,null,null,null,null,null,null,null,null,null,null,null,"Land Olakes"]
[null,"Langdon",null,null,null,null,null,null,null,null,null,null,null,null,null,null,null,null,null,null,null,null,null,null,null,null,null,null,null,null,null,null,null,null,null,null,null,null,null,null,null,null,null,"Langdon"]
[null,"Langhei",null,null,null,null,null,null,null,null,null,null,null,null,null,null,null,null,null,null,null,null,null,null,null,null,null,null,null,null,null,null,null,null,null,null,null,null,null,null,null,null,null,"Langhei"]
[null,"Lansing Township",null,null,null,null,null,null,null,null,null,null,null,null,null,null,null,null,null,null,null,null,null,null,null,null,null,null,null,null,null,null,null,null,null,null,null,null,null,null,null,null,null,"Lansing Township"]
[null,"Laona",null,null,null,null,null,null,null,null,null,null,null,null,null,null,null,null,null,null,null,null,null,null,null,null,null,null,null,null,null,null,null,null,null,null,null,null,null,null,null,null,null,"Laona"]
[null,"Larkin",null,null,null,null,null,null,null,null,null,null,null,null,null,null,null,null,null,null,null,null,null,null,null,null,null,null,null,null,null,null,null,null,null,null,null,null,null,null,null,null,null,"Larkin"]
[null,"Lauderdale",null,null,null,null,null,null,null,null,null,null,null,null,null,null,null,null,null,null,null,null,null,null,null,null,null,null,null,null,null,null,null,null,null,null,null,null,null,null,null,null,null,"Lauderdale"]
[null,"Lavinia",null,null,null,null,null,null,null,null,null,null,null,null,null,null,null,null,null,null,null,null,null,null,null,null,null,null,null,null,null,null,null,null,null,null,null,null,null,null,null,null,null,"Lavinia"]
[null,"Lawndale",null,null,null,null,null,null,null,null,null,null,null,null,null,null,null,null,null,null,null,null,null,null,null,null,null,null,null,null,null,null,null,null,null,null,null,null,null,null,null,null,null,"Lawndale"]
[null,"Le Center",null,null,null,null,null,null,null,null,null,null,null,null,null,null,null,null,null,null,null,null,null,null,null,null,null,null,null,null,null,null,null,null,null,null,null,null,null,null,null,null,null,"Le Center"]
[null,"Le Roy",null,null,null,null,null,null,null,null,null,null,null,null,null,null,null,null,null,null,null,null,null,null,null,null,null,null,null,null,null,null,null,null,null,null,null,null,null,null,null,null,null,"Le Roy"]
[null,"Le Sueur",null,null,null,null,null,null,null,null,null,null,null,null,null,null,null,null,null,null,null,null,null,null,null,null,null,null,null,null,null,null,null,null,null,null,null,null,null,null,null,null,null,"Le Sueur"]
[null,"Leader",null,null,null,null,null,null,null,null,null,null,null,null,null,null,null,null,null,null,null,null,null,null,null,null,null,null,null,null,null,null,null,null,null,null,null,null,null,null,null,null,null,"Leader"]
[null,"Leaf River",null,null,null,null,null,null,null,null,null,null,null,null,null,null,null,null,null,null,null,null,null,null,null,null,null,null,null,null,null,null,null,null,null,null,null,null,null,null,null,null,null,"Leaf River"]
[null,"Leaf Valley",null,null,null,null,null,null,null,null,null,null,null,null,null,null,null,null,null,null,null,null,null,null,null,null,null,null,null,null,null,null,null,null,null,null,null,null,null,null,null,null,null,"Leaf Valley"]
[null,"Leander Spur",null,null,null,null,null,null,null,null,null,null,null,null,null,null,null,null,null,null,null,null,null,null,null,null,null,null,null,null,null,null,null,null,null,null,null,null,null,null,null,null,null,"Leander Spur"]
[null,"Lee",null,null,null,null,null,null,null,null,null,null,null,null,null,null,null,null,null,null,null,null,null,null,null,null,null,null,null,null,null,null,null,null,null,null,null,null,null,null,null,null,null,"Lee"]
[null,"Leenthrop",null,null,null,null,null,null,null,null,null,null,null,null,null,null,null,null,null,null,null,null,null,null,null,null,null,null,null,null,null,null,null,null,null,null,null,null,null,null,null,null,null,"Leenthrop"]
[null,"Leetonia",null,null,null,null,null,null,null,null,null,null,null,null,null,null,null,null,null,null,null,null,null,null,null,null,null,null,null,null,null,null,null,null,null,null,null,null,null,null,null,null,null,"Leetonia"]
[null,"Leighton",null,null,null,null,null,null,null,null,null,null,null,null,null,null,null,null,null,null,null,null,null,null,null,null,null,null,null,null,null,null,null,null,null,null,null,null,null,null,null,null,null,"Leighton"]
[null,"Lemond",null,null,null,null,null,null,null,null,null,null,null,null,null,null,null,null,null,null,null,null,null,null,null,null,null,null,null,null,null,null,null,null,null,null,null,null,null,null,null,null,null,"Lemond"]
[null,"Lennox",null,null,null,null,null,null,null,null,null,null,null,null,null,null,null,null,null,null,null,null,null,null,null,null,null,null,null,null,null,null,null,null,null,null,null,null,null,null,null,null,null,"Lennox"]
[null,"Leon",null,null,null,null,null,null,null,null,null,null,null,null,null,null,null,null,null,null,null,null,null,null,null,null,null,null,null,null,null,null,null,null,null,null,null,null,null,null,null,null,null,"Leon"]
[null,"Leonidas",null,null,null,null,null,null,null,null,null,null,null,null,null,null,null,null,null,null,null,null,null,null,null,null,null,null,null,null,null,null,null,null,null,null,null,null,null,null,null,null,null,"Leonidas"]
[null,"Leota Township",null,null,null,null,null,null,null,null,null,null,null,null,null,null,null,null,null,null,null,null,null,null,null,null,null,null,null,null,null,null,null,null,null,null,null,null,null,null,null,null,null,"Leota Township"]
[null,"Lester Park",null,null,null,null,null,null,null,null,null,null,null,null,null,null,null,null,null,null,null,null,null,null,null,null,null,null,null,null,null,null,null,null,null,null,null,null,null,null,null,null,null,"Lester Park"]
[null,"Lewis",null,null,null,null,null,null,null,null,null,null,null,null,null,null,null,null,null,null,null,null,null,null,null,null,null,null,null,null,null,null,null,null,null,null,null,null,null,null,null,null,null,"Lewis"]
[null,"Lewisville",null,null,null,null,null,null,null,null,null,null,null,null,null,null,null,null,null,null,null,null,null,null,null,null,null,null,null,null,null,null,null,null,null,null,null,null,null,null,null,null,null,"Lewisville"]
[null,"Lexington",null,null,null,null,null,null,null,null,null,null,null,null,null,null,null,null,null,null,null,null,null,null,null,null,null,null,null,null,null,null,null,null,null,null,null,null,null,null,null,null,null,"Lexington"]
[null,"Libby",null,null,null,null,null,null,null,null,null,null,null,null,null,null,null,null,null,null,null,null,null,null,null,null,null,null,null,null,null,null,null,null,null,null,null,null,null,null,null,null,null,"Libby"]
[null,"Lien",null,null,null,null,null,null,null,null,null,null,null,null,null,null,null,null,null,null,null,null,null,null,null,null,null,null,null,null,null,null,null,null,null,null,null,null,null,null,null,null,null,"Lien"]
[null,"Lime",null,null,null,null,null,null,null,null,null,null,null,null,null,null,null,null,null,null,null,null,null,null,null,null,null,null,null,null,null,null,null,null,null,null,null,null,null,null,null,null,null,"Lime"]
[null,"Limestone",null,null,null,null,null,null,null,null,null,null,null,null,null,null,null,null,null,null,null,null,null,null,null,null,null,null,null,null,null,null,null,null,null,null,null,null,null,null,null,null,null,"Limestone"]
[null,"Lind",null,null,null,null,null,null,null,null,null,null,null,null,null,null,null,null,null,null,null,null,null,null,null,null,null,null,null,null,null,null,null,null,null,null,null,null,null,null,null,null,null,"Lind"]
[null,"Linden Grove Township",null,null,null,null,null,null,null,null,null,null,null,null,null,null,null,null,null,null,null,null,null,null,null,null,null,null,null,null,null,null,null,null,null,null,null,null,null,null,null,null,null,"Linden Grove Township"]
[null,"Linden Hills",null,null,null,null,null,null,null,null,null,null,null,null,null,null,null,null,null,null,null,null,null,null,null,null,null,null,null,null,null,null,null,null,null,null,null,null,null,null,null,null,null,"Linden Hills"]
[null,"Lindstrom",null,null,null,null,null,null,null,null,null,null,null,null,null,null,null,null,null,null,null,null,null,null,null,null,null,null,null,null,null,null,null,null,null,null,null,null,null,null,null,null,null,"Lindstrom"]
[null,"Linwood",null,null,null,null,null,null,null,null,null,null,null,null,null,null,null,null,null,null,null,null,null,null,null,null,null,null,null,null,null,null,null,null,null,null,null,null,null,null,null,null,null,"Linwood"]
[null,"Litchfield",null,null,null,null,null,null,null,null,null,null,null,null,null,null,null,null,null,null,null,null,null,null,null,null,null,null,null,null,null,null,null,null,null,null,null,null,null,null,null,null,null,"Litchfield"]
[null,"Little Canada",null,null,null,null,null,null,null,null,null,null,null,null,null,null,null,null,null,null,null,null,null,null,null,null,null,null,null,null,null,null,null,null,null,null,null,null,null,null,null,null,null,"Little Canada"]
[null,"Little Elk",null,null,null,null,null,null,null,null,null,null,null,null,null,null,null,null,null,null,null,null,null,null,null,null,null,null,null,null,null,null,null,null,null,null,null,null,null,null,null,null,null,"Little Elk"]
[null,"Little Pine",null,null,null,null,null,null,null,null,null,null,null,null,null,null,null,null,null,null,null,null,null,null,null,null,null,null,null,null,null,null,null,null,null,null,null,null,null,null,null,null,null,"Little Pine"]
[null,"Little Rock Township",null,null,null,null,null,null,null,null,null,null,null,null,null,null,null,null,null,null,null,null,null,null,null,null,null,null,null,null,null,null,null,null,null,null,null,null,null,null,null,null,null,"Little Rock Township"]
[null,"Little Sand Lake",null,null,null,null,null,null,null,null,null,null,null,null,null,null,null,null,null,null,null,null,null,null,null,null,null,null,null,null,null,null,null,null,null,null,null,null,null,null,null,null,null,"Little Sand Lake"]
[null,"Little Swan",null,null,null,null,null,null,null,null,null,null,null,null,null,null,null,null,null,null,null,null,null,null,null,null,null,null,null,null,null,null,null,null,null,null,null,null,null,null,null,null,null,"Little Swan"]
[null,"Livonia",null,null,null,null,null,null,null,null,null,null,null,null,null,null,null,null,null,null,null,null,null,null,null,null,null,null,null,null,null,null,null,null,null,null,null,null,null,null,null,null,null,"Livonia"]
[null,"Loerch",null,null,null,null,null,null,null,null,null,null,null,null,null,null,null,null,null,null,null,null,null,null,null,null,null,null,null,null,null,null,null,null,null,null,null,null,null,null,null,null,null,"Loerch"]
[null,"London",null,null,null,null,null,null,null,null,null,null,null,null,null,null,null,null,null,null,null,null,null,null,null,null,null,null,null,null,null,null,null,null,null,null,null,null,null,null,null,null,null,"London"]
[null,"Lone Tree",null,null,null,null,null,null,null,null,null,null,null,null,null,null,null,null,null,null,null,null,null,null,null,null,null,null,null,null,null,null,null,null,null,null,null,null,null,null,null,null,null,"Lone Tree"]
[null,"Long Lake Township",null,null,null,null,null,null,null,null,null,null,null,null,null,null,null,null,null,null,null,null,null,null,null,null,null,null,null,null,null,null,null,null,null,null,null,null,null,null,null,null,null,"Long Lake Township"]
[null,"Long Prairie Township",null,null,null,null,null,null,null,null,null,null,null,null,null,null,null,null,null,null,null,null,null,null,null,null,null,null,null,null,null,null,null,null,null,null,null,null,null,null,null,null,null,"Long Prairie Township"]
[null,"Long Siding",null,null,null,null,null,null,null,null,null,null,null,null,null,null,null,null,null,null,null,null,null,null,null,null,null,null,null,null,null,null,null,null,null,null,null,null,null,null,null,null,null,"Long Siding"]
[null,"Lonsdale",null,null,null,null,null,null,null,null,null,null,null,null,null,null,null,null,null,null,null,null,null,null,null,null,null,null,null,null,null,null,null,null,null,null,null,null,null,null,null,null,null,"Lonsdale"]
[null,"Lorain",null,null,null,null,null,null,null,null,null,null,null,null,null,null,null,null,null,null,null,null,null,null,null,null,null,null,null,null,null,null,null,null,null,null,null,null,null,null,null,null,null,"Lorain"]
[null,"Lorne",null,null,null,null,null,null,null,null,null,null,null,null,null,null,null,null,null,null,null,null,null,null,null,null,null,null,null,null,null,null,null,null,null,null,null,null,null,null,null,null,null,"Lorne"]
[null,"Louriston",null,null,null,null,null,null,null,null,null,null,null,null,null,null,null,null,null,null,null,null,null,null,null,null,null,null,null,null,null,null,null,null,null,null,null,null,null,null,null,null,null,"Louriston"]
[null,"Lower St Croix National Scenic",null,null,null,null,null,null,null,null,null,null,null,null,null,null,null,null,null,null,null,null,null,null,null,null,null,null,null,null,null,null,null,null,null,null,null,null,null,null,null,null,null,"Lower St Croix National Scenic"]
[null,"Lowville",null,null,null,null,null,null,null,null,null,null,null,null,null,null,null,null,null,null,null,null,null,null,null,null,null,null,null,null,null,null,null,null,null,null,null,null,null,null,null,null,null,"Lowville"]
[null,"Luce",null,null,null,null,null,null,null,null,null,null,null,null,null,null,null,null,null,null,null,null,null,null,null,null,null,null,null,null,null,null,null,null,null,null,null,null,null,null,null,null,null,"Luce"]
[null,"Lude",null,null,null,null,null,null,null,null,null,null,null,null,null,null,null,null,null,null,null,null,null,null,null,null,null,null,null,null,null,null,null,null,null,null,null,null,null,null,null,null,null,"Lude"]
[null,"Luna",null,null,null,null,null,null,null,null,null,null,null,null,null,null,null,null,null,null,null,null,null,null,null,null,null,null,null,null,null,null,null,null,null,null,null,null,null,null,null,null,null,"Luna"]
[null,"Lutsen",null,null,null,null,null,null,null,null,null,null,null,null,null,null,null,null,null,null,null,null,null,null,null,null,null,null,null,null,null,null,null,null,null,null,null,null,null,null,null,null,null,"Lutsen"]
[null,"Luxemburg",null,null,null,null,null,null,null,null,null,null,null,null,null,null,null,null,null,null,null,null,null,null,null,null,null,null,null,null,null,null,null,null,null,null,null,null,null,null,null,null,null,"Luxemburg"]
[null,"Lyle",null,null,null,null,null,null,null,null,null,null,null,null,null,null,null,null,null,null,null,null,null,null,null,null,null,null,null,null,null,null,null,null,null,null,null,null,null,null,null,null,null,"Lyle"]
[null,"Lyman",null,null,null,null,null,null,null,null,null,null,null,null,null,null,null,null,null,null,null,null,null,null,null,null,null,null,null,null,null,null,null,null,null,null,null,null,null,null,null,null,null,"Lyman"]
[null,"Lyndale Junction",null,null,null,null,null,null,null,null,null,null,null,null,null,null,null,null,null,null,null,null,null,null,null,null,null,null,null,null,null,null,null,null,null,null,null,null,null,null,null,null,null,"Lyndale Junction"]
[null,"Lynwood",null,null,null,null,null,null,null,null,null,null,null,null,null,null,null,null,null,null,null,null,null,null,null,null,null,null,null,null,null,null,null,null,null,null,null,null,null,null,null,null,null,"Lynwood"]
[null,"Lyons",null,null,null,null,null,null,null,null,null,null,null,null,null,null,null,null,null,null,null,null,null,null,null,null,null,null,null,null,null,null,null,null,null,null,null,null,null,null,null,null,null,"Lyons"]
[null,"Mabel",null,null,null,null,null,null,null,null,null,null,null,null,null,null,null,null,null,null,null,null,null,null,null,null,null,null,null,null,null,null,null,null,null,null,null,null,null,null,null,null,null,"Mabel"]
[null,"Madelia Township",null,null,null,null,null,null,null,null,null,null,null,null,null,null,null,null,null,null,null,null,null,null,null,null,null,null,null,null,null,null,null,null,null,null,null,null,null,null,null,null,null,"Madelia Township"]
[null,"Madison East",null,null,null,null,null,null,null,null,null,null,null,null,null,null,null,null,null,null,null,null,null,null,null,null,null,null,null,null,null,null,null,null,null,null,null,null,null,null,null,null,null,"Madison East"]
[null,"Mae",null,null,null,null,null,null,null,null,null,null,null,null,null,null,null,null,null,null,null,null,null,null,null,null,null,null,null,null,null,null,null,null,null,null,null,null,null,null,null,null,null,"Mae"]
[null,"Mahnomen",null,null,null,null,null,null,null,null,null,null,null,null,null,null,null,null,null,null,null,null,null,null,null,null,null,null,null,null,null,null,null,null,null,null,null,null,null,null,null,null,null,"Mahnomen"]
[null,"Mahtowa",null,null,null,null,null,null,null,null,null,null,null,null,null,null,null,null,null,null,null,null,null,null,null,null,null,null,null,null,null,null,null,null,null,null,null,null,null,null,null,null,null,"Mahtowa"]
[null,"Maine Prairie",null,null,null,null,null,null,null,null,null,null,null,null,null,null,null,null,null,null,null,null,null,null,null,null,null,null,null,null,null,null,null,null,null,null,null,null,null,null,null,null,null,"Maine Prairie"]
[null,"Makinen",null,null,null,null,null,null,null,null,null,null,null,null,null,null,null,null,null,null,null,null,null,null,null,null,null,null,null,null,null,null,null,null,null,null,null,null,null,null,null,null,null,"Makinen"]
[null,"Malcolm",null,null,null,null,null,null,null,null,null,null,null,null,null,null,null,null,null,null,null,null,null,null,null,null,null,null,null,null,null,null,null,null,null,null,null,null,null,null,null,null,null,"Malcolm"]
[null,"Malmo Township",null,null,null,null,null,null,null,null,null,null,null,null,null,null,null,null,null,null,null,null,null,null,null,null,null,null,null,null,null,null,null,null,null,null,null,null,null,null,null,null,null,"Malmo Township"]
[null,"Malung Township",null,null,null,null,null,null,null,null,null,null,null,null,null,null,null,null,null,null,null,null,null,null,null,null,null,null,null,null,null,null,null,null,null,null,null,null,null,null,null,null,null,"Malung Township"]
[null,"Manannah Township",null,null,null,null,null,null,null,null,null,null,null,null,null,null,null,null,null,null,null,null,null,null,null,null,null,null,null,null,null,null,null,null,null,null,null,null,null,null,null,null,null,"Manannah Township"]
[null,"Manchester Township",null,null,null,null,null,null,null,null,null,null,null,null,null,null,null,null,null,null,null,null,null,null,null,null,null,null,null,null,null,null,null,null,null,null,null,null,null,null,null,null,null,"Manchester Township"]
[null,"Manganese",null,null,null,null,null,null,null,null,null,null,null,null,null,null,null,null,null,null,null,null,null,null,null,null,null,null,null,null,null,null,null,null,null,null,null,null,null,null,null,null,null,"Manganese"]
[null,"Manitou",null,null,null,null,null,null,null,null,null,null,null,null,null,null,null,null,null,null,null,null,null,null,null,null,null,null,null,null,null,null,null,null,null,null,null,null,null,null,null,null,null,"Manitou"]
[null,"Manitou Junction",null,null,null,null,null,null,null,null,null,null,null,null,null,null,null,null,null,null,null,null,null,null,null,null,null,null,null,null,null,null,null,null,null,null,null,null,null,null,null,null,null,"Manitou Junction"]
[null,"Mankato Township",null,null,null,null,null,null,null,null,null,null,null,null,null,null,null,null,null,null,null,null,null,null,null,null,null,null,null,null,null,null,null,null,null,null,null,null,null,null,null,null,null,"Mankato Township"]
[null,"Manston",null,null,null,null,null,null,null,null,null,null,null,null,null,null,null,null,null,null,null,null,null,null,null,null,null,null,null,null,null,null,null,null,null,null,null,null,null,null,null,null,null,"Manston"]
[null,"Mantorville Township",null,null,null,null,null,null,null,null,null,null,null,null,null,null,null,null,null,null,null,null,null,null,null,null,null,null,null,null,null,null,null,null,null,null,null,null,null,null,null,null,null,"Mantorville Township"]
[null,"Maple",null,null,null,null,null,null,null,null,null,null,null,null,null,null,null,null,null,null,null,null,null,null,null,null,null,null,null,null,null,null,null,null,null,null,null,null,null,null,null,null,null,"Maple"]
[null,"Maple Hill",null,null,null,null,null,null,null,null,null,null,null,null,null,null,null,null,null,null,null,null,null,null,null,null,null,null,null,null,null,null,null,null,null,null,null,null,null,null,null,null,null,"Maple Hill"]
[null,"Maple Lake Township",null,null,null,null,null,null,null,null,null,null,null,null,null,null,null,null,null,null,null,null,null,null,null,null,null,null,null,null,null,null,null,null,null,null,null,null,null,null,null,null,null,"Maple Lake Township"]
[null,"Maple Plain",null,null,null,null,null,null,null,null,null,null,null,null,null,null,null,null,null,null,null,null,null,null,null,null,null,null,null,null,null,null,null,null,null,null,null,null,null,null,null,null,null,"Maple Plain"]
[null,"Maple Springs",null,null,null,null,null,null,null,null,null,null,null,null,null,null,null,null,null,null,null,null,null,null,null,null,null,null,null,null,null,null,null,null,null,null,null,null,null,null,null,null,null,"Maple Springs"]
[null,"Mapleton Township",null,null,null,null,null,null,null,null,null,null,null,null,null,null,null,null,null,null,null,null,null,null,null,null,null,null,null,null,null,null,null,null,null,null,null,null,null,null,null,null,null,"Mapleton Township"]
[null,"Marble",null,null,null,null,null,null,null,null,null,null,null,null,null,null,null,null,null,null,null,null,null,null,null,null,null,null,null,null,null,null,null,null,null,null,null,null,null,null,null,null,null,"Marble"]
[null,"Marcell Township",null,null,null,null,null,null,null,null,null,null,null,null,null,null,null,null,null,null,null,null,null,null,null,null,null,null,null,null,null,null,null,null,null,null,null,null,null,null,null,null,null,"Marcell Township"]
[null,"Marietta",null,null,null,null,null,null,null,null,null,null,null,null,null,null,null,null,null,null,null,null,null,null,null,null,null,null,null,null,null,null,null,null,null,null,null,null,null,null,null,null,null,"Marietta"]
[null,"Marion Township",null,null,null,null,null,null,null,null,null,null,null,null,null,null,null,null,null,null,null,null,null,null,null,null,null,null,null,null,null,null,null,null,null,null,null,null,null,null,null,null,null,"Marion Township"]
[null,"Marna",null,null,null,null,null,null,null,null,null,null,null,null,null,null,null,null,null,null,null,null,null,null,null,null,null,null,null,null,null,null,null,null,null,null,null,null,null,null,null,null,null,"Marna"]
[null,"Marsh Creek",null,null,null,null,null,null,null,null,null,null,null,null,null,null,null,null,null,null,null,null,null,null,null,null,null,null,null,null,null,null,null,null,null,null,null,null,null,null,null,null,null,"Marsh Creek"]
[null,"Marshall Township",null,null,null,null,null,null,null,null,null,null,null,null,null,null,null,null,null,null,null,null,null,null,null,null,null,null,null,null,null,null,null,null,null,null,null,null,null,null,null,null,null,"Marshall Township"]
[null,"Martin",null,null,null,null,null,null,null,null,null,null,null,null,null,null,null,null,null,null,null,null,null,null,null,null,null,null,null,null,null,null,null,null,null,null,null,null,null,null,null,null,null,"Martin"]
[null,"Mary",null,null,null,null,null,null,null,null,null,null,null,null,null,null,null,null,null,null,null,null,null,null,null,null,null,null,null,null,null,null,null,null,null,null,null,null,null,null,null,null,null,"Mary"]
[null,"Marystown",null,null,null,null,null,null,null,null,null,null,null,null,null,null,null,null,null,null,null,null,null,null,null,null,null,null,null,null,null,null,null,null,null,null,null,null,null,null,null,null,null,"Marystown"]
[null,"Masonic Home",null,null,null,null,null,null,null,null,null,null,null,null,null,null,null,null,null,null,null,null,null,null,null,null,null,null,null,null,null,null,null,null,null,null,null,null,null,null,null,null,null,"Masonic Home"]
[null,"Max",null,null,null,null,null,null,null,null,null,null,null,null,null,null,null,null,null,null,null,null,null,null,null,null,null,null,null,null,null,null,null,null,null,null,null,null,null,null,null,null,null,"Max"]
[null,"May",null,null,null,null,null,null,null,null,null,null,null,null,null,null,null,null,null,null,null,null,null,null,null,null,null,null,null,null,null,null,null,null,null,null,null,null,null,null,null,null,null,"May"]
[null,"Mayer",null,null,null,null,null,null,null,null,null,null,null,null,null,null,null,null,null,null,null,null,null,null,null,null,null,null,null,null,null,null,null,null,null,null,null,null,null,null,null,null,null,"Mayer"]
[null,"Mayhew",null,null,null,null,null,null,null,null,null,null,null,null,null,null,null,null,null,null,null,null,null,null,null,null,null,null,null,null,null,null,null,null,null,null,null,null,null,null,null,null,null,"Mayhew"]
[null,"Mayville",null,null,null,null,null,null,null,null,null,null,null,null,null,null,null,null,null,null,null,null,null,null,null,null,null,null,null,null,null,null,null,null,null,null,null,null,null,null,null,null,null,"Mayville"]
[null,"Mazeppa Township",null,null,null,null,null,null,null,null,null,null,null,null,null,null,null,null,null,null,null,null,null,null,null,null,null,null,null,null,null,null,null,null,null,null,null,null,null,null,null,null,null,"Mazeppa Township"]
[null,"McComber",null,null,null,null,null,null,null,null,null,null,null,null,null,null,null,null,null,null,null,null,null,null,null,null,null,null,null,null,null,null,null,null,null,null,null,null,null,null,null,null,null,"McComber"]
[null,"McDavitt",null,null,null,null,null,null,null,null,null,null,null,null,null,null,null,null,null,null,null,null,null,null,null,null,null,null,null,null,null,null,null,null,null,null,null,null,null,null,null,null,null,"McDavitt"]
[null,"McGregor",null,null,null,null,null,null,null,null,null,null,null,null,null,null,null,null,null,null,null,null,null,null,null,null,null,null,null,null,null,null,null,null,null,null,null,null,null,null,null,null,null,"McGregor"]
[null,"McKee",null,null,null,null,null,null,null,null,null,null,null,null,null,null,null,null,null,null,null,null,null,null,null,null,null,null,null,null,null,null,null,null,null,null,null,null,null,null,null,null,null,"McKee"]
[null,"McKee Spur",null,null,null,null,null,null,null,null,null,null,null,null,null,null,null,null,null,null,null,null,null,null,null,null,null,null,null,null,null,null,null,null,null,null,null,null,null,null,null,null,null,"McKee Spur"]
[null,"McNair",null,null,null,null,null,null,null,null,null,null,null,null,null,null,null,null,null,null,null,null,null,null,null,null,null,null,null,null,null,null,null,null,null,null,null,null,null,null,null,null,null,"McNair"]
[null,"Meadow Brook",null,null,null,null,null,null,null,null,null,null,null,null,null,null,null,null,null,null,null,null,null,null,null,null,null,null,null,null,null,null,null,null,null,null,null,null,null,null,null,null,null,"Meadow Brook"]
[null,"Meadowlands Township",null,null,null,null,null,null,null,null,null,null,null,null,null,null,null,null,null,null,null,null,null,null,null,null,null,null,null,null,null,null,null,null,null,null,null,null,null,null,null,null,null,"Meadowlands Township"]
[null,"Medford Township",null,null,null,null,null,null,null,null,null,null,null,null,null,null,null,null,null,null,null,null,null,null,null,null,null,null,null,null,null,null,null,null,null,null,null,null,null,null,null,null,null,"Medford Township"]
[null,"Mehurin",null,null,null,null,null,null,null,null,null,null,null,null,null,null,null,null,null,null,null,null,null,null,null,null,null,null,null,null,null,null,null,null,null,null,null,null,null,null,null,null,null,"Mehurin"]
[null,"Melrose",null,null,null,null,null,null,null,null,null,null,null,null,null,null,null,null,null,null,null,null,null,null,null,null,null,null,null,null,null,null,null,null,null,null,null,null,null,null,null,null,null,"Melrose"]
[null,"Melrude",null,null,null,null,null,null,null,null,null,null,null,null,null,null,null,null,null,null,null,null,null,null,null,null,null,null,null,null,null,null,null,null,null,null,null,null,null,null,null,null,null,"Melrude"]
[null,"Melville",null,null,null,null,null,null,null,null,null,null,null,null,null,null,null,null,null,null,null,null,null,null,null,null,null,null,null,null,null,null,null,null,null,null,null,null,null,null,null,null,null,"Melville"]
[null,"Mendota",null,null,null,null,null,null,null,null,null,null,null,null,null,null,null,null,null,null,null,null,null,null,null,null,null,null,null,null,null,null,null,null,null,null,null,null,null,null,null,null,null,"Mendota"]
[null,"Meriden Township",null,null,null,null,null,null,null,null,null,null,null,null,null,null,null,null,null,null,null,null,null,null,null,null,null,null,null,null,null,null,null,null,null,null,null,null,null,null,null,null,null,"Meriden Township"]
[null,"Merrifield",null,null,null,null,null,null,null,null,null,null,null,null,null,null,null,null,null,null,null,null,null,null,null,null,null,null,null,null,null,null,null,null,null,null,null,null,null,null,null,null,null,"Merrifield"]
[null,"Merton Township",null,null,null,null,null,null,null,null,null,null,null,null,null,null,null,null,null,null,null,null,null,null,null,null,null,null,null,null,null,null,null,null,null,null,null,null,null,null,null,null,null,"Merton Township"]
[null,"Middle River",null,null,null,null,null,null,null,null,null,null,null,null,null,null,null,null,null,null,null,null,null,null,null,null,null,null,null,null,null,null,null,null,null,null,null,null,null,null,null,null,null,"Middle River"]
[null,"Middleville",null,null,null,null,null,null,null,null,null,null,null,null,null,null,null,null,null,null,null,null,null,null,null,null,null,null,null,null,null,null,null,null,null,null,null,null,null,null,null,null,null,"Middleville"]
[null,"Midway",null,null,null,null,null,null,null,null,null,null,null,null,null,null,null,null,null,null,null,null,null,null,null,null,null,null,null,null,null,null,null,null,null,null,null,null,null,null,null,null,null,"Midway"]
[null,"Midway Township",null,null,null,null,null,null,null,null,null,null,null,null,null,null,null,null,null,null,null,null,null,null,null,null,null,null,null,null,null,null,null,null,null,null,null,null,null,null,null,null,null,"Midway Township"]
[null,"Milan",null,null,null,null,null,null,null,null,null,null,null,null,null,null,null,null,null,null,null,null,null,null,null,null,null,null,null,null,null,null,null,null,null,null,null,null,null,null,null,null,null,"Milan"]
[null,"Milford",null,null,null,null,null,null,null,null,null,null,null,null,null,null,null,null,null,null,null,null,null,null,null,null,null,null,null,null,null,null,null,null,null,null,null,null,null,null,null,null,null,"Milford"]
[null,"Millersburg",null,null,null,null,null,null,null,null,null,null,null,null,null,null,null,null,null,null,null,null,null,null,null,null,null,null,null,null,null,null,null,null,null,null,null,null,null,null,null,null,null,"Millersburg"]
[null,"Millville",null,null,null,null,null,null,null,null,null,null,null,null,null,null,null,null,null,null,null,null,null,null,null,null,null,null,null,null,null,null,null,null,null,null,null,null,null,null,null,null,null,"Millville"]
[null,"Miloma",null,null,null,null,null,null,null,null,null,null,null,null,null,null,null,null,null,null,null,null,null,null,null,null,null,null,null,null,null,null,null,null,null,null,null,null,null,null,null,null,null,"Miloma"]
[null,"Miltona",null,null,null,null,null,null,null,null,null,null,null,null,null,null,null,null,null,null,null,null,null,null,null,null,null,null,null,null,null,null,null,null,null,null,null,null,null,null,null,null,null,"Miltona"]
[null,"Minden",null,null,null,null,null,null,null,null,null,null,null,null,null,null,null,null,null,null,null,null,null,null,null,null,null,null,null,null,null,null,null,null,null,null,null,null,null,null,null,null,null,"Minden"]
[null,"Minerva",null,null,null,null,null,null,null,null,null,null,null,null,null,null,null,null,null,null,null,null,null,null,null,null,null,null,null,null,null,null,null,null,null,null,null,null,null,null,null,null,null,"Minerva"]
[null,"Minnehaha",null,null,null,null,null,null,null,null,null,null,null,null,null,null,null,null,null,null,null,null,null,null,null,null,null,null,null,null,null,null,null,null,null,null,null,null,null,null,null,null,null,"Minnehaha"]
[null,"Minneopa",null,null,null,null,null,null,null,null,null,null,null,null,null,null,null,null,null,null,null,null,null,null,null,null,null,null,null,null,null,null,null,null,null,null,null,null,null,null,null,null,null,"Minneopa"]
[null,"Minnesota",null,null,null,null,null,null,null,null,null,null,null,null,null,null,null,null,null,null,null,null,null,null,null,null,null,null,null,null,null,null,null,null,null,null,null,null,null,null,null,null,null,"Minnesota"]
[null,"Minnesota Chippewa Indian Trus",null,null,null,null,null,null,null,null,null,null,null,null,null,null,null,null,null,null,null,null,null,null,null,null,null,null,null,null,null,null,null,null,null,null,null,null,null,null,null,null,null,"Minnesota Chippewa Indian Trus"]
[null,"Minnesota Lake",null,null,null,null,null,null,null,null,null,null,null,null,null,null,null,null,null,null,null,null,null,null,null,null,null,null,null,null,null,null,null,null,null,null,null,null,null,null,null,null,null,"Minnesota Lake"]
[null,"Minnetonka",null,null,null,null,null,null,null,null,null,null,null,null,null,null,null,null,null,null,null,null,null,null,null,null,null,null,null,null,null,null,null,null,null,null,null,null,null,null,null,null,null,"Minnetonka"]
[null,"Minnetonka Beach",null,null,null,null,null,null,null,null,null,null,null,null,null,null,null,null,null,null,null,null,null,null,null,null,null,null,null,null,null,null,null,null,null,null,null,null,null,null,null,null,null,"Minnetonka Beach"]
[null,"Minnewana",null,null,null,null,null,null,null,null,null,null,null,null,null,null,null,null,null,null,null,null,null,null,null,null,null,null,null,null,null,null,null,null,null,null,null,null,null,null,null,null,null,"Minnewana"]
[null,"Missabe Junction",null,null,null,null,null,null,null,null,null,null,null,null,null,null,null,null,null,null,null,null,null,null,null,null,null,null,null,null,null,null,null,null,null,null,null,null,null,null,null,null,null,"Missabe Junction"]
[null,"Mission",null,null,null,null,null,null,null,null,null,null,null,null,null,null,null,null,null,null,null,null,null,null,null,null,null,null,null,null,null,null,null,null,null,null,null,null,null,null,null,null,null,"Mission"]
[null,"Mission Township",null,null,null,null,null,null,null,null,null,null,null,null,null,null,null,null,null,null,null,null,null,null,null,null,null,null,null,null,null,null,null,null,null,null,null,null,null,null,null,null,null,"Mission Township"]
[null,"Mizpah",null,null,null,null,null,null,null,null,null,null,null,null,null,null,null,null,null,null,null,null,null,null,null,null,null,null,null,null,null,null,null,null,null,null,null,null,null,null,null,null,null,"Mizpah"]
[null,"Moltke",null,null,null,null,null,null,null,null,null,null,null,null,null,null,null,null,null,null,null,null,null,null,null,null,null,null,null,null,null,null,null,null,null,null,null,null,null,null,null,null,null,"Moltke"]
[null,"Money Creek",null,null,null,null,null,null,null,null,null,null,null,null,null,null,null,null,null,null,null,null,null,null,null,null,null,null,null,null,null,null,null,null,null,null,null,null,null,null,null,null,null,"Money Creek"]
[null,"Monroe",null,null,null,null,null,null,null,null,null,null,null,null,null,null,null,null,null,null,null,null,null,null,null,null,null,null,null,null,null,null,null,null,null,null,null,null,null,null,null,null,null,"Monroe"]
[null,"Montevideo",null,null,null,null,null,null,null,null,null,null,null,null,null,null,null,null,null,null,null,null,null,null,null,null,null,null,null,null,null,null,null,null,null,null,null,null,null,null,null,null,null,"Montevideo"]
[null,"Monticello",null,null,null,null,null,null,null,null,null,null,null,null,null,null,null,null,null,null,null,null,null,null,null,null,null,null,null,null,null,null,null,null,null,null,null,null,null,null,null,null,null,"Monticello"]
[null,"Moore",null,null,null,null,null,null,null,null,null,null,null,null,null,null,null,null,null,null,null,null,null,null,null,null,null,null,null,null,null,null,null,null,null,null,null,null,null,null,null,null,null,"Moore"]
[null,"Moose",null,null,null,null,null,null,null,null,null,null,null,null,null,null,null,null,null,null,null,null,null,null,null,null,null,null,null,null,null,null,null,null,null,null,null,null,null,null,null,null,null,"Moose"]
[null,"Moose Lake Township",null,null,null,null,null,null,null,null,null,null,null,null,null,null,null,null,null,null,null,null,null,null,null,null,null,null,null,null,null,null,null,null,null,null,null,null,null,null,null,null,null,"Moose Lake Township"]
[null,"Mora",null,null,null,null,null,null,null,null,null,null,null,null,null,null,null,null,null,null,null,null,null,null,null,null,null,null,null,null,null,null,null,null,null,null,null,null,null,null,null,null,null,"Mora"]
[null,"Morcom",null,null,null,null,null,null,null,null,null,null,null,null,null,null,null,null,null,null,null,null,null,null,null,null,null,null,null,null,null,null,null,null,null,null,null,null,null,null,null,null,null,"Morcom"]
[null,"Morgan",null,null,null,null,null,null,null,null,null,null,null,null,null,null,null,null,null,null,null,null,null,null,null,null,null,null,null,null,null,null,null,null,null,null,null,null,null,null,null,null,null,"Morgan"]
[null,"Morken",null,null,null,null,null,null,null,null,null,null,null,null,null,null,null,null,null,null,null,null,null,null,null,null,null,null,null,null,null,null,null,null,null,null,null,null,null,null,null,null,null,"Morken"]
[null,"Morrill",null,null,null,null,null,null,null,null,null,null,null,null,null,null,null,null,null,null,null,null,null,null,null,null,null,null,null,null,null,null,null,null,null,null,null,null,null,null,null,null,null,"Morrill"]
[null,"Morrison",null,null,null,null,null,null,null,null,null,null,null,null,null,null,null,null,null,null,null,null,null,null,null,null,null,null,null,null,null,null,null,null,null,null,null,null,null,null,null,null,null,"Morrison"]
[null,"Morse",null,null,null,null,null,null,null,null,null,null,null,null,null,null,null,null,null,null,null,null,null,null,null,null,null,null,null,null,null,null,null,null,null,null,null,null,null,null,null,null,null,"Morse"]
[null,"Moscow Township",null,null,null,null,null,null,null,null,null,null,null,null,null,null,null,null,null,null,null,null,null,null,null,null,null,null,null,null,null,null,null,null,null,null,null,null,null,null,null,null,null,"Moscow Township"]
[null,"Motley Township",null,null,null,null,null,null,null,null,null,null,null,null,null,null,null,null,null,null,null,null,null,null,null,null,null,null,null,null,null,null,null,null,null,null,null,null,null,null,null,null,null,"Motley Township"]
[null,"Mound Prairie",null,null,null,null,null,null,null,null,null,null,null,null,null,null,null,null,null,null,null,null,null,null,null,null,null,null,null,null,null,null,null,null,null,null,null,null,null,null,null,null,null,"Mound Prairie"]
[null,"Mound Township",null,null,null,null,null,null,null,null,null,null,null,null,null,null,null,null,null,null,null,null,null,null,null,null,null,null,null,null,null,null,null,null,null,null,null,null,null,null,null,null,null,"Mound Township"]
[null,"Mount Pleasant",null,null,null,null,null,null,null,null,null,null,null,null,null,null,null,null,null,null,null,null,null,null,null,null,null,null,null,null,null,null,null,null,null,null,null,null,null,null,null,null,null,"Mount Pleasant"]
[null,"Mountain Iron",null,null,null,null,null,null,null,null,null,null,null,null,null,null,null,null,null,null,null,null,null,null,null,null,null,null,null,null,null,null,null,null,null,null,null,null,null,null,null,null,null,"Mountain Iron"]
[null,"Moylan",null,null,null,null,null,null,null,null,null,null,null,null,null,null,null,null,null,null,null,null,null,null,null,null,null,null,null,null,null,null,null,null,null,null,null,null,null,null,null,null,null,"Moylan"]
[null,"Mudbaden",null,null,null,null,null,null,null,null,null,null,null,null,null,null,null,null,null,null,null,null,null,null,null,null,null,null,null,null,null,null,null,null,null,null,null,null,null,null,null,null,null,"Mudbaden"]
[null,"Mulligan",null,null,null,null,null,null,null,null,null,null,null,null,null,null,null,null,null,null,null,null,null,null,null,null,null,null,null,null,null,null,null,null,null,null,null,null,null,null,null,null,null,"Mulligan"]
[null,"Munson",null,null,null,null,null,null,null,null,null,null,null,null,null,null,null,null,null,null,null,null,null,null,null,null,null,null,null,null,null,null,null,null,null,null,null,null,null,null,null,null,null,"Munson"]
[null,"Murray",null,null,null,null,null,null,null,null,null,null,null,null,null,null,null,null,null,null,null,null,null,null,null,null,null,null,null,null,null,null,null,null,null,null,null,null,null,null,null,null,null,"Murray"]
[null,"Murray Township",null,null,null,null,null,null,null,null,null,null,null,null,null,null,null,null,null,null,null,null,null,null,null,null,null,null,null,null,null,null,null,null,null,null,null,null,null,null,null,null,null,"Murray Township"]
[null,"Myrtle",null,null,null,null,null,null,null,null,null,null,null,null,null,null,null,null,null,null,null,null,null,null,null,null,null,null,null,null,null,null,null,null,null,null,null,null,null,null,null,null,null,"Myrtle"]
[null,"Nary",null,null,null,null,null,null,null,null,null,null,null,null,null,null,null,null,null,null,null,null,null,null,null,null,null,null,null,null,null,null,null,null,null,null,null,null,null,null,null,null,null,"Nary"]
[null,"Nashville Center",null,null,null,null,null,null,null,null,null,null,null,null,null,null,null,null,null,null,null,null,null,null,null,null,null,null,null,null,null,null,null,null,null,null,null,null,null,null,null,null,null,"Nashville Center"]
[null,"Nassau",null,null,null,null,null,null,null,null,null,null,null,null,null,null,null,null,null,null,null,null,null,null,null,null,null,null,null,null,null,null,null,null,null,null,null,null,null,null,null,null,null,"Nassau"]
[null,"Nebish Township",null,null,null,null,null,null,null,null,null,null,null,null,null,null,null,null,null,null,null,null,null,null,null,null,null,null,null,null,null,null,null,null,null,null,null,null,null,null,null,null,null,"Nebish Township"]
[null,"Nelson Park",null,null,null,null,null,null,null,null,null,null,null,null,null,null,null,null,null,null,null,null,null,null,null,null,null,null,null,null,null,null,null,null,null,null,null,null,null,null,null,null,null,"Nelson Park"]
[null,"Nereson",null,null,null,null,null,null,null,null,null,null,null,null,null,null,null,null,null,null,null,null,null,null,null,null,null,null,null,null,null,null,null,null,null,null,null,null,null,null,null,null,null,"Nereson"]
[null,"Nerstrand",null,null,null,null,null,null,null,null,null,null,null,null,null,null,null,null,null,null,null,null,null,null,null,null,null,null,null,null,null,null,null,null,null,null,null,null,null,null,null,null,null,"Nerstrand"]
[null,"Nessel",null,null,null,null,null,null,null,null,null,null,null,null,null,null,null,null,null,null,null,null,null,null,null,null,null,null,null,null,null,null,null,null,null,null,null,null,null,null,null,null,null,"Nessel"]
[null,"Nevada",null,null,null,null,null,null,null,null,null,null,null,null,null,null,null,null,null,null,null,null,null,null,null,null,null,null,null,null,null,null,null,null,null,null,null,null,null,null,null,null,null,"Nevada"]
[null,"Nevis Township",null,null,null,null,null,null,null,null,null,null,null,null,null,null,null,null,null,null,null,null,null,null,null,null,null,null,null,null,null,null,null,null,null,null,null,null,null,null,null,null,null,"Nevis Township"]
[null,"New Avon",null,null,null,null,null,null,null,null,null,null,null,null,null,null,null,null,null,null,null,null,null,null,null,null,null,null,null,null,null,null,null,null,null,null,null,null,null,null,null,null,null,"New Avon"]
[null,"New Folden",null,null,null,null,null,null,null,null,null,null,null,null,null,null,null,null,null,null,null,null,null,null,null,null,null,null,null,null,null,null,null,null,null,null,null,null,null,null,null,null,null,"New Folden"]
[null,"New Hartford Township",null,null,null,null,null,null,null,null,null,null,null,null,null,null,null,null,null,null,null,null,null,null,null,null,null,null,null,null,null,null,null,null,null,null,null,null,null,null,null,null,null,"New Hartford Township"]
[null,"New Independence",null,null,null,null,null,null,null,null,null,null,null,null,null,null,null,null,null,null,null,null,null,null,null,null,null,null,null,null,null,null,null,null,null,null,null,null,null,null,null,null,null,"New Independence"]
[null,"New London Township",null,null,null,null,null,null,null,null,null,null,null,null,null,null,null,null,null,null,null,null,null,null,null,null,null,null,null,null,null,null,null,null,null,null,null,null,null,null,null,null,null,"New London Township"]
[null,"New Maine",null,null,null,null,null,null,null,null,null,null,null,null,null,null,null,null,null,null,null,null,null,null,null,null,null,null,null,null,null,null,null,null,null,null,null,null,null,null,null,null,null,"New Maine"]
[null,"New Prague",null,null,null,null,null,null,null,null,null,null,null,null,null,null,null,null,null,null,null,null,null,null,null,null,null,null,null,null,null,null,null,null,null,null,null,null,null,null,null,null,null,"New Prague"]
[null,"New Richland Township",null,null,null,null,null,null,null,null,null,null,null,null,null,null,null,null,null,null,null,null,null,null,null,null,null,null,null,null,null,null,null,null,null,null,null,null,null,null,null,null,null,"New Richland Township"]
[null,"New Solum",null,null,null,null,null,null,null,null,null,null,null,null,null,null,null,null,null,null,null,null,null,null,null,null,null,null,null,null,null,null,null,null,null,null,null,null,null,null,null,null,null,"New Solum"]
[null,"New Sweden Township",null,null,null,null,null,null,null,null,null,null,null,null,null,null,null,null,null,null,null,null,null,null,null,null,null,null,null,null,null,null,null,null,null,null,null,null,null,null,null,null,null,"New Sweden Township"]
[null,"Newburg",null,null,null,null,null,null,null,null,null,null,null,null,null,null,null,null,null,null,null,null,null,null,null,null,null,null,null,null,null,null,null,null,null,null,null,null,null,null,null,null,null,"Newburg"]
[null,"Newburg Township",null,null,null,null,null,null,null,null,null,null,null,null,null,null,null,null,null,null,null,null,null,null,null,null,null,null,null,null,null,null,null,null,null,null,null,null,null,null,null,null,null,"Newburg Township"]
[null,"Newport",null,null,null,null,null,null,null,null,null,null,null,null,null,null,null,null,null,null,null,null,null,null,null,null,null,null,null,null,null,null,null,null,null,null,null,null,null,null,null,null,null,"Newport"]
[null,"Nichols",null,null,null,null,null,null,null,null,null,null,null,null,null,null,null,null,null,null,null,null,null,null,null,null,null,null,null,null,null,null,null,null,null,null,null,null,null,null,null,null,null,"Nichols"]
[null,"Nicollet",null,null,null,null,null,null,null,null,null,null,null,null,null,null,null,null,null,null,null,null,null,null,null,null,null,null,null,null,null,null,null,null,null,null,null,null,null,null,null,null,null,"Nicollet"]
[null,"Nicols",null,null,null,null,null,null,null,null,null,null,null,null,null,null,null,null,null,null,null,null,null,null,null,null,null,null,null,null,null,null,null,null,null,null,null,null,null,null,null,null,null,"Nicols"]
[null,"Nielsville",null,null,null,null,null,null,null,null,null,null,null,null,null,null,null,null,null,null,null,null,null,null,null,null,null,null,null,null,null,null,null,null,null,null,null,null,null,null,null,null,null,"Nielsville"]
[null,"Nininger Township",null,null,null,null,null,null,null,null,null,null,null,null,null,null,null,null,null,null,null,null,null,null,null,null,null,null,null,null,null,null,null,null,null,null,null,null,null,null,null,null,null,"Nininger Township"]
[null,"Nokay Lake",null,null,null,null,null,null,null,null,null,null,null,null,null,null,null,null,null,null,null,null,null,null,null,null,null,null,null,null,null,null,null,null,null,null,null,null,null,null,null,null,null,"Nokay Lake"]
[null,"Nokomis",null,null,null,null,null,null,null,null,null,null,null,null,null,null,null,null,null,null,null,null,null,null,null,null,null,null,null,null,null,null,null,null,null,null,null,null,null,null,null,null,null,"Nokomis"]
[null,"Norden",null,null,null,null,null,null,null,null,null,null,null,null,null,null,null,null,null,null,null,null,null,null,null,null,null,null,null,null,null,null,null,null,null,null,null,null,null,null,null,null,null,"Norden"]
[null,"Nordick",null,null,null,null,null,null,null,null,null,null,null,null,null,null,null,null,null,null,null,null,null,null,null,null,null,null,null,null,null,null,null,null,null,null,null,null,null,null,null,null,null,"Nordick"]
[null,"Norman",null,null,null,null,null,null,null,null,null,null,null,null,null,null,null,null,null,null,null,null,null,null,null,null,null,null,null,null,null,null,null,null,null,null,null,null,null,null,null,null,null,"Norman"]
[null,"Normania Township",null,null,null,null,null,null,null,null,null,null,null,null,null,null,null,null,null,null,null,null,null,null,null,null,null,null,null,null,null,null,null,null,null,null,null,null,null,null,null,null,null,"Normania Township"]
[null,"North",null,null,null,null,null,null,null,null,null,null,null,null,null,null,null,null,null,null,null,null,null,null,null,null,null,null,null,null,null,null,null,null,null,null,null,null,null,null,null,null,null,"North"]
[null,"North Beltrami",null,null,null,null,null,null,null,null,null,null,null,null,null,null,null,null,null,null,null,null,null,null,null,null,null,null,null,null,null,null,null,null,null,null,null,null,null,null,null,null,null,"North Beltrami"]
[null,"North Carlton",null,null,null,null,null,null,null,null,null,null,null,null,null,null,null,null,null,null,null,null,null,null,null,null,null,null,null,null,null,null,null,null,null,null,null,null,null,null,null,null,null,"North Carlton"]
[null,"North Cass",null,null,null,null,null,null,null,null,null,null,null,null,null,null,null,null,null,null,null,null,null,null,null,null,null,null,null,null,null,null,null,null,null,null,null,null,null,null,null,null,null,"North Cass"]
[null,"North Cross Lake",null,null,null,null,null,null,null,null,null,null,null,null,null,null,null,null,null,null,null,null,null,null,null,null,null,null,null,null,null,null,null,null,null,null,null,null,null,null,null,null,null,"North Cross Lake"]
[null,"North Germany",null,null,null,null,null,null,null,null,null,null,null,null,null,null,null,null,null,null,null,null,null,null,null,null,null,null,null,null,null,null,null,null,null,null,null,null,null,null,null,null,null,"North Germany"]
[null,"North Mitchell",null,null,null,null,null,null,null,null,null,null,null,null,null,null,null,null,null,null,null,null,null,null,null,null,null,null,null,null,null,null,null,null,null,null,null,null,null,null,null,null,null,"North Mitchell"]
[null,"North Ottawa",null,null,null,null,null,null,null,null,null,null,null,null,null,null,null,null,null,null,null,null,null,null,null,null,null,null,null,null,null,null,null,null,null,null,null,null,null,null,null,null,null,"North Ottawa"]
[null,"North Roseau",null,null,null,null,null,null,null,null,null,null,null,null,null,null,null,null,null,null,null,null,null,null,null,null,null,null,null,null,null,null,null,null,null,null,null,null,null,null,null,null,null,"North Roseau"]
[null,"North Star",null,null,null,null,null,null,null,null,null,null,null,null,null,null,null,null,null,null,null,null,null,null,null,null,null,null,null,null,null,null,null,null,null,null,null,null,null,null,null,null,null,"North Star"]
[null,"Northcote",null,null,null,null,null,null,null,null,null,null,null,null,null,null,null,null,null,null,null,null,null,null,null,null,null,null,null,null,null,null,null,null,null,null,null,null,null,null,null,null,null,"Northcote"]
[null,"Northdale",null,null,null,null,null,null,null,null,null,null,null,null,null,null,null,null,null,null,null,null,null,null,null,null,null,null,null,null,null,null,null,null,null,null,null,null,null,null,null,null,null,"Northdale"]
[null,"Northeast Itasca",null,null,null,null,null,null,null,null,null,null,null,null,null,null,null,null,null,null,null,null,null,null,null,null,null,null,null,null,null,null,null,null,null,null,null,null,null,null,null,null,null,"Northeast Itasca"]
[null,"Northfield",null,null,null,null,null,null,null,null,null,null,null,null,null,null,null,null,null,null,null,null,null,null,null,null,null,null,null,null,null,null,null,null,null,null,null,null,null,null,null,null,null,"Northfield"]
[null,"Northrop",null,null,null,null,null,null,null,null,null,null,null,null,null,null,null,null,null,null,null,null,null,null,null,null,null,null,null,null,null,null,null,null,null,null,null,null,null,null,null,null,null,"Northrop"]
[null,"Northwest Aitkin",null,null,null,null,null,null,null,null,null,null,null,null,null,null,null,null,null,null,null,null,null,null,null,null,null,null,null,null,null,null,null,null,null,null,null,null,null,null,null,null,null,"Northwest Aitkin"]
[null,"Northwest Roseau",null,null,null,null,null,null,null,null,null,null,null,null,null,null,null,null,null,null,null,null,null,null,null,null,null,null,null,null,null,null,null,null,null,null,null,null,null,null,null,null,null,"Northwest Roseau"]
[null,"Norway",null,null,null,null,null,null,null,null,null,null,null,null,null,null,null,null,null,null,null,null,null,null,null,null,null,null,null,null,null,null,null,null,null,null,null,null,null,null,null,null,null,"Norway"]
[null,"Norway Township",null,null,null,null,null,null,null,null,null,null,null,null,null,null,null,null,null,null,null,null,null,null,null,null,null,null,null,null,null,null,null,null,null,null,null,null,null,null,null,null,null,"Norway Township"]
[null,"Norwegian Grove",null,null,null,null,null,null,null,null,null,null,null,null,null,null,null,null,null,null,null,null,null,null,null,null,null,null,null,null,null,null,null,null,null,null,null,null,null,null,null,null,null,"Norwegian Grove"]
[null,"Nowthen",null,null,null,null,null,null,null,null,null,null,null,null,null,null,null,null,null,null,null,null,null,null,null,null,null,null,null,null,null,null,null,null,null,null,null,null,null,null,null,null,null,"Nowthen"]
[null,"Numedal",null,null,null,null,null,null,null,null,null,null,null,null,null,null,null,null,null,null,null,null,null,null,null,null,null,null,null,null,null,null,null,null,null,null,null,null,null,null,null,null,null,"Numedal"]
[null,"Oak",null,null,null,null,null,null,null,null,null,null,null,null,null,null,null,null,null,null,null,null,null,null,null,null,null,null,null,null,null,null,null,null,null,null,null,null,null,null,null,null,null,"Oak"]
[null,"Oak Grove Township",null,null,null,null,null,null,null,null,null,null,null,null,null,null,null,null,null,null,null,null,null,null,null,null,null,null,null,null,null,null,null,null,null,null,null,null,null,null,null,null,null,"Oak Grove Township"]
[null,"Oak Park",null,null,null,null,null,null,null,null,null,null,null,null,null,null,null,null,null,null,null,null,null,null,null,null,null,null,null,null,null,null,null,null,null,null,null,null,null,null,null,null,null,"Oak Park"]
[null,"Oak Ridge",null,null,null,null,null,null,null,null,null,null,null,null,null,null,null,null,null,null,null,null,null,null,null,null,null,null,null,null,null,null,null,null,null,null,null,null,null,null,null,null,null,"Oak Ridge"]
[null,"Oak Valley",null,null,null,null,null,null,null,null,null,null,null,null,null,null,null,null,null,null,null,null,null,null,null,null,null,null,null,null,null,null,null,null,null,null,null,null,null,null,null,null,null,"Oak Valley"]
[null,"Oakbury",null,null,null,null,null,null,null,null,null,null,null,null,null,null,null,null,null,null,null,null,null,null,null,null,null,null,null,null,null,null,null,null,null,null,null,null,null,null,null,null,null,"Oakbury"]
[null,"Oakhill",null,null,null,null,null,null,null,null,null,null,null,null,null,null,null,null,null,null,null,null,null,null,null,null,null,null,null,null,null,null,null,null,null,null,null,null,null,null,null,null,null,"Oakhill"]
[null,"Oakport Township",null,null,null,null,null,null,null,null,null,null,null,null,null,null,null,null,null,null,null,null,null,null,null,null,null,null,null,null,null,null,null,null,null,null,null,null,null,null,null,null,null,"Oakport Township"]
[null,"Odessa",null,null,null,null,null,null,null,null,null,null,null,null,null,null,null,null,null,null,null,null,null,null,null,null,null,null,null,null,null,null,null,null,null,null,null,null,null,null,null,null,null,"Odessa"]
[null,"Odin Township",null,null,null,null,null,null,null,null,null,null,null,null,null,null,null,null,null,null,null,null,null,null,null,null,null,null,null,null,null,null,null,null,null,null,null,null,null,null,null,null,null,"Odin Township"]
[null,"Ogilvie",null,null,null,null,null,null,null,null,null,null,null,null,null,null,null,null,null,null,null,null,null,null,null,null,null,null,null,null,null,null,null,null,null,null,null,null,null,null,null,null,null,"Ogilvie"]
[null,"Old Frontenac",null,null,null,null,null,null,null,null,null,null,null,null,null,null,null,null,null,null,null,null,null,null,null,null,null,null,null,null,null,null,null,null,null,null,null,null,null,null,null,null,null,"Old Frontenac"]
[null,"Olivia",null,null,null,null,null,null,null,null,null,null,null,null,null,null,null,null,null,null,null,null,null,null,null,null,null,null,null,null,null,null,null,null,null,null,null,null,null,null,null,null,null,"Olivia"]
[null,"Olney",null,null,null,null,null,null,null,null,null,null,null,null,null,null,null,null,null,null,null,null,null,null,null,null,null,null,null,null,null,null,null,null,null,null,null,null,null,null,null,null,null,"Olney"]
[null,"Onamia Township",null,null,null,null,null,null,null,null,null,null,null,null,null,null,null,null,null,null,null,null,null,null,null,null,null,null,null,null,null,null,null,null,null,null,null,null,null,null,null,null,null,"Onamia Township"]
[null,"Oneota",null,null,null,null,null,null,null,null,null,null,null,null,null,null,null,null,null,null,null,null,null,null,null,null,null,null,null,null,null,null,null,null,null,null,null,null,null,null,null,null,null,"Oneota"]
[null,"Opole",null,null,null,null,null,null,null,null,null,null,null,null,null,null,null,null,null,null,null,null,null,null,null,null,null,null,null,null,null,null,null,null,null,null,null,null,null,null,null,null,null,"Opole"]
[null,"Orchard Garden",null,null,null,null,null,null,null,null,null,null,null,null,null,null,null,null,null,null,null,null,null,null,null,null,null,null,null,null,null,null,null,null,null,null,null,null,null,null,null,null,null,"Orchard Garden"]
[null,"Orion",null,null,null,null,null,null,null,null,null,null,null,null,null,null,null,null,null,null,null,null,null,null,null,null,null,null,null,null,null,null,null,null,null,null,null,null,null,null,null,null,null,"Orion"]
[null,"Orono",null,null,null,null,null,null,null,null,null,null,null,null,null,null,null,null,null,null,null,null,null,null,null,null,null,null,null,null,null,null,null,null,null,null,null,null,null,null,null,null,null,"Orono"]
[null,"Oronoco Township",null,null,null,null,null,null,null,null,null,null,null,null,null,null,null,null,null,null,null,null,null,null,null,null,null,null,null,null,null,null,null,null,null,null,null,null,null,null,null,null,null,"Oronoco Township"]
[null,"Orr",null,null,null,null,null,null,null,null,null,null,null,null,null,null,null,null,null,null,null,null,null,null,null,null,null,null,null,null,null,null,null,null,null,null,null,null,null,null,null,null,null,"Orr"]
[null,"Orth",null,null,null,null,null,null,null,null,null,null,null,null,null,null,null,null,null,null,null,null,null,null,null,null,null,null,null,null,null,null,null,null,null,null,null,null,null,null,null,null,null,"Orth"]
[null,"Orwell",null,null,null,null,null,null,null,null,null,null,null,null,null,null,null,null,null,null,null,null,null,null,null,null,null,null,null,null,null,null,null,null,null,null,null,null,null,null,null,null,null,"Orwell"]
[null,"Osakis",null,null,null,null,null,null,null,null,null,null,null,null,null,null,null,null,null,null,null,null,null,null,null,null,null,null,null,null,null,null,null,null,null,null,null,null,null,null,null,null,null,"Osakis"]
[null,"Osborne",null,null,null,null,null,null,null,null,null,null,null,null,null,null,null,null,null,null,null,null,null,null,null,null,null,null,null,null,null,null,null,null,null,null,null,null,null,null,null,null,null,"Osborne"]
[null,"Oshawa Township",null,null,null,null,null,null,null,null,null,null,null,null,null,null,null,null,null,null,null,null,null,null,null,null,null,null,null,null,null,null,null,null,null,null,null,null,null,null,null,null,null,"Oshawa Township"]
[null,"Oslund",null,null,null,null,null,null,null,null,null,null,null,null,null,null,null,null,null,null,null,null,null,null,null,null,null,null,null,null,null,null,null,null,null,null,null,null,null,null,null,null,null,"Oslund"]
[null,"Osseo",null,null,null,null,null,null,null,null,null,null,null,null,null,null,null,null,null,null,null,null,null,null,null,null,null,null,null,null,null,null,null,null,null,null,null,null,null,null,null,null,null,"Osseo"]
[null,"Oteneagen",null,null,null,null,null,null,null,null,null,null,null,null,null,null,null,null,null,null,null,null,null,null,null,null,null,null,null,null,null,null,null,null,null,null,null,null,null,null,null,null,null,"Oteneagen"]
[null,"Otrey",null,null,null,null,null,null,null,null,null,null,null,null,null,null,null,null,null,null,null,null,null,null,null,null,null,null,null,null,null,null,null,null,null,null,null,null,null,null,null,null,null,"Otrey"]
[null,"Ottawa",null,null,null,null,null,null,null,null,null,null,null,null,null,null,null,null,null,null,null,null,null,null,null,null,null,null,null,null,null,null,null,null,null,null,null,null,null,null,null,null,null,"Ottawa"]
[null,"Otter Tail",null,null,null,null,null,null,null,null,null,null,null,null,null,null,null,null,null,null,null,null,null,null,null,null,null,null,null,null,null,null,null,null,null,null,null,null,null,null,null,null,null,"Otter Tail"]
[null,"Outing",null,null,null,null,null,null,null,null,null,null,null,null,null,null,null,null,null,null,null,null,null,null,null,null,null,null,null,null,null,null,null,null,null,null,null,null,null,null,null,null,null,"Outing"]
[null,"Owatonna Township",null,null,null,null,null,null,null,null,null,null,null,null,null,null,null,null,null,null,null,null,null,null,null,null,null,null,null,null,null,null,null,null,null,null,null,null,null,null,null,null,null,"Owatonna Township"]
[null,"Oxford",null,null,null,null,null,null,null,null,null,null,null,null,null,null,null,null,null,null,null,null,null,null,null,null,null,null,null,null,null,null,null,null,null,null,null,null,null,null,null,null,null,"Oxford"]
[null,"Oylen",null,null,null,null,null,null,null,null,null,null,null,null,null,null,null,null,null,null,null,null,null,null,null,null,null,null,null,null,null,null,null,null,null,null,null,null,null,null,null,null,null,"Oylen"]
[null,"Paddock",null,null,null,null,null,null,null,null,null,null,null,null,null,null,null,null,null,null,null,null,null,null,null,null,null,null,null,null,null,null,null,null,null,null,null,null,null,null,null,null,null,"Paddock"]
[null,"Page Township",null,null,null,null,null,null,null,null,null,null,null,null,null,null,null,null,null,null,null,null,null,null,null,null,null,null,null,null,null,null,null,null,null,null,null,null,null,null,null,null,null,"Page Township"]
[null,"Palmer Township",null,null,null,null,null,null,null,null,null,null,null,null,null,null,null,null,null,null,null,null,null,null,null,null,null,null,null,null,null,null,null,null,null,null,null,null,null,null,null,null,null,"Palmer Township"]
[null,"Palmyra",null,null,null,null,null,null,null,null,null,null,null,null,null,null,null,null,null,null,null,null,null,null,null,null,null,null,null,null,null,null,null,null,null,null,null,null,null,null,null,null,null,"Palmyra"]
[null,"Parent",null,null,null,null,null,null,null,null,null,null,null,null,null,null,null,null,null,null,null,null,null,null,null,null,null,null,null,null,null,null,null,null,null,null,null,null,null,null,null,null,null,"Parent"]
[null,"Park View",null,null,null,null,null,null,null,null,null,null,null,null,null,null,null,null,null,null,null,null,null,null,null,null,null,null,null,null,null,null,null,null,null,null,null,null,null,null,null,null,null,"Park View"]
[null,"Parker",null,null,null,null,null,null,null,null,null,null,null,null,null,null,null,null,null,null,null,null,null,null,null,null,null,null,null,null,null,null,null,null,null,null,null,null,null,null,null,null,null,"Parker"]
[null,"Parkers Prairie",null,null,null,null,null,null,null,null,null,null,null,null,null,null,null,null,null,null,null,null,null,null,null,null,null,null,null,null,null,null,null,null,null,null,null,null,null,null,null,null,null,"Parkers Prairie"]
[null,"Parkway Junction",null,null,null,null,null,null,null,null,null,null,null,null,null,null,null,null,null,null,null,null,null,null,null,null,null,null,null,null,null,null,null,null,null,null,null,null,null,null,null,null,null,"Parkway Junction"]
[null,"Paxton",null,null,null,null,null,null,null,null,null,null,null,null,null,null,null,null,null,null,null,null,null,null,null,null,null,null,null,null,null,null,null,null,null,null,null,null,null,null,null,null,null,"Paxton"]
[null,"Payne Avenue",null,null,null,null,null,null,null,null,null,null,null,null,null,null,null,null,null,null,null,null,null,null,null,null,null,null,null,null,null,null,null,null,null,null,null,null,null,null,null,null,null,"Payne Avenue"]
[null,"Paynesville Township",null,null,null,null,null,null,null,null,null,null,null,null,null,null,null,null,null,null,null,null,null,null,null,null,null,null,null,null,null,null,null,null,null,null,null,null,null,null,null,null,null,"Paynesville Township"]
[null,"Pease",null,null,null,null,null,null,null,null,null,null,null,null,null,null,null,null,null,null,null,null,null,null,null,null,null,null,null,null,null,null,null,null,null,null,null,null,null,null,null,null,null,"Pease"]
[null,"Pelican Lake",null,null,null,null,null,null,null,null,null,null,null,null,null,null,null,null,null,null,null,null,null,null,null,null,null,null,null,null,null,null,null,null,null,null,null,null,null,null,null,null,null,"Pelican Lake"]
[null,"Pelican Rapids",null,null,null,null,null,null,null,null,null,null,null,null,null,null,null,null,null,null,null,null,null,null,null,null,null,null,null,null,null,null,null,null,null,null,null,null,null,null,null,null,null,"Pelican Rapids"]
[null,"Pemberton",null,null,null,null,null,null,null,null,null,null,null,null,null,null,null,null,null,null,null,null,null,null,null,null,null,null,null,null,null,null,null,null,null,null,null,null,null,null,null,null,null,"Pemberton"]
[null,"Pencer",null,null,null,null,null,null,null,null,null,null,null,null,null,null,null,null,null,null,null,null,null,null,null,null,null,null,null,null,null,null,null,null,null,null,null,null,null,null,null,null,null,"Pencer"]
[null,"Pennock",null,null,null,null,null,null,null,null,null,null,null,null,null,null,null,null,null,null,null,null,null,null,null,null,null,null,null,null,null,null,null,null,null,null,null,null,null,null,null,null,null,"Pennock"]
[null,"Pequaywan",null,null,null,null,null,null,null,null,null,null,null,null,null,null,null,null,null,null,null,null,null,null,null,null,null,null,null,null,null,null,null,null,null,null,null,null,null,null,null,null,null,"Pequaywan"]
[null,"Perault",null,null,null,null,null,null,null,null,null,null,null,null,null,null,null,null,null,null,null,null,null,null,null,null,null,null,null,null,null,null,null,null,null,null,null,null,null,null,null,null,null,"Perault"]
[null,"Perham",null,null,null,null,null,null,null,null,null,null,null,null,null,null,null,null,null,null,null,null,null,null,null,null,null,null,null,null,null,null,null,null,null,null,null,null,null,null,null,null,null,"Perham"]
[null,"Perley",null,null,null,null,null,null,null,null,null,null,null,null,null,null,null,null,null,null,null,null,null,null,null,null,null,null,null,null,null,null,null,null,null,null,null,null,null,null,null,null,null,"Perley"]
[null,"Perth",null,null,null,null,null,null,null,null,null,null,null,null,null,null,null,null,null,null,null,null,null,null,null,null,null,null,null,null,null,null,null,null,null,null,null,null,null,null,null,null,null,"Perth"]
[null,"Petersburg",null,null,null,null,null,null,null,null,null,null,null,null,null,null,null,null,null,null,null,null,null,null,null,null,null,null,null,null,null,null,null,null,null,null,null,null,null,null,null,null,null,"Petersburg"]
[null,"Petran",null,null,null,null,null,null,null,null,null,null,null,null,null,null,null,null,null,null,null,null,null,null,null,null,null,null,null,null,null,null,null,null,null,null,null,null,null,null,null,null,null,"Petran"]
[null,"Pfingsten",null,null,null,null,null,null,null,null,null,null,null,null,null,null,null,null,null,null,null,null,null,null,null,null,null,null,null,null,null,null,null,null,null,null,null,null,null,null,null,null,null,"Pfingsten"]
[null,"Philbrook",null,null,null,null,null,null,null,null,null,null,null,null,null,null,null,null,null,null,null,null,null,null,null,null,null,null,null,null,null,null,null,null,null,null,null,null,null,null,null,null,null,"Philbrook"]
[null,"Piedmont Heights",null,null,null,null,null,null,null,null,null,null,null,null,null,null,null,null,null,null,null,null,null,null,null,null,null,null,null,null,null,null,null,null,null,null,null,null,null,null,null,null,null,"Piedmont Heights"]
[null,"Pike",null,null,null,null,null,null,null,null,null,null,null,null,null,null,null,null,null,null,null,null,null,null,null,null,null,null,null,null,null,null,null,null,null,null,null,null,null,null,null,null,null,"Pike"]
[null,"Pike Creek",null,null,null,null,null,null,null,null,null,null,null,null,null,null,null,null,null,null,null,null,null,null,null,null,null,null,null,null,null,null,null,null,null,null,null,null,null,null,null,null,null,"Pike Creek"]
[null,"Pike Lake",null,null,null,null,null,null,null,null,null,null,null,null,null,null,null,null,null,null,null,null,null,null,null,null,null,null,null,null,null,null,null,null,null,null,null,null,null,null,null,null,null,"Pike Lake"]
[null,"Pillsbury Township",null,null,null,null,null,null,null,null,null,null,null,null,null,null,null,null,null,null,null,null,null,null,null,null,null,null,null,null,null,null,null,null,null,null,null,null,null,null,null,null,null,"Pillsbury Township"]
[null,"Pilot Mound",null,null,null,null,null,null,null,null,null,null,null,null,null,null,null,null,null,null,null,null,null,null,null,null,null,null,null,null,null,null,null,null,null,null,null,null,null,null,null,null,null,"Pilot Mound"]
[null,"Pine Center",null,null,null,null,null,null,null,null,null,null,null,null,null,null,null,null,null,null,null,null,null,null,null,null,null,null,null,null,null,null,null,null,null,null,null,null,null,null,null,null,null,"Pine Center"]
[null,"Pine Creek",null,null,null,null,null,null,null,null,null,null,null,null,null,null,null,null,null,null,null,null,null,null,null,null,null,null,null,null,null,null,null,null,null,null,null,null,null,null,null,null,null,"Pine Creek"]
[null,"Pine Knoll",null,null,null,null,null,null,null,null,null,null,null,null,null,null,null,null,null,null,null,null,null,null,null,null,null,null,null,null,null,null,null,null,null,null,null,null,null,null,null,null,null,"Pine Knoll"]
[null,"Pine Point Township",null,null,null,null,null,null,null,null,null,null,null,null,null,null,null,null,null,null,null,null,null,null,null,null,null,null,null,null,null,null,null,null,null,null,null,null,null,null,null,null,null,"Pine Point Township"]
[null,"Pine Springs",null,null,null,null,null,null,null,null,null,null,null,null,null,null,null,null,null,null,null,null,null,null,null,null,null,null,null,null,null,null,null,null,null,null,null,null,null,null,null,null,null,"Pine Springs"]
[null,"Pinecreek",null,null,null,null,null,null,null,null,null,null,null,null,null,null,null,null,null,null,null,null,null,null,null,null,null,null,null,null,null,null,null,null,null,null,null,null,null,null,null,null,null,"Pinecreek"]
[null,"Pinewood",null,null,null,null,null,null,null,null,null,null,null,null,null,null,null,null,null,null,null,null,null,null,null,null,null,null,null,null,null,null,null,null,null,null,null,null,null,null,null,null,null,"Pinewood"]
[null,"Pipestone National Monument",null,null,null,null,null,null,null,null,null,null,null,null,null,null,null,null,null,null,null,null,null,null,null,null,null,null,null,null,null,null,null,null,null,null,null,null,null,null,null,null,null,"Pipestone National Monument"]
[null,"Plainview Township",null,null,null,null,null,null,null,null,null,null,null,null,null,null,null,null,null,null,null,null,null,null,null,null,null,null,null,null,null,null,null,null,null,null,null,null,null,null,null,null,null,"Plainview Township"]
[null,"Platte Lake",null,null,null,null,null,null,null,null,null,null,null,null,null,null,null,null,null,null,null,null,null,null,null,null,null,null,null,null,null,null,null,null,null,null,null,null,null,null,null,null,null,"Platte Lake"]
[null,"Pleasant Grove",null,null,null,null,null,null,null,null,null,null,null,null,null,null,null,null,null,null,null,null,null,null,null,null,null,null,null,null,null,null,null,null,null,null,null,null,null,null,null,null,null,"Pleasant Grove"]
[null,"Pleasant Mound",null,null,null,null,null,null,null,null,null,null,null,null,null,null,null,null,null,null,null,null,null,null,null,null,null,null,null,null,null,null,null,null,null,null,null,null,null,null,null,null,null,"Pleasant Mound"]
[null,"Pleasant Valley",null,null,null,null,null,null,null,null,null,null,null,null,null,null,null,null,null,null,null,null,null,null,null,null,null,null,null,null,null,null,null,null,null,null,null,null,null,null,null,null,null,"Pleasant Valley"]
[null,"Pleasant Valley Township",null,null,null,null,null,null,null,null,null,null,null,null,null,null,null,null,null,null,null,null,null,null,null,null,null,null,null,null,null,null,null,null,null,null,null,null,null,null,null,null,null,"Pleasant Valley Township"]
[null,"Plummer",null,null,null,null,null,null,null,null,null,null,null,null,null,null,null,null,null,null,null,null,null,null,null,null,null,null,null,null,null,null,null,null,null,null,null,null,null,null,null,null,null,"Plummer"]
[null,"Point Douglas",null,null,null,null,null,null,null,null,null,null,null,null,null,null,null,null,null,null,null,null,null,null,null,null,null,null,null,null,null,null,null,null,null,null,null,null,null,null,null,null,null,"Point Douglas"]
[null,"Pomme de Terre",null,null,null,null,null,null,null,null,null,null,null,null,null,null,null,null,null,null,null,null,null,null,null,null,null,null,null,null,null,null,null,null,null,null,null,null,null,null,null,null,null,"Pomme de Terre"]
[null,"Ponemah",null,null,null,null,null,null,null,null,null,null,null,null,null,null,null,null,null,null,null,null,null,null,null,null,null,null,null,null,null,null,null,null,null,null,null,null,null,null,null,null,null,"Ponemah"]
[null,"Poplar",null,null,null,null,null,null,null,null,null,null,null,null,null,null,null,null,null,null,null,null,null,null,null,null,null,null,null,null,null,null,null,null,null,null,null,null,null,null,null,null,null,"Poplar"]
[null,"Poplar Township",null,null,null,null,null,null,null,null,null,null,null,null,null,null,null,null,null,null,null,null,null,null,null,null,null,null,null,null,null,null,null,null,null,null,null,null,null,null,null,null,null,"Poplar Township"]
[null,"Popple Grove",null,null,null,null,null,null,null,null,null,null,null,null,null,null,null,null,null,null,null,null,null,null,null,null,null,null,null,null,null,null,null,null,null,null,null,null,null,null,null,null,null,"Popple Grove"]
[null,"Poppleton",null,null,null,null,null,null,null,null,null,null,null,null,null,null,null,null,null,null,null,null,null,null,null,null,null,null,null,null,null,null,null,null,null,null,null,null,null,null,null,null,null,"Poppleton"]
[null,"Portage Lake",null,null,null,null,null,null,null,null,null,null,null,null,null,null,null,null,null,null,null,null,null,null,null,null,null,null,null,null,null,null,null,null,null,null,null,null,null,null,null,null,null,"Portage Lake"]
[null,"Porter",null,null,null,null,null,null,null,null,null,null,null,null,null,null,null,null,null,null,null,null,null,null,null,null,null,null,null,null,null,null,null,null,null,null,null,null,null,null,null,null,null,"Porter"]
[null,"Potshot Lake",null,null,null,null,null,null,null,null,null,null,null,null,null,null,null,null,null,null,null,null,null,null,null,null,null,null,null,null,null,null,null,null,null,null,null,null,null,null,null,null,null,"Potshot Lake"]
[null,"Prairie Island",null,null,null,null,null,null,null,null,null,null,null,null,null,null,null,null,null,null,null,null,null,null,null,null,null,null,null,null,null,null,null,null,null,null,null,null,null,null,null,null,null,"Prairie Island"]
[null,"Prairie View",null,null,null,null,null,null,null,null,null,null,null,null,null,null,null,null,null,null,null,null,null,null,null,null,null,null,null,null,null,null,null,null,null,null,null,null,null,null,null,null,null,"Prairie View"]
[null,"Prairieville",null,null,null,null,null,null,null,null,null,null,null,null,null,null,null,null,null,null,null,null,null,null,null,null,null,null,null,null,null,null,null,null,null,null,null,null,null,null,null,null,null,"Prairieville"]
[null,"Predmore",null,null,null,null,null,null,null,null,null,null,null,null,null,null,null,null,null,null,null,null,null,null,null,null,null,null,null,null,null,null,null,null,null,null,null,null,null,null,null,null,null,"Predmore"]
[null,"Prescott",null,null,null,null,null,null,null,null,null,null,null,null,null,null,null,null,null,null,null,null,null,null,null,null,null,null,null,null,null,null,null,null,null,null,null,null,null,null,null,null,null,"Prescott"]
[null,"Preston Township",null,null,null,null,null,null,null,null,null,null,null,null,null,null,null,null,null,null,null,null,null,null,null,null,null,null,null,null,null,null,null,null,null,null,null,null,null,null,null,null,null,"Preston Township"]
[null,"Princeton Township",null,null,null,null,null,null,null,null,null,null,null,null,null,null,null,null,null,null,null,null,null,null,null,null,null,null,null,null,null,null,null,null,null,null,null,null,null,null,null,null,null,"Princeton Township"]
[null,"Proctor",null,null,null,null,null,null,null,null,null,null,null,null,null,null,null,null,null,null,null,null,null,null,null,null,null,null,null,null,null,null,null,null,null,null,null,null,null,null,null,null,null,"Proctor"]
[null,"Prosper",null,null,null,null,null,null,null,null,null,null,null,null,null,null,null,null,null,null,null,null,null,null,null,null,null,null,null,null,null,null,null,null,null,null,null,null,null,null,null,null,null,"Prosper"]
[null,"Puposky",null,null,null,null,null,null,null,null,null,null,null,null,null,null,null,null,null,null,null,null,null,null,null,null,null,null,null,null,null,null,null,null,null,null,null,null,null,null,null,null,null,"Puposky"]
[null,"Quincy",null,null,null,null,null,null,null,null,null,null,null,null,null,null,null,null,null,null,null,null,null,null,null,null,null,null,null,null,null,null,null,null,null,null,null,null,null,null,null,null,null,"Quincy"]
[null,"Rabbit Lake",null,null,null,null,null,null,null,null,null,null,null,null,null,null,null,null,null,null,null,null,null,null,null,null,null,null,null,null,null,null,null,null,null,null,null,null,null,null,null,null,null,"Rabbit Lake"]
[null,"Racine",null,null,null,null,null,null,null,null,null,null,null,null,null,null,null,null,null,null,null,null,null,null,null,null,null,null,null,null,null,null,null,null,null,null,null,null,null,null,null,null,null,"Racine"]
[null,"Rail Prairie",null,null,null,null,null,null,null,null,null,null,null,null,null,null,null,null,null,null,null,null,null,null,null,null,null,null,null,null,null,null,null,null,null,null,null,null,null,null,null,null,null,"Rail Prairie"]
[null,"Rainy Lake",null,null,null,null,null,null,null,null,null,null,null,null,null,null,null,null,null,null,null,null,null,null,null,null,null,null,null,null,null,null,null,null,null,null,null,null,null,null,null,null,null,"Rainy Lake"]
[null,"Ramsey",null,null,null,null,null,null,null,null,null,null,null,null,null,null,null,null,null,null,null,null,null,null,null,null,null,null,null,null,null,null,null,null,null,null,null,null,null,null,null,null,null,"Ramsey"]
[null,"Randall",null,null,null,null,null,null,null,null,null,null,null,null,null,null,null,null,null,null,null,null,null,null,null,null,null,null,null,null,null,null,null,null,null,null,null,null,null,null,null,null,null,"Randall"]
[null,"Ransom",null,null,null,null,null,null,null,null,null,null,null,null,null,null,null,null,null,null,null,null,null,null,null,null,null,null,null,null,null,null,null,null,null,null,null,null,null,null,null,null,null,"Ransom"]
[null,"Ransom Township",null,null,null,null,null,null,null,null,null,null,null,null,null,null,null,null,null,null,null,null,null,null,null,null,null,null,null,null,null,null,null,null,null,null,null,null,null,null,null,null,null,"Ransom Township"]
[null,"Rasset",null,null,null,null,null,null,null,null,null,null,null,null,null,null,null,null,null,null,null,null,null,null,null,null,null,null,null,null,null,null,null,null,null,null,null,null,null,null,null,null,null,"Rasset"]
[null,"Rauch",null,null,null,null,null,null,null,null,null,null,null,null,null,null,null,null,null,null,null,null,null,null,null,null,null,null,null,null,null,null,null,null,null,null,null,null,null,null,null,null,null,"Rauch"]
[null,"Raymond",null,null,null,null,null,null,null,null,null,null,null,null,null,null,null,null,null,null,null,null,null,null,null,null,null,null,null,null,null,null,null,null,null,null,null,null,null,null,null,null,null,"Raymond"]
[null,"Red Eye",null,null,null,null,null,null,null,null,null,null,null,null,null,null,null,null,null,null,null,null,null,null,null,null,null,null,null,null,null,null,null,null,null,null,null,null,null,null,null,null,null,"Red Eye"]
[null,"Red Lake Indian Reservation",null,null,null,null,null,null,null,null,null,null,null,null,null,null,null,null,null,null,null,null,null,null,null,null,null,null,null,null,null,null,null,null,null,null,null,null,null,null,null,null,null,"Red Lake Indian Reservation"]
[null,"Red Rock Township",null,null,null,null,null,null,null,null,null,null,null,null,null,null,null,null,null,null,null,null,null,null,null,null,null,null,null,null,null,null,null,null,null,null,null,null,null,null,null,null,null,"Red Rock Township"]
[null,"Redore",null,null,null,null,null,null,null,null,null,null,null,null,null,null,null,null,null,null,null,null,null,null,null,null,null,null,null,null,null,null,null,null,null,null,null,null,null,null,null,null,null,"Redore"]
[null,"Redwood Falls",null,null,null,null,null,null,null,null,null,null,null,null,null,null,null,null,null,null,null,null,null,null,null,null,null,null,null,null,null,null,null,null,null,null,null,null,null,null,null,null,null,"Redwood Falls"]
[null,"Redwood Falls Township",null,null,null,null,null,null,null,null,null,null,null,null,null,null,null,null,null,null,null,null,null,null,null,null,null,null,null,null,null,null,null,null,null,null,null,null,null,null,null,null,null,"Redwood Falls Township"]
[null,"Reine",null,null,null,null,null,null,null,null,null,null,null,null,null,null,null,null,null,null,null,null,null,null,null,null,null,null,null,null,null,null,null,null,null,null,null,null,null,null,null,null,null,"Reine"]
[null,"Reis",null,null,null,null,null,null,null,null,null,null,null,null,null,null,null,null,null,null,null,null,null,null,null,null,null,null,null,null,null,null,null,null,null,null,null,null,null,null,null,null,null,"Reis"]
[null,"Reno",null,null,null,null,null,null,null,null,null,null,null,null,null,null,null,null,null,null,null,null,null,null,null,null,null,null,null,null,null,null,null,null,null,null,null,null,null,null,null,null,null,"Reno"]
[null,"Renville",null,null,null,null,null,null,null,null,null,null,null,null,null,null,null,null,null,null,null,null,null,null,null,null,null,null,null,null,null,null,null,null,null,null,null,null,null,null,null,null,null,"Renville"]
[null,"Rheiderland",null,null,null,null,null,null,null,null,null,null,null,null,null,null,null,null,null,null,null,null,null,null,null,null,null,null,null,null,null,null,null,null,null,null,null,null,null,null,null,null,null,"Rheiderland"]
[null,"Rice Junction",null,null,null,null,null,null,null,null,null,null,null,null,null,null,null,null,null,null,null,null,null,null,null,null,null,null,null,null,null,null,null,null,null,null,null,null,null,null,null,null,null,"Rice Junction"]
[null,"Rice River",null,null,null,null,null,null,null,null,null,null,null,null,null,null,null,null,null,null,null,null,null,null,null,null,null,null,null,null,null,null,null,null,null,null,null,null,null,null,null,null,null,"Rice River"]
[null,"Rice Street",null,null,null,null,null,null,null,null,null,null,null,null,null,null,null,null,null,null,null,null,null,null,null,null,null,null,null,null,null,null,null,null,null,null,null,null,null,null,null,null,null,"Rice Street"]
[null,"Riceland",null,null,null,null,null,null,null,null,null,null,null,null,null,null,null,null,null,null,null,null,null,null,null,null,null,null,null,null,null,null,null,null,null,null,null,null,null,null,null,null,null,"Riceland"]
[null,"Rich Valley Township",null,null,null,null,null,null,null,null,null,null,null,null,null,null,null,null,null,null,null,null,null,null,null,null,null,null,null,null,null,null,null,null,null,null,null,null,null,null,null,null,null,"Rich Valley Township"]
[null,"Richardville",null,null,null,null,null,null,null,null,null,null,null,null,null,null,null,null,null,null,null,null,null,null,null,null,null,null,null,null,null,null,null,null,null,null,null,null,null,null,null,null,null,"Richardville"]
[null,"Richland",null,null,null,null,null,null,null,null,null,null,null,null,null,null,null,null,null,null,null,null,null,null,null,null,null,null,null,null,null,null,null,null,null,null,null,null,null,null,null,null,null,"Richland"]
[null,"Richville",null,null,null,null,null,null,null,null,null,null,null,null,null,null,null,null,null,null,null,null,null,null,null,null,null,null,null,null,null,null,null,null,null,null,null,null,null,null,null,null,null,"Richville"]
[null,"Ridgely",null,null,null,null,null,null,null,null,null,null,null,null,null,null,null,null,null,null,null,null,null,null,null,null,null,null,null,null,null,null,null,null,null,null,null,null,null,null,null,null,null,"Ridgely"]
[null,"Rindal",null,null,null,null,null,null,null,null,null,null,null,null,null,null,null,null,null,null,null,null,null,null,null,null,null,null,null,null,null,null,null,null,null,null,null,null,null,null,null,null,null,"Rindal"]
[null,"Ringe",null,null,null,null,null,null,null,null,null,null,null,null,null,null,null,null,null,null,null,null,null,null,null,null,null,null,null,null,null,null,null,null,null,null,null,null,null,null,null,null,null,"Ringe"]
[null,"River Falls",null,null,null,null,null,null,null,null,null,null,null,null,null,null,null,null,null,null,null,null,null,null,null,null,null,null,null,null,null,null,null,null,null,null,null,null,null,null,null,null,null,"River Falls"]
[null,"River Point",null,null,null,null,null,null,null,null,null,null,null,null,null,null,null,null,null,null,null,null,null,null,null,null,null,null,null,null,null,null,null,null,null,null,null,null,null,null,null,null,null,"River Point"]
[null,"Riverside",null,null,null,null,null,null,null,null,null,null,null,null,null,null,null,null,null,null,null,null,null,null,null,null,null,null,null,null,null,null,null,null,null,null,null,null,null,null,null,null,null,"Riverside"]
[null,"Riverside Township",null,null,null,null,null,null,null,null,null,null,null,null,null,null,null,null,null,null,null,null,null,null,null,null,null,null,null,null,null,null,null,null,null,null,null,null,null,null,null,null,null,"Riverside Township"]
[null,"Roan",null,null,null,null,null,null,null,null,null,null,null,null,null,null,null,null,null,null,null,null,null,null,null,null,null,null,null,null,null,null,null,null,null,null,null,null,null,null,null,null,null,"Roan"]
[null,"Robbinsdale",null,null,null,null,null,null,null,null,null,null,null,null,null,null,null,null,null,null,null,null,null,null,null,null,null,null,null,null,null,null,null,null,null,null,null,null,null,null,null,null,null,"Robbinsdale"]
[null,"Rochert",null,null,null,null,null,null,null,null,null,null,null,null,null,null,null,null,null,null,null,null,null,null,null,null,null,null,null,null,null,null,null,null,null,null,null,null,null,null,null,null,null,"Rochert"]
[null,"Rochester",null,null,null,null,null,null,null,null,null,null,null,null,null,null,null,null,null,null,null,null,null,null,null,null,null,null,null,null,null,null,null,null,null,null,null,null,null,null,null,null,null,"Rochester"]
[null,"Rock",null,null,null,null,null,null,null,null,null,null,null,null,null,null,null,null,null,null,null,null,null,null,null,null,null,null,null,null,null,null,null,null,null,null,null,null,null,null,null,null,null,"Rock"]
[null,"Rock Dell",null,null,null,null,null,null,null,null,null,null,null,null,null,null,null,null,null,null,null,null,null,null,null,null,null,null,null,null,null,null,null,null,null,null,null,null,null,null,null,null,null,"Rock Dell"]
[null,"Rockford",null,null,null,null,null,null,null,null,null,null,null,null,null,null,null,null,null,null,null,null,null,null,null,null,null,null,null,null,null,null,null,null,null,null,null,null,null,null,null,null,null,"Rockford"]
[null,"Rockville",null,null,null,null,null,null,null,null,null,null,null,null,null,null,null,null,null,null,null,null,null,null,null,null,null,null,null,null,null,null,null,null,null,null,null,null,null,null,null,null,null,"Rockville"]
[null,"Rogers",null,null,null,null,null,null,null,null,null,null,null,null,null,null,null,null,null,null,null,null,null,null,null,null,null,null,null,null,null,null,null,null,null,null,null,null,null,null,null,null,null,"Rogers"]
[null,"Rollag",null,null,null,null,null,null,null,null,null,null,null,null,null,null,null,null,null,null,null,null,null,null,null,null,null,null,null,null,null,null,null,null,null,null,null,null,null,null,null,null,null,"Rollag"]
[null,"Rollingstone",null,null,null,null,null,null,null,null,null,null,null,null,null,null,null,null,null,null,null,null,null,null,null,null,null,null,null,null,null,null,null,null,null,null,null,null,null,null,null,null,null,"Rollingstone"]
[null,"Rollins",null,null,null,null,null,null,null,null,null,null,null,null,null,null,null,null,null,null,null,null,null,null,null,null,null,null,null,null,null,null,null,null,null,null,null,null,null,null,null,null,null,"Rollins"]
[null,"Rollis",null,null,null,null,null,null,null,null,null,null,null,null,null,null,null,null,null,null,null,null,null,null,null,null,null,null,null,null,null,null,null,null,null,null,null,null,null,null,null,null,null,"Rollis"]
[null,"Roome",null,null,null,null,null,null,null,null,null,null,null,null,null,null,null,null,null,null,null,null,null,null,null,null,null,null,null,null,null,null,null,null,null,null,null,null,null,null,null,null,null,"Roome"]
[null,"Rosby",null,null,null,null,null,null,null,null,null,null,null,null,null,null,null,null,null,null,null,null,null,null,null,null,null,null,null,null,null,null,null,null,null,null,null,null,null,null,null,null,null,"Rosby"]
[null,"Rose City",null,null,null,null,null,null,null,null,null,null,null,null,null,null,null,null,null,null,null,null,null,null,null,null,null,null,null,null,null,null,null,null,null,null,null,null,null,null,null,null,null,"Rose City"]
[null,"Rose Dell",null,null,null,null,null,null,null,null,null,null,null,null,null,null,null,null,null,null,null,null,null,null,null,null,null,null,null,null,null,null,null,null,null,null,null,null,null,null,null,null,null,"Rose Dell"]
[null,"Rosedale",null,null,null,null,null,null,null,null,null,null,null,null,null,null,null,null,null,null,null,null,null,null,null,null,null,null,null,null,null,null,null,null,null,null,null,null,null,null,null,null,null,"Rosedale"]
[null,"Rosemount",null,null,null,null,null,null,null,null,null,null,null,null,null,null,null,null,null,null,null,null,null,null,null,null,null,null,null,null,null,null,null,null,null,null,null,null,null,null,null,null,null,"Rosemount"]
[null,"Rosen",null,null,null,null,null,null,null,null,null,null,null,null,null,null,null,null,null,null,null,null,null,null,null,null,null,null,null,null,null,null,null,null,null,null,null,null,null,null,null,null,null,"Rosen"]
[null,"Roseport",null,null,null,null,null,null,null,null,null,null,null,null,null,null,null,null,null,null,null,null,null,null,null,null,null,null,null,null,null,null,null,null,null,null,null,null,null,null,null,null,null,"Roseport"]
[null,"Rosewood Township",null,null,null,null,null,null,null,null,null,null,null,null,null,null,null,null,null,null,null,null,null,null,null,null,null,null,null,null,null,null,null,null,null,null,null,null,null,null,null,null,null,"Rosewood Township"]
[null,"Ross",null,null,null,null,null,null,null,null,null,null,null,null,null,null,null,null,null,null,null,null,null,null,null,null,null,null,null,null,null,null,null,null,null,null,null,null,null,null,null,null,null,"Ross"]
[null,"Rossburg",null,null,null,null,null,null,null,null,null,null,null,null,null,null,null,null,null,null,null,null,null,null,null,null,null,null,null,null,null,null,null,null,null,null,null,null,null,null,null,null,null,"Rossburg"]
[null,"Rothsay",null,null,null,null,null,null,null,null,null,null,null,null,null,null,null,null,null,null,null,null,null,null,null,null,null,null,null,null,null,null,null,null,null,null,null,null,null,null,null,null,null,"Rothsay"]
[null,"Round Lake Township",null,null,null,null,null,null,null,null,null,null,null,null,null,null,null,null,null,null,null,null,null,null,null,null,null,null,null,null,null,null,null,null,null,null,null,null,null,null,null,null,null,"Round Lake Township"]
[null,"Rowena",null,null,null,null,null,null,null,null,null,null,null,null,null,null,null,null,null,null,null,null,null,null,null,null,null,null,null,null,null,null,null,null,null,null,null,null,null,null,null,null,null,"Rowena"]
[null,"Roy Lake",null,null,null,null,null,null,null,null,null,null,null,null,null,null,null,null,null,null,null,null,null,null,null,null,null,null,null,null,null,null,null,null,null,null,null,null,null,null,null,null,null,"Roy Lake"]
[null,"Royal",null,null,null,null,null,null,null,null,null,null,null,null,null,null,null,null,null,null,null,null,null,null,null,null,null,null,null,null,null,null,null,null,null,null,null,null,null,null,null,null,null,"Royal"]
[null,"Runeberg",null,null,null,null,null,null,null,null,null,null,null,null,null,null,null,null,null,null,null,null,null,null,null,null,null,null,null,null,null,null,null,null,null,null,null,null,null,null,null,null,null,"Runeberg"]
[null,"Rush Point",null,null,null,null,null,null,null,null,null,null,null,null,null,null,null,null,null,null,null,null,null,null,null,null,null,null,null,null,null,null,null,null,null,null,null,null,null,null,null,null,null,"Rush Point"]
[null,"Rushford Village",null,null,null,null,null,null,null,null,null,null,null,null,null,null,null,null,null,null,null,null,null,null,null,null,null,null,null,null,null,null,null,null,null,null,null,null,null,null,null,null,null,"Rushford Village"]
[null,"Rushseba",null,null,null,null,null,null,null,null,null,null,null,null,null,null,null,null,null,null,null,null,null,null,null,null,null,null,null,null,null,null,null,null,null,null,null,null,null,null,null,null,null,"Rushseba"]
[null,"Rustad",null,null,null,null,null,null,null,null,null,null,null,null,null,null,null,null,null,null,null,null,null,null,null,null,null,null,null,null,null,null,null,null,null,null,null,null,null,null,null,null,null,"Rustad"]
[null,"Ruthton",null,null,null,null,null,null,null,null,null,null,null,null,null,null,null,null,null,null,null,null,null,null,null,null,null,null,null,null,null,null,null,null,null,null,null,null,null,null,null,null,null,"Ruthton"]
[null,"Ryan",null,null,null,null,null,null,null,null,null,null,null,null,null,null,null,null,null,null,null,null,null,null,null,null,null,null,null,null,null,null,null,null,null,null,null,null,null,null,null,null,null,"Ryan"]
[null,"Saco",null,null,null,null,null,null,null,null,null,null,null,null,null,null,null,null,null,null,null,null,null,null,null,null,null,null,null,null,null,null,null,null,null,null,null,null,null,null,null,null,null,"Saco"]
[null,"Saginaw",null,null,null,null,null,null,null,null,null,null,null,null,null,null,null,null,null,null,null,null,null,null,null,null,null,null,null,null,null,null,null,null,null,null,null,null,null,null,null,null,null,"Saginaw"]
[null,"Saint Anna",null,null,null,null,null,null,null,null,null,null,null,null,null,null,null,null,null,null,null,null,null,null,null,null,null,null,null,null,null,null,null,null,null,null,null,null,null,null,null,null,null,"Saint Anna"]
[null,"Saint Augusta",null,null,null,null,null,null,null,null,null,null,null,null,null,null,null,null,null,null,null,null,null,null,null,null,null,null,null,null,null,null,null,null,null,null,null,null,null,null,null,null,null,"Saint Augusta"]
[null,"Saint Charles",null,null,null,null,null,null,null,null,null,null,null,null,null,null,null,null,null,null,null,null,null,null,null,null,null,null,null,null,null,null,null,null,null,null,null,null,null,null,null,null,null,"Saint Charles"]
[null,"Saint Clair Junction",null,null,null,null,null,null,null,null,null,null,null,null,null,null,null,null,null,null,null,null,null,null,null,null,null,null,null,null,null,null,null,null,null,null,null,null,null,null,null,null,null,"Saint Clair Junction"]
[null,"Saint Cloud",null,null,null,null,null,null,null,null,null,null,null,null,null,null,null,null,null,null,null,null,null,null,null,null,null,null,null,null,null,null,null,null,null,null,null,null,null,null,null,null,null,"Saint Cloud"]
[null,"Saint Croix Junction",null,null,null,null,null,null,null,null,null,null,null,null,null,null,null,null,null,null,null,null,null,null,null,null,null,null,null,null,null,null,null,null,null,null,null,null,null,null,null,null,null,"Saint Croix Junction"]
[null,"Saint George",null,null,null,null,null,null,null,null,null,null,null,null,null,null,null,null,null,null,null,null,null,null,null,null,null,null,null,null,null,null,null,null,null,null,null,null,null,null,null,null,null,"Saint George"]
[null,"Saint James",null,null,null,null,null,null,null,null,null,null,null,null,null,null,null,null,null,null,null,null,null,null,null,null,null,null,null,null,null,null,null,null,null,null,null,null,null,null,null,null,null,"Saint James"]
[null,"Saint Joseph",null,null,null,null,null,null,null,null,null,null,null,null,null,null,null,null,null,null,null,null,null,null,null,null,null,null,null,null,null,null,null,null,null,null,null,null,null,null,null,null,null,"Saint Joseph"]
[null,"Saint Lawrence",null,null,null,null,null,null,null,null,null,null,null,null,null,null,null,null,null,null,null,null,null,null,null,null,null,null,null,null,null,null,null,null,null,null,null,null,null,null,null,null,null,"Saint Lawrence"]
[null,"Saint Martin",null,null,null,null,null,null,null,null,null,null,null,null,null,null,null,null,null,null,null,null,null,null,null,null,null,null,null,null,null,null,null,null,null,null,null,null,null,null,null,null,null,"Saint Martin"]
[null,"Saint Marys Point",null,null,null,null,null,null,null,null,null,null,null,null,null,null,null,null,null,null,null,null,null,null,null,null,null,null,null,null,null,null,null,null,null,null,null,null,null,null,null,null,null,"Saint Marys Point"]
[null,"Saint Mathias",null,null,null,null,null,null,null,null,null,null,null,null,null,null,null,null,null,null,null,null,null,null,null,null,null,null,null,null,null,null,null,null,null,null,null,null,null,null,null,null,null,"Saint Mathias"]
[null,"Saint Nicholas",null,null,null,null,null,null,null,null,null,null,null,null,null,null,null,null,null,null,null,null,null,null,null,null,null,null,null,null,null,null,null,null,null,null,null,null,null,null,null,null,null,"Saint Nicholas"]
[null,"Saint Paul",null,null,null,null,null,null,null,null,null,null,null,null,null,null,null,null,null,null,null,null,null,null,null,null,null,null,null,null,null,null,null,null,null,null,null,null,null,null,null,null,null,"Saint Paul"]
[null,"Saint Peter",null,null,null,null,null,null,null,null,null,null,null,null,null,null,null,null,null,null,null,null,null,null,null,null,null,null,null,null,null,null,null,null,null,null,null,null,null,null,null,null,null,"Saint Peter"]
[null,"Saint Thomas",null,null,null,null,null,null,null,null,null,null,null,null,null,null,null,null,null,null,null,null,null,null,null,null,null,null,null,null,null,null,null,null,null,null,null,null,null,null,null,null,null,"Saint Thomas"]
[null,"Saint Wendel",null,null,null,null,null,null,null,null,null,null,null,null,null,null,null,null,null,null,null,null,null,null,null,null,null,null,null,null,null,null,null,null,null,null,null,null,null,null,null,null,null,"Saint Wendel"]
[null,"Salem Corners",null,null,null,null,null,null,null,null,null,null,null,null,null,null,null,null,null,null,null,null,null,null,null,null,null,null,null,null,null,null,null,null,null,null,null,null,null,null,null,null,null,"Salem Corners"]
[null,"Salo",null,null,null,null,null,null,null,null,null,null,null,null,null,null,null,null,null,null,null,null,null,null,null,null,null,null,null,null,null,null,null,null,null,null,null,null,null,null,null,null,null,"Salo"]
[null,"Salo Corner",null,null,null,null,null,null,null,null,null,null,null,null,null,null,null,null,null,null,null,null,null,null,null,null,null,null,null,null,null,null,null,null,null,null,null,null,null,null,null,null,null,"Salo Corner"]
[null,"Sanborn",null,null,null,null,null,null,null,null,null,null,null,null,null,null,null,null,null,null,null,null,null,null,null,null,null,null,null,null,null,null,null,null,null,null,null,null,null,null,null,null,null,"Sanborn"]
[null,"Sand Lake Township",null,null,null,null,null,null,null,null,null,null,null,null,null,null,null,null,null,null,null,null,null,null,null,null,null,null,null,null,null,null,null,null,null,null,null,null,null,null,null,null,null,"Sand Lake Township"]
[null,"Sandstone Township",null,null,null,null,null,null,null,null,null,null,null,null,null,null,null,null,null,null,null,null,null,null,null,null,null,null,null,null,null,null,null,null,null,null,null,null,null,null,null,null,null,"Sandstone Township"]
[null,"Sandy Lake Indian Reservation",null,null,null,null,null,null,null,null,null,null,null,null,null,null,null,null,null,null,null,null,null,null,null,null,null,null,null,null,null,null,null,null,null,null,null,null,null,null,null,null,null,"Sandy Lake Indian Reservation"]
[null,"Santiago Township",null,null,null,null,null,null,null,null,null,null,null,null,null,null,null,null,null,null,null,null,null,null,null,null,null,null,null,null,null,null,null,null,null,null,null,null,null,null,null,null,null,"Santiago Township"]
[null,"Sargeant",null,null,null,null,null,null,null,null,null,null,null,null,null,null,null,null,null,null,null,null,null,null,null,null,null,null,null,null,null,null,null,null,null,null,null,null,null,null,null,null,null,"Sargeant"]
[null,"Sauk Centre",null,null,null,null,null,null,null,null,null,null,null,null,null,null,null,null,null,null,null,null,null,null,null,null,null,null,null,null,null,null,null,null,null,null,null,null,null,null,null,null,null,"Sauk Centre"]
[null,"Sauk Centre Township",null,null,null,null,null,null,null,null,null,null,null,null,null,null,null,null,null,null,null,null,null,null,null,null,null,null,null,null,null,null,null,null,null,null,null,null,null,null,null,null,null,"Sauk Centre Township"]
[null,"Saum",null,null,null,null,null,null,null,null,null,null,null,null,null,null,null,null,null,null,null,null,null,null,null,null,null,null,null,null,null,null,null,null,null,null,null,null,null,null,null,null,null,"Saum"]
[null,"Savannah Township",null,null,null,null,null,null,null,null,null,null,null,null,null,null,null,null,null,null,null,null,null,null,null,null,null,null,null,null,null,null,null,null,null,null,null,null,null,null,null,null,null,"Savannah Township"]
[null,"Sawyer",null,null,null,null,null,null,null,null,null,null,null,null,null,null,null,null,null,null,null,null,null,null,null,null,null,null,null,null,null,null,null,null,null,null,null,null,null,null,null,null,null,"Sawyer"]
[null,"Scandia",null,null,null,null,null,null,null,null,null,null,null,null,null,null,null,null,null,null,null,null,null,null,null,null,null,null,null,null,null,null,null,null,null,null,null,null,null,null,null,null,null,"Scandia"]
[null,"Schechs Mill",null,null,null,null,null,null,null,null,null,null,null,null,null,null,null,null,null,null,null,null,null,null,null,null,null,null,null,null,null,null,null,null,null,null,null,null,null,null,null,null,null,"Schechs Mill"]
[null,"Schroeder",null,null,null,null,null,null,null,null,null,null,null,null,null,null,null,null,null,null,null,null,null,null,null,null,null,null,null,null,null,null,null,null,null,null,null,null,null,null,null,null,null,"Schroeder"]
[null,"Sciota",null,null,null,null,null,null,null,null,null,null,null,null,null,null,null,null,null,null,null,null,null,null,null,null,null,null,null,null,null,null,null,null,null,null,null,null,null,null,null,null,null,"Sciota"]
[null,"Scott",null,null,null,null,null,null,null,null,null,null,null,null,null,null,null,null,null,null,null,null,null,null,null,null,null,null,null,null,null,null,null,null,null,null,null,null,null,null,null,null,null,"Scott"]
[null,"Scotts Corner",null,null,null,null,null,null,null,null,null,null,null,null,null,null,null,null,null,null,null,null,null,null,null,null,null,null,null,null,null,null,null,null,null,null,null,null,null,null,null,null,null,"Scotts Corner"]
[null,"Searles",null,null,null,null,null,null,null,null,null,null,null,null,null,null,null,null,null,null,null,null,null,null,null,null,null,null,null,null,null,null,null,null,null,null,null,null,null,null,null,null,null,"Searles"]
[null,"Section Thirty",null,null,null,null,null,null,null,null,null,null,null,null,null,null,null,null,null,null,null,null,null,null,null,null,null,null,null,null,null,null,null,null,null,null,null,null,null,null,null,null,null,"Section Thirty"]
[null,"Sedil",null,null,null,null,null,null,null,null,null,null,null,null,null,null,null,null,null,null,null,null,null,null,null,null,null,null,null,null,null,null,null,null,null,null,null,null,null,null,null,null,null,"Sedil"]
[null,"Seward",null,null,null,null,null,null,null,null,null,null,null,null,null,null,null,null,null,null,null,null,null,null,null,null,null,null,null,null,null,null,null,null,null,null,null,null,null,null,null,null,null,"Seward"]
[null,"Shafer Township",null,null,null,null,null,null,null,null,null,null,null,null,null,null,null,null,null,null,null,null,null,null,null,null,null,null,null,null,null,null,null,null,null,null,null,null,null,null,null,null,null,"Shafer Township"]
[null,"Shamrock",null,null,null,null,null,null,null,null,null,null,null,null,null,null,null,null,null,null,null,null,null,null,null,null,null,null,null,null,null,null,null,null,null,null,null,null,null,null,null,null,null,"Shamrock"]
[null,"Shanty Town",null,null,null,null,null,null,null,null,null,null,null,null,null,null,null,null,null,null,null,null,null,null,null,null,null,null,null,null,null,null,null,null,null,null,null,null,null,null,null,null,null,"Shanty Town"]
[null,"Sheffield Mill",null,null,null,null,null,null,null,null,null,null,null,null,null,null,null,null,null,null,null,null,null,null,null,null,null,null,null,null,null,null,null,null,null,null,null,null,null,null,null,null,null,"Sheffield Mill"]
[null,"Shelby",null,null,null,null,null,null,null,null,null,null,null,null,null,null,null,null,null,null,null,null,null,null,null,null,null,null,null,null,null,null,null,null,null,null,null,null,null,null,null,null,null,"Shelby"]
[null,"Shell Lake",null,null,null,null,null,null,null,null,null,null,null,null,null,null,null,null,null,null,null,null,null,null,null,null,null,null,null,null,null,null,null,null,null,null,null,null,null,null,null,null,null,"Shell Lake"]
[null,"Shelly",null,null,null,null,null,null,null,null,null,null,null,null,null,null,null,null,null,null,null,null,null,null,null,null,null,null,null,null,null,null,null,null,null,null,null,null,null,null,null,null,null,"Shelly"]
[null,"Sherburn",null,null,null,null,null,null,null,null,null,null,null,null,null,null,null,null,null,null,null,null,null,null,null,null,null,null,null,null,null,null,null,null,null,null,null,null,null,null,null,null,null,"Sherburn"]
[null,"Sheridan",null,null,null,null,null,null,null,null,null,null,null,null,null,null,null,null,null,null,null,null,null,null,null,null,null,null,null,null,null,null,null,null,null,null,null,null,null,null,null,null,null,"Sheridan"]
[null,"Sherman Township",null,null,null,null,null,null,null,null,null,null,null,null,null,null,null,null,null,null,null,null,null,null,null,null,null,null,null,null,null,null,null,null,null,null,null,null,null,null,null,null,null,"Sherman Township"]
[null,"Shetek",null,null,null,null,null,null,null,null,null,null,null,null,null,null,null,null,null,null,null,null,null,null,null,null,null,null,null,null,null,null,null,null,null,null,null,null,null,null,null,null,null,"Shetek"]
[null,"Shible",null,null,null,null,null,null,null,null,null,null,null,null,null,null,null,null,null,null,null,null,null,null,null,null,null,null,null,null,null,null,null,null,null,null,null,null,null,null,null,null,null,"Shible"]
[null,"Shirley",null,null,null,null,null,null,null,null,null,null,null,null,null,null,null,null,null,null,null,null,null,null,null,null,null,null,null,null,null,null,null,null,null,null,null,null,null,null,null,null,null,"Shirley"]
[null,"Shoreham",null,null,null,null,null,null,null,null,null,null,null,null,null,null,null,null,null,null,null,null,null,null,null,null,null,null,null,null,null,null,null,null,null,null,null,null,null,null,null,null,null,"Shoreham"]
[null,"Shorewood",null,null,null,null,null,null,null,null,null,null,null,null,null,null,null,null,null,null,null,null,null,null,null,null,null,null,null,null,null,null,null,null,null,null,null,null,null,null,null,null,null,"Shorewood"]
[null,"Shotley Township",null,null,null,null,null,null,null,null,null,null,null,null,null,null,null,null,null,null,null,null,null,null,null,null,null,null,null,null,null,null,null,null,null,null,null,null,null,null,null,null,null,"Shotley Township"]
[null,"Side Lake",null,null,null,null,null,null,null,null,null,null,null,null,null,null,null,null,null,null,null,null,null,null,null,null,null,null,null,null,null,null,null,null,null,null,null,null,null,null,null,null,null,"Side Lake"]
[null,"Siegel",null,null,null,null,null,null,null,null,null,null,null,null,null,null,null,null,null,null,null,null,null,null,null,null,null,null,null,null,null,null,null,null,null,null,null,null,null,null,null,null,null,"Siegel"]
[null,"Silica",null,null,null,null,null,null,null,null,null,null,null,null,null,null,null,null,null,null,null,null,null,null,null,null,null,null,null,null,null,null,null,null,null,null,null,null,null,null,null,null,null,"Silica"]
[null,"Silver Brook",null,null,null,null,null,null,null,null,null,null,null,null,null,null,null,null,null,null,null,null,null,null,null,null,null,null,null,null,null,null,null,null,null,null,null,null,null,null,null,null,null,"Silver Brook"]
[null,"Silver Creek Township",null,null,null,null,null,null,null,null,null,null,null,null,null,null,null,null,null,null,null,null,null,null,null,null,null,null,null,null,null,null,null,null,null,null,null,null,null,null,null,null,null,"Silver Creek Township"]
[null,"Silver Leaf",null,null,null,null,null,null,null,null,null,null,null,null,null,null,null,null,null,null,null,null,null,null,null,null,null,null,null,null,null,null,null,null,null,null,null,null,null,null,null,null,null,"Silver Leaf"]
[null,"Silverton",null,null,null,null,null,null,null,null,null,null,null,null,null,null,null,null,null,null,null,null,null,null,null,null,null,null,null,null,null,null,null,null,null,null,null,null,null,null,null,null,null,"Silverton"]
[null,"Sinclair",null,null,null,null,null,null,null,null,null,null,null,null,null,null,null,null,null,null,null,null,null,null,null,null,null,null,null,null,null,null,null,null,null,null,null,null,null,null,null,null,null,"Sinclair"]
[null,"Sinnott",null,null,null,null,null,null,null,null,null,null,null,null,null,null,null,null,null,null,null,null,null,null,null,null,null,null,null,null,null,null,null,null,null,null,null,null,null,null,null,null,null,"Sinnott"]
[null,"Sioux Valley",null,null,null,null,null,null,null,null,null,null,null,null,null,null,null,null,null,null,null,null,null,null,null,null,null,null,null,null,null,null,null,null,null,null,null,null,null,null,null,null,null,"Sioux Valley"]
[null,"Skagen",null,null,null,null,null,null,null,null,null,null,null,null,null,null,null,null,null,null,null,null,null,null,null,null,null,null,null,null,null,null,null,null,null,null,null,null,null,null,null,null,null,"Skagen"]
[null,"Skelton",null,null,null,null,null,null,null,null,null,null,null,null,null,null,null,null,null,null,null,null,null,null,null,null,null,null,null,null,null,null,null,null,null,null,null,null,null,null,null,null,null,"Skelton"]
[null,"Skyburg",null,null,null,null,null,null,null,null,null,null,null,null,null,null,null,null,null,null,null,null,null,null,null,null,null,null,null,null,null,null,null,null,null,null,null,null,null,null,null,null,null,"Skyburg"]
[null,"Slayton",null,null,null,null,null,null,null,null,null,null,null,null,null,null,null,null,null,null,null,null,null,null,null,null,null,null,null,null,null,null,null,null,null,null,null,null,null,null,null,null,null,"Slayton"]
[null,"Sletten",null,null,null,null,null,null,null,null,null,null,null,null,null,null,null,null,null,null,null,null,null,null,null,null,null,null,null,null,null,null,null,null,null,null,null,null,null,null,null,null,null,"Sletten"]
[null,"Smith Lake",null,null,null,null,null,null,null,null,null,null,null,null,null,null,null,null,null,null,null,null,null,null,null,null,null,null,null,null,null,null,null,null,null,null,null,null,null,null,null,null,null,"Smith Lake"]
[null,"Smoky Hollow",null,null,null,null,null,null,null,null,null,null,null,null,null,null,null,null,null,null,null,null,null,null,null,null,null,null,null,null,null,null,null,null,null,null,null,null,null,null,null,null,null,"Smoky Hollow"]
[null,"Snellman",null,null,null,null,null,null,null,null,null,null,null,null,null,null,null,null,null,null,null,null,null,null,null,null,null,null,null,null,null,null,null,null,null,null,null,null,null,null,null,null,null,"Snellman"]
[null,"Soderville",null,null,null,null,null,null,null,null,null,null,null,null,null,null,null,null,null,null,null,null,null,null,null,null,null,null,null,null,null,null,null,null,null,null,null,null,null,null,null,null,null,"Soderville"]
[null,"Sogn",null,null,null,null,null,null,null,null,null,null,null,null,null,null,null,null,null,null,null,null,null,null,null,null,null,null,null,null,null,null,null,null,null,null,null,null,null,null,null,null,null,"Sogn"]
[null,"Solway",null,null,null,null,null,null,null,null,null,null,null,null,null,null,null,null,null,null,null,null,null,null,null,null,null,null,null,null,null,null,null,null,null,null,null,null,null,null,null,null,null,"Solway"]
[null,"Soo Junction",null,null,null,null,null,null,null,null,null,null,null,null,null,null,null,null,null,null,null,null,null,null,null,null,null,null,null,null,null,null,null,null,null,null,null,null,null,null,null,null,null,"Soo Junction"]
[null,"South Bend Township",null,null,null,null,null,null,null,null,null,null,null,null,null,null,null,null,null,null,null,null,null,null,null,null,null,null,null,null,null,null,null,null,null,null,null,null,null,null,null,null,null,"South Bend Township"]
[null,"South Branch Township",null,null,null,null,null,null,null,null,null,null,null,null,null,null,null,null,null,null,null,null,null,null,null,null,null,null,null,null,null,null,null,null,null,null,null,null,null,null,null,null,null,"South Branch Township"]
[null,"South Grove",null,null,null,null,null,null,null,null,null,null,null,null,null,null,null,null,null,null,null,null,null,null,null,null,null,null,null,null,null,null,null,null,null,null,null,null,null,null,null,null,null,"South Grove"]
[null,"South Harbor",null,null,null,null,null,null,null,null,null,null,null,null,null,null,null,null,null,null,null,null,null,null,null,null,null,null,null,null,null,null,null,null,null,null,null,null,null,null,null,null,null,"South Harbor"]
[null,"South International Falls",null,null,null,null,null,null,null,null,null,null,null,null,null,null,null,null,null,null,null,null,null,null,null,null,null,null,null,null,null,null,null,null,null,null,null,null,null,null,null,null,null,"South International Falls"]
[null,"South Ridge",null,null,null,null,null,null,null,null,null,null,null,null,null,null,null,null,null,null,null,null,null,null,null,null,null,null,null,null,null,null,null,null,null,null,null,null,null,null,null,null,null,"South Ridge"]
[null,"South Saint Paul",null,null,null,null,null,null,null,null,null,null,null,null,null,null,null,null,null,null,null,null,null,null,null,null,null,null,null,null,null,null,null,null,null,null,null,null,null,null,null,null,null,"South Saint Paul"]
[null,"Southbrook",null,null,null,null,null,null,null,null,null,null,null,null,null,null,null,null,null,null,null,null,null,null,null,null,null,null,null,null,null,null,null,null,null,null,null,null,null,null,null,null,null,"Southbrook"]
[null,"Southeast Roseau",null,null,null,null,null,null,null,null,null,null,null,null,null,null,null,null,null,null,null,null,null,null,null,null,null,null,null,null,null,null,null,null,null,null,null,null,null,null,null,null,null,"Southeast Roseau"]
[null,"Spalding",null,null,null,null,null,null,null,null,null,null,null,null,null,null,null,null,null,null,null,null,null,null,null,null,null,null,null,null,null,null,null,null,null,null,null,null,null,null,null,null,null,"Spalding"]
[null,"Sparta Township",null,null,null,null,null,null,null,null,null,null,null,null,null,null,null,null,null,null,null,null,null,null,null,null,null,null,null,null,null,null,null,null,null,null,null,null,null,null,null,null,null,"Sparta Township"]
[null,"Spaulding",null,null,null,null,null,null,null,null,null,null,null,null,null,null,null,null,null,null,null,null,null,null,null,null,null,null,null,null,null,null,null,null,null,null,null,null,null,null,null,null,null,"Spaulding"]
[null,"Spencer Brook",null,null,null,null,null,null,null,null,null,null,null,null,null,null,null,null,null,null,null,null,null,null,null,null,null,null,null,null,null,null,null,null,null,null,null,null,null,null,null,null,null,"Spencer Brook"]
[null,"Split Rock",null,null,null,null,null,null,null,null,null,null,null,null,null,null,null,null,null,null,null,null,null,null,null,null,null,null,null,null,null,null,null,null,null,null,null,null,null,null,null,null,null,"Split Rock"]
[null,"Spring Creek",null,null,null,null,null,null,null,null,null,null,null,null,null,null,null,null,null,null,null,null,null,null,null,null,null,null,null,null,null,null,null,null,null,null,null,null,null,null,null,null,null,"Spring Creek"]
[null,"Spring Grove Township",null,null,null,null,null,null,null,null,null,null,null,null,null,null,null,null,null,null,null,null,null,null,null,null,null,null,null,null,null,null,null,null,null,null,null,null,null,null,null,null,null,"Spring Grove Township"]
[null,"Spring Lake Park",null,null,null,null,null,null,null,null,null,null,null,null,null,null,null,null,null,null,null,null,null,null,null,null,null,null,null,null,null,null,null,null,null,null,null,null,null,null,null,null,null,"Spring Lake Park"]
[null,"Spring Park",null,null,null,null,null,null,null,null,null,null,null,null,null,null,null,null,null,null,null,null,null,null,null,null,null,null,null,null,null,null,null,null,null,null,null,null,null,null,null,null,null,"Spring Park"]
[null,"Spring Valley Township",null,null,null,null,null,null,null,null,null,null,null,null,null,null,null,null,null,null,null,null,null,null,null,null,null,null,null,null,null,null,null,null,null,null,null,null,null,null,null,null,null,"Spring Valley Township"]
[null,"Springdale",null,null,null,null,null,null,null,null,null,null,null,null,null,null,null,null,null,null,null,null,null,null,null,null,null,null,null,null,null,null,null,null,null,null,null,null,null,null,null,null,null,"Springdale"]
[null,"Springsteel Island",null,null,null,null,null,null,null,null,null,null,null,null,null,null,null,null,null,null,null,null,null,null,null,null,null,null,null,null,null,null,null,null,null,null,null,null,null,null,null,null,null,"Springsteel Island"]
[null,"Spruce",null,null,null,null,null,null,null,null,null,null,null,null,null,null,null,null,null,null,null,null,null,null,null,null,null,null,null,null,null,null,null,null,null,null,null,null,null,null,null,null,null,"Spruce"]
[null,"Spruce Grove",null,null,null,null,null,null,null,null,null,null,null,null,null,null,null,null,null,null,null,null,null,null,null,null,null,null,null,null,null,null,null,null,null,null,null,null,null,null,null,null,null,"Spruce Grove"]
[null,"Spruce Valley",null,null,null,null,null,null,null,null,null,null,null,null,null,null,null,null,null,null,null,null,null,null,null,null,null,null,null,null,null,null,null,null,null,null,null,null,null,null,null,null,null,"Spruce Valley"]
[null,"Stafford",null,null,null,null,null,null,null,null,null,null,null,null,null,null,null,null,null,null,null,null,null,null,null,null,null,null,null,null,null,null,null,null,null,null,null,null,null,null,null,null,null,"Stafford"]
[null,"Stanford",null,null,null,null,null,null,null,null,null,null,null,null,null,null,null,null,null,null,null,null,null,null,null,null,null,null,null,null,null,null,null,null,null,null,null,null,null,null,null,null,null,"Stanford"]
[null,"Stanley",null,null,null,null,null,null,null,null,null,null,null,null,null,null,null,null,null,null,null,null,null,null,null,null,null,null,null,null,null,null,null,null,null,null,null,null,null,null,null,null,null,"Stanley"]
[null,"Staples",null,null,null,null,null,null,null,null,null,null,null,null,null,null,null,null,null,null,null,null,null,null,null,null,null,null,null,null,null,null,null,null,null,null,null,null,null,null,null,null,null,"Staples"]
[null,"Staples Township",null,null,null,null,null,null,null,null,null,null,null,null,null,null,null,null,null,null,null,null,null,null,null,null,null,null,null,null,null,null,null,null,null,null,null,null,null,null,null,null,null,"Staples Township"]
[null,"Stark",null,null,null,null,null,null,null,null,null,null,null,null,null,null,null,null,null,null,null,null,null,null,null,null,null,null,null,null,null,null,null,null,null,null,null,null,null,null,null,null,null,"Stark"]
[null,"Stately",null,null,null,null,null,null,null,null,null,null,null,null,null,null,null,null,null,null,null,null,null,null,null,null,null,null,null,null,null,null,null,null,null,null,null,null,null,null,null,null,null,"Stately"]
[null,"Steelton",null,null,null,null,null,null,null,null,null,null,null,null,null,null,null,null,null,null,null,null,null,null,null,null,null,null,null,null,null,null,null,null,null,null,null,null,null,null,null,null,null,"Steelton"]
[null,"Steenerson",null,null,null,null,null,null,null,null,null,null,null,null,null,null,null,null,null,null,null,null,null,null,null,null,null,null,null,null,null,null,null,null,null,null,null,null,null,null,null,null,null,"Steenerson"]
[null,"Stevens",null,null,null,null,null,null,null,null,null,null,null,null,null,null,null,null,null,null,null,null,null,null,null,null,null,null,null,null,null,null,null,null,null,null,null,null,null,null,null,null,null,"Stevens"]
[null,"Stevenson",null,null,null,null,null,null,null,null,null,null,null,null,null,null,null,null,null,null,null,null,null,null,null,null,null,null,null,null,null,null,null,null,null,null,null,null,null,null,null,null,null,"Stevenson"]
[null,"Stillwater",null,null,null,null,null,null,null,null,null,null,null,null,null,null,null,null,null,null,null,null,null,null,null,null,null,null,null,null,null,null,null,null,null,null,null,null,null,null,null,null,null,"Stillwater"]
[null,"Stockholm Township",null,null,null,null,null,null,null,null,null,null,null,null,null,null,null,null,null,null,null,null,null,null,null,null,null,null,null,null,null,null,null,null,null,null,null,null,null,null,null,null,null,"Stockholm Township"]
[null,"Stoney Brook",null,null,null,null,null,null,null,null,null,null,null,null,null,null,null,null,null,null,null,null,null,null,null,null,null,null,null,null,null,null,null,null,null,null,null,null,null,null,null,null,null,"Stoney Brook"]
[null,"Stony River",null,null,null,null,null,null,null,null,null,null,null,null,null,null,null,null,null,null,null,null,null,null,null,null,null,null,null,null,null,null,null,null,null,null,null,null,null,null,null,null,null,"Stony River"]
[null,"Stowe Prairie",null,null,null,null,null,null,null,null,null,null,null,null,null,null,null,null,null,null,null,null,null,null,null,null,null,null,null,null,null,null,null,null,null,null,null,null,null,null,null,null,null,"Stowe Prairie"]
[null,"Strandquist",null,null,null,null,null,null,null,null,null,null,null,null,null,null,null,null,null,null,null,null,null,null,null,null,null,null,null,null,null,null,null,null,null,null,null,null,null,null,null,null,null,"Strandquist"]
[null,"Stroms",null,null,null,null,null,null,null,null,null,null,null,null,null,null,null,null,null,null,null,null,null,null,null,null,null,null,null,null,null,null,null,null,null,null,null,null,null,null,null,null,null,"Stroms"]
[null,"Strout",null,null,null,null,null,null,null,null,null,null,null,null,null,null,null,null,null,null,null,null,null,null,null,null,null,null,null,null,null,null,null,null,null,null,null,null,null,null,null,null,null,"Strout"]
[null,"Sturgeon Lake Township",null,null,null,null,null,null,null,null,null,null,null,null,null,null,null,null,null,null,null,null,null,null,null,null,null,null,null,null,null,null,null,null,null,null,null,null,null,null,null,null,null,"Sturgeon Lake Township"]
[null,"Sugar Bush",null,null,null,null,null,null,null,null,null,null,null,null,null,null,null,null,null,null,null,null,null,null,null,null,null,null,null,null,null,null,null,null,null,null,null,null,null,null,null,null,null,"Sugar Bush"]
[null,"Summit",null,null,null,null,null,null,null,null,null,null,null,null,null,null,null,null,null,null,null,null,null,null,null,null,null,null,null,null,null,null,null,null,null,null,null,null,null,null,null,null,null,"Summit"]
[null,"Sumner",null,null,null,null,null,null,null,null,null,null,null,null,null,null,null,null,null,null,null,null,null,null,null,null,null,null,null,null,null,null,null,null,null,null,null,null,null,null,null,null,null,"Sumner"]
[null,"Sundal",null,null,null,null,null,null,null,null,null,null,null,null,null,null,null,null,null,null,null,null,null,null,null,null,null,null,null,null,null,null,null,null,null,null,null,null,null,null,null,null,null,"Sundal"]
[null,"Sundal Township",null,null,null,null,null,null,null,null,null,null,null,null,null,null,null,null,null,null,null,null,null,null,null,null,null,null,null,null,null,null,null,null,null,null,null,null,null,null,null,null,null,"Sundal Township"]
[null,"Sunrise",null,null,null,null,null,null,null,null,null,null,null,null,null,null,null,null,null,null,null,null,null,null,null,null,null,null,null,null,null,null,null,null,null,null,null,null,null,null,null,null,null,"Sunrise"]
[null,"Sunrise Township",null,null,null,null,null,null,null,null,null,null,null,null,null,null,null,null,null,null,null,null,null,null,null,null,null,null,null,null,null,null,null,null,null,null,null,null,null,null,null,null,null,"Sunrise Township"]
[null,"Svea Township",null,null,null,null,null,null,null,null,null,null,null,null,null,null,null,null,null,null,null,null,null,null,null,null,null,null,null,null,null,null,null,null,null,null,null,null,null,null,null,null,null,"Svea Township"]
[null,"Swan Lake",null,null,null,null,null,null,null,null,null,null,null,null,null,null,null,null,null,null,null,null,null,null,null,null,null,null,null,null,null,null,null,null,null,null,null,null,null,null,null,null,null,"Swan Lake"]
[null,"Swanville",null,null,null,null,null,null,null,null,null,null,null,null,null,null,null,null,null,null,null,null,null,null,null,null,null,null,null,null,null,null,null,null,null,null,null,null,null,null,null,null,null,"Swanville"]
[null,"Swatara",null,null,null,null,null,null,null,null,null,null,null,null,null,null,null,null,null,null,null,null,null,null,null,null,null,null,null,null,null,null,null,null,null,null,null,null,null,null,null,null,null,"Swatara"]
[null,"Sweet",null,null,null,null,null,null,null,null,null,null,null,null,null,null,null,null,null,null,null,null,null,null,null,null,null,null,null,null,null,null,null,null,null,null,null,null,null,null,null,null,null,"Sweet"]
[null,"Swift Falls",null,null,null,null,null,null,null,null,null,null,null,null,null,null,null,null,null,null,null,null,null,null,null,null,null,null,null,null,null,null,null,null,null,null,null,null,null,null,null,null,null,"Swift Falls"]
[null,"Synnes",null,null,null,null,null,null,null,null,null,null,null,null,null,null,null,null,null,null,null,null,null,null,null,null,null,null,null,null,null,null,null,null,null,null,null,null,null,null,null,null,null,"Synnes"]
[null,"Syre",null,null,null,null,null,null,null,null,null,null,null,null,null,null,null,null,null,null,null,null,null,null,null,null,null,null,null,null,null,null,null,null,null,null,null,null,null,null,null,null,null,"Syre"]
[null,"Tabor Township",null,null,null,null,null,null,null,null,null,null,null,null,null,null,null,null,null,null,null,null,null,null,null,null,null,null,null,null,null,null,null,null,null,null,null,null,null,null,null,null,null,"Tabor Township"]
[null,"Taft",null,null,null,null,null,null,null,null,null,null,null,null,null,null,null,null,null,null,null,null,null,null,null,null,null,null,null,null,null,null,null,null,null,null,null,null,null,null,null,null,null,"Taft"]
[null,"Tamarack",null,null,null,null,null,null,null,null,null,null,null,null,null,null,null,null,null,null,null,null,null,null,null,null,null,null,null,null,null,null,null,null,null,null,null,null,null,null,null,null,null,"Tamarack"]
[null,"Tansem Township",null,null,null,null,null,null,null,null,null,null,null,null,null,null,null,null,null,null,null,null,null,null,null,null,null,null,null,null,null,null,null,null,null,null,null,null,null,null,null,null,null,"Tansem Township"]
[null,"Taunton",null,null,null,null,null,null,null,null,null,null,null,null,null,null,null,null,null,null,null,null,null,null,null,null,null,null,null,null,null,null,null,null,null,null,null,null,null,null,null,null,null,"Taunton"]
[null,"Taylors Falls",null,null,null,null,null,null,null,null,null,null,null,null,null,null,null,null,null,null,null,null,null,null,null,null,null,null,null,null,null,null,null,null,null,null,null,null,null,null,null,null,null,"Taylors Falls"]
[null,"Ten Lake",null,null,null,null,null,null,null,null,null,null,null,null,null,null,null,null,null,null,null,null,null,null,null,null,null,null,null,null,null,null,null,null,null,null,null,null,null,null,null,null,null,"Ten Lake"]
[null,"Ten Mile Lake",null,null,null,null,null,null,null,null,null,null,null,null,null,null,null,null,null,null,null,null,null,null,null,null,null,null,null,null,null,null,null,null,null,null,null,null,null,null,null,null,null,"Ten Mile Lake"]
[null,"Tenstrike",null,null,null,null,null,null,null,null,null,null,null,null,null,null,null,null,null,null,null,null,null,null,null,null,null,null,null,null,null,null,null,null,null,null,null,null,null,null,null,null,null,"Tenstrike"]
[null,"Terrebonne Township",null,null,null,null,null,null,null,null,null,null,null,null,null,null,null,null,null,null,null,null,null,null,null,null,null,null,null,null,null,null,null,null,null,null,null,null,null,null,null,null,null,"Terrebonne Township"]
[null,"Thief Lake",null,null,null,null,null,null,null,null,null,null,null,null,null,null,null,null,null,null,null,null,null,null,null,null,null,null,null,null,null,null,null,null,null,null,null,null,null,null,null,null,null,"Thief Lake"]
[null,"Third Crow Wing Lake",null,null,null,null,null,null,null,null,null,null,null,null,null,null,null,null,null,null,null,null,null,null,null,null,null,null,null,null,null,null,null,null,null,null,null,null,null,null,null,null,null,"Third Crow Wing Lake"]
[null,"Thompson Grove",null,null,null,null,null,null,null,null,null,null,null,null,null,null,null,null,null,null,null,null,null,null,null,null,null,null,null,null,null,null,null,null,null,null,null,null,null,null,null,null,null,"Thompson Grove"]
[null,"Thompson Riverview Terrace",null,null,null,null,null,null,null,null,null,null,null,null,null,null,null,null,null,null,null,null,null,null,null,null,null,null,null,null,null,null,null,null,null,null,null,null,null,null,null,null,null,"Thompson Riverview Terrace"]
[null,"Thomson Township",null,null,null,null,null,null,null,null,null,null,null,null,null,null,null,null,null,null,null,null,null,null,null,null,null,null,null,null,null,null,null,null,null,null,null,null,null,null,null,null,null,"Thomson Township"]
[null,"Thor",null,null,null,null,null,null,null,null,null,null,null,null,null,null,null,null,null,null,null,null,null,null,null,null,null,null,null,null,null,null,null,null,null,null,null,null,null,null,null,null,null,"Thor"]
[null,"Three Lakes",null,null,null,null,null,null,null,null,null,null,null,null,null,null,null,null,null,null,null,null,null,null,null,null,null,null,null,null,null,null,null,null,null,null,null,null,null,null,null,null,null,"Three Lakes"]
[null,"Tilden",null,null,null,null,null,null,null,null,null,null,null,null,null,null,null,null,null,null,null,null,null,null,null,null,null,null,null,null,null,null,null,null,null,null,null,null,null,null,null,null,null,"Tilden"]
[null,"Tintah",null,null,null,null,null,null,null,null,null,null,null,null,null,null,null,null,null,null,null,null,null,null,null,null,null,null,null,null,null,null,null,null,null,null,null,null,null,null,null,null,null,"Tintah"]
[null,"Toad Lake Township",null,null,null,null,null,null,null,null,null,null,null,null,null,null,null,null,null,null,null,null,null,null,null,null,null,null,null,null,null,null,null,null,null,null,null,null,null,null,null,null,null,"Toad Lake Township"]
[null,"Tofte",null,null,null,null,null,null,null,null,null,null,null,null,null,null,null,null,null,null,null,null,null,null,null,null,null,null,null,null,null,null,null,null,null,null,null,null,null,null,null,null,null,"Tofte"]
[null,"Toimi",null,null,null,null,null,null,null,null,null,null,null,null,null,null,null,null,null,null,null,null,null,null,null,null,null,null,null,null,null,null,null,null,null,null,null,null,null,null,null,null,null,"Toimi"]
[null,"Toivola",null,null,null,null,null,null,null,null,null,null,null,null,null,null,null,null,null,null,null,null,null,null,null,null,null,null,null,null,null,null,null,null,null,null,null,null,null,null,null,null,null,"Toivola"]
[null,"Topeka",null,null,null,null,null,null,null,null,null,null,null,null,null,null,null,null,null,null,null,null,null,null,null,null,null,null,null,null,null,null,null,null,null,null,null,null,null,null,null,null,null,"Topeka"]
[null,"Torfin",null,null,null,null,null,null,null,null,null,null,null,null,null,null,null,null,null,null,null,null,null,null,null,null,null,null,null,null,null,null,null,null,null,null,null,null,null,null,null,null,null,"Torfin"]
[null,"Tower",null,null,null,null,null,null,null,null,null,null,null,null,null,null,null,null,null,null,null,null,null,null,null,null,null,null,null,null,null,null,null,null,null,null,null,null,null,null,null,null,null,"Tower"]
[null,"Traffic",null,null,null,null,null,null,null,null,null,null,null,null,null,null,null,null,null,null,null,null,null,null,null,null,null,null,null,null,null,null,null,null,null,null,null,null,null,null,null,null,null,"Traffic"]
[null,"Transit",null,null,null,null,null,null,null,null,null,null,null,null,null,null,null,null,null,null,null,null,null,null,null,null,null,null,null,null,null,null,null,null,null,null,null,null,null,null,null,null,null,"Transit"]
[null,"Trianon",null,null,null,null,null,null,null,null,null,null,null,null,null,null,null,null,null,null,null,null,null,null,null,null,null,null,null,null,null,null,null,null,null,null,null,null,null,null,null,null,null,"Trianon"]
[null,"Trommald",null,null,null,null,null,null,null,null,null,null,null,null,null,null,null,null,null,null,null,null,null,null,null,null,null,null,null,null,null,null,null,null,null,null,null,null,null,null,null,null,null,"Trommald"]
[null,"Trondjem",null,null,null,null,null,null,null,null,null,null,null,null,null,null,null,null,null,null,null,null,null,null,null,null,null,null,null,null,null,null,null,null,null,null,null,null,null,null,null,null,null,"Trondjem"]
[null,"Trosky",null,null,null,null,null,null,null,null,null,null,null,null,null,null,null,null,null,null,null,null,null,null,null,null,null,null,null,null,null,null,null,null,null,null,null,null,null,null,null,null,null,"Trosky"]
[null,"Trout Lake",null,null,null,null,null,null,null,null,null,null,null,null,null,null,null,null,null,null,null,null,null,null,null,null,null,null,null,null,null,null,null,null,null,null,null,null,null,null,null,null,null,"Trout Lake"]
[null,"Tumuli",null,null,null,null,null,null,null,null,null,null,null,null,null,null,null,null,null,null,null,null,null,null,null,null,null,null,null,null,null,null,null,null,null,null,null,null,null,null,null,null,null,"Tumuli"]
[null,"Turtle Creek",null,null,null,null,null,null,null,null,null,null,null,null,null,null,null,null,null,null,null,null,null,null,null,null,null,null,null,null,null,null,null,null,null,null,null,null,null,null,null,null,null,"Turtle Creek"]
[null,"Turtle River",null,null,null,null,null,null,null,null,null,null,null,null,null,null,null,null,null,null,null,null,null,null,null,null,null,null,null,null,null,null,null,null,null,null,null,null,null,null,null,null,null,"Turtle River"]
[null,"Twin Cities Army Ammunition Pl",null,null,null,null,null,null,null,null,null,null,null,null,null,null,null,null,null,null,null,null,null,null,null,null,null,null,null,null,null,null,null,null,null,null,null,null,null,null,null,null,null,"Twin Cities Army Ammunition Pl"]
[null,"Twin Lakes Township",null,null,null,null,null,null,null,null,null,null,null,null,null,null,null,null,null,null,null,null,null,null,null,null,null,null,null,null,null,null,null,null,null,null,null,null,null,null,null,null,null,"Twin Lakes Township"]
[null,"Twin Valley",null,null,null,null,null,null,null,null,null,null,null,null,null,null,null,null,null,null,null,null,null,null,null,null,null,null,null,null,null,null,null,null,null,null,null,null,null,null,null,null,null,"Twin Valley"]
[null,"Two Inlets",null,null,null,null,null,null,null,null,null,null,null,null,null,null,null,null,null,null,null,null,null,null,null,null,null,null,null,null,null,null,null,null,null,null,null,null,null,null,null,null,null,"Two Inlets"]
[null,"Tynsid",null,null,null,null,null,null,null,null,null,null,null,null,null,null,null,null,null,null,null,null,null,null,null,null,null,null,null,null,null,null,null,null,null,null,null,null,null,null,null,null,null,"Tynsid"]
[null,"Tyrone",null,null,null,null,null,null,null,null,null,null,null,null,null,null,null,null,null,null,null,null,null,null,null,null,null,null,null,null,null,null,null,null,null,null,null,null,null,null,null,null,null,"Tyrone"]
[null,"Ulen Township",null,null,null,null,null,null,null,null,null,null,null,null,null,null,null,null,null,null,null,null,null,null,null,null,null,null,null,null,null,null,null,null,null,null,null,null,null,null,null,null,null,"Ulen Township"]
[null,"Union Grove",null,null,null,null,null,null,null,null,null,null,null,null,null,null,null,null,null,null,null,null,null,null,null,null,null,null,null,null,null,null,null,null,null,null,null,null,null,null,null,null,null,"Union Grove"]
[null,"University",null,null,null,null,null,null,null,null,null,null,null,null,null,null,null,null,null,null,null,null,null,null,null,null,null,null,null,null,null,null,null,null,null,null,null,null,null,null,null,null,null,"University"]
[null,"Upper Nicollet",null,null,null,null,null,null,null,null,null,null,null,null,null,null,null,null,null,null,null,null,null,null,null,null,null,null,null,null,null,null,null,null,null,null,null,null,null,null,null,null,null,"Upper Nicollet"]
[null,"Upper Sioux Community",null,null,null,null,null,null,null,null,null,null,null,null,null,null,null,null,null,null,null,null,null,null,null,null,null,null,null,null,null,null,null,null,null,null,null,null,null,null,null,null,null,"Upper Sioux Community"]
[null,"Urbank",null,null,null,null,null,null,null,null,null,null,null,null,null,null,null,null,null,null,null,null,null,null,null,null,null,null,null,null,null,null,null,null,null,null,null,null,null,null,null,null,null,"Urbank"]
[null,"Utica",null,null,null,null,null,null,null,null,null,null,null,null,null,null,null,null,null,null,null,null,null,null,null,null,null,null,null,null,null,null,null,null,null,null,null,null,null,null,null,null,null,"Utica"]
[null,"Vallers",null,null,null,null,null,null,null,null,null,null,null,null,null,null,null,null,null,null,null,null,null,null,null,null,null,null,null,null,null,null,null,null,null,null,null,null,null,null,null,null,null,"Vallers"]
[null,"Valley Ridge",null,null,null,null,null,null,null,null,null,null,null,null,null,null,null,null,null,null,null,null,null,null,null,null,null,null,null,null,null,null,null,null,null,null,null,null,null,null,null,null,null,"Valley Ridge"]
[null,"Varco",null,null,null,null,null,null,null,null,null,null,null,null,null,null,null,null,null,null,null,null,null,null,null,null,null,null,null,null,null,null,null,null,null,null,null,null,null,null,null,null,null,"Varco"]
[null,"Vega",null,null,null,null,null,null,null,null,null,null,null,null,null,null,null,null,null,null,null,null,null,null,null,null,null,null,null,null,null,null,null,null,null,null,null,null,null,null,null,null,null,"Vega"]
[null,"Verdi Township",null,null,null,null,null,null,null,null,null,null,null,null,null,null,null,null,null,null,null,null,null,null,null,null,null,null,null,null,null,null,null,null,null,null,null,null,null,null,null,null,null,"Verdi Township"]
[null,"Verdon",null,null,null,null,null,null,null,null,null,null,null,null,null,null,null,null,null,null,null,null,null,null,null,null,null,null,null,null,null,null,null,null,null,null,null,null,null,null,null,null,null,"Verdon"]
[null,"Vermillion",null,null,null,null,null,null,null,null,null,null,null,null,null,null,null,null,null,null,null,null,null,null,null,null,null,null,null,null,null,null,null,null,null,null,null,null,null,null,null,null,null,"Vermillion"]
[null,"Vern",null,null,null,null,null,null,null,null,null,null,null,null,null,null,null,null,null,null,null,null,null,null,null,null,null,null,null,null,null,null,null,null,null,null,null,null,null,null,null,null,null,"Vern"]
[null,"Vernon",null,null,null,null,null,null,null,null,null,null,null,null,null,null,null,null,null,null,null,null,null,null,null,null,null,null,null,null,null,null,null,null,null,null,null,null,null,null,null,null,null,"Vernon"]
[null,"Verona",null,null,null,null,null,null,null,null,null,null,null,null,null,null,null,null,null,null,null,null,null,null,null,null,null,null,null,null,null,null,null,null,null,null,null,null,null,null,null,null,null,"Verona"]
[null,"Victor",null,null,null,null,null,null,null,null,null,null,null,null,null,null,null,null,null,null,null,null,null,null,null,null,null,null,null,null,null,null,null,null,null,null,null,null,null,null,null,null,null,"Victor"]
[null,"Vienna",null,null,null,null,null,null,null,null,null,null,null,null,null,null,null,null,null,null,null,null,null,null,null,null,null,null,null,null,null,null,null,null,null,null,null,null,null,null,null,null,null,"Vienna"]
[null,"Viking",null,null,null,null,null,null,null,null,null,null,null,null,null,null,null,null,null,null,null,null,null,null,null,null,null,null,null,null,null,null,null,null,null,null,null,null,null,null,null,null,null,"Viking"]
[null,"Villard",null,null,null,null,null,null,null,null,null,null,null,null,null,null,null,null,null,null,null,null,null,null,null,null,null,null,null,null,null,null,null,null,null,null,null,null,null,null,null,null,null,"Villard"]
[null,"Vineland Township",null,null,null,null,null,null,null,null,null,null,null,null,null,null,null,null,null,null,null,null,null,null,null,null,null,null,null,null,null,null,null,null,null,null,null,null,null,null,null,null,null,"Vineland Township"]
[null,"Virginia",null,null,null,null,null,null,null,null,null,null,null,null,null,null,null,null,null,null,null,null,null,null,null,null,null,null,null,null,null,null,null,null,null,null,null,null,null,null,null,null,null,"Virginia"]
[null,"Vlasaty",null,null,null,null,null,null,null,null,null,null,null,null,null,null,null,null,null,null,null,null,null,null,null,null,null,null,null,null,null,null,null,null,null,null,null,null,null,null,null,null,null,"Vlasaty"]
[null,"Wabana",null,null,null,null,null,null,null,null,null,null,null,null,null,null,null,null,null,null,null,null,null,null,null,null,null,null,null,null,null,null,null,null,null,null,null,null,null,null,null,null,null,"Wabana"]
[null,"Wabedo",null,null,null,null,null,null,null,null,null,null,null,null,null,null,null,null,null,null,null,null,null,null,null,null,null,null,null,null,null,null,null,null,null,null,null,null,null,null,null,null,null,"Wabedo"]
[null,"Wacouta",null,null,null,null,null,null,null,null,null,null,null,null,null,null,null,null,null,null,null,null,null,null,null,null,null,null,null,null,null,null,null,null,null,null,null,null,null,null,null,null,null,"Wacouta"]
[null,"Wacouta Beach",null,null,null,null,null,null,null,null,null,null,null,null,null,null,null,null,null,null,null,null,null,null,null,null,null,null,null,null,null,null,null,null,null,null,null,null,null,null,null,null,null,"Wacouta Beach"]
[null,"Wadena Township",null,null,null,null,null,null,null,null,null,null,null,null,null,null,null,null,null,null,null,null,null,null,null,null,null,null,null,null,null,null,null,null,null,null,null,null,null,null,null,null,null,"Wadena Township"]
[null,"Wahlsten",null,null,null,null,null,null,null,null,null,null,null,null,null,null,null,null,null,null,null,null,null,null,null,null,null,null,null,null,null,null,null,null,null,null,null,null,null,null,null,null,null,"Wahlsten"]
[null,"Wakefield",null,null,null,null,null,null,null,null,null,null,null,null,null,null,null,null,null,null,null,null,null,null,null,null,null,null,null,null,null,null,null,null,null,null,null,null,null,null,null,null,null,"Wakefield"]
[null,"Walcott",null,null,null,null,null,null,null,null,null,null,null,null,null,null,null,null,null,null,null,null,null,null,null,null,null,null,null,null,null,null,null,null,null,null,null,null,null,null,null,null,null,"Walcott"]
[null,"Waldo",null,null,null,null,null,null,null,null,null,null,null,null,null,null,null,null,null,null,null,null,null,null,null,null,null,null,null,null,null,null,null,null,null,null,null,null,null,null,null,null,null,"Waldo"]
[null,"Walker",null,null,null,null,null,null,null,null,null,null,null,null,null,null,null,null,null,null,null,null,null,null,null,null,null,null,null,null,null,null,null,null,null,null,null,null,null,null,null,null,null,"Walker"]
[null,"Walls",null,null,null,null,null,null,null,null,null,null,null,null,null,null,null,null,null,null,null,null,null,null,null,null,null,null,null,null,null,null,null,null,null,null,null,null,null,null,null,null,null,"Walls"]
[null,"Walnut Grove",null,null,null,null,null,null,null,null,null,null,null,null,null,null,null,null,null,null,null,null,null,null,null,null,null,null,null,null,null,null,null,null,null,null,null,null,null,null,null,null,null,"Walnut Grove"]
[null,"Walters",null,null,null,null,null,null,null,null,null,null,null,null,null,null,null,null,null,null,null,null,null,null,null,null,null,null,null,null,null,null,null,null,null,null,null,null,null,null,null,null,null,"Walters"]
[null,"Walworth",null,null,null,null,null,null,null,null,null,null,null,null,null,null,null,null,null,null,null,null,null,null,null,null,null,null,null,null,null,null,null,null,null,null,null,null,null,null,null,null,null,"Walworth"]
[null,"Wang",null,null,null,null,null,null,null,null,null,null,null,null,null,null,null,null,null,null,null,null,null,null,null,null,null,null,null,null,null,null,null,null,null,null,null,null,null,null,null,null,null,"Wang"]
[null,"Wannaska",null,null,null,null,null,null,null,null,null,null,null,null,null,null,null,null,null,null,null,null,null,null,null,null,null,null,null,null,null,null,null,null,null,null,null,null,null,null,null,null,null,"Wannaska"]
[null,"Ward",null,null,null,null,null,null,null,null,null,null,null,null,null,null,null,null,null,null,null,null,null,null,null,null,null,null,null,null,null,null,null,null,null,null,null,null,null,null,null,null,null,"Ward"]
[null,"Ward Springs",null,null,null,null,null,null,null,null,null,null,null,null,null,null,null,null,null,null,null,null,null,null,null,null,null,null,null,null,null,null,null,null,null,null,null,null,null,null,null,null,null,"Ward Springs"]
[null,"Warman",null,null,null,null,null,null,null,null,null,null,null,null,null,null,null,null,null,null,null,null,null,null,null,null,null,null,null,null,null,null,null,null,null,null,null,null,null,null,null,null,null,"Warman"]
[null,"Warren",null,null,null,null,null,null,null,null,null,null,null,null,null,null,null,null,null,null,null,null,null,null,null,null,null,null,null,null,null,null,null,null,null,null,null,null,null,null,null,null,null,"Warren"]
[null,"Warren Township",null,null,null,null,null,null,null,null,null,null,null,null,null,null,null,null,null,null,null,null,null,null,null,null,null,null,null,null,null,null,null,null,null,null,null,null,null,null,null,null,null,"Warren Township"]
[null,"Warrenton",null,null,null,null,null,null,null,null,null,null,null,null,null,null,null,null,null,null,null,null,null,null,null,null,null,null,null,null,null,null,null,null,null,null,null,null,null,null,null,null,null,"Warrenton"]
[null,"Warroad",null,null,null,null,null,null,null,null,null,null,null,null,null,null,null,null,null,null,null,null,null,null,null,null,null,null,null,null,null,null,null,null,null,null,null,null,null,null,null,null,null,"Warroad"]
[null,"Warsaw",null,null,null,null,null,null,null,null,null,null,null,null,null,null,null,null,null,null,null,null,null,null,null,null,null,null,null,null,null,null,null,null,null,null,null,null,null,null,null,null,null,"Warsaw"]
[null,"Warsaw Township",null,null,null,null,null,null,null,null,null,null,null,null,null,null,null,null,null,null,null,null,null,null,null,null,null,null,null,null,null,null,null,null,null,null,null,null,null,null,null,null,null,"Warsaw Township"]
[null,"Waseca",null,null,null,null,null,null,null,null,null,null,null,null,null,null,null,null,null,null,null,null,null,null,null,null,null,null,null,null,null,null,null,null,null,null,null,null,null,null,null,null,null,"Waseca"]
[null,"Washburn Park",null,null,null,null,null,null,null,null,null,null,null,null,null,null,null,null,null,null,null,null,null,null,null,null,null,null,null,null,null,null,null,null,null,null,null,null,null,null,null,null,null,"Washburn Park"]
[null,"Washington",null,null,null,null,null,null,null,null,null,null,null,null,null,null,null,null,null,null,null,null,null,null,null,null,null,null,null,null,null,null,null,null,null,null,null,null,null,null,null,null,null,"Washington"]
[null,"Washington Lake",null,null,null,null,null,null,null,null,null,null,null,null,null,null,null,null,null,null,null,null,null,null,null,null,null,null,null,null,null,null,null,null,null,null,null,null,null,null,null,null,null,"Washington Lake"]
[null,"Washington Township",null,null,null,null,null,null,null,null,null,null,null,null,null,null,null,null,null,null,null,null,null,null,null,null,null,null,null,null,null,null,null,null,null,null,null,null,null,null,null,null,null,"Washington Township"]
[null,"Wasioja",null,null,null,null,null,null,null,null,null,null,null,null,null,null,null,null,null,null,null,null,null,null,null,null,null,null,null,null,null,null,null,null,null,null,null,null,null,null,null,null,null,"Wasioja"]
[null,"Wasioja Township",null,null,null,null,null,null,null,null,null,null,null,null,null,null,null,null,null,null,null,null,null,null,null,null,null,null,null,null,null,null,null,null,null,null,null,null,null,null,null,null,null,"Wasioja Township"]
[null,"Waskish",null,null,null,null,null,null,null,null,null,null,null,null,null,null,null,null,null,null,null,null,null,null,null,null,null,null,null,null,null,null,null,null,null,null,null,null,null,null,null,null,null,"Waskish"]
[null,"Waskish Township",null,null,null,null,null,null,null,null,null,null,null,null,null,null,null,null,null,null,null,null,null,null,null,null,null,null,null,null,null,null,null,null,null,null,null,null,null,null,null,null,null,"Waskish Township"]
[null,"Wastedo",null,null,null,null,null,null,null,null,null,null,null,null,null,null,null,null,null,null,null,null,null,null,null,null,null,null,null,null,null,null,null,null,null,null,null,null,null,null,null,null,null,"Wastedo"]
[null,"Watab",null,null,null,null,null,null,null,null,null,null,null,null,null,null,null,null,null,null,null,null,null,null,null,null,null,null,null,null,null,null,null,null,null,null,null,null,null,null,null,null,null,"Watab"]
[null,"Watab Township",null,null,null,null,null,null,null,null,null,null,null,null,null,null,null,null,null,null,null,null,null,null,null,null,null,null,null,null,null,null,null,null,null,null,null,null,null,null,null,null,null,"Watab Township"]
[null,"Waterbury",null,null,null,null,null,null,null,null,null,null,null,null,null,null,null,null,null,null,null,null,null,null,null,null,null,null,null,null,null,null,null,null,null,null,null,null,null,null,null,null,null,"Waterbury"]
[null,"Waterford",null,null,null,null,null,null,null,null,null,null,null,null,null,null,null,null,null,null,null,null,null,null,null,null,null,null,null,null,null,null,null,null,null,null,null,null,null,null,null,null,null,"Waterford"]
[null,"Waterford Township",null,null,null,null,null,null,null,null,null,null,null,null,null,null,null,null,null,null,null,null,null,null,null,null,null,null,null,null,null,null,null,null,null,null,null,null,null,null,null,null,null,"Waterford Township"]
[null,"Watertown",null,null,null,null,null,null,null,null,null,null,null,null,null,null,null,null,null,null,null,null,null,null,null,null,null,null,null,null,null,null,null,null,null,null,null,null,null,null,null,null,null,"Watertown"]
[null,"Watertown Township",null,null,null,null,null,null,null,null,null,null,null,null,null,null,null,null,null,null,null,null,null,null,null,null,null,null,null,null,null,null,null,null,null,null,null,null,null,null,null,null,null,"Watertown Township"]
[null,"Waterville",null,null,null,null,null,null,null,null,null,null,null,null,null,null,null,null,null,null,null,null,null,null,null,null,null,null,null,null,null,null,null,null,null,null,null,null,null,null,null,null,null,"Waterville"]
[null,"Waterville Township",null,null,null,null,null,null,null,null,null,null,null,null,null,null,null,null,null,null,null,null,null,null,null,null,null,null,null,null,null,null,null,null,null,null,null,null,null,null,null,null,null,"Waterville Township"]
[null,"Watkins",null,null,null,null,null,null,null,null,null,null,null,null,null,null,null,null,null,null,null,null,null,null,null,null,null,null,null,null,null,null,null,null,null,null,null,null,null,null,null,null,null,"Watkins"]
[null,"Watopa",null,null,null,null,null,null,null,null,null,null,null,null,null,null,null,null,null,null,null,null,null,null,null,null,null,null,null,null,null,null,null,null,null,null,null,null,null,null,null,null,null,"Watopa"]
[null,"Watson",null,null,null,null,null,null,null,null,null,null,null,null,null,null,null,null,null,null,null,null,null,null,null,null,null,null,null,null,null,null,null,null,null,null,null,null,null,null,null,null,null,"Watson"]
[null,"Waubun",null,null,null,null,null,null,null,null,null,null,null,null,null,null,null,null,null,null,null,null,null,null,null,null,null,null,null,null,null,null,null,null,null,null,null,null,null,null,null,null,null,"Waubun"]
[null,"Waukenabo",null,null,null,null,null,null,null,null,null,null,null,null,null,null,null,null,null,null,null,null,null,null,null,null,null,null,null,null,null,null,null,null,null,null,null,null,null,null,null,null,null,"Waukenabo"]
[null,"Waukenabo Township",null,null,null,null,null,null,null,null,null,null,null,null,null,null,null,null,null,null,null,null,null,null,null,null,null,null,null,null,null,null,null,null,null,null,null,null,null,null,null,null,null,"Waukenabo Township"]
[null,"Waukon",null,null,null,null,null,null,null,null,null,null,null,null,null,null,null,null,null,null,null,null,null,null,null,null,null,null,null,null,null,null,null,null,null,null,null,null,null,null,null,null,null,"Waukon"]
[null,"Waukon Township",null,null,null,null,null,null,null,null,null,null,null,null,null,null,null,null,null,null,null,null,null,null,null,null,null,null,null,null,null,null,null,null,null,null,null,null,null,null,null,null,null,"Waukon Township"]
[null,"Waverly",null,null,null,null,null,null,null,null,null,null,null,null,null,null,null,null,null,null,null,null,null,null,null,null,null,null,null,null,null,null,null,null,null,null,null,null,null,null,null,null,null,"Waverly"]
[null,"Waverly Township",null,null,null,null,null,null,null,null,null,null,null,null,null,null,null,null,null,null,null,null,null,null,null,null,null,null,null,null,null,null,null,null,null,null,null,null,null,null,null,null,null,"Waverly Township"]
[null,"Wawina",null,null,null,null,null,null,null,null,null,null,null,null,null,null,null,null,null,null,null,null,null,null,null,null,null,null,null,null,null,null,null,null,null,null,null,null,null,null,null,null,null,"Wawina"]
[null,"Wawina Township",null,null,null,null,null,null,null,null,null,null,null,null,null,null,null,null,null,null,null,null,null,null,null,null,null,null,null,null,null,null,null,null,null,null,null,null,null,null,null,null,null,"Wawina Township"]
[null,"Wayland",null,null,null,null,null,null,null,null,null,null,null,null,null,null,null,null,null,null,null,null,null,null,null,null,null,null,null,null,null,null,null,null,null,null,null,null,null,null,null,null,null,"Wayland"]
[null,"Wayzata",null,null,null,null,null,null,null,null,null,null,null,null,null,null,null,null,null,null,null,null,null,null,null,null,null,null,null,null,null,null,null,null,null,null,null,null,null,null,null,null,null,"Wayzata"]
[null,"Wayzata Boulevard",null,null,null,null,null,null,null,null,null,null,null,null,null,null,null,null,null,null,null,null,null,null,null,null,null,null,null,null,null,null,null,null,null,null,null,null,null,null,null,null,null,"Wayzata Boulevard"]
[null,"Wealthwood",null,null,null,null,null,null,null,null,null,null,null,null,null,null,null,null,null,null,null,null,null,null,null,null,null,null,null,null,null,null,null,null,null,null,null,null,null,null,null,null,null,"Wealthwood"]
[null,"Wealthwood Township",null,null,null,null,null,null,null,null,null,null,null,null,null,null,null,null,null,null,null,null,null,null,null,null,null,null,null,null,null,null,null,null,null,null,null,null,null,null,null,null,null,"Wealthwood Township"]
[null,"Weaver",null,null,null,null,null,null,null,null,null,null,null,null,null,null,null,null,null,null,null,null,null,null,null,null,null,null,null,null,null,null,null,null,null,null,null,null,null,null,null,null,null,"Weaver"]
[null,"Weber",null,null,null,null,null,null,null,null,null,null,null,null,null,null,null,null,null,null,null,null,null,null,null,null,null,null,null,null,null,null,null,null,null,null,null,null,null,null,null,null,null,"Weber"]
[null,"Webster",null,null,null,null,null,null,null,null,null,null,null,null,null,null,null,null,null,null,null,null,null,null,null,null,null,null,null,null,null,null,null,null,null,null,null,null,null,null,null,null,null,"Webster"]
[null,"Webster Spur",null,null,null,null,null,null,null,null,null,null,null,null,null,null,null,null,null,null,null,null,null,null,null,null,null,null,null,null,null,null,null,null,null,null,null,null,null,null,null,null,null,"Webster Spur"]
[null,"Webster Township",null,null,null,null,null,null,null,null,null,null,null,null,null,null,null,null,null,null,null,null,null,null,null,null,null,null,null,null,null,null,null,null,null,null,null,null,null,null,null,null,null,"Webster Township"]
[null,"Wegdahl",null,null,null,null,null,null,null,null,null,null,null,null,null,null,null,null,null,null,null,null,null,null,null,null,null,null,null,null,null,null,null,null,null,null,null,null,null,null,null,null,null,"Wegdahl"]
[null,"Weimer",null,null,null,null,null,null,null,null,null,null,null,null,null,null,null,null,null,null,null,null,null,null,null,null,null,null,null,null,null,null,null,null,null,null,null,null,null,null,null,null,null,"Weimer"]
[null,"Welch",null,null,null,null,null,null,null,null,null,null,null,null,null,null,null,null,null,null,null,null,null,null,null,null,null,null,null,null,null,null,null,null,null,null,null,null,null,null,null,null,null,"Welch"]
[null,"Welch Township",null,null,null,null,null,null,null,null,null,null,null,null,null,null,null,null,null,null,null,null,null,null,null,null,null,null,null,null,null,null,null,null,null,null,null,null,null,null,null,null,null,"Welch Township"]
[null,"Welcome",null,null,null,null,null,null,null,null,null,null,null,null,null,null,null,null,null,null,null,null,null,null,null,null,null,null,null,null,null,null,null,null,null,null,null,null,null,null,null,null,null,"Welcome"]
[null,"Wellington",null,null,null,null,null,null,null,null,null,null,null,null,null,null,null,null,null,null,null,null,null,null,null,null,null,null,null,null,null,null,null,null,null,null,null,null,null,null,null,null,null,"Wellington"]
[null,"Wells",null,null,null,null,null,null,null,null,null,null,null,null,null,null,null,null,null,null,null,null,null,null,null,null,null,null,null,null,null,null,null,null,null,null,null,null,null,null,null,null,null,"Wells"]
[null,"Wells Township",null,null,null,null,null,null,null,null,null,null,null,null,null,null,null,null,null,null,null,null,null,null,null,null,null,null,null,null,null,null,null,null,null,null,null,null,null,null,null,null,null,"Wells Township"]
[null,"Weme",null,null,null,null,null,null,null,null,null,null,null,null,null,null,null,null,null,null,null,null,null,null,null,null,null,null,null,null,null,null,null,null,null,null,null,null,null,null,null,null,null,"Weme"]
[null,"Wendell",null,null,null,null,null,null,null,null,null,null,null,null,null,null,null,null,null,null,null,null,null,null,null,null,null,null,null,null,null,null,null,null,null,null,null,null,null,null,null,null,null,"Wendell"]
[null,"Wergeland",null,null,null,null,null,null,null,null,null,null,null,null,null,null,null,null,null,null,null,null,null,null,null,null,null,null,null,null,null,null,null,null,null,null,null,null,null,null,null,null,null,"Wergeland"]
[null,"Werner",null,null,null,null,null,null,null,null,null,null,null,null,null,null,null,null,null,null,null,null,null,null,null,null,null,null,null,null,null,null,null,null,null,null,null,null,null,null,null,null,null,"Werner"]
[null,"Wescott",null,null,null,null,null,null,null,null,null,null,null,null,null,null,null,null,null,null,null,null,null,null,null,null,null,null,null,null,null,null,null,null,null,null,null,null,null,null,null,null,null,"Wescott"]
[null,"West Albany",null,null,null,null,null,null,null,null,null,null,null,null,null,null,null,null,null,null,null,null,null,null,null,null,null,null,null,null,null,null,null,null,null,null,null,null,null,null,null,null,null,"West Albany"]
[null,"West Albion",null,null,null,null,null,null,null,null,null,null,null,null,null,null,null,null,null,null,null,null,null,null,null,null,null,null,null,null,null,null,null,null,null,null,null,null,null,null,null,null,null,"West Albion"]
[null,"West Bank",null,null,null,null,null,null,null,null,null,null,null,null,null,null,null,null,null,null,null,null,null,null,null,null,null,null,null,null,null,null,null,null,null,null,null,null,null,null,null,null,null,"West Bank"]
[null,"West Concord",null,null,null,null,null,null,null,null,null,null,null,null,null,null,null,null,null,null,null,null,null,null,null,null,null,null,null,null,null,null,null,null,null,null,null,null,null,null,null,null,null,"West Concord"]
[null,"West Cook",null,null,null,null,null,null,null,null,null,null,null,null,null,null,null,null,null,null,null,null,null,null,null,null,null,null,null,null,null,null,null,null,null,null,null,null,null,null,null,null,null,"West Cook"]
[null,"West Coon Rapids",null,null,null,null,null,null,null,null,null,null,null,null,null,null,null,null,null,null,null,null,null,null,null,null,null,null,null,null,null,null,null,null,null,null,null,null,null,null,null,null,null,"West Coon Rapids"]
[null,"West Crow Wing",null,null,null,null,null,null,null,null,null,null,null,null,null,null,null,null,null,null,null,null,null,null,null,null,null,null,null,null,null,null,null,null,null,null,null,null,null,null,null,null,null,"West Crow Wing"]
[null,"West Duluth",null,null,null,null,null,null,null,null,null,null,null,null,null,null,null,null,null,null,null,null,null,null,null,null,null,null,null,null,null,null,null,null,null,null,null,null,null,null,null,null,null,"West Duluth"]
[null,"West Duluth Junction",null,null,null,null,null,null,null,null,null,null,null,null,null,null,null,null,null,null,null,null,null,null,null,null,null,null,null,null,null,null,null,null,null,null,null,null,null,null,null,null,null,"West Duluth Junction"]
[null,"West Duluth Yard",null,null,null,null,null,null,null,null,null,null,null,null,null,null,null,null,null,null,null,null,null,null,null,null,null,null,null,null,null,null,null,null,null,null,null,null,null,null,null,null,null,"West Duluth Yard"]
[null,"West End",null,null,null,null,null,null,null,null,null,null,null,null,null,null,null,null,null,null,null,null,null,null,null,null,null,null,null,null,null,null,null,null,null,null,null,null,null,null,null,null,null,"West End"]
[null,"West Heron Lake",null,null,null,null,null,null,null,null,null,null,null,null,null,null,null,null,null,null,null,null,null,null,null,null,null,null,null,null,null,null,null,null,null,null,null,null,null,null,null,null,null,"West Heron Lake"]
[null,"West Lake",null,null,null,null,null,null,null,null,null,null,null,null,null,null,null,null,null,null,null,null,null,null,null,null,null,null,null,null,null,null,null,null,null,null,null,null,null,null,null,null,null,"West Lake"]
[null,"West Lake Francis Shores",null,null,null,null,null,null,null,null,null,null,null,null,null,null,null,null,null,null,null,null,null,null,null,null,null,null,null,null,null,null,null,null,null,null,null,null,null,null,null,null,null,"West Lake Francis Shores"]
[null,"West Lakeland",null,null,null,null,null,null,null,null,null,null,null,null,null,null,null,null,null,null,null,null,null,null,null,null,null,null,null,null,null,null,null,null,null,null,null,null,null,null,null,null,null,"West Lakeland"]
[null,"West Newton",null,null,null,null,null,null,null,null,null,null,null,null,null,null,null,null,null,null,null,null,null,null,null,null,null,null,null,null,null,null,null,null,null,null,null,null,null,null,null,null,null,"West Newton"]
[null,"West Newton Township",null,null,null,null,null,null,null,null,null,null,null,null,null,null,null,null,null,null,null,null,null,null,null,null,null,null,null,null,null,null,null,null,null,null,null,null,null,null,null,null,null,"West Newton Township"]
[null,"West Point",null,null,null,null,null,null,null,null,null,null,null,null,null,null,null,null,null,null,null,null,null,null,null,null,null,null,null,null,null,null,null,null,null,null,null,null,null,null,null,null,null,"West Point"]
[null,"West Red Wing",null,null,null,null,null,null,null,null,null,null,null,null,null,null,null,null,null,null,null,null,null,null,null,null,null,null,null,null,null,null,null,null,null,null,null,null,null,null,null,null,null,"West Red Wing"]
[null,"West Rock",null,null,null,null,null,null,null,null,null,null,null,null,null,null,null,null,null,null,null,null,null,null,null,null,null,null,null,null,null,null,null,null,null,null,null,null,null,null,null,null,null,"West Rock"]
[null,"West Saint Paul",null,null,null,null,null,null,null,null,null,null,null,null,null,null,null,null,null,null,null,null,null,null,null,null,null,null,null,null,null,null,null,null,null,null,null,null,null,null,null,null,null,"West Saint Paul"]
[null,"West Union",null,null,null,null,null,null,null,null,null,null,null,null,null,null,null,null,null,null,null,null,null,null,null,null,null,null,null,null,null,null,null,null,null,null,null,null,null,null,null,null,null,"West Union"]
[null,"West Union Township",null,null,null,null,null,null,null,null,null,null,null,null,null,null,null,null,null,null,null,null,null,null,null,null,null,null,null,null,null,null,null,null,null,null,null,null,null,null,null,null,null,"West Union Township"]
[null,"West Valley",null,null,null,null,null,null,null,null,null,null,null,null,null,null,null,null,null,null,null,null,null,null,null,null,null,null,null,null,null,null,null,null,null,null,null,null,null,null,null,null,null,"West Valley"]
[null,"West Virginia",null,null,null,null,null,null,null,null,null,null,null,null,null,null,null,null,null,null,null,null,null,null,null,null,null,null,null,null,null,null,null,null,null,null,null,null,null,null,null,null,null,"West Virginia"]
[null,"Westbrook",null,null,null,null,null,null,null,null,null,null,null,null,null,null,null,null,null,null,null,null,null,null,null,null,null,null,null,null,null,null,null,null,null,null,null,null,null,null,null,null,null,"Westbrook"]
[null,"Westbrook Township",null,null,null,null,null,null,null,null,null,null,null,null,null,null,null,null,null,null,null,null,null,null,null,null,null,null,null,null,null,null,null,null,null,null,null,null,null,null,null,null,null,"Westbrook Township"]
[null,"Westbury",null,null,null,null,null,null,null,null,null,null,null,null,null,null,null,null,null,null,null,null,null,null,null,null,null,null,null,null,null,null,null,null,null,null,null,null,null,null,null,null,null,"Westbury"]
[null,"Westerheim",null,null,null,null,null,null,null,null,null,null,null,null,null,null,null,null,null,null,null,null,null,null,null,null,null,null,null,null,null,null,null,null,null,null,null,null,null,null,null,null,null,"Westerheim"]
[null,"Western",null,null,null,null,null,null,null,null,null,null,null,null,null,null,null,null,null,null,null,null,null,null,null,null,null,null,null,null,null,null,null,null,null,null,null,null,null,null,null,null,null,"Western"]
[null,"Western Township",null,null,null,null,null,null,null,null,null,null,null,null,null,null,null,null,null,null,null,null,null,null,null,null,null,null,null,null,null,null,null,null,null,null,null,null,null,null,null,null,null,"Western Township"]
[null,"Westfield",null,null,null,null,null,null,null,null,null,null,null,null,null,null,null,null,null,null,null,null,null,null,null,null,null,null,null,null,null,null,null,null,null,null,null,null,null,null,null,null,null,"Westfield"]
[null,"Westford",null,null,null,null,null,null,null,null,null,null,null,null,null,null,null,null,null,null,null,null,null,null,null,null,null,null,null,null,null,null,null,null,null,null,null,null,null,null,null,null,null,"Westford"]
[null,"Westline",null,null,null,null,null,null,null,null,null,null,null,null,null,null,null,null,null,null,null,null,null,null,null,null,null,null,null,null,null,null,null,null,null,null,null,null,null,null,null,null,null,"Westline"]
[null,"Weston",null,null,null,null,null,null,null,null,null,null,null,null,null,null,null,null,null,null,null,null,null,null,null,null,null,null,null,null,null,null,null,null,null,null,null,null,null,null,null,null,null,"Weston"]
[null,"Westport",null,null,null,null,null,null,null,null,null,null,null,null,null,null,null,null,null,null,null,null,null,null,null,null,null,null,null,null,null,null,null,null,null,null,null,null,null,null,null,null,null,"Westport"]
[null,"Westport Township",null,null,null,null,null,null,null,null,null,null,null,null,null,null,null,null,null,null,null,null,null,null,null,null,null,null,null,null,null,null,null,null,null,null,null,null,null,null,null,null,null,"Westport Township"]
[null,"Westside",null,null,null,null,null,null,null,null,null,null,null,null,null,null,null,null,null,null,null,null,null,null,null,null,null,null,null,null,null,null,null,null,null,null,null,null,null,null,null,null,null,"Westside"]
[null,"Whalan",null,null,null,null,null,null,null,null,null,null,null,null,null,null,null,null,null,null,null,null,null,null,null,null,null,null,null,null,null,null,null,null,null,null,null,null,null,null,null,null,null,"Whalan"]
[null,"Wheatland",null,null,null,null,null,null,null,null,null,null,null,null,null,null,null,null,null,null,null,null,null,null,null,null,null,null,null,null,null,null,null,null,null,null,null,null,null,null,null,null,null,"Wheatland"]
[null,"Wheatland Township",null,null,null,null,null,null,null,null,null,null,null,null,null,null,null,null,null,null,null,null,null,null,null,null,null,null,null,null,null,null,null,null,null,null,null,null,null,null,null,null,null,"Wheatland Township"]
[null,"Wheaton",null,null,null,null,null,null,null,null,null,null,null,null,null,null,null,null,null,null,null,null,null,null,null,null,null,null,null,null,null,null,null,null,null,null,null,null,null,null,null,null,null,"Wheaton"]
[null,"Wheelers Point",null,null,null,null,null,null,null,null,null,null,null,null,null,null,null,null,null,null,null,null,null,null,null,null,null,null,null,null,null,null,null,null,null,null,null,null,null,null,null,null,null,"Wheelers Point"]
[null,"Wheeling",null,null,null,null,null,null,null,null,null,null,null,null,null,null,null,null,null,null,null,null,null,null,null,null,null,null,null,null,null,null,null,null,null,null,null,null,null,null,null,null,null,"Wheeling"]
[null,"Whipholt",null,null,null,null,null,null,null,null,null,null,null,null,null,null,null,null,null,null,null,null,null,null,null,null,null,null,null,null,null,null,null,null,null,null,null,null,null,null,null,null,null,"Whipholt"]
[null,"White",null,null,null,null,null,null,null,null,null,null,null,null,null,null,null,null,null,null,null,null,null,null,null,null,null,null,null,null,null,null,null,null,null,null,null,null,null,null,null,null,null,"White"]
[null,"White Bear",null,null,null,null,null,null,null,null,null,null,null,null,null,null,null,null,null,null,null,null,null,null,null,null,null,null,null,null,null,null,null,null,null,null,null,null,null,null,null,null,null,"White Bear"]
[null,"White Bear Beach",null,null,null,null,null,null,null,null,null,null,null,null,null,null,null,null,null,null,null,null,null,null,null,null,null,null,null,null,null,null,null,null,null,null,null,null,null,null,null,null,null,"White Bear Beach"]
[null,"White Bear Lake",null,null,null,null,null,null,null,null,null,null,null,null,null,null,null,null,null,null,null,null,null,null,null,null,null,null,null,null,null,null,null,null,null,null,null,null,null,null,null,null,null,"White Bear Lake"]
[null,"White Bear Lake Township",null,null,null,null,null,null,null,null,null,null,null,null,null,null,null,null,null,null,null,null,null,null,null,null,null,null,null,null,null,null,null,null,null,null,null,null,null,null,null,null,null,"White Bear Lake Township"]
[null,"White Earth",null,null,null,null,null,null,null,null,null,null,null,null,null,null,null,null,null,null,null,null,null,null,null,null,null,null,null,null,null,null,null,null,null,null,null,null,null,null,null,null,null,"White Earth"]
[null,"White Earth Indian Reservation",null,null,null,null,null,null,null,null,null,null,null,null,null,null,null,null,null,null,null,null,null,null,null,null,null,null,null,null,null,null,null,null,null,null,null,null,null,null,null,null,null,"White Earth Indian Reservation"]
[null,"White Earth Township",null,null,null,null,null,null,null,null,null,null,null,null,null,null,null,null,null,null,null,null,null,null,null,null,null,null,null,null,null,null,null,null,null,null,null,null,null,null,null,null,null,"White Earth Township"]
[null,"White Hawk",null,null,null,null,null,null,null,null,null,null,null,null,null,null,null,null,null,null,null,null,null,null,null,null,null,null,null,null,null,null,null,null,null,null,null,null,null,null,null,null,null,"White Hawk"]
[null,"White Iron",null,null,null,null,null,null,null,null,null,null,null,null,null,null,null,null,null,null,null,null,null,null,null,null,null,null,null,null,null,null,null,null,null,null,null,null,null,null,null,null,null,"White Iron"]
[null,"White Oak",null,null,null,null,null,null,null,null,null,null,null,null,null,null,null,null,null,null,null,null,null,null,null,null,null,null,null,null,null,null,null,null,null,null,null,null,null,null,null,null,null,"White Oak"]
[null,"White Pine",null,null,null,null,null,null,null,null,null,null,null,null,null,null,null,null,null,null,null,null,null,null,null,null,null,null,null,null,null,null,null,null,null,null,null,null,null,null,null,null,null,"White Pine"]
[null,"White Rock",null,null,null,null,null,null,null,null,null,null,null,null,null,null,null,null,null,null,null,null,null,null,null,null,null,null,null,null,null,null,null,null,null,null,null,null,null,null,null,null,null,"White Rock"]
[null,"White Willow",null,null,null,null,null,null,null,null,null,null,null,null,null,null,null,null,null,null,null,null,null,null,null,null,null,null,null,null,null,null,null,null,null,null,null,null,null,null,null,null,null,"White Willow"]
[null,"Whited",null,null,null,null,null,null,null,null,null,null,null,null,null,null,null,null,null,null,null,null,null,null,null,null,null,null,null,null,null,null,null,null,null,null,null,null,null,null,null,null,null,"Whited"]
[null,"Whiteface",null,null,null,null,null,null,null,null,null,null,null,null,null,null,null,null,null,null,null,null,null,null,null,null,null,null,null,null,null,null,null,null,null,null,null,null,null,null,null,null,null,"Whiteface"]
[null,"Whiteface Reservoir",null,null,null,null,null,null,null,null,null,null,null,null,null,null,null,null,null,null,null,null,null,null,null,null,null,null,null,null,null,null,null,null,null,null,null,null,null,null,null,null,null,"Whiteface Reservoir"]
[null,"Whitefield",null,null,null,null,null,null,null,null,null,null,null,null,null,null,null,null,null,null,null,null,null,null,null,null,null,null,null,null,null,null,null,null,null,null,null,null,null,null,null,null,null,"Whitefield"]
[null,"Whiteford",null,null,null,null,null,null,null,null,null,null,null,null,null,null,null,null,null,null,null,null,null,null,null,null,null,null,null,null,null,null,null,null,null,null,null,null,null,null,null,null,null,"Whiteford"]
[null,"Whitewater",null,null,null,null,null,null,null,null,null,null,null,null,null,null,null,null,null,null,null,null,null,null,null,null,null,null,null,null,null,null,null,null,null,null,null,null,null,null,null,null,null,"Whitewater"]
[null,"Whitman",null,null,null,null,null,null,null,null,null,null,null,null,null,null,null,null,null,null,null,null,null,null,null,null,null,null,null,null,null,null,null,null,null,null,null,null,null,null,null,null,null,"Whitman"]
[null,"Whyte",null,null,null,null,null,null,null,null,null,null,null,null,null,null,null,null,null,null,null,null,null,null,null,null,null,null,null,null,null,null,null,null,null,null,null,null,null,null,null,null,null,"Whyte"]
[null,"Wig Wam Bay",null,null,null,null,null,null,null,null,null,null,null,null,null,null,null,null,null,null,null,null,null,null,null,null,null,null,null,null,null,null,null,null,null,null,null,null,null,null,null,null,null,"Wig Wam Bay"]
[null,"Wilbert",null,null,null,null,null,null,null,null,null,null,null,null,null,null,null,null,null,null,null,null,null,null,null,null,null,null,null,null,null,null,null,null,null,null,null,null,null,null,null,null,null,"Wilbert"]
[null,"Wild Rice",null,null,null,null,null,null,null,null,null,null,null,null,null,null,null,null,null,null,null,null,null,null,null,null,null,null,null,null,null,null,null,null,null,null,null,null,null,null,null,null,null,"Wild Rice"]
[null,"Wilder",null,null,null,null,null,null,null,null,null,null,null,null,null,null,null,null,null,null,null,null,null,null,null,null,null,null,null,null,null,null,null,null,null,null,null,null,null,null,null,null,null,"Wilder"]
[null,"Wilds",null,null,null,null,null,null,null,null,null,null,null,null,null,null,null,null,null,null,null,null,null,null,null,null,null,null,null,null,null,null,null,null,null,null,null,null,null,null,null,null,null,"Wilds"]
[null,"Wildwood",null,null,null,null,null,null,null,null,null,null,null,null,null,null,null,null,null,null,null,null,null,null,null,null,null,null,null,null,null,null,null,null,null,null,null,null,null,null,null,null,null,"Wildwood"]
[null,"Wildwood Township",null,null,null,null,null,null,null,null,null,null,null,null,null,null,null,null,null,null,null,null,null,null,null,null,null,null,null,null,null,null,null,null,null,null,null,null,null,null,null,null,null,"Wildwood Township"]
[null,"Wilkinson",null,null,null,null,null,null,null,null,null,null,null,null,null,null,null,null,null,null,null,null,null,null,null,null,null,null,null,null,null,null,null,null,null,null,null,null,null,null,null,null,null,"Wilkinson"]
[null,"Wilkinson Township",null,null,null,null,null,null,null,null,null,null,null,null,null,null,null,null,null,null,null,null,null,null,null,null,null,null,null,null,null,null,null,null,null,null,null,null,null,null,null,null,null,"Wilkinson Township"]
[null,"Willernie",null,null,null,null,null,null,null,null,null,null,null,null,null,null,null,null,null,null,null,null,null,null,null,null,null,null,null,null,null,null,null,null,null,null,null,null,null,null,null,null,null,"Willernie"]
[null,"Williams",null,null,null,null,null,null,null,null,null,null,null,null,null,null,null,null,null,null,null,null,null,null,null,null,null,null,null,null,null,null,null,null,null,null,null,null,null,null,null,null,null,"Williams"]
[null,"Williams Township",null,null,null,null,null,null,null,null,null,null,null,null,null,null,null,null,null,null,null,null,null,null,null,null,null,null,null,null,null,null,null,null,null,null,null,null,null,null,null,null,null,"Williams Township"]
[null,"Willington Grove",null,null,null,null,null,null,null,null,null,null,null,null,null,null,null,null,null,null,null,null,null,null,null,null,null,null,null,null,null,null,null,null,null,null,null,null,null,null,null,null,null,"Willington Grove"]
[null,"Willmar",null,null,null,null,null,null,null,null,null,null,null,null,null,null,null,null,null,null,null,null,null,null,null,null,null,null,null,null,null,null,null,null,null,null,null,null,null,null,null,null,null,"Willmar"]
[null,"Willmar Township",null,null,null,null,null,null,null,null,null,null,null,null,null,null,null,null,null,null,null,null,null,null,null,null,null,null,null,null,null,null,null,null,null,null,null,null,null,null,null,null,null,"Willmar Township"]
[null,"Willow Creek",null,null,null,null,null,null,null,null,null,null,null,null,null,null,null,null,null,null,null,null,null,null,null,null,null,null,null,null,null,null,null,null,null,null,null,null,null,null,null,null,null,"Willow Creek"]
[null,"Willow Lake",null,null,null,null,null,null,null,null,null,null,null,null,null,null,null,null,null,null,null,null,null,null,null,null,null,null,null,null,null,null,null,null,null,null,null,null,null,null,null,null,null,"Willow Lake"]
[null,"Willow River",null,null,null,null,null,null,null,null,null,null,null,null,null,null,null,null,null,null,null,null,null,null,null,null,null,null,null,null,null,null,null,null,null,null,null,null,null,null,null,null,null,"Willow River"]
[null,"Willow Valley",null,null,null,null,null,null,null,null,null,null,null,null,null,null,null,null,null,null,null,null,null,null,null,null,null,null,null,null,null,null,null,null,null,null,null,null,null,null,null,null,null,"Willow Valley"]
[null,"Wilma",null,null,null,null,null,null,null,null,null,null,null,null,null,null,null,null,null,null,null,null,null,null,null,null,null,null,null,null,null,null,null,null,null,null,null,null,null,null,null,null,null,"Wilma"]
[null,"Wilmington",null,null,null,null,null,null,null,null,null,null,null,null,null,null,null,null,null,null,null,null,null,null,null,null,null,null,null,null,null,null,null,null,null,null,null,null,null,null,null,null,null,"Wilmington"]
[null,"Wilmington Township",null,null,null,null,null,null,null,null,null,null,null,null,null,null,null,null,null,null,null,null,null,null,null,null,null,null,null,null,null,null,null,null,null,null,null,null,null,null,null,null,null,"Wilmington Township"]
[null,"Wilmont",null,null,null,null,null,null,null,null,null,null,null,null,null,null,null,null,null,null,null,null,null,null,null,null,null,null,null,null,null,null,null,null,null,null,null,null,null,null,null,null,null,"Wilmont"]
[null,"Wilmont Township",null,null,null,null,null,null,null,null,null,null,null,null,null,null,null,null,null,null,null,null,null,null,null,null,null,null,null,null,null,null,null,null,null,null,null,null,null,null,null,null,null,"Wilmont Township"]
[null,"Wilno",null,null,null,null,null,null,null,null,null,null,null,null,null,null,null,null,null,null,null,null,null,null,null,null,null,null,null,null,null,null,null,null,null,null,null,null,null,null,null,null,null,"Wilno"]
[null,"Wilpen",null,null,null,null,null,null,null,null,null,null,null,null,null,null,null,null,null,null,null,null,null,null,null,null,null,null,null,null,null,null,null,null,null,null,null,null,null,null,null,null,null,"Wilpen"]
[null,"Wilson",null,null,null,null,null,null,null,null,null,null,null,null,null,null,null,null,null,null,null,null,null,null,null,null,null,null,null,null,null,null,null,null,null,null,null,null,null,null,null,null,null,"Wilson"]
[null,"Wilson Township",null,null,null,null,null,null,null,null,null,null,null,null,null,null,null,null,null,null,null,null,null,null,null,null,null,null,null,null,null,null,null,null,null,null,null,null,null,null,null,null,null,"Wilson Township"]
[null,"Wilton",null,null,null,null,null,null,null,null,null,null,null,null,null,null,null,null,null,null,null,null,null,null,null,null,null,null,null,null,null,null,null,null,null,null,null,null,null,null,null,null,null,"Wilton"]
[null,"Wilton Township",null,null,null,null,null,null,null,null,null,null,null,null,null,null,null,null,null,null,null,null,null,null,null,null,null,null,null,null,null,null,null,null,null,null,null,null,null,null,null,null,null,"Wilton Township"]
[null,"Winchester",null,null,null,null,null,null,null,null,null,null,null,null,null,null,null,null,null,null,null,null,null,null,null,null,null,null,null,null,null,null,null,null,null,null,null,null,null,null,null,null,null,"Winchester"]
[null,"Windemere",null,null,null,null,null,null,null,null,null,null,null,null,null,null,null,null,null,null,null,null,null,null,null,null,null,null,null,null,null,null,null,null,null,null,null,null,null,null,null,null,null,"Windemere"]
[null,"Windom",null,null,null,null,null,null,null,null,null,null,null,null,null,null,null,null,null,null,null,null,null,null,null,null,null,null,null,null,null,null,null,null,null,null,null,null,null,null,null,null,null,"Windom"]
[null,"Windom Township",null,null,null,null,null,null,null,null,null,null,null,null,null,null,null,null,null,null,null,null,null,null,null,null,null,null,null,null,null,null,null,null,null,null,null,null,null,null,null,null,null,"Windom Township"]
[null,"Windsor",null,null,null,null,null,null,null,null,null,null,null,null,null,null,null,null,null,null,null,null,null,null,null,null,null,null,null,null,null,null,null,null,null,null,null,null,null,null,null,null,null,"Windsor"]
[null,"Winfield",null,null,null,null,null,null,null,null,null,null,null,null,null,null,null,null,null,null,null,null,null,null,null,null,null,null,null,null,null,null,null,null,null,null,null,null,null,null,null,null,null,"Winfield"]
[null,"Wing River",null,null,null,null,null,null,null,null,null,null,null,null,null,null,null,null,null,null,null,null,null,null,null,null,null,null,null,null,null,null,null,null,null,null,null,null,null,null,null,null,null,"Wing River"]
[null,"Winger",null,null,null,null,null,null,null,null,null,null,null,null,null,null,null,null,null,null,null,null,null,null,null,null,null,null,null,null,null,null,null,null,null,null,null,null,null,null,null,null,null,"Winger"]
[null,"Winger Township",null,null,null,null,null,null,null,null,null,null,null,null,null,null,null,null,null,null,null,null,null,null,null,null,null,null,null,null,null,null,null,null,null,null,null,null,null,null,null,null,null,"Winger Township"]
[null,"Winnebago",null,null,null,null,null,null,null,null,null,null,null,null,null,null,null,null,null,null,null,null,null,null,null,null,null,null,null,null,null,null,null,null,null,null,null,null,null,null,null,null,null,"Winnebago"]
[null,"Winnebago City",null,null,null,null,null,null,null,null,null,null,null,null,null,null,null,null,null,null,null,null,null,null,null,null,null,null,null,null,null,null,null,null,null,null,null,null,null,null,null,null,null,"Winnebago City"]
[null,"Winnebago Township",null,null,null,null,null,null,null,null,null,null,null,null,null,null,null,null,null,null,null,null,null,null,null,null,null,null,null,null,null,null,null,null,null,null,null,null,null,null,null,null,null,"Winnebago Township"]
[null,"Winner",null,null,null,null,null,null,null,null,null,null,null,null,null,null,null,null,null,null,null,null,null,null,null,null,null,null,null,null,null,null,null,null,null,null,null,null,null,null,null,null,null,"Winner"]
[null,"Winnick Spur",null,null,null,null,null,null,null,null,null,null,null,null,null,null,null,null,null,null,null,null,null,null,null,null,null,null,null,null,null,null,null,null,null,null,null,null,null,null,null,null,null,"Winnick Spur"]
[null,"Winnipeg Junction",null,null,null,null,null,null,null,null,null,null,null,null,null,null,null,null,null,null,null,null,null,null,null,null,null,null,null,null,null,null,null,null,null,null,null,null,null,null,null,null,null,"Winnipeg Junction"]
[null,"Winona",null,null,null,null,null,null,null,null,null,null,null,null,null,null,null,null,null,null,null,null,null,null,null,null,null,null,null,null,null,null,null,null,null,null,null,null,null,null,null,null,null,"Winona"]
[null,"Winona Township",null,null,null,null,null,null,null,null,null,null,null,null,null,null,null,null,null,null,null,null,null,null,null,null,null,null,null,null,null,null,null,null,null,null,null,null,null,null,null,null,null,"Winona Township"]
[null,"Winsor",null,null,null,null,null,null,null,null,null,null,null,null,null,null,null,null,null,null,null,null,null,null,null,null,null,null,null,null,null,null,null,null,null,null,null,null,null,null,null,null,null,"Winsor"]
[null,"Winsted",null,null,null,null,null,null,null,null,null,null,null,null,null,null,null,null,null,null,null,null,null,null,null,null,null,null,null,null,null,null,null,null,null,null,null,null,null,null,null,null,null,"Winsted"]
[null,"Winsted Township",null,null,null,null,null,null,null,null,null,null,null,null,null,null,null,null,null,null,null,null,null,null,null,null,null,null,null,null,null,null,null,null,null,null,null,null,null,null,null,null,null,"Winsted Township"]
[null,"Winter",null,null,null,null,null,null,null,null,null,null,null,null,null,null,null,null,null,null,null,null,null,null,null,null,null,null,null,null,null,null,null,null,null,null,null,null,null,null,null,null,null,"Winter"]
[null,"Winthrop",null,null,null,null,null,null,null,null,null,null,null,null,null,null,null,null,null,null,null,null,null,null,null,null,null,null,null,null,null,null,null,null,null,null,null,null,null,null,null,null,null,"Winthrop"]
[null,"Winton",null,null,null,null,null,null,null,null,null,null,null,null,null,null,null,null,null,null,null,null,null,null,null,null,null,null,null,null,null,null,null,null,null,null,null,null,null,null,null,null,null,"Winton"]
[null,"Wirock",null,null,null,null,null,null,null,null,null,null,null,null,null,null,null,null,null,null,null,null,null,null,null,null,null,null,null,null,null,null,null,null,null,null,null,null,null,null,null,null,null,"Wirock"]
[null,"Wirt",null,null,null,null,null,null,null,null,null,null,null,null,null,null,null,null,null,null,null,null,null,null,null,null,null,null,null,null,null,null,null,null,null,null,null,null,null,null,null,null,null,"Wirt"]
[null,"Wirt Township",null,null,null,null,null,null,null,null,null,null,null,null,null,null,null,null,null,null,null,null,null,null,null,null,null,null,null,null,null,null,null,null,null,null,null,null,null,null,null,null,null,"Wirt Township"]
[null,"Wisconsin",null,null,null,null,null,null,null,null,null,null,null,null,null,null,null,null,null,null,null,null,null,null,null,null,null,null,null,null,null,null,null,null,null,null,null,null,null,null,null,null,null,"Wisconsin"]
[null,"Wiscoy",null,null,null,null,null,null,null,null,null,null,null,null,null,null,null,null,null,null,null,null,null,null,null,null,null,null,null,null,null,null,null,null,null,null,null,null,null,null,null,null,null,"Wiscoy"]
[null,"Wisner",null,null,null,null,null,null,null,null,null,null,null,null,null,null,null,null,null,null,null,null,null,null,null,null,null,null,null,null,null,null,null,null,null,null,null,null,null,null,null,null,null,"Wisner"]
[null,"Withrow",null,null,null,null,null,null,null,null,null,null,null,null,null,null,null,null,null,null,null,null,null,null,null,null,null,null,null,null,null,null,null,null,null,null,null,null,null,null,null,null,null,"Withrow"]
[null,"Witoka",null,null,null,null,null,null,null,null,null,null,null,null,null,null,null,null,null,null,null,null,null,null,null,null,null,null,null,null,null,null,null,null,null,null,null,null,null,null,null,null,null,"Witoka"]
[null,"Wolf",null,null,null,null,null,null,null,null,null,null,null,null,null,null,null,null,null,null,null,null,null,null,null,null,null,null,null,null,null,null,null,null,null,null,null,null,null,null,null,null,null,"Wolf"]
[null,"Wolf Lake",null,null,null,null,null,null,null,null,null,null,null,null,null,null,null,null,null,null,null,null,null,null,null,null,null,null,null,null,null,null,null,null,null,null,null,null,null,null,null,null,null,"Wolf Lake"]
[null,"Wolf Lake Township",null,null,null,null,null,null,null,null,null,null,null,null,null,null,null,null,null,null,null,null,null,null,null,null,null,null,null,null,null,null,null,null,null,null,null,null,null,null,null,null,null,"Wolf Lake Township"]
[null,"Wolford",null,null,null,null,null,null,null,null,null,null,null,null,null,null,null,null,null,null,null,null,null,null,null,null,null,null,null,null,null,null,null,null,null,null,null,null,null,null,null,null,null,"Wolford"]
[null,"Wolverton",null,null,null,null,null,null,null,null,null,null,null,null,null,null,null,null,null,null,null,null,null,null,null,null,null,null,null,null,null,null,null,null,null,null,null,null,null,null,null,null,null,"Wolverton"]
[null,"Wolverton Township",null,null,null,null,null,null,null,null,null,null,null,null,null,null,null,null,null,null,null,null,null,null,null,null,null,null,null,null,null,null,null,null,null,null,null,null,null,null,null,null,null,"Wolverton Township"]
[null,"Wood Lake",null,null,null,null,null,null,null,null,null,null,null,null,null,null,null,null,null,null,null,null,null,null,null,null,null,null,null,null,null,null,null,null,null,null,null,null,null,null,null,null,null,"Wood Lake"]
[null,"Wood Lake Township",null,null,null,null,null,null,null,null,null,null,null,null,null,null,null,null,null,null,null,null,null,null,null,null,null,null,null,null,null,null,null,null,null,null,null,null,null,null,null,null,null,"Wood Lake Township"]
[null,"Woodbury",null,null,null,null,null,null,null,null,null,null,null,null,null,null,null,null,null,null,null,null,null,null,null,null,null,null,null,null,null,null,null,null,null,null,null,null,null,null,null,null,null,"Woodbury"]
[null,"Woodland",null,null,null,null,null,null,null,null,null,null,null,null,null,null,null,null,null,null,null,null,null,null,null,null,null,null,null,null,null,null,null,null,null,null,null,null,null,null,null,null,null,"Woodland"]
[null,"Woodland Park",null,null,null,null,null,null,null,null,null,null,null,null,null,null,null,null,null,null,null,null,null,null,null,null,null,null,null,null,null,null,null,null,null,null,null,null,null,null,null,null,null,"Woodland Park"]
[null,"Woodland Township",null,null,null,null,null,null,null,null,null,null,null,null,null,null,null,null,null,null,null,null,null,null,null,null,null,null,null,null,null,null,null,null,null,null,null,null,null,null,null,null,null,"Woodland Township"]
[null,"Woodrow",null,null,null,null,null,null,null,null,null,null,null,null,null,null,null,null,null,null,null,null,null,null,null,null,null,null,null,null,null,null,null,null,null,null,null,null,null,null,null,null,null,"Woodrow"]
[null,"Woodrow Township",null,null,null,null,null,null,null,null,null,null,null,null,null,null,null,null,null,null,null,null,null,null,null,null,null,null,null,null,null,null,null,null,null,null,null,null,null,null,null,null,null,"Woodrow Township"]
[null,"Woods",null,null,null,null,null,null,null,null,null,null,null,null,null,null,null,null,null,null,null,null,null,null,null,null,null,null,null,null,null,null,null,null,null,null,null,null,null,null,null,null,null,"Woods"]
[null,"Woodside",null,null,null,null,null,null,null,null,null,null,null,null,null,null,null,null,null,null,null,null,null,null,null,null,null,null,null,null,null,null,null,null,null,null,null,null,null,null,null,null,null,"Woodside"]
[null,"Woodstock",null,null,null,null,null,null,null,null,null,null,null,null,null,null,null,null,null,null,null,null,null,null,null,null,null,null,null,null,null,null,null,null,null,null,null,null,null,null,null,null,null,"Woodstock"]
[null,"Woodville",null,null,null,null,null,null,null,null,null,null,null,null,null,null,null,null,null,null,null,null,null,null,null,null,null,null,null,null,null,null,null,null,null,null,null,null,null,null,null,null,null,"Woodville"]
[null,"Woodward Brook",null,null,null,null,null,null,null,null,null,null,null,null,null,null,null,null,null,null,null,null,null,null,null,null,null,null,null,null,null,null,null,null,null,null,null,null,null,null,null,null,null,"Woodward Brook"]
[null,"Workman",null,null,null,null,null,null,null,null,null,null,null,null,null,null,null,null,null,null,null,null,null,null,null,null,null,null,null,null,null,null,null,null,null,null,null,null,null,null,null,null,null,"Workman"]
[null,"Worthington",null,null,null,null,null,null,null,null,null,null,null,null,null,null,null,null,null,null,null,null,null,null,null,null,null,null,null,null,null,null,null,null,null,null,null,null,null,null,null,null,null,"Worthington"]
[null,"Worthington Municipal Airport",null,null,null,null,null,null,null,null,null,null,null,null,null,null,null,null,null,null,null,null,null,null,null,null,null,null,null,null,null,null,null,null,null,null,null,null,null,null,null,null,null,"Worthington Municipal Airport"]
[null,"Worthington Township",null,null,null,null,null,null,null,null,null,null,null,null,null,null,null,null,null,null,null,null,null,null,null,null,null,null,null,null,null,null,null,null,null,null,null,null,null,null,null,null,null,"Worthington Township"]
[null,"Wrenshall",null,null,null,null,null,null,null,null,null,null,null,null,null,null,null,null,null,null,null,null,null,null,null,null,null,null,null,null,null,null,null,null,null,null,null,null,null,null,null,null,null,"Wrenshall"]
[null,"Wrenshall Township",null,null,null,null,null,null,null,null,null,null,null,null,null,null,null,null,null,null,null,null,null,null,null,null,null,null,null,null,null,null,null,null,null,null,null,null,null,null,null,null,null,"Wrenshall Township"]
[null,"Wright",null,null,null,null,null,null,null,null,null,null,null,null,null,null,null,null,null,null,null,null,null,null,null,null,null,null,null,null,null,null,null,null,null,null,null,null,null,null,null,null,null,"Wright"]
[null,"Wright Township",null,null,null,null,null,null,null,null,null,null,null,null,null,null,null,null,null,null,null,null,null,null,null,null,null,null,null,null,null,null,null,null,null,null,null,null,null,null,null,null,null,"Wright Township"]
[null,"Wrightstown",null,null,null,null,null,null,null,null,null,null,null,null,null,null,null,null,null,null,null,null,null,null,null,null,null,null,null,null,null,null,null,null,null,null,null,null,null,null,null,null,null,"Wrightstown"]
[null,"Wuori",null,null,null,null,null,null,null,null,null,null,null,null,null,null,null,null,null,null,null,null,null,null,null,null,null,null,null,null,null,null,null,null,null,null,null,null,null,null,null,null,null,"Wuori"]
[null,"Wyandotte",null,null,null,null,null,null,null,null,null,null,null,null,null,null,null,null,null,null,null,null,null,null,null,null,null,null,null,null,null,null,null,null,null,null,null,null,null,null,null,null,null,"Wyandotte"]
[null,"Wyanett",null,null,null,null,null,null,null,null,null,null,null,null,null,null,null,null,null,null,null,null,null,null,null,null,null,null,null,null,null,null,null,null,null,null,null,null,null,null,null,null,null,"Wyanett"]
[null,"Wyanett Township",null,null,null,null,null,null,null,null,null,null,null,null,null,null,null,null,null,null,null,null,null,null,null,null,null,null,null,null,null,null,null,null,null,null,null,null,null,null,null,null,null,"Wyanett Township"]
[null,"Wyattville",null,null,null,null,null,null,null,null,null,null,null,null,null,null,null,null,null,null,null,null,null,null,null,null,null,null,null,null,null,null,null,null,null,null,null,null,null,null,null,null,null,"Wyattville"]
[null,"Wykeham",null,null,null,null,null,null,null,null,null,null,null,null,null,null,null,null,null,null,null,null,null,null,null,null,null,null,null,null,null,null,null,null,null,null,null,null,null,null,null,null,null,"Wykeham"]
[null,"Wykoff",null,null,null,null,null,null,null,null,null,null,null,null,null,null,null,null,null,null,null,null,null,null,null,null,null,null,null,null,null,null,null,null,null,null,null,null,null,null,null,null,null,"Wykoff"]
[null,"Wylie",null,null,null,null,null,null,null,null,null,null,null,null,null,null,null,null,null,null,null,null,null,null,null,null,null,null,null,null,null,null,null,null,null,null,null,null,null,null,null,null,null,"Wylie"]
[null,"Wylie Township",null,null,null,null,null,null,null,null,null,null,null,null,null,null,null,null,null,null,null,null,null,null,null,null,null,null,null,null,null,null,null,null,null,null,null,null,null,null,null,null,null,"Wylie Township"]
[null,"Wyman",null,null,null,null,null,null,null,null,null,null,null,null,null,null,null,null,null,null,null,null,null,null,null,null,null,null,null,null,null,null,null,null,null,null,null,null,null,null,null,null,null,"Wyman"]
[null,"Wyoming",null,null,null,null,null,null,null,null,null,null,null,null,null,null,null,null,null,null,null,null,null,null,null,null,null,null,null,null,null,null,null,null,null,null,null,null,null,null,null,null,null,"Wyoming"]
[null,"Wyoming Township",null,null,null,null,null,null,null,null,null,null,null,null,null,null,null,null,null,null,null,null,null,null,null,null,null,null,null,null,null,null,null,null,null,null,null,null,null,null,null,null,null,"Wyoming Township"]
[null,"Yankeetown",null,null,null,null,null,null,null,null,null,null,null,null,null,null,null,null,null,null,null,null,null,null,null,null,null,null,null,null,null,null,null,null,null,null,null,null,null,null,null,null,null,"Yankeetown"]
[null,"Yellow Bank",null,null,null,null,null,null,null,null,null,null,null,null,null,null,null,null,null,null,null,null,null,null,null,null,null,null,null,null,null,null,null,null,null,null,null,null,null,null,null,null,null,"Yellow Bank"]
[null,"Yola",null,null,null,null,null,null,null,null,null,null,null,null,null,null,null,null,null,null,null,null,null,null,null,null,null,null,null,null,null,null,null,null,null,null,null,null,null,null,null,null,null,"Yola"]
[null,"York",null,null,null,null,null,null,null,null,null,null,null,null,null,null,null,null,null,null,null,null,null,null,null,null,null,null,null,null,null,null,null,null,null,null,null,null,null,null,null,null,null,"York"]
[null,"York Township",null,null,null,null,null,null,null,null,null,null,null,null,null,null,null,null,null,null,null,null,null,null,null,null,null,null,null,null,null,null,null,null,null,null,null,null,null,null,null,null,null,"York Township"]
[null,"Yorktown",null,null,null,null,null,null,null,null,null,null,null,null,null,null,null,null,null,null,null,null,null,null,null,null,null,null,null,null,null,null,null,null,null,null,null,null,null,null,null,null,null,"Yorktown"]
[null,"Yucatan",null,null,null,null,null,null,null,null,null,null,null,null,null,null,null,null,null,null,null,null,null,null,null,null,null,null,null,null,null,null,null,null,null,null,null,null,null,null,null,null,null,"Yucatan"]
[null,"Yucatan Township",null,null,null,null,null,null,null,null,null,null,null,null,null,null,null,null,null,null,null,null,null,null,null,null,null,null,null,null,null,null,null,null,null,null,null,null,null,null,null,null,null,"Yucatan Township"]
[null,"Zemple",null,null,null,null,null,null,null,null,null,null,null,null,null,null,null,null,null,null,null,null,null,null,null,null,null,null,null,null,null,null,null,null,null,null,null,null,null,null,null,null,null,"Zemple"]
[null,"Zerkel",null,null,null,null,null,null,null,null,null,null,null,null,null,null,null,null,null,null,null,null,null,null,null,null,null,null,null,null,null,null,null,null,null,null,null,null,null,null,null,null,null,"Zerkel"]
[null,"Zim",null,null,null,null,null,null,null,null,null,null,null,null,null,null,null,null,null,null,null,null,null,null,null,null,null,null,null,null,null,null,null,null,null,null,null,null,null,null,null,null,null,"Zim"]
[null,"Zimmerman",null,null,null,null,null,null,null,null,null,null,null,null,null,null,null,null,null,null,null,null,null,null,null,null,null,null,null,null,null,null,null,null,null,null,null,null,null,null,null,null,null,"Zimmerman"]
[null,"Zion",null,null,null,null,null,null,null,null,null,null,null,null,null,null,null,null,null,null,null,null,null,null,null,null,null,null,null,null,null,null,null,null,null,null,null,null,null,null,null,null,null,"Zion"]
[null,"Zumbra Heights",null,null,null,null,null,null,null,null,null,null,null,null,null,null,null,null,null,null,null,null,null,null,null,null,null,null,null,null,null,null,null,null,null,null,null,null,null,null,null,null,null,"Zumbra Heights"]
[null,"Zumbro",null,null,null,null,null,null,null,null,null,null,null,null,null,null,null,null,null,null,null,null,null,null,null,null,null,null,null,null,null,null,null,null,null,null,null,null,null,null,null,null,null,"Zumbro"]
[null,"Zumbro Falls",null,null,null,null,null,null,null,null,null,null,null,null,null,null,null,null,null,null,null,null,null,null,null,null,null,null,null,null,null,null,null,null,null,null,null,null,null,null,null,null,null,"Zumbro Falls"]
[null,"Zumbrota",null,null,null,null,null,null,null,null,null,null,null,null,null,null,null,null,null,null,null,null,null,null,null,null,null,null,null,null,null,null,null,null,null,null,null,null,null,null,null,null,null,"Zumbrota"]
[null,"Zumbrota Township",null,null,null,null,null,null,null,null,null,null,null,null,null,null,null,null,null,null,null,null,null,null,null,null,null,null,null,null,null,null,null,null,null,null,null,null,null,null,null,null,null,"Zumbrota Township"]
[null,"Unincorporated",null,null,null,null,null,null,null,null,null,null,null,null,null,null,null,null,null,null,null,null,null,null,null,null,null,null,null,null,null,null,null,null,null,null,null,null,null,null,null,null,null,"Unincorporated"]

{"sheet":"Controls1","index":1,"n_rows":64,"n_cols":33,"rows_kept":64,"cut":false,"hidden":true,"merged":[]}
[null,null,null,null,null,null,null,null,null,null,null,null,null,null,null,null,null,null,null,null,null,null,null,null,null,null,null,null,null,null,null,null,"Application"]
[null,null,null,null,null,null,null,null,null,null,null,null,null,null,null,null,null,null,null,null,null,null,null,null,null,null,null,null,null,null,null,null,"Selection"]
[null,null,null,null,null,null,null,null,null,null,null,null,null,null,null,null,null,null,null,null,null,null,null,null,null,null,null,null,null,null,null,null,"Non-Select"]
[null,"Minnesota Housing First Mortgage",null,null,null,null,null,null,null,null,null,null,false,null,null,null,null,null,null,null,null,null,null,null,null,null,null,null,null,null,null,null,"Mortgage Credit"]
[null,"Minnesota Housing Tax Exempt Bonds - Long Term",null,null,null,null,null,null,null,null,null,null,false,null,null,null,null,null,null,null,null,null,null,null,null,null,null,null,null,null,null,null,"HTC Reservation"]
[null,"Minnesota Housing Tax Exempt Bonds - Short Term",null,null,null,null,null,null,null,null,null,null,false,null,null,null,null,null,null,null,null,null,null,null,null,null,null,null,null,null,null,null,"HTC Carryover"]
[null,"Deferred Loan(s) (includes Minnesota Housing, Family Housing Fund, Greater Minnesota Housing Fund, and DEED resources)",null,null,null,null,null,null,null,null,null,null,false,null,null,null,null,null,null,null,null,null,null,null,null,null,null,null,null,null,null,null,"HTC 8609"]
[null,"Other",null,null,null,null,null,null,null,null,null,null,false,null,null,null,null,null,null,null,null,null,null,null,null,null,null,null,null,null,null,null,"Board Select"]
[null,null,null,null,null,null,null,null,null,null,null,null,null,null,null,null,null,null,null,null,null,null,null,null,null,null,null,null,null,null,null,null,"HTC Preliminary Determination"]
[null,null,null,null,null,null,null,null,null,null,null,null,null,null,null,null,null,null,null,null,null,null,null,null,null,null,null,null,null,null,null,null,"Commitment/Closing"]
[null,null,null,null,null,null,null,null,null,null,null,null,null,null,null,null,null,null,null,null,null,null,null,null,null,null,null,null,null,null,null,null,"Revised Closing"]
[null,"Housing Tax Credits - 4%",null,null,false,null,null,null,null,null,null,null,null,null,null,null,null,null,null,null,null,null,null,null,null,null,null,null,null,null,null,null,"Final Closing"]
[null,"Housing Tax Credits - 9%",null,null,false,null,null,null,null,null,null,null,null,null,null,null,null,null,null,null,null,null,null,null,null,null,null,null,null,null,null,null,"Funding Modification"]
[null,"This is part of dual 4% / 9% application",null,null,false]
[null,null,null,null,null,"Form Control Option Button Controls"]
[null,null,null,null,null,"SUMMARY & FUNDING REQUEST TABS",null,null,null,null,null,"PROPERTY INFORMATION TAB"]
[]
[null,null,null,null,null,"Tax Credit Pool",null,null,null,null,null,"Developments Involving Acquisition"]
[null,null,null,null,null,null,null,null,"Metro",1]
[null,null,null,null,null,{"$f":"IF(G20=1,\"Metro\",IF(G20=2,\"Greater MN\",IF(G20=3,\"NA\",\"\")))","v":""},0,null,"Greater MN",2,null,0,null,"Yes/No","Will the property be acquired from a related party?"]
[null,null,null,null,null,null,null,null,"NA",3,null,0,null,"Yes/No","Has the property been acquired from a related party?"]
[null,null,null,null,null,null,null,null,null,null,null,0,null,"Yes/No","Has the property been acquired from an unrelated party in the last three years?"]
[null,null,null,null,null,null,null,null,null,null,null,"HTC Info Tab"]
[null,null,null,null,null,"Tax Credit Set-Aside",null,null,null,null,null,null,null,null,"Minimum Set aside"]
[null,null,null,null,null,null,null,null,null,null,null,null,0,1,"20% of the units serving households at 50% of the area median"]
[null,null,null,null,null,{"$f":"IF(G26=1,\"NonProfit\",IF(G26=2,\"Rural Development\",IF(G26=3,\"N/A\",\"\")))","v":""},0,null,"Nonprofit",1,null,null,null,2,"40% of the units serving households at 60% of the area median"]
[null,null,null,null,null,null,null,null,"Rural Development",2]
[null,null,null,null,null,"Tax Credit Request Type",null,null,"N/A",3,null,null,null,null,"Other Basis Consideration"]
[null,null,null,null,null,null,null,null,null,null,null,null,null,null,"Will any of the project financing be treated as or considered to be a Federal Grant or Tax-Exempt obligation"]
[null,null,null,null,null,null,null,null,"First Request",1,null,null,null,0,"Yes/No",null,"Yes",1]
[null,null,null,null,null,{"$f":"IF(G31=1,\"First Request\",IF(G31=2,\"Supplemental Request\",IF(G31=3,\"Repeat Request - not selected\",IF(G31=4,\"N/A\",\"\"))))","v":""},0,null,"Supplemental Request",2,null,null,null,null,null,null,"No",2]
[null,null,null,null,null,null,null,null,"Repeat Request - not selected",3,null,null,null,null,"If yes, provide the following information:"]
[null,null,null,null,null,null,null,null,"N/A",4]
[]
[null,null,null,null,null,null,null,null,null,null,null,null,null,null,"Select one of the following:",null,null,null,null,"Select one of the following:"]
[null,null,null,null,null,"Request Status"]
[null,null,null,null,null,null,null,null,"Reservation",1,null,null,0,1,"N/A",null,null,0,1,"N/A"]
[null,null,null,null,null,{"$f":"IF(G38=1,\"Reservation\",IF(G38=2,\"Carryover\",IF(G38=3,\"8609\",IF(G38=4,\"Qualified Contract\",IF(G38=5,\"42(m)(1)(D)\",IF(G38=6,\"N/A\",\"\"))))))","v":""},0,null,"Carryover",2,null,null,null,2,"4% credit",null,null,null,2,"4% credit"]
[null,null,null,null,null,null,null,null,8609,3,null,null,null,3,"Subtract from basis",null,null,null,3,"Subtract from basis"]
[null,null,null,null,null,null,null,null,"Qualified Contract",4]
[null,null,null,null,null,null,null,null,"42(m)(1)(D)",5]
[null,null,null,null,null,null,null,null,"NA",6,null,null,null,null,"If less than 10 years since last placed in service, is the project eligible for:"]
[]
[]
[null,null,null,null,null,"Rental Assistance Request",null,null,null,null,null,null,0,1,"Exemption under 42(d)(2)(D)",null,null,"Exemptions for certain transfers, including but not limited to buildings placed in"]
[null,null,null,null,null,"(not displayed on Summary tab)",null,null,"Metro HRA Project Based Vouchers",1,null,null,null,null,null,null,null,"service by government  or nonprofit, or buildings acquired through foreclosure."]
[null,null,null,"Section 811 Project Based Rental Assistance (811 PRA)",false,{"$f":"IF(G47=J46,I46,IF(G47=J47,I47,IF(G47=J48,I48,IF(G47=J49,I49,\"\"))))","v":""},0,null,"St. Paul PHA Project Based Vouchers",2]
[null,null,null,"Other",false,null,null,null,"N/A",4,null,null,null,2,"Exemption under 42(d)(6)(A)",null,null,"Exemption for state- or federally-assisted building."]
[null,null,null,null,null,null,null,null,"Other",3]
[null,null,null,null,null,null,null,null,null,null,null,null,null,3,"Waiver under 42(d)(6)(B)",null,null,"Waiver for buildings acquired from insured depository instuitions in default."]
[null,null,null,null,null,{"$f":"IF(G51=J51,I51,IF(G51=J52,I52,IF(G51=J53,I53,IF(G51=J54,I54,IF(G51=J55,I55,\"\")))))","v":""},0,null,"Housing Opportunities for Persons with AIDS (HOPWA)",1,null,null,null,null,null,null,null,"     If eligible for waiver, what is actual or proposed  waiver date?"]
[null,null,null,null,null,null,null,null,"Housing Trust Fund (HTF) Rental Assistance",2]
[null,null,null,null,null,null,null,null,"Section 811 Project Based Rental Assistance (811 PRA)",3]
[null,null,null,null,null,null,null,null,"Bridges",4,null,null,null,null,"Tax Exempt Bond Financing"]
[null,null,null,null,null,null,null,null,"N/A",5]
[null,null,null,null,null,null,null,false,"Other",6,null,null,null,null,0,"Yes/No","Are tax exempt bonds to be issued?",null,null,null,"Yes",1]
[null,null,null,null,null,null,null,null,null,null,null,null,null,null,null,null,null,null,null,null,"No",2]
[null,null,null,null,null,"Operating Subsidy"]
[null,null,null,null,null,null,0,null,"Operating Subsidy",1,"DETERMINATION OF CREDIT TAB"]
[null,null,null,null,null,null,null,false,"Other",2,"Tax Credit Syndication"]
[null,null,null,null,null,null,null,null,"N/A",3,"If individual, attach a description explaining how the tax benefits will be used."]
[null,null,null,null,null,null,null,null,null,null,null,null,0,null,"Type of Offering:"]
[null,null,null,null,null,null,null,null,null,null,null,null,null,null,"Syndicated",null,1,"N/A",3]
[null,null,null,null,null,null,null,null,null,null,null,null,null,null,"Individual/Private Placement",null,2]

{"sheet":"Controls","index":2,"n_rows":858,"n_cols":182,"rows_kept":858,"cut":false,"hidden":true,"merged":[[106,77,106,78],[107,77,107,78],[108,77,108,78],[76,70,76,77],[77,112,77,117],[88,47,88,49],[91,111,91,118],[92,111,92,118],[105,77,105,78],[66,91,66,92],[67,91,67,92],[68,91,68,92],[69,91,69,92],[72,93,72,94],[72,96,72,97],[64,0,64,1],[64,3,64,4],[64,5,64,6],[64,7,64,8],[64,50,64,57],[66,45,66,46],[62,0,62,1],[62,3,62,4],[62,5,62,6],[62,7,62,8],[63,0,63,1],[63,3,63,4],[63,5,63,6],[63,7,63,8],[60,0,60,1],[60,3,60,4],[60,5,60,6],[60,7,60,8],[61,0,61,1],[61,3,61,4],[61,5,61,6],[61,7,61,8],[58,0,58,1],[58,3,58,4],[58,5,58,6],[58,7,58,8],[59,0,59,1],[59,3,59,4],[59,5,59,6],[59,7,59,8],[56,0,56,1],[56,3,56,4],[56,5,56,6],[56,7,56,8],[57,0,57,1],[57,3,57,4],[57,5,57,6],[57,7,57,8],[54,0,54,1],[54,3,54,4],[54,5,54,6],[54,7,54,8],[55,0,55,1],[55,3,55,4],[55,5,55,6],[55,7,55,8],[52,0,52,1],[52,3,52,4],[52,5,52,6],[52,7,52,8],[53,0,53,1],[53,3,53,4],[53,5,53,6],[53,7,53,8],[50,119,50,122],[50,123,50,127],[51,0,51,1],[51,3,51,4],[51,5,51,6],[51,7,51,8],[50,0,50,1],[50,3,50,4],[50,5,50,6],[50,7,50,8],[50,112,50,114],[50,116,50,117],[49,0,49,1],[49,3,49,4],[49,5,49,6],[49,7,49,8],[49,112,49,117],[49,119,49,127],[47,174,47,178],[48,0,48,1],[48,3,48,4],[48,5,48,6],[48,7,48,8],[48,75,48,77],[43,164,43,168],[43,169,43,173],[44,0,44,1],[44,155,44,157],[45,155,45,157],[47,3,47,4],[47,5,47,6],[47,7,47,8],[47,79,47,82],[42,164,42,168],[42,169,42,173],[38,122,38,124],[38,126,38,128],[38,134,38,136],[38,139,38,141],[38,109,38,110],[38,112,38,115],[38,116,38,120],[39,0,39,2],[39,50,39,53],[39,55,39,57],[39,93,41,93],[39,94,41,94],[39,95,41,95],[38,79,38,82],[38,93,38,103],[38,105,38,107],[39,96,41,96],[39,97,41,97],[39,103,41,103],[40,98,40,102],[37,130,37,132],[37,134,37,136],[37,139,37,141],[38,0,38,2],[38,8,38,10],[38,16,38,18],[38,25,38,29],[38,45,38,48],[38,50,38,53],[38,55,38,58],[37,79,37,82],[37,93,37,103],[37,105,37,110],[37,112,37,120],[37,122,37,124],[37,126,37,128],[30,45,30,47],[31,0,31,2],[32,0,32,2],[32,139,32,142],[35,162,35,166],[36,162,36,166],[26,162,26,166],[26,168,26,172],[26,174,26,178],[27,139,27,142],[27,162,27,166],[27,168,27,172],[27,174,27,178],[22,86,22,89],[22,155,22,159],[23,155,23,159],[24,139,24,142],[24,155,24,159],[25,155,25,159],[17,51,17,52],[19,41,19,43],[19,45,19,57],[19,59,19,61],[21,45,21,46],[21,155,21,159],[15,51,15,52],[15,64,15,65],[15,139,15,142],[15,155,15,160],[16,51,16,52],[16,64,16,65],[16,139,16,140],[12,96,14,96],[12,97,14,97],[12,98,14,98],[12,99,14,99],[12,100,14,100],[12,106,14,106],[13,101,13,105],[7,56,7,60],[7,155,7,159],[8,155,8,159],[9,51,14,52],[9,155,9,159],[10,79,10,82],[10,96,10,106],[11,79,11,82],[11,96,11,106],[11,155,11,160],[14,86,14,89],[4,101,4,103],[4,133,4,134],[4,155,4,159],[5,155,5,159],[5,167,5,169],[6,56,6,60],[6,91,6,94],[6,155,6,160],[6,167,6,169],[3,81,3,83],[3,133,3,134],[3,155,3,159],[1,109,1,116],[1,126,1,127],[1,129,1,131],[1,133,1,134],[1,155,1,160],[1,162,1,165],[0,96,0,99],[0,101,0,103],[0,105,0,107],[0,109,0,116],[1,167,1,169],[2,81,2,83],[2,133,2,134],[2,155,2,160],[2,162,2,163],[0,45,0,49],[0,53,0,58],[0,61,0,65],[0,67,0,74],[0,76,0,80],[0,81,0,84],[0,167,0,169],[1,61,1,65],[1,67,1,74],[1,76,1,80],[1,81,1,84],[1,86,1,89],[1,91,1,94],[1,96,1,99],[1,101,1,103],[1,105,1,107],[0,126,0,127],[0,129,0,131],[0,133,0,137],[0,146,0,151],[0,155,0,160],[0,162,0,165],[0,86,0,89],[0,91,0,94]]}
["All Worksheets","Print","Capital Only","Print","HTC","Print","Operating Subsidy","Print","Rental Assistance","Print","RRDL",null,"AllTabs","Width",null,"1st Index","Index","Capital Only","Width","Index2",null,"1st Index","Index","HTC","Width","Index2",null,"1st Index","Index","Operating Subsidy","Width","Index2",null,"1st Index","Index","Rental Assistance","Width","Index2",null,"1st Index","Index","RRDL","Width","Index2",null,"Property Information Radio Buttons",null,null,null,null,"RoomPerUnitVlookup",null,null,"MAXIMUM ALLOWABLE RETURN ON EQUITY",null,null,null,null,null,null,null,"INSTRUCTIONS",null,null,null,null,null,"HOUSING INCOME",null,null,null,null,null,null,null,null,"MORTGAGE CALC",null,null,null,null,"MORTGAGE CALC",null,null,null,null,"PROJECT DESCRIPTION",null,null,null,null,"PROPERTY INFORMATION",null,null,null,null,"PROPERTY INFORMATION",null,null,null,null,"PRESERVATION",null,null,null,"PRESERVATION",null,null,null,"SUMMARY",null,null,null,null,null,null,null,null,null,null,null,null,null,null,null,null,"Subsidy Layering",null,null,"Subsidy Layering",null,null,null,"RRDL",null,null,null,null,null,null,null,null,null,null,null,null,"IDENTITY OF INTEREST",null,null,null,null,null,null,null,null,"INSTRUCTIONS",null,null,null,null,null,null,"DEVELOPMENT TEAM",null,null,null,null,"IDENTITY OF INTEREST",null,null,null,null,null,null,null,null,null,null,null,null,"Summary"]
["Instructions",false,"Signature - Affirm. Action Stmt",false,"Signature - Affirm. Action Stmt",false,"Signature - Affirm. Action Stmt",false,"Signature - Affirm. Action Stmt",false,"Signature - Affirm. Action Stmt",null,"imgInstructionsTabUnSel",66,null,1,1,"imgInstructionsTabUnSel",{"$f":"VLOOKUP(R2,AllTabsWidths,2,FALSE)","v":66},1,null,1,1,"imgInstructionsTabUnSel",{"$f":"VLOOKUP(X2,AllTabsWidths,2,FALSE)","v":66},1,null,1,1,"imgInstructionsTabUnSel",{"$f":"VLOOKUP(AD2,AllTabsWidths,2,FALSE)","v":66},1,null,1,1,"imgInstructionsTabUnSel",{"$f":"VLOOKUP(AJ2,AllTabsWidths,2,FALSE)","v":66},1,null,1,1,"imgInstructionsTabUnSel",{"$f":"VLOOKUP(AP2,AllTabsWidths,2,FALSE)","v":66},1,null,"Existing Buildings:  ",null,null,false,false,"0BR/SRO",2.5,null,"Devs with syndication proceeds",null,null,null,null,true,null,null,"APPLICATION REQUEST",null,null,null,null,null,"UNIT / RENT GRID",null,null,null,null,null,null,null,null,"Subordinated Debt",null,null,null,null,"MN Housing First Mortgage Fees",null,null,null,null,"Activity Type",null,null,null,null,"Site Description",null,null,null,null,"Existing Buildings:  ",null,null,null,null," Existing HTC?",null,null,null,"Expiration of Federal Assistance",null,null,null,"UNIT SUMMARIES",null,null,null,null,null,null,null,null,null,null,null,null,null,null,null,null,"Attachment A",null,null,"Attachment C",null,null,null,"ApplCity",null,null,null,null,null,null,null,null,null,null,null,null,null,null,null,null,null,null,null,null,null,"Housing Tax Credit Request",null,null,null,null,null,null,"ActiveX Controls",null,null,null,null,"Identity of Interest Check",null,null,null,null,null,null,null,null,null,null,null,null,"Basis Boost",false]
["Signature - Affirm. Action Stmt",false,"Project Description",false,"HTC Owner Cert",false,"Project Description",false,"Project Description",false,"Project Description",null,"imgAffirmativeActionTabUnSel",96,null,null,2,"imgAffirmativeActionTabUnSel",96,2,null,null,2,"imgAffirmativeActionTabUnSel",96,2,null,null,2,"imgAffirmativeActionTabUnSel",96,2,null,null,2,"imgAffirmativeActionTabUnSel",{"$f":"VLOOKUP(AJ3,AllTabsWidths,2,FALSE)","v":96},2,null,null,2,"imgAffirmativeActionTabUnSel",96,2,null,"Current Zoning?",null,null,false,false,"1BR",3.5,null,"Devs with no syndication proceeds",null,null,null,null,false,null,null,false,null,{"$f":"'Funding Request'!D6","v":"Minnesota Housing First Mortgage"},null,null,"MR","HTC","HOME","LTH","RRDL","Empl Occ","Owner Occ","Rent Asst","Op Subs","# HTC\nUnits",{"$f":"'Mortgage Calc'!B11","v":0},{"$f":"'Mortgage Calc'!F11","v":0},{"$f":"'Mortgage Calc'!G11","v":0},{"$f":"'Mortgage Calc'!H11","v":0},false,"Development Cost Escrow",null,null,{"$f":"#REF!","v":{"$error":"#REF!"}},{"$f":"IF(ISERROR(LEFT(CM$14,CG17)),\"\",LEFT(CM$14,CG17))","v":""},{"$f":"'Project Description'!C20","v":"Acquisition"},null,null,false,{"$f":"IF(AND(CL3=FALSE,CM2=\"\"),\"\",IF(AND(CL3=FALSE,CM2<>\"\"),CM2,IF(AND(CL3=TRUE, CM2=\"\"), CI3,CM2&\",\"&CI3)))","v":""},"Qualified Census Tract",null,false,null,null,"Occupied",false,null,null,null,{"$f":"#REF!","v":{"$error":"#REF!"}},null,false,null,{"$f":"#REF!","v":{"$error":"#REF!"}},null,null,null,"0BR/SRO","1BR","2BR","3BR","4BR","5BR","6BR","Bed",null,"HTC","HOME","LTH","Market Rate","Employee Occupied","Owner Occupied","Rent Asst","Ops Subs","Preliminary",false,null,"LetterOfIntent",null,false,null,"ApplState",null,null,null,null,null,null,null,null,null,null,null,1,{"$f":"#REF!&\"-\"&#REF!","v":{"$error":"#REF!"}},null,null,null,null,false,{"$f":"LEFT(EQ3,7)&MID(EQ3,FIND(\"-\",EQ3,1)+1,7)","v":{"$error":"#REF!"}},null,null,"Tax Credits requested:",null,null,null,null,null,null,"TEAM MEMBER",null,"CITY","STATE",null,{"$f":"IF(OR(GenConDevelop=TRUE,GenConOwnerM=TRUE),TRUE,FALSE)","v":false}]
["HTC Owner Cert",false,"Property Information",false,"Project Description",false,"Property Information",false,"Development Team",false,"Property Information",null,"imgHTCOwnerCertTabUnSel",87,null,"Selected Tab",3,"imgProjectDescriptionTabUnSel",100,3,null,"Selected Tab",3,"imgProjectDescriptionTabUnSel",100,3,null,"Selected Tab",3,"imgProjectDescriptionTabUnSel",100,3,null,"Selected Tab",3,"imgProjectDescriptionTabUnSel",{"$f":"VLOOKUP(AJ4,AllTabsWidths,2,FALSE)","v":100},3,null,"Selected Tab",3,"imgProjectDescriptionTabUnSel",100,3,null,"Historic Building?",null,null,false,false,"2BR",4.5,null,"Devs with de minimus amount of syndication proceeds",null,null,null,null,false,null,null,false,null,{"$f":"'Funding Request'!D7","v":"Minnesota Housing Tax Exempt Bonds - Long Term"},null,null,{"$f":"IF('Housing Income'!J19=\"Market\", TRUE, FALSE)","v":false},false,false,false,false,false,false,false,false,{"$f":"IF(HousIncomeUnitTypeHTC1=TRUE,'Housing Income'!D19,0)","v":0},{"$f":"'Mortgage Calc'!B12","v":0},{"$f":"'Mortgage Calc'!F12","v":0},{"$f":"'Mortgage Calc'!G12","v":0},{"$f":"'Mortgage Calc'!H12","v":0},false,"MN Housing Origination Fee",null,null,{"$f":"#REF!","v":{"$error":"#REF!"}},{"$f":"IF(CG18<>\"\",MID(CM$14,SUM(CG$16:CG17)+COUNT(CG$16:CG17) +1,CG18),\"\")","v":""},{"$f":"'Project Description'!C21","v":"Refinance"},null,null,false,{"$f":"IF(AND(CL4=FALSE,CM3=\"\"),\"\",IF(AND(CL4=FALSE,CM3<>\"\"),CM3,IF(AND(CL4=TRUE, CM3=\"\"), CI4,CM3&\",\"&CI4)))","v":""},"Difficult Development Area",null,false,null,null,"Vacant",false,null,null,null,{"$f":"#REF!","v":{"$error":"#REF!"}},null,false,null,{"$f":"#REF!","v":{"$error":"#REF!"}},null,null,null,{"$f":"IF('Housing Income'!$B19=\"0BR/SRO\",'Housing Income'!$D19,0)","v":0},{"$f":"IF('Housing Income'!$B19=\"1BR\",'Housing Income'!$D19,0)","v":0},{"$f":"IF('Housing Income'!$B19=\"2BR\",'Housing Income'!$D19,0)","v":0},{"$f":"IF('Housing Income'!$B19=\"3BR\",'Housing Income'!$D19,0)","v":0},{"$f":"IF('Housing Income'!$B19=\"4BR\",'Housing Income'!$D19,0)","v":0},{"$f":"IF('Housing Income'!$B19=\"5BR\",'Housing Income'!$D19,0)","v":0},{"$f":"IF('Housing Income'!$B19=\"6BR\",'Housing Income'!$D19,0)","v":0},{"$f":"IF('Housing Income'!$B19=\"Bed\",'Housing Income'!$D19,0)","v":0},null,{"$f":"IF($BP4=TRUE,'Housing Income'!$D19,0)","v":0},{"$f":"IF($BQ4=TRUE,'Housing Income'!$D19,0)","v":0},{"$f":"IF($BR4=TRUE,'Housing Income'!$D19,0)","v":0},{"$f":"IF($BO4=TRUE,'Housing Income'!$D19,0)","v":0},{"$f":"IF($BT4=TRUE,'Housing Income'!$D19,0)","v":0},{"$f":"IF($BU4=TRUE,'Housing Income'!$D19,0)","v":0},{"$f":"IF($BV4=TRUE,'Housing Income'!$D19,0)","v":0},{"$f":"IF($BW4=TRUE,'Housing Income'!$D19,0)","v":0},"Final",false,null,"PartnershipAgreemt",null,false,null,"CoApplCity",null,"",null,null,null,null,null,null,null,null,null,1,{"$f":"#REF!&\"-\"&#REF!","v":{"$error":"#REF!"}},null,null,null,null,false,{"$f":"LEFT(EQ4,5)&MID(EQ4,FIND(\"-\",EQ4,1)+1,7)","v":{"$error":"#REF!"}},null,null,{"$f":"'Funding Request'!D14","v":"Housing Tax Credits - 4%"},null,null,null,null,false,null,{"$f":"#REF!","v":{"$error":"#REF!"}},null,10,0]
["Project Description",false,"Housing Income",false,"Property Information",false,"Housing Income",false,"Rental Assistance",false,"Housing Income",null,"imgProjectDescriptionTabUnSel",100,null,1,4,"imgPropertyInformationTabUnSel",108,4,null,7,4,"imgPropertyInformationTabUnSel",108,4,null,1,4,"imgPropertyInformationTabUnSel",108,4,null,1,4,"imgRentAsstTabUnSel",{"$f":"VLOOKUP(AJ5,AllTabsWidths,2,FALSE)","v":95},4,null,1,4,"imgPropertyInformationTabUnSel",108,4,null,"Proposed to be Historic?",null,null,false,false,"3BR",6,null,"Manual Entry - enter above",null,null,null,null,false,null,null,false,null,{"$f":"'Funding Request'!D8","v":"Minnesota Housing Tax Exempt Bonds - Short Term"},null,null,{"$f":"IF('Housing Income'!J20=\"Market\", TRUE, FALSE)","v":false},false,false,false,false,false,false,false,false,{"$f":"IF(HousIncomeUnitTypeHTC2=TRUE,'Housing Income'!D20,0)","v":0},{"$f":"'Mortgage Calc'!B13","v":0},{"$f":"'Mortgage Calc'!F13","v":0},{"$f":"'Mortgage Calc'!G13","v":0},{"$f":"'Mortgage Calc'!H13","v":0},false,"Mortgage Insurance Premium",null,null,{"$f":"#REF!","v":{"$error":"#REF!"}},{"$f":"IF(CG19<>\"\",MID(CM$14,SUM(CG$16:CG18)+COUNT(CG$16:CG18) +1,CG19),\"\")","v":""},{"$f":"'Project Description'!C22","v":"Rehabilitation"},null,null,false,{"$f":"IF(AND(CL5=FALSE,CM4=\"\"),\"\",IF(AND(CL5=FALSE,CM4<>\"\"),CM4,IF(AND(CL5=TRUE, CM4=\"\"), CI5,CM4&\",\"&CI5)))","v":""},"State Designated Basis Boost",null,false,null,null,null,null,null,null,null,"RFP Funds Request",null,null,null,{"$f":"#REF!","v":{"$error":"#REF!"}},null,false,null,{"$f":"IF('Housing Income'!$B20=\"0BR/SRO\",'Housing Income'!$D20,0)","v":0},{"$f":"IF('Housing Income'!$B20=\"1BR\",'Housing Income'!$D20,0)","v":0},{"$f":"IF('Housing Income'!$B20=\"2BR\",'Housing Income'!$D20,0)","v":0},{"$f":"IF('Housing Income'!$B20=\"3BR\",'Housing Income'!$D20,0)","v":0},{"$f":"IF('Housing Income'!$B20=\"4BR\",'Housing Income'!$D20,0)","v":0},{"$f":"IF('Housing Income'!$B20=\"5BR\",'Housing Income'!$D20,0)","v":0},{"$f":"IF('Housing Income'!$B20=\"6BR\",'Housing Income'!$D20,0)","v":0},{"$f":"IF('Housing Income'!$B20=\"Bed\",'Housing Income'!$D20,0)","v":0},null,{"$f":"IF($BP5=TRUE,'Housing Income'!$D20,0)","v":0},{"$f":"IF($BQ5=TRUE,'Housing Income'!$D20,0)","v":0},{"$f":"IF($BR5=TRUE,'Housing Income'!$D20,0)","v":0},{"$f":"IF($BO5=TRUE,'Housing Income'!$D20,0)","v":0},{"$f":"IF($BT5=TRUE,'Housing Income'!$D20,0)","v":0},{"$f":"IF($BU5=TRUE,'Housing Income'!$D20,0)","v":0},{"$f":"IF($BV5=TRUE,'Housing Income'!$D20,0)","v":0},{"$f":"IF($BW5=TRUE,'Housing Income'!$D20,0)","v":0},null,null,null,null,null,null,null,"CoApplState",null,"",null,null,null,null,null,null,null,null,null,2,{"$f":"#REF!&\"-\"&#REF!","v":{"$error":"#REF!"}},null,null,null,null,false,{"$f":"LEFT(EQ5,5)&MID(EQ5,FIND(\"-\",EQ5,1)+1,7)","v":{"$error":"#REF!"}},null,null,{"$f":"'Funding Request'!D15","v":"Housing Tax Credits - 9%"},null,null,null,null,false,null,{"$f":"#REF!","v":{"$error":"#REF!"}},null,"",""]
["Property Information",false,"Income & Expense",false,"Housing Income",false,"Income & Expense",false,"Completeness",false,"Income & Expense",null,"imgPropertyInformationTabUnSel",108,null,null,5,"imgHousingIncomeTabUnSel",87,5,null,null,5,"imgHTCOwnerCertTabUnSel",87,5,null,null,5,"imgHTCOwnerCertTabUnSel",87,5,null,null,5,"imgCompletenessTabUnSel",{"$f":"VLOOKUP(AJ6,AllTabsWidths,2,FALSE)","v":78},5,null,null,5,"imgRentAsstTabUnSel",95,5,null,"PropInfoApplApproved",null,null,false,false,"4BR",7,null,null,null,null,null,null,null,null,null,true,null,{"$f":"'Funding Request'!D9","v":"Deferred Loan(s) (includes Minnesota Housing, Family Housing Fund, Greater Minnesota Housing Fund, and DEED resources)"},null,null,{"$f":"IF('Housing Income'!J21=\"Market\", TRUE, FALSE)","v":false},false,false,false,false,false,false,false,false,{"$f":"IF(HousIncomeUnitTypeHTC3=TRUE,'Housing Income'!D21,0)","v":0},{"$f":"'Mortgage Calc'!B14","v":0},{"$f":"'Mortgage Calc'!F14","v":0},{"$f":"'Mortgage Calc'!G14","v":0},{"$f":"'Mortgage Calc'!H14","v":0},false,null,null,null,null,{"$f":"IF(CG20<>\"\",MID(CM$14,SUM(CG$16:CG19)+COUNT(CG$16:CG19) +1,CG20),\"\")","v":""},{"$f":"'Project Description'!C23","v":"Historic Pres/Renovation"},null,null,false,{"$f":"IF(AND(CL6=FALSE,CM5=\"\"),\"\",IF(AND(CL6=FALSE,CM5<>\"\"),CM5,IF(AND(CL6=TRUE, CM5=\"\"), CI6,CM5&\",\"&CI6)))","v":""}," ",null,null,null,null,null,null,null,null,null,{"$f":"#REF!","v":{"$error":"#REF!"}},null,false,null,{"$f":"MID(#REF!,11,20)","v":{"$error":"#REF!"}},null,false,null,{"$f":"IF('Housing Income'!$B21=\"0BR/SRO\",'Housing Income'!$D21,0)","v":0},{"$f":"IF('Housing Income'!$B21=\"1BR\",'Housing Income'!$D21,0)","v":0},{"$f":"IF('Housing Income'!$B21=\"2BR\",'Housing Income'!$D21,0)","v":0},{"$f":"IF('Housing Income'!$B21=\"3BR\",'Housing Income'!$D21,0)","v":0},{"$f":"IF('Housing Income'!$B21=\"4BR\",'Housing Income'!$D21,0)","v":0},{"$f":"IF('Housing Income'!$B21=\"5BR\",'Housing Income'!$D21,0)","v":0},{"$f":"IF('Housing Income'!$B21=\"6BR\",'Housing Income'!$D21,0)","v":0},{"$f":"IF('Housing Income'!$B20=\"Bed\",'Housing Income'!$D21,0)","v":0},null,{"$f":"IF($BP6=TRUE,'Housing Income'!$D21,0)","v":0},{"$f":"IF($BQ6=TRUE,'Housing Income'!$D21,0)","v":0},{"$f":"IF($BR6=TRUE,'Housing Income'!$D21,0)","v":0},{"$f":"IF($BO6=TRUE,'Housing Income'!$D21,0)","v":0},{"$f":"IF($BT6=TRUE,'Housing Income'!$D21,0)","v":0},{"$f":"IF($BU6=TRUE,'Housing Income'!$D21,0)","v":0},{"$f":"IF($BV6=TRUE,'Housing Income'!$D21,0)","v":0},{"$f":"IF($BW6=TRUE,'Housing Income'!$D21,0)","v":0},null,null,null,null,null,null,null,null,"Owner/MortgagorCity","",null,null,null,null,null,null,null,null,null,2,{"$f":"#REF!&\"-\"&#REF!","v":{"$error":"#REF!"}},null,null,null,null,false,{"$f":"LEFT(EQ6,7)&\"Part1\"&MID(EQ6,FIND(\"-\",EQ6,1)+1,7)","v":{"$error":"#REF!"}},null,null,null,null,null,null,null,null,null,{"$f":"#REF!","v":{"$error":"#REF!"}},null,"","",null,"DEVELOPMENT COSTS"]
["Housing Income",false,"Mortgage Calc",false,"Income & Expense",false,"Mortgage Calc",null,null,false,"Mortgage Calc",null,"imgHousingIncomeTabUnSel",87,null,"RightMostTab",6,"imgIncomeExpenseTabUnSel",98,6,null,"RightMostTab",6,"imgHousingIncomeTabUnSel",87,6,null,"RightMostTab",6,"imgHousingIncomeTabUnSel",87,6,null,"RightMostTab",null,null,null,null,null,"RightMostTab",6,"imgHousingIncomeTabUnSel",87,6,null,"Utilities - Electric-Connected",null,null,false,false,"5BR",8.5,null,null,null,null,"INSTRUCTIONS",null,null,null,null,false,null,{"$f":"'Funding Request'!D10","v":0},null,null,{"$f":"IF('Housing Income'!J22=\"Market\", TRUE, FALSE)","v":false},false,false,false,false,false,false,false,false,{"$f":"IF(HousIncomeUnitTypeHTC4=TRUE,'Housing Income'!D22,0)","v":0},{"$f":"'Mortgage Calc'!B15","v":0},{"$f":"'Mortgage Calc'!F15","v":0},{"$f":"'Mortgage Calc'!G15","v":0},{"$f":"'Mortgage Calc'!H15","v":0},false,null,null,null,null,{"$f":"IF(CG21<>\"\",MID(CM$14,SUM(CG$16:CG20)+COUNT(CG$16:CG20) +1,CG21),\"\")","v":""},{"$f":"'Project Description'!C24","v":"Demolition"},null,null,false,"","Unusual Site Features",null,null,null,null,null,null,null,null,null,{"$f":"#REF!","v":{"$error":"#REF!"}},null,false,null,null,null,null,null,{"$f":"IF('Housing Income'!$B22=\"0BR/SRO\",'Housing Income'!$D22,0)","v":0},{"$f":"IF('Housing Income'!$B22=\"1BR\",'Housing Income'!$D22,0)","v":0},{"$f":"IF('Housing Income'!$B22=\"2BR\",'Housing Income'!$D22,0)","v":0},{"$f":"IF('Housing Income'!$B22=\"3BR\",'Housing Income'!$D22,0)","v":0},{"$f":"IF('Housing Income'!$B22=\"4BR\",'Housing Income'!$D22,0)","v":0},{"$f":"IF('Housing Income'!$B22=\"5BR\",'Housing Income'!$D22,0)","v":0},{"$f":"IF('Housing Income'!$B22=\"6BR\",'Housing Income'!$D22,0)","v":0},{"$f":"IF('Housing Income'!$B21=\"Bed\",'Housing Income'!$D22,0)","v":0},null,{"$f":"IF($BP7=TRUE,'Housing Income'!$D22,0)","v":0},{"$f":"IF($BQ7=TRUE,'Housing Income'!$D22,0)","v":0},{"$f":"IF($BR7=TRUE,'Housing Income'!$D22,0)","v":0},{"$f":"IF($BO7=TRUE,'Housing Income'!$D22,0)","v":0},{"$f":"IF($BT7=TRUE,'Housing Income'!$D22,0)","v":0},{"$f":"IF($BU7=TRUE,'Housing Income'!$D22,0)","v":0},{"$f":"IF($BV7=TRUE,'Housing Income'!$D22,0)","v":0},{"$f":"IF($BW7=TRUE,'Housing Income'!$D22,0)","v":0},null,null,null,null,null,null,null,null,"Owner/MortgagorState",null,null,null,null,null,null,null,null,null,null,3,{"$f":"#REF!&\"-\"&#REF!","v":{"$error":"#REF!"}},null,null,null,null,false,{"$f":"LEFT(EQ7,7)&\"Part1\"&MID(EQ7,FIND(\"-\",EQ7,1)+1,7)","v":{"$error":"#REF!"}},null,null,"Tax Credit Request Type:",null,null,null,null,null,null,{"$f":"#REF!","v":{"$error":"#REF!"}},null,"",null,null,"New and Rehabilitation Test"]
["Income & Expense",false,"Cash Flow",false,"Mortgage Calc",false,"Development Team",null,null,false,"Cash Flow",null,"imgIncomeExpenseTabUnSel",98,null,false,7,"imgMortgageCalcTabUnSel",78,7,null,null,7,"imgIncomeExpenseTabUnSel",98,7,null,null,7,"imgIncomeExpenseTabUnSel",98,7,null,null,null,null,null,null,null,null,7,"imgIncomeExpenseTabUnSel",98,7,null,"Utilities -Gas-Connected",null,null,false,false,"6BR",9.5,null,null,null,null,"APPLICATION REQUEST",null,null,null,null,false,null,{"$f":"'Funding Request'!#REF!","v":{"$error":"#REF!"}},null,null,{"$f":"IF('Housing Income'!J23=\"Market\", TRUE, FALSE)","v":false},false,false,false,false,false,false,false,false,{"$f":"IF(HousIncomeUnitTypeHTC5=TRUE,'Housing Income'!D23,0)","v":0},{"$f":"'Mortgage Calc'!B16","v":0},{"$f":"'Mortgage Calc'!F16","v":0},{"$f":"'Mortgage Calc'!G16","v":0},{"$f":"'Mortgage Calc'!H16","v":0},false,null,null,null,null,{"$f":"IF(CG22<>\"\",MID(CM$14,SUM(CG$16:CG21)+COUNT(CG$16:CG21) +1,CG22),\"\")","v":""},{"$f":"'Project Description'!C25","v":"Rental Subsidy"},null,null,false,"",{"$f":"#REF!","v":{"$error":"#REF!"}},null,null,false,null,null,null,null,null,null,null,null,null,null,null,null,null,null,{"$f":"IF('Housing Income'!$B23=\"0BR/SRO\",'Housing Income'!$D23,0)","v":0},{"$f":"IF('Housing Income'!$B23=\"1BR\",'Housing Income'!$D23,0)","v":0},{"$f":"IF('Housing Income'!$B23=\"2BR\",'Housing Income'!$D23,0)","v":0},{"$f":"IF('Housing Income'!$B23=\"3BR\",'Housing Income'!$D23,0)","v":0},{"$f":"IF('Housing Income'!$B23=\"4BR\",'Housing Income'!$D23,0)","v":0},{"$f":"IF('Housing Income'!$B23=\"5BR\",'Housing Income'!$D23,0)","v":0},{"$f":"IF('Housing Income'!$B23=\"6BR\",'Housing Income'!$D23,0)","v":0},{"$f":"IF('Housing Income'!$B22=\"Bed\",'Housing Income'!$D23,0)","v":0},null,{"$f":"IF($BP8=TRUE,'Housing Income'!$D23,0)","v":0},{"$f":"IF($BQ8=TRUE,'Housing Income'!$D23,0)","v":0},{"$f":"IF($BR8=TRUE,'Housing Income'!$D23,0)","v":0},{"$f":"IF($BO8=TRUE,'Housing Income'!$D23,0)","v":0},{"$f":"IF($BT8=TRUE,'Housing Income'!$D23,0)","v":0},{"$f":"IF($BU8=TRUE,'Housing Income'!$D23,0)","v":0},{"$f":"IF($BV8=TRUE,'Housing Income'!$D23,0)","v":0},{"$f":"IF($BW8=TRUE,'Housing Income'!$D23,0)","v":0},null,null,null,null,null,null,null,null,"AttorneyCity",null,null,null,null,null,null,null,null,null,null,1,{"$f":"#REF!&\"-\"&#REF!","v":{"$error":"#REF!"}},null,null,null,null,false,{"$f":"LEFT(EQ8,7)&\"Part1\"&MID(EQ8,FIND(\"-\",EQ8,1)+1,5)&\"M\"","v":{"$error":"#REF!"}},null,null,{"$f":"'Funding Request'!D19","v":"First Request"},null,null,null,null,false,null,{"$f":"#REF!","v":{"$error":"#REF!"}},null,null,null,"Contractor Fee Test",{"$f":"DevCostsConstrGenReqValue+DevCostsConstrContrOHValue+DevCostsConstrContrProfValue+DeveloperFeeTotal","v":0},{"$f":"(TotalDevelopmentCosts - DeveloperFeeTotal) * 0.2","v":0},{"$f":"IF(FL8>FM8,TRUE,FALSE)","v":false}]
["Mortgage Calc",false,"Development Costs",false,"Cash Flow",false,"Summary",null,null,false,"Development Costs",null,"imgMortgageCalcTabUnSel",78,null,null,8,"imgCashFlowTabUnSel",61,8,null,null,8,"imgMortgageCalcTabUnSel",78,8,null,null,8,"imgMortgageCalcTabUnSel",78,8,null,null,null,null,null,null,null,null,8,"imgMortgageCalcTabUnSel",78,8,null,"Utilities -Water-Connected",null,null,false,false,"Bed",2,null,null,null,null,false,{"$f":"'Funding Request'!D34","v":"Metro HRA Project Based Vouchers"},null,null,null,false,null,{"$f":"'Funding Request'!#REF!","v":{"$error":"#REF!"}},null,null,{"$f":"IF('Housing Income'!J24=\"Market\", TRUE, FALSE)","v":false},false,false,false,false,false,false,false,false,{"$f":"IF(HousIncomeUnitTypeHTC6=TRUE,'Housing Income'!D24,0)","v":0},null,null,null,null,null,null,null,null,null,{"$f":"IF(CG23<>\"\",MID(CM$14,SUM(CG$16:CG22)+COUNT(CG$16:CG22) +1,CG23),\"\")","v":""},{"$f":"'Project Description'!J20","v":"New Construction"},null,null,false,"",{"$f":"#REF!","v":{"$error":"#REF!"}},null,null,null,null,null,null,null,null,null,null,null,null,null,null,null,null,null,{"$f":"IF('Housing Income'!$B24=\"0BR/SRO\",'Housing Income'!$D24,0)","v":0},{"$f":"IF('Housing Income'!$B24=\"1BR\",'Housing Income'!$D24,0)","v":0},{"$f":"IF('Housing Income'!$B24=\"2BR\",'Housing Income'!$D24,0)","v":0},{"$f":"IF('Housing Income'!$B24=\"3BR\",'Housing Income'!$D24,0)","v":0},{"$f":"IF('Housing Income'!$B24=\"4BR\",'Housing Income'!$D24,0)","v":0},{"$f":"IF('Housing Income'!$B24=\"5BR\",'Housing Income'!$D24,0)","v":0},{"$f":"IF('Housing Income'!$B24=\"6BR\",'Housing Income'!$D24,0)","v":0},{"$f":"IF('Housing Income'!$B23=\"Bed\",'Housing Income'!$D24,0)","v":0},null,{"$f":"IF($BP9=TRUE,'Housing Income'!$D24,0)","v":0},{"$f":"IF($BQ9=TRUE,'Housing Income'!$D24,0)","v":0},{"$f":"IF($BR9=TRUE,'Housing Income'!$D24,0)","v":0},{"$f":"IF($BO9=TRUE,'Housing Income'!$D24,0)","v":0},{"$f":"IF($BT9=TRUE,'Housing Income'!$D24,0)","v":0},{"$f":"IF($BU9=TRUE,'Housing Income'!$D24,0)","v":0},{"$f":"IF($BV9=TRUE,'Housing Income'!$D24,0)","v":0},{"$f":"IF($BW9=TRUE,'Housing Income'!$D24,0)","v":0},null,null,null,null,null,null,null,null,"AttorneyState",null,null,null,null,null,null,null,null,null,null,3,{"$f":"#REF!&\"-\"&#REF!","v":{"$error":"#REF!"}},null,null,null,null,false,{"$f":"LEFT(EQ9,7)&\"Part2\"&MID(EQ9,FIND(\"-\",EQ9,1)+1,7)","v":{"$error":"#REF!"}},null,null,{"$f":"'Funding Request'!D20","v":"Supplemental Request"},null,null,null,null,false,null,{"$f":"#REF!","v":{"$error":"#REF!"}}]
["Cash Flow",false,"Sources",false,"Development Costs",false,"Completeness",null,null,false,"Sources",null,"imgCashFlowTabUnSel",61,null,"LeftMostTab",9,"imgDevCostsTabUnSel",104,9,null,"LeftMostTab",9,"imgCashFlowTabUnSel",61,9,null,"LeftMostTab",9,"imgDevelopmentTeamTabUnSel",101,9,null,"LeftMostTab",null,null,null,null,null,"LeftMostTab",9,"imgDevCostsTabUnSel",104,9,null,"Utilities -Sewer-Connected",null,null,false,false,null,"Loan Type indicators\nHTC =1\nMN Hsg = 2\nRent Assist = 4\n\n\nOther Rent Assist = 8\nSection 811 = 17\n",null,null,null,null,false,{"$f":"'Funding Request'!D35","v":"St. Paul PHA Project Based Vouchers"},null,null,null,false,null,{"$f":"'Funding Request'!D14","v":"Housing Tax Credits - 4%"},null,null,{"$f":"IF('Housing Income'!J25=\"Market\", TRUE, FALSE)","v":false},false,false,false,false,false,false,false,false,{"$f":"IF(HousIncomeUnitTypeHTC7=TRUE,'Housing Income'!D25,0)","v":0},{"$f":"'Mortgage Calc'!I11","v":0},{"$f":"'Mortgage Calc'!J11","v":0},null,null,null,null,null,null,null,{"$f":"IF(CG24<>\"\",MID(CM$14,SUM(CG$16:CG23)+COUNT(CG$16:CG23) +1,CG24),\"\")","v":""},{"$f":"'Project Description'!J21","v":"Conversion/Adaptive Re-use"},null,null,false,"",{"$f":"#REF!","v":{"$error":"#REF!"}},null,null,null,null,null,null,null,null,null,null,null,null,null,null,null,null,null,{"$f":"IF('Housing Income'!$B25=\"0BR/SRO\",'Housing Income'!$D25,0)","v":0},{"$f":"IF('Housing Income'!$B25=\"1BR\",'Housing Income'!$D25,0)","v":0},{"$f":"IF('Housing Income'!$B25=\"2BR\",'Housing Income'!$D25,0)","v":0},{"$f":"IF('Housing Income'!$B25=\"3BR\",'Housing Income'!$D25,0)","v":0},{"$f":"IF('Housing Income'!$B25=\"4BR\",'Housing Income'!$D25,0)","v":0},{"$f":"IF('Housing Income'!$B25=\"5BR\",'Housing Income'!$D25,0)","v":0},{"$f":"IF('Housing Income'!$B25=\"6BR\",'Housing Income'!$D25,0)","v":0},{"$f":"IF('Housing Income'!$B24=\"Bed\",'Housing Income'!$D25,0)","v":0},null,{"$f":"IF($BP10=TRUE,'Housing Income'!$D25,0)","v":0},{"$f":"IF($BQ10=TRUE,'Housing Income'!$D25,0)","v":0},{"$f":"IF($BR10=TRUE,'Housing Income'!$D25,0)","v":0},{"$f":"IF($BO10=TRUE,'Housing Income'!$D25,0)","v":0},{"$f":"IF($BT10=TRUE,'Housing Income'!$D25,0)","v":0},{"$f":"IF($BU10=TRUE,'Housing Income'!$D25,0)","v":0},{"$f":"IF($BV10=TRUE,'Housing Income'!$D25,0)","v":0},{"$f":"IF($BW10=TRUE,'Housing Income'!$D25,0)","v":0},null,null,null,null,null,null,null,null,"ArchitectCity",null,null,null,null,null,null,null,null,null,null,4,{"$f":"#REF!&\"-\"&#REF!","v":{"$error":"#REF!"}},null,null,null,null,false,{"$f":"LEFT(EQ10,7)&\"Part2\"&MID(EQ10,FIND(\"-\",EQ10,1)+1,7)","v":{"$error":"#REF!"}},null,null,{"$f":"'Funding Request'!D21","v":"Repeat Request - not selected"},null,null,null,null,false,null,{"$f":"#REF!","v":{"$error":"#REF!"}},null,"","",null,null,{"$f":"IF(#REF!=0,0,(DevCostsConstrGenReqValue+DevCostsConstrContrOHValue+DevCostsConstrContrProfValue)/#REF!)","v":{"$error":"#REF!"}},{"$f":"IF(FM10>0.14,TRUE,FALSE)","v":{"$error":"#REF!"}}]
["Development Costs",false,"Development Team",false,"Sources",null,null,null,null,false,"Development Team",null,"imgDevCostsTabUnSel",104,null,false,10,"imgSourcesTabUnSel",52,10,null,null,10,"imgDevCostsTabUnSel",104,10,null,null,10,"imgSummaryPageTabUnSel",55,10,null,null,null,null,null,null,null,null,10,"imgSourcesTabUnSel",52,10,null,"Utility Extensions Necessary? ",null,null,false,false,null,null,null,{"$f":"IF(OR(InstructHTC4Pct=TRUE,InstructHTC9Pct=TRUE,InstructHTCDual4_9Pct=TRUE), 1,0)","v":1},"HTC",null,true,"N/A",null,null,null,false,null,{"$f":"'Funding Request'!D15","v":"Housing Tax Credits - 9%"},null,null,{"$f":"IF('Housing Income'!J26=\"Market\", TRUE, FALSE)","v":false},false,false,false,false,false,false,false,false,{"$f":"IF(HousIncomeUnitTypeHTC8=TRUE,'Housing Income'!D26,0)","v":0},{"$f":"'Mortgage Calc'!I12","v":0},{"$f":"'Mortgage Calc'!J12","v":0},null,"RRDL HOUSING INCOME",null,null,null,null,null,{"$f":"IF(CG25<>\"\",MID(CM$14,SUM(CG$16:CG24)+COUNT(CG$16:CG24) +1,CG25),\"\")","v":""},{"$f":"'Project Description'!J22","v":"Stabilization"},null,null,false,"",{"$f":"#REF!","v":{"$error":"#REF!"}},null,null,null,null,"RRDL HOUSING INCOME",null,null,null,null,null,null,null,null,null,null,null,null,{"$f":"IF('Housing Income'!$B26=\"0BR/SRO\",'Housing Income'!$D26,0)","v":0},{"$f":"IF('Housing Income'!$B26=\"1BR\",'Housing Income'!$D26,0)","v":0},{"$f":"IF('Housing Income'!$B26=\"2BR\",'Housing Income'!$D26,0)","v":0},{"$f":"IF('Housing Income'!$B26=\"3BR\",'Housing Income'!$D26,0)","v":0},{"$f":"IF('Housing Income'!$B26=\"4BR\",'Housing Income'!$D26,0)","v":0},{"$f":"IF('Housing Income'!$B26=\"5BR\",'Housing Income'!$D26,0)","v":0},{"$f":"IF('Housing Income'!$B26=\"6BR\",'Housing Income'!$D26,0)","v":0},{"$f":"IF('Housing Income'!$B25=\"Bed\",'Housing Income'!$D26,0)","v":0},null,{"$f":"IF($BP11=TRUE,'Housing Income'!$D26,0)","v":0},{"$f":"IF($BQ11=TRUE,'Housing Income'!$D26,0)","v":0},{"$f":"IF($BR11=TRUE,'Housing Income'!$D26,0)","v":0},{"$f":"IF($BO11=TRUE,'Housing Income'!$D26,0)","v":0},{"$f":"IF($BT11=TRUE,'Housing Income'!$D26,0)","v":0},{"$f":"IF($BU11=TRUE,'Housing Income'!$D26,0)","v":0},{"$f":"IF($BV11=TRUE,'Housing Income'!$D26,0)","v":0},{"$f":"IF($BW11=TRUE,'Housing Income'!$D26,0)","v":0},null,null,null,null,null,null,null,null,"ArchitectState",null,null,null,null,null,null,null,null,null,null,1,{"$f":"#REF!&\"-\"&#REF!","v":{"$error":"#REF!"}},null,null,null,null,false,{"$f":"LEFT(EQ11,7)&\"Part2\"&MID(EQ11,FIND(\"-\",EQ11,1)+1,5)&\"M\"","v":{"$error":"#REF!"}},null,null,"N/A",null,null,null,null,true,null,{"$f":"#REF!","v":{"$error":"#REF!"}},null,""]
["Sources",false,"Identity of Interest",false,"HTC Info",null,null,"Print","Qualified Contract",false,"Buildings",null,"imgSourcesTabUnSel",52,null,null,11,"imgDevelopmentTeamTabUnSel",101,11,null,null,11,"imgSourcesTabUnSel",52,11,null,null,11,"imgOperatingSubsidyTabUnSel",99,11,null,null,null,null,null,null,null,null,11,"imgDevelopmentTeamTabUnSel",101,11,null,"Will Acquired Related party?",null,null,false,true,null,null,null,{"$f":"IF(OR(InstrDefLoan1stMtg=TRUE,InstrDefLoanTaxExLngTrm=TRUE,InstrDefLoanTaxExShtTrm=TRUE,InstructDefLoanDefLoans=TRUE),2,0)","v":2},"MN Hsg",null,true,{"$f":"'Funding Request'!#REF!","v":{"$error":"#REF!"}},null,null,null,true,null,{"$f":"'Funding Request'!D16","v":"This is part of dual 4% / 9% application"},null,null,{"$f":"IF('Housing Income'!J27=\"Market\", TRUE, FALSE)","v":false},false,false,false,false,false,false,false,false,{"$f":"IF(HousIncomeUnitTypeHTC9=TRUE,'Housing Income'!D27,0)","v":0},{"$f":"'Mortgage Calc'!I13","v":0},{"$f":"'Mortgage Calc'!J13","v":0},null,"RRDL UNITS",null,null,null,null,null,{"$f":"IF(CG26<>\"\",MID(CM$14,SUM(CG$16:CG25)+COUNT(CG$16:CG25) +1,CG26),\"\")","v":""},{"$f":"'Project Description'!J23","v":"Scattered Site Development"},null,null,false,"",{"$f":"#REF!","v":{"$error":"#REF!"}},null,null,null,null,"UNIT / RENT GRID",null,null,null,null,null,null,null,null,null,null,null,null,{"$f":"IF('Housing Income'!$B27=\"0BR/SRO\",'Housing Income'!$D27,0)","v":0},{"$f":"IF('Housing Income'!$B27=\"1BR\",'Housing Income'!$D27,0)","v":0},{"$f":"IF('Housing Income'!$B27=\"2BR\",'Housing Income'!$D27,0)","v":0},{"$f":"IF('Housing Income'!$B27=\"3BR\",'Housing Income'!$D27,0)","v":0},{"$f":"IF('Housing Income'!$B27=\"4BR\",'Housing Income'!$D27,0)","v":0},{"$f":"IF('Housing Income'!$B27=\"5BR\",'Housing Income'!$D27,0)","v":0},{"$f":"IF('Housing Income'!$B27=\"6BR\",'Housing Income'!$D27,0)","v":0},{"$f":"IF('Housing Income'!$B27=\"Bed\",'Housing Income'!$D27,0)","v":0},null,{"$f":"IF($BP12=TRUE,'Housing Income'!$D27,0)","v":0},{"$f":"IF($BQ12=TRUE,'Housing Income'!$D27,0)","v":0},{"$f":"IF($BR12=TRUE,'Housing Income'!$D27,0)","v":0},{"$f":"IF($BO12=TRUE,'Housing Income'!$D27,0)","v":0},{"$f":"IF($BT12=TRUE,'Housing Income'!$D27,0)","v":0},{"$f":"IF($BU12=TRUE,'Housing Income'!$D27,0)","v":0},{"$f":"IF($BV12=TRUE,'Housing Income'!$D27,0)","v":0},{"$f":"IF($BW12=TRUE,'Housing Income'!$D27,0)","v":0},null,null,null,null,null,null,null,null,"GeneralContractorCity","Ada",null,null,null,null,null,null,null,null,null,2,{"$f":"#REF!&\"-\"&#REF!","v":{"$error":"#REF!"}},null,null,null,null,false,{"$f":"LEFT(EQ12,7)&\"Part2\"&MID(EQ12,FIND(\"-\",EQ12,1)+1,7)&\"Part1\"","v":{"$error":"#REF!"}},null,null,"Tax  Credit Pool:",null,null,null,null,true,null,{"$f":"#REF!","v":{"$error":"#REF!"}},null,null,null,"Construction contingency",{"$f":"IF(AND(#REF!>0, OR(#REF! = 0,#REF! = \"\")), 0.04, 0)","v":{"$error":"#REF!"}}]
["HTC Info",false,"Buildings",false,"HTC Basis",null,null,false,"Project Description",false,"RRDL",null,"imgHTCInfoTabUnSel",50,null,null,12,"imgIdentityOfInterestTabUnSel",98,12,null,null,12,"imgHTCInfoTabUnSel",50,12,null,null,12,"imgCompletenessTabUnSel",78,12,null,null,null,null,null,null,null,null,12,"imgIdentityOfInterestTabUnSel",98,12,null,"Has Acquired Related party?",null,null,true,false,null,null,null,{"$f":"IF(OR(InstructMetrpHRAPBV=TRUE,InstructStPaulHRAPBV=TRUE),4,0)","v":0},"Rent Asst",null,false,{"$f":"'Funding Request'!D41","v":"Housing Trust Fund (HTF) Rental Assistance"},null,null,null,false,null,{"$f":"'Funding Request'!#REF!","v":{"$error":"#REF!"}},null,null,{"$f":"IF('Housing Income'!J28=\"Market\", TRUE, FALSE)","v":false},false,false,false,false,false,false,false,false,{"$f":"IF(HousIncomeUnitTypeHTC10=TRUE,'Housing Income'!D28,0)","v":0},{"$f":"'Mortgage Calc'!I14","v":0},{"$f":"'Mortgage Calc'!J14","v":0},null,null,{"$f":"IF(AND(HousIncomeUnitTypeRRDL1=TRUE,RRDL_RentLimit1=\"RRDL Limit\"),RRDL_HINumUnits1,0)","v":{"$error":"#NAME?"}},null,null,null,null,{"$f":"IF(CG27<>\"\",MID(CM$14,SUM(CG$16:CG26)+COUNT(CG$16:CG26) +1,CG27),\"\")","v":""},"Other:",{"$f":"'Project Description'!K24","v":0},null,false,{"$f":"IF(AND(CL13=FALSE,CM12=\"\"),\"\",IF(AND(CL13=FALSE,CM12<>\"\"),CM12,IF(AND(CL13=TRUE, CM12=\"\"),CJ13, CM12&\",\"&CJ13)))","v":""},{"$f":"#REF!","v":{"$error":"#REF!"}},null,null,false,null,"Unit Type","# of Bath-rooms","# of Units","Approx Sq Ft","Monthly Contract Rent",null,null,null,null,null,"Rooms per Unit",null,null,{"$f":"IF('Housing Income'!$B28=\"0BR/SRO\",'Housing Income'!$D28,0)","v":0},{"$f":"IF('Housing Income'!$B28=\"1BR\",'Housing Income'!$D28,0)","v":0},{"$f":"IF('Housing Income'!$B28=\"2BR\",'Housing Income'!$D28,0)","v":0},{"$f":"IF('Housing Income'!$B28=\"3BR\",'Housing Income'!$D28,0)","v":0},{"$f":"IF('Housing Income'!$B28=\"4BR\",'Housing Income'!$D28,0)","v":0},{"$f":"IF('Housing Income'!$B28=\"5BR\",'Housing Income'!$D28,0)","v":0},{"$f":"IF('Housing Income'!$B28=\"6BR\",'Housing Income'!$D28,0)","v":0},{"$f":"IF('Housing Income'!$B28=\"Bed\",'Housing Income'!$D28,0)","v":0},null,{"$f":"IF($BP13=TRUE,'Housing Income'!$D28,0)","v":0},{"$f":"IF($BQ13=TRUE,'Housing Income'!$D28,0)","v":0},{"$f":"IF($BR13=TRUE,'Housing Income'!$D28,0)","v":0},{"$f":"IF($BO13=TRUE,'Housing Income'!$D28,0)","v":0},{"$f":"IF($BT13=TRUE,'Housing Income'!$D28,0)","v":0},{"$f":"IF($BU13=TRUE,'Housing Income'!$D28,0)","v":0},{"$f":"IF($BV13=TRUE,'Housing Income'!$D28,0)","v":0},{"$f":"IF($BW13=TRUE,'Housing Income'!$D28,0)","v":0},null,null,null,null,null,null,null,null,"GeneralContractorState",null,null,null,null,null,null,null,null,null,null,4,{"$f":"#REF!&\"-\"&#REF!","v":{"$error":"#REF!"}},null,null,null,null,false,{"$f":"LEFT(EQ13,7)&\"Part3\"&MID(EQ13,FIND(\"-\",EQ13,1)+1,7)","v":{"$error":"#REF!"}},null,null,{"$f":"'Funding Request'!J14","v":"Metro"},null,null,null,null,true,null,{"$f":"#REF!","v":{"$error":"#REF!"}},null,"",null,null,{"$f":"IF(AND(OR(#REF! = 0,#REF! = \"\"),#REF! > 0), 0.07,0)","v":{"$error":"#REF!"}}]
["HTC Basis",false,"Preservation",false,"Determination of Credit",null,null,false,"Property Information",false,"Completeness",null,"imgHTCBasisTabUnSel",58,null,null,13,"imgBuildingsTabUnSel",54,13,null,null,13,"imgHTCBasisTabUnSel",58,13,null,null,null,null,null,null,null,null,null,null,null,null,null,null,13,"imgBuildingsTabUnSel",54,13,null,"Has Acquired UnRelated party?",null,null,true,true,null,null,null,{"$f":"IF(OR(InstructHOPWA=TRUE,InstructHTFRA=TRUE,bridges=TRUE,opSub=TRUE), 8,0)","v":8},"OtherRA",null,false,{"$f":"'Funding Request'!D42","v":"Section 811 Project Based Rental Assistance (811 PRA)"},null," ",null,false,null,"InstructRRDLAndOthersWarning",null,null,{"$f":"IF('Housing Income'!J29=\"Market\", TRUE, FALSE)","v":false},false,false,false,false,false,false,false,false,{"$f":"IF(HousIncomeUnitTypeHTC11=TRUE,'Housing Income'!D29,0)","v":0},{"$f":"'Mortgage Calc'!I15","v":0},{"$f":"'Mortgage Calc'!J15","v":0},null,null,{"$f":"IF(AND(HousIncomeUnitTypeRRDL2=TRUE,RRDL_RentLimit2=\"RRDL Limit\"),RRDL_HINumUnits2,0)","v":{"$error":"#NAME?"}},null,null,null,null,{"$f":"IF(CG28<>\"\",MID(CM$14,SUM(CG$16:CG27)+COUNT(CG$16:CG27) +1,CG28),\"\")","v":""},"Other:",{"$f":"'Project Description'!K25","v":0},null,false,{"$f":"IF(AND(CL14=FALSE,CM13=\"\"),\"\",IF(AND(CL14=FALSE,CM13<>\"\"),CM13,IF(AND(CL14=TRUE, CM13=\"\"), CJ14,CM13&\",\"&CJ14)))","v":""},{"$f":"#REF!","v":{"$error":"#REF!"}},null,null,null,null,null,null,null,null,null,"Units per Unit Type",null,null,null,null,null,null,null,{"$f":"IF('Housing Income'!$B29=\"0BR/SRO\",'Housing Income'!$D29,0)","v":0},{"$f":"IF('Housing Income'!$B29=\"1BR\",'Housing Income'!$D29,0)","v":0},{"$f":"IF('Housing Income'!$B29=\"2BR\",'Housing Income'!$D29,0)","v":0},{"$f":"IF('Housing Income'!$B29=\"3BR\",'Housing Income'!$D29,0)","v":0},{"$f":"IF('Housing Income'!$B29=\"4BR\",'Housing Income'!$D29,0)","v":0},{"$f":"IF('Housing Income'!$B29=\"5BR\",'Housing Income'!$D29,0)","v":0},{"$f":"IF('Housing Income'!$B29=\"6BR\",'Housing Income'!$D29,0)","v":0},{"$f":"IF('Housing Income'!$B29=\"Bed\",'Housing Income'!$D29,0)","v":0},null,{"$f":"IF($BP14=TRUE,'Housing Income'!$D29,0)","v":0},{"$f":"IF($BQ14=TRUE,'Housing Income'!$D29,0)","v":0},{"$f":"IF($BR14=TRUE,'Housing Income'!$D29,0)","v":0},{"$f":"IF($BO14=TRUE,'Housing Income'!$D29,0)","v":0},{"$f":"IF($BT14=TRUE,'Housing Income'!$D29,0)","v":0},{"$f":"IF($BU14=TRUE,'Housing Income'!$D29,0)","v":0},{"$f":"IF($BV14=TRUE,'Housing Income'!$D29,0)","v":0},{"$f":"IF($BW14=TRUE,'Housing Income'!$D29,0)","v":0},null,null,null,null,null,null,null,null,"ManagementCoCity",null,null,null,null,null,null,null,null,null,null,5,{"$f":"#REF!&\"-\"&#REF!","v":{"$error":"#REF!"}},null,null,null,null,false,{"$f":"LEFT(EQ14,7)&\"Part3\"&MID(EQ14,FIND(\"-\",EQ14,1)+1,7)","v":{"$error":"#REF!"}},null,null,{"$f":"'Funding Request'!J15","v":"Greater MN"},null,null,null,null,true,null,{"$f":"#REF!","v":{"$error":"#REF!"}},null,"","",null,{"$f":"IF(AND(#REF! > 0,#REF! > 0),0.07,0)","v":{"$error":"#REF!"}}]
["Determination of Credit",false,"Completeness",false,"Development Team",null,null,false,"Housing Income",null,null,null,"imgDeterminationOfCreditTabUnSel",121,null,null,14,"imgSummaryPageTabUnSel",55,14,null,null,14,"imgDeterminationOfCreditTabUnSel",121,14,null,null,null,null,null,null,null,null,null,null,null,null,null,null,14,"imgSummaryPageTabUnSel",55,14,null,"Utilities - Electric-Will Connect",null,null,false,false,null,null,null,{"$f":"IF(Instruct811RA=TRUE, 17,0)","v":0},"811RA",null,false,"N/A",null,null,false,false,null,"Suballoc",null,null,{"$f":"IF('Housing Income'!J30=\"Market\", TRUE, FALSE)","v":false},false,false,false,false,false,false,false,false,{"$f":"IF(HousIncomeUnitTypeHTC12=TRUE,'Housing Income'!D30,0)","v":0},{"$f":"'Mortgage Calc'!I16","v":0},{"$f":"'Mortgage Calc'!J16","v":0},null,null,{"$f":"IF(AND(HousIncomeUnitTypeRRDL3=TRUE,RRDL_RentLimit3=\"RRDL Limit\"),RRDL_HINumUnits3,0)","v":{"$error":"#NAME?"}},null,null,null,null,{"$f":"IF(CG29<>\"\",MID(CM$14,SUM(CG$16:CG27)+COUNT(CG$16:CG27) +1,CG28),\"\")","v":""},"STRATEGIC PRIORITIES",null,null,null,null,{"$f":"#REF!","v":{"$error":"#REF!"}},null,null,false,null,null,null,null,null,null,"0BR/SRO","1BR","2BR","3BR","4BR+",null,null,null,{"$f":"IF('Housing Income'!$B30=\"0BR/SRO\",'Housing Income'!$D30,0)","v":0},{"$f":"IF('Housing Income'!$B30=\"1BR\",'Housing Income'!$D30,0)","v":0},{"$f":"IF('Housing Income'!$B30=\"2BR\",'Housing Income'!$D30,0)","v":0},{"$f":"IF('Housing Income'!$B30=\"3BR\",'Housing Income'!$D30,0)","v":0},{"$f":"IF('Housing Income'!$B30=\"4BR\",'Housing Income'!$D30,0)","v":0},{"$f":"IF('Housing Income'!$B30=\"5BR\",'Housing Income'!$D30,0)","v":0},{"$f":"IF('Housing Income'!$B30=\"6BR\",'Housing Income'!$D30,0)","v":0},{"$f":"IF('Housing Income'!$B30=\"Bed\",'Housing Income'!$D30,0)","v":0},null,{"$f":"IF($BP15=TRUE,'Housing Income'!$D30,0)","v":0},{"$f":"IF($BQ15=TRUE,'Housing Income'!$D30,0)","v":0},{"$f":"IF($BR15=TRUE,'Housing Income'!$D30,0)","v":0},{"$f":"IF($BO15=TRUE,'Housing Income'!$D30,0)","v":0},{"$f":"IF($BT15=TRUE,'Housing Income'!$D30,0)","v":0},{"$f":"IF($BU15=TRUE,'Housing Income'!$D30,0)","v":0},{"$f":"IF($BV15=TRUE,'Housing Income'!$D30,0)","v":0},{"$f":"IF($BW15=TRUE,'Housing Income'!$D30,0)","v":0},null,null,null,null,null,null,null,null,"ManagementCoCounty",null,null,null,null,null,null,null,null,null,null,1,{"$f":"#REF!&\"-\"&#REF!","v":{"$error":"#REF!"}},null,null,null,null,false,{"$f":"LEFT(EQ15,7)&\"Part3\"&MID(EQ15,FIND(\"-\",EQ15,1)+1,5)&\"M\"","v":{"$error":"#REF!"}},null,null,"NA",null,null,null,null,true,null,{"$f":"#REF!","v":{"$error":"#REF!"}},null,"",null,"Construction contingency Flag %",{"$f":"MAX(FL12:FL14)","v":{"$error":"#REF!"}}]
["Identity of Interest",false,"Summary",false,"Identity of Interest",null,null,false,"Income & Expense",null,null,null,"imgDevelopmentTeamTabUnSel",101,null,null,15,"imgPreservationTabUnSel",70,15,null,null,15,"imgDevelopmentTeamTabUnSel",101,15,null,null,null,null,null,null,null,null,null,null,null,null,null,null,15,"imgRRDLTabUnSel",38,15,null,"Utilities -Gas-Will Connect",null,null,false,false,null,"RRDL Proj Spec = 33",null,{"$f":"IF(InstructDefLoanRRDL=TRUE, 33,0)","v":0},"RRDLPS",null,false,{"$f":"'Funding Request'!D43","v":"Bridges"},null,null,null,null,null,"Non-RRDL Application Request Type",{"$f":"IF(BB19=1,\"HousingTaxCreditsTabs\",IF(BB19=2,\"MinnesotaHousingFirstMortgageTabs\",IF(BB19=3,\"HousingTaxCreditsTabs\",IF(BB19=4,\"RentAssistanceTabs\",IF(BB19=5,\"HousingTaxCreditsTabs\",IF(BB19=6,\"MinnesotaHousingFirstMortgageTabs\",IF(BB19=7,\"HousingTaxCreditsTabs\",IF(BB19=8,\"OtherRentAssistanceTabs\",IF(BB19=17,\"Section811PRATabs\",IF(BB19=33,\"RRDLProjectSpecific\",IF(BB19=38,\"RRDLBorrower\",IF(BB19=45,\"RRDLAdministrator\",IF(BB19=50,\"Suballocator\",IF(BB19>50,\"IncludeSig\",\"\"))))))))))))))","v":""},null,{"$f":"IF('Housing Income'!J31=\"Market\", TRUE, FALSE)","v":false},false,false,false,false,false,false,false,false,{"$f":"IF(HousIncomeUnitTypeHTC13=TRUE,'Housing Income'!D31,0)","v":0},null,null,null,null,{"$f":"IF(AND(HousIncomeUnitTypeRRDL4=TRUE,RRDL_RentLimit4=\"RRDL Limit\"),RRDL_HINumUnits4,0)","v":{"$error":"#NAME?"}},null,null,null,null,{"$f":"TRIM(MID(SUBSTITUTE(CM$21,\",\",REPT(\" \",199)),(ROW()-15)*199-198,199))","v":""},"Preservation of Federally Assisted Housing",null,null,false,{"$f":"IF(AND(CL16=FALSE,CM15=\"\"),\"\",IF(AND(CL16=FALSE,CM15<>\"\"),CM15,IF(AND(CL16=TRUE, CM15=\"\"), CI16,CM15&\",\"&CI16)))","v":""},{"$f":"#REF!","v":{"$error":"#REF!"}},null,null,null,null,{"$f":"INDEX(RRDL_HousIncUnitRentGrid,1,1)","v":{"$error":"#NAME?"}},{"$f":"INDEX(RRDL_HousIncUnitRentGrid,1,2)","v":{"$error":"#NAME?"}},{"$f":"INDEX(RRDL_HousIncUnitRentGrid,1,3)","v":{"$error":"#NAME?"}},{"$f":"INDEX(RRDL_HousIncUnitRentGrid,1,4)","v":{"$error":"#NAME?"}},{"$f":"INDEX(RRDL_HousIncUnitRentGrid,1,5)","v":{"$error":"#NAME?"}},{"$f":"IF($CS16=\"0BR/SRO\",$CU16,0)","v":{"$error":"#NAME?"}},{"$f":"IF($CS16=\"1BR\",$CU16,0)","v":{"$error":"#NAME?"}},{"$f":"IF($CS16=\"2BR\",$CU16,0)","v":{"$error":"#NAME?"}},{"$f":"IF($CS16=\"3BR\",$CU16,0)","v":{"$error":"#NAME?"}},{"$f":"IF(OR($CS16=\"4BR\",$CS16=\"5BR\",$CS16=\"6BR\",$CS16=\"Bed\"),$CU16,0)","v":{"$error":"#NAME?"}},{"$f":"IF(NOT(ISNA(VLOOKUP(CS16,$CY$65:$CZ$72,2,FALSE))),VLOOKUP(CS16,$CY$65:$CZ$72,2,FALSE),\"\")","v":{"$error":"#NAME?"}},null,null,{"$f":"IF('Housing Income'!$B31=\"0BR/SRO\",'Housing Income'!$D31,0)","v":0},{"$f":"IF('Housing Income'!$B31=\"1BR\",'Housing Income'!$D31,0)","v":0},{"$f":"IF('Housing Income'!$B31=\"2BR\",'Housing Income'!$D31,0)","v":0},{"$f":"IF('Housing Income'!$B31=\"3BR\",'Housing Income'!$D31,0)","v":0},{"$f":"IF('Housing Income'!$B31=\"4BR\",'Housing Income'!$D31,0)","v":0},{"$f":"IF('Housing Income'!$B31=\"5BR\",'Housing Income'!$D31,0)","v":0},{"$f":"IF('Housing Income'!$B31=\"6BR\",'Housing Income'!$D31,0)","v":0},{"$f":"IF('Housing Income'!$B31=\"Bed\",'Housing Income'!$D31,0)","v":0},null,{"$f":"IF($BP16=TRUE,'Housing Income'!$D31,0)","v":0},{"$f":"IF($BQ16=TRUE,'Housing Income'!$D31,0)","v":0},{"$f":"IF($BR16=TRUE,'Housing Income'!$D31,0)","v":0},{"$f":"IF($BO16=TRUE,'Housing Income'!$D31,0)","v":0},{"$f":"IF($BT16=TRUE,'Housing Income'!$D31,0)","v":0},{"$f":"IF($BU16=TRUE,'Housing Income'!$D31,0)","v":0},{"$f":"IF($BV16=TRUE,'Housing Income'!$D31,0)","v":0},{"$f":"IF($BW16=TRUE,'Housing Income'!$D31,0)","v":0},null,null,null,null,null,null,null,null,"IdentityOfInterest",null,false,false,null,null,null,null,null,null,null,2,{"$f":"#REF!&\"-\"&#REF!","v":{"$error":"#REF!"}},null,null,null,null,false,{"$f":"LEFT(EQ16,7)&\"Part3\"&MID(EQ16,FIND(\"-\",EQ16,1)+1,7)&\"Part1\"","v":{"$error":"#REF!"}},null,null,"Tax Credit Set Aside:",null,null,null,null,null,null,{"$f":"#REF!","v":{"$error":"#REF!"}},null,""]
["Buildings",false,"HOME",false,"Buildings",null,null,false,"Development Team",null,null,null,"imgIdentityOfInterestTabUnSel",98,null,null,16,"imgAmortATabUnSel",49,16,null,null,16,"imgIdentityOfInterestTabUnSel",98,16,null,null,null,null,null,null,null,null,null,null,null,null,null,null,16,"imgCompletenessTabUnSel",78,16,null,"Utilities -Water-Will Connect",null,null,false,false,null,"RRDL Borrower = 38",null,{"$f":"IF(InstructDefLoanRRDLBorrower=TRUE, 38,0)","v":0},"RRDLBor",null,false,"Operating Subsidy",null,null,{"$f":"#REF!","v":{"$error":"#REF!"}},null,null,"RRDL Application Request Type",null,null,{"$f":"IF('Housing Income'!J32=\"Market\", TRUE, FALSE)","v":false},false,false,false,false,false,false,false,false,{"$f":"IF(HousIncomeUnitTypeHTC14=TRUE,'Housing Income'!D32,0)","v":0},null,null,null,null,{"$f":"IF(AND(HousIncomeUnitTypeRRDL5=TRUE,RRDL_RentLimit5=\"RRDL Limit\"),RRDL_HINumUnits5,0)","v":{"$error":"#NAME?"}},null,null,null,{"$f":"IF(SUM(CG$16:CG16)+COUNT(CG$16:CG16)<LEN(CM$14),IF(ISERROR(FIND(\",\",CM$14,SUM(CG$16:CG16)+COUNT(CG$16:CG16)+1)),LEN(MID(CM$14,(SUM(CG$16:CG16)+COUNT(CG$16:CG16)+1),100)),FIND(\",\",CM$14,(SUM(CG$16:CG16)+COUNT(CG$16:CG16)+1))-(SUM(CG$16:CG16)+COUNT(CG$16:CG16)+1)),\"\")","v":""},"","Long Term Homeless",null,null,false,"",{"$f":"#REF!","v":{"$error":"#REF!"}},null,null,null,null,{"$f":"INDEX(RRDL_HousIncUnitRentGrid,2,1)","v":{"$error":"#NAME?"}},{"$f":"INDEX(RRDL_HousIncUnitRentGrid,2,2)","v":{"$error":"#NAME?"}},{"$f":"INDEX(RRDL_HousIncUnitRentGrid,2,3)","v":{"$error":"#NAME?"}},{"$f":"INDEX(RRDL_HousIncUnitRentGrid,2,4)","v":{"$error":"#NAME?"}},{"$f":"INDEX(RRDL_HousIncUnitRentGrid,2,5)","v":{"$error":"#NAME?"}},{"$f":"IF($CS17=\"0BR/SRO\",$CU17,0)","v":{"$error":"#NAME?"}},{"$f":"IF($CS17=\"1BR\",$CU17,0)","v":{"$error":"#NAME?"}},{"$f":"IF($CS17=\"2BR\",$CU17,0)","v":{"$error":"#NAME?"}},{"$f":"IF($CS17=\"3BR\",$CU17,0)","v":{"$error":"#NAME?"}},{"$f":"IF(OR($CS17=\"4BR\",$CS17=\"5BR\",$CS17=\"6BR\",$CS17=\"Bed\"),$CU17,0)","v":{"$error":"#NAME?"}},{"$f":"IF(NOT(ISNA(VLOOKUP(CS17,$CY$65:$CZ$72,2,FALSE))),VLOOKUP(CS17,$CY$65:$CZ$72,2,FALSE),\"\")","v":{"$error":"#NAME?"}},null,null,{"$f":"IF('Housing Income'!$B32=\"0BR/SRO\",'Housing Income'!$D32,0)","v":0},{"$f":"IF('Housing Income'!$B32=\"1BR\",'Housing Income'!$D32,0)","v":0},{"$f":"IF('Housing Income'!$B32=\"2BR\",'Housing Income'!$D32,0)","v":0},{"$f":"IF('Housing Income'!$B32=\"3BR\",'Housing Income'!$D32,0)","v":0},{"$f":"IF('Housing Income'!$B32=\"4BR\",'Housing Income'!$D32,0)","v":0},{"$f":"IF('Housing Income'!$B32=\"5BR\",'Housing Income'!$D32,0)","v":0},{"$f":"IF('Housing Income'!$B32=\"6BR\",'Housing Income'!$D32,0)","v":0},{"$f":"IF('Housing Income'!$B32=\"Bed\",'Housing Income'!$D32,0)","v":0},null,{"$f":"IF($BP17=TRUE,'Housing Income'!$D32,0)","v":0},{"$f":"IF($BQ17=TRUE,'Housing Income'!$D32,0)","v":0},{"$f":"IF($BR17=TRUE,'Housing Income'!$D32,0)","v":0},{"$f":"IF($BO17=TRUE,'Housing Income'!$D32,0)","v":0},{"$f":"IF($BT17=TRUE,'Housing Income'!$D32,0)","v":0},{"$f":"IF($BU17=TRUE,'Housing Income'!$D32,0)","v":0},{"$f":"IF($BV17=TRUE,'Housing Income'!$D32,0)","v":0},{"$f":"IF($BW17=TRUE,'Housing Income'!$D32,0)","v":0},null,null,null,null,null,null,null,null,"EntityManageProp",null,false,false,null,null,null,null,null,null,null,3,{"$f":"#REF!&\"-\"&#REF!","v":{"$error":"#REF!"}},null,null,null,null,false,{"$f":"LEFT(EQ17,7)&\"Part3\"&MID(EQ17,FIND(\"-\",EQ17,1)+1,7)&\"Part2\"","v":{"$error":"#REF!"}},null,null,{"$f":"'Funding Request'!J19","v":"Nonprofit"},null,null,null,null,true,null,{"$f":"#REF!","v":{"$error":"#REF!"}}]
["Preservation",false,"Mortgage Rate Calc",false,"Preservation",null,null,false,"Completeness",null,null,null,"imgBuildingsTabUnSel",54,null,null,17,"imgAmortBTabUnSel",49,17,null,null,17,"imgBuildingsTabUnSel",54,17,null,null,null,null,null,null,null,null,null,null,null,null,null,null,null,null,null,null,null,"Utilities -Sewer-Will Connect",null,null,false,false,null,"RRDL Admin = 45",null,{"$f":"IF(InstructDefLoanRRDLAdmin=TRUE, 45,0)","v":0},"RRDLAd",null,false,"Operating Subsidy","RRDL 1 type check",null,null,{"$f":"COUNTIF(BJ7:BJ9, TRUE)","v":0},null,"Don't show error",true,null,{"$f":"IF('Housing Income'!J33=\"Market\", TRUE, FALSE)","v":false},false,false,false,false,false,false,false,false,{"$f":"IF(HousIncomeUnitTypeHTC15=TRUE,'Housing Income'!D33,0)","v":0},null,null,null,null,{"$f":"IF(AND(HousIncomeUnitTypeRRDL6=TRUE,RRDL_RentLimit6=\"RRDL Limit\"),RRDL_HINumUnits6,0)","v":{"$error":"#NAME?"}},null,null,null,{"$f":"IF(SUM(CG$16:CG17)+COUNT(CG$16:CG17)<LEN(CM$14),IF(ISERROR(FIND(\",\",CM$14,SUM(CG$16:CG17)+COUNT(CG$16:CG17)+1)),LEN(MID(CM$14,(SUM(CG$16:CG17)+COUNT(CG$16:CG17)+1),100)),FIND(\",\",CM$14,(SUM(CG$16:CG17)+COUNT(CG$16:CG17)+1))-(SUM(CG$16:CG17)+COUNT(CG$16:CG17)+1)),\"\")","v":""},"","New Affordable Housing",null,null,false,"",{"$f":"#REF!","v":{"$error":"#REF!"}},null,null,false,null,{"$f":"INDEX(RRDL_HousIncUnitRentGrid,3,1)","v":{"$error":"#NAME?"}},{"$f":"INDEX(RRDL_HousIncUnitRentGrid,3,2)","v":{"$error":"#NAME?"}},{"$f":"INDEX(RRDL_HousIncUnitRentGrid,3,3)","v":{"$error":"#NAME?"}},{"$f":"INDEX(RRDL_HousIncUnitRentGrid,3,4)","v":{"$error":"#NAME?"}},{"$f":"INDEX(RRDL_HousIncUnitRentGrid,3,5)","v":{"$error":"#NAME?"}},{"$error":"#NAME?"},{"$error":"#NAME?"},{"$error":"#NAME?"},{"$error":"#NAME?"},{"$error":"#NAME?"},{"$error":"#NAME?"},null,null,{"$f":"IF('Housing Income'!$B33=\"0BR/SRO\",'Housing Income'!$D33,0)","v":0},{"$f":"IF('Housing Income'!$B33=\"1BR\",'Housing Income'!$D33,0)","v":0},{"$f":"IF('Housing Income'!$B33=\"2BR\",'Housing Income'!$D33,0)","v":0},{"$f":"IF('Housing Income'!$B33=\"3BR\",'Housing Income'!$D33,0)","v":0},{"$f":"IF('Housing Income'!$B33=\"4BR\",'Housing Income'!$D33,0)","v":0},{"$f":"IF('Housing Income'!$B33=\"5BR\",'Housing Income'!$D33,0)","v":0},{"$f":"IF('Housing Income'!$B33=\"6BR\",'Housing Income'!$D33,0)","v":0},{"$f":"IF('Housing Income'!$B33=\"Bed\",'Housing Income'!$D33,0)","v":0},null,{"$f":"IF($BP18=TRUE,'Housing Income'!$D33,0)","v":0},{"$f":"IF($BQ18=TRUE,'Housing Income'!$D33,0)","v":0},{"$f":"IF($BR18=TRUE,'Housing Income'!$D33,0)","v":0},{"$f":"IF($BO18=TRUE,'Housing Income'!$D33,0)","v":0},{"$f":"IF($BT18=TRUE,'Housing Income'!$D33,0)","v":0},{"$f":"IF($BU18=TRUE,'Housing Income'!$D33,0)","v":0},{"$f":"IF($BV18=TRUE,'Housing Income'!$D33,0)","v":0},{"$f":"IF($BW18=TRUE,'Housing Income'!$D33,0)","v":0},null,null,null,null,null,null,null,null,"PropInfoCity",null,null,null,null,null,null,null,null,null,null,5,{"$f":"#REF!&\"-\"&#REF!","v":{"$error":"#REF!"}},null,null,null,null,false,{"$f":"LEFT(EQ18,7)&MID(EQ18,FIND(\"-\",EQ18,1)+1,7)","v":{"$error":"#REF!"}},null,null,{"$f":"'Funding Request'!J20","v":"Rural Development"},null,null,null,null,true,null,{"$f":"#REF!","v":{"$error":"#REF!"}},null,""]
["RRDL",null,null,false,"Completeness",null,null,null,null,null,null,null,"imgSummaryPageTabUnSel",55,1,null,18,"imgHOMETabUnSel",40,18,null,null,18,"imgSummaryPageTabUnSel",55,18,null,null,null,null,null,null,null,null,null,null,null,null,null,null,null,null,null,null,null,"Type of Construction",null,null,null,1,null,null,"Total:",{"$f":"SUM(BB11:BB18,BB33)","v":11},null,null,true,null,null,null,null,null,null,null,false,null,{"$f":"IF('Housing Income'!J34=\"Market\", TRUE, FALSE)","v":false},false,false,false,false,false,false,false,false,{"$f":"IF(HousIncomeUnitTypeHTC16=TRUE,'Housing Income'!D34,0)","v":0},null,null,null,null,{"$f":"IF(AND(HousIncomeUnitTypeRRDL7=TRUE,RRDL_RentLimit7=\"RRDL Limit\"),RRDL_HINumUnits7,0)","v":{"$error":"#NAME?"}},null,null,null,{"$f":"IF(SUM(CG$16:CG18)+COUNT(CG$16:CG18)<LEN(CM$14),IF(ISERROR(FIND(\",\",CM$14,SUM(CG$16:CG18)+COUNT(CG$16:CG18)+1)),LEN(MID(CM$14,(SUM(CG$16:CG18)+COUNT(CG$16:CG18)+1),100)),FIND(\",\",CM$14,(SUM(CG$16:CG18)+COUNT(CG$16:CG18)+1))-(SUM(CG$16:CG18)+COUNT(CG$16:CG18)+1)),\"\")","v":""},"","Preservation of Existing Housing Tax Credits",null,null,false,"",{"$f":"#REF!","v":{"$error":"#REF!"}},null,null,false,null,{"$f":"INDEX(RRDL_HousIncUnitRentGrid,4,1)","v":{"$error":"#NAME?"}},{"$f":"INDEX(RRDL_HousIncUnitRentGrid,4,2)","v":{"$error":"#NAME?"}},{"$f":"INDEX(RRDL_HousIncUnitRentGrid,4,3)","v":{"$error":"#NAME?"}},{"$f":"INDEX(RRDL_HousIncUnitRentGrid,4,4)","v":{"$error":"#NAME?"}},{"$f":"INDEX(RRDL_HousIncUnitRentGrid,4,5)","v":{"$error":"#NAME?"}},{"$error":"#NAME?"},{"$error":"#NAME?"},{"$error":"#NAME?"},{"$error":"#NAME?"},{"$error":"#NAME?"},{"$error":"#NAME?"},null,null,{"$f":"IF('Housing Income'!$B34=\"0BR/SRO\",'Housing Income'!$D34,0)","v":0},{"$f":"IF('Housing Income'!$B34=\"1BR\",'Housing Income'!$D34,0)","v":0},{"$f":"IF('Housing Income'!$B34=\"2BR\",'Housing Income'!$D34,0)","v":0},{"$f":"IF('Housing Income'!$B34=\"3BR\",'Housing Income'!$D34,0)","v":0},{"$f":"IF('Housing Income'!$B34=\"4BR\",'Housing Income'!$D34,0)","v":0},{"$f":"IF('Housing Income'!$B34=\"5BR\",'Housing Income'!$D34,0)","v":0},{"$f":"IF('Housing Income'!$B34=\"6BR\",'Housing Income'!$D34,0)","v":0},{"$f":"IF('Housing Income'!$B34=\"Bed\",'Housing Income'!$D34,0)","v":0},null,{"$f":"IF($BP19=TRUE,'Housing Income'!$D34,0)","v":0},{"$f":"IF($BQ19=TRUE,'Housing Income'!$D34,0)","v":0},{"$f":"IF($BR19=TRUE,'Housing Income'!$D34,0)","v":0},{"$f":"IF($BO19=TRUE,'Housing Income'!$D34,0)","v":0},{"$f":"IF($BT19=TRUE,'Housing Income'!$D34,0)","v":0},{"$f":"IF($BU19=TRUE,'Housing Income'!$D34,0)","v":0},{"$f":"IF($BV19=TRUE,'Housing Income'!$D34,0)","v":0},{"$f":"IF($BW19=TRUE,'Housing Income'!$D34,0)","v":0},null,null,null,null,null,null,null,null,"PropInfoCounty",null,null,null,null,null,null,null,null,null,null,6,{"$f":"#REF!&\"-\"&#REF!","v":{"$error":"#REF!"}},null,null,null,null,false,{"$f":"LEFT(EQ19,7)&MID(EQ19,FIND(\"-\",EQ19,1)+1,7)","v":{"$error":"#REF!"}},null,null,{"$f":"'Funding Request'!J21","v":"N/A"},null,null,null,null,false,null,{"$f":"#REF!","v":{"$error":"#REF!"}},null,"",""]
["Summary",null,null,false,"Summary",null,null,null,null,null,null,null,"imgPreservationTabUnSel",70,null,null,19,"imgMtgeRateCalcTabUnSel",102,19,null,null,19,"imgPreservationTabUnSel",70,19,null,null,null,null,null,null,null,null,null,null,null,null,null,null,null,"RRDL HOUSING INCOME",null,null,null,"HOUSING INCOME",null,null,null,null,null,null,null,null,null,null,null,null,null,"HOUSING INCOME",null,null,null,null,null,null,{"$f":"IF('Housing Income'!J35=\"Market\", TRUE, FALSE)","v":false},false,false,false,false,false,false,false,false,{"$f":"IF(HousIncomeUnitTypeHTC17=TRUE,'Housing Income'!D35,0)","v":0},null,null,null,null,{"$f":"IF(AND(HousIncomeUnitTypeRRDL8=TRUE,RRDL_RentLimit8=\"RRDL Limit\"),RRDL_HINumUnits8,0)","v":{"$error":"#NAME?"}},null,null,null,{"$f":"IF(SUM(CG$16:CG19)+COUNT(CG$16:CG19)<LEN(CM$14),IF(ISERROR(FIND(\",\",CM$14,SUM(CG$16:CG19)+COUNT(CG$16:CG19)+1)),LEN(MID(CM$14,(SUM(CG$16:CG19)+COUNT(CG$16:CG19)+1),100)),FIND(\",\",CM$14,(SUM(CG$16:CG19)+COUNT(CG$16:CG19)+1))-(SUM(CG$16:CG19)+COUNT(CG$16:CG19)+1)),\"\")","v":""},"","Foreclosure",null,null,false,"",{"$f":"#REF!","v":{"$error":"#REF!"}},null,null,false,null,{"$f":"INDEX(RRDL_HousIncUnitRentGrid,5,1)","v":{"$error":"#NAME?"}},{"$f":"INDEX(RRDL_HousIncUnitRentGrid,5,2)","v":{"$error":"#NAME?"}},{"$f":"INDEX(RRDL_HousIncUnitRentGrid,5,3)","v":{"$error":"#NAME?"}},{"$f":"INDEX(RRDL_HousIncUnitRentGrid,5,4)","v":{"$error":"#NAME?"}},{"$f":"INDEX(RRDL_HousIncUnitRentGrid,5,5)","v":{"$error":"#NAME?"}},{"$error":"#NAME?"},{"$error":"#NAME?"},{"$error":"#NAME?"},{"$error":"#NAME?"},{"$error":"#NAME?"},{"$error":"#NAME?"},null,null,{"$f":"IF('Housing Income'!$B35=\"0BR/SRO\",'Housing Income'!$D35,0)","v":0},{"$f":"IF('Housing Income'!$B35=\"1BR\",'Housing Income'!$D35,0)","v":0},{"$f":"IF('Housing Income'!$B35=\"2BR\",'Housing Income'!$D35,0)","v":0},{"$f":"IF('Housing Income'!$B35=\"3BR\",'Housing Income'!$D35,0)","v":0},{"$f":"IF('Housing Income'!$B35=\"4BR\",'Housing Income'!$D35,0)","v":0},{"$f":"IF('Housing Income'!$B35=\"5BR\",'Housing Income'!$D35,0)","v":0},{"$f":"IF('Housing Income'!$B35=\"6BR\",'Housing Income'!$D35,0)","v":0},{"$f":"IF('Housing Income'!$B35=\"Bed\",'Housing Income'!$D35,0)","v":0},null,{"$f":"IF($BP20=TRUE,'Housing Income'!$D35,0)","v":0},{"$f":"IF($BQ20=TRUE,'Housing Income'!$D35,0)","v":0},{"$f":"IF($BR20=TRUE,'Housing Income'!$D35,0)","v":0},{"$f":"IF($BO20=TRUE,'Housing Income'!$D35,0)","v":0},{"$f":"IF($BT20=TRUE,'Housing Income'!$D35,0)","v":0},{"$f":"IF($BU20=TRUE,'Housing Income'!$D35,0)","v":0},{"$f":"IF($BV20=TRUE,'Housing Income'!$D35,0)","v":0},{"$f":"IF($BW20=TRUE,'Housing Income'!$D35,0)","v":0},null,null,null,null,null,null,null,null,"CurrOwnBuilding",null,false,false,null,null,null,null,null,null,null,1,{"$f":"#REF!&\"-\"&#REF!","v":{"$error":"#REF!"}},null,null,null,null,false,{"$f":"LEFT(EQ20,7)&MID(EQ20,FIND(\"-\",EQ20,1)+1,5)&\"M\"","v":{"$error":"#REF!"}},null,null,null,null,null,null,null,null,null,{"$f":"#REF!","v":{"$error":"#REF!"}}]
["HOME",null,null,false,"Subsidy Layering",null,null,null,null,null,null,null,"imgRentAsstTabUnSel",95,null,null,20,"imgCompletenessTabUnSel",78,20,null,null,20,"imgSubsidyLayeringTabUnSel",92,20,null,null,null,null,null,null,null,null,null,null,null,null,null,null,null,"Will Acquired Related party?",false,false,null,"Housing & Income Utility Allowance",null,null,null,null,null,null,null,null,null,null,null,null,null,"Tenant Paid Utilities VlookUp",null,null,null,null,null,null,{"$f":"IF('Housing Income'!J36=\"Market\", TRUE, FALSE)","v":false},false,false,false,false,false,false,false,false,{"$f":"IF(HousIncomeUnitTypeHTC18=TRUE,'Housing Income'!D36,0)","v":0},null,null,null,null,{"$f":"IF(AND(HousIncomeUnitTypeRRDL9=TRUE,RRDL_RentLimit9=\"RRDL Limit\"),RRDL_HINumUnits9,0)","v":{"$error":"#NAME?"}},null,null,null,{"$f":"IF(SUM(CG$16:CG20)+COUNT(CG$16:CG20)<LEN(CM$14),IF(ISERROR(FIND(\",\",CM$14,SUM(CG$16:CG20)+COUNT(CG$16:CG20)+1)),LEN(MID(CM$14,(SUM(CG$16:CG20)+COUNT(CG$16:CG20)+1),100)),FIND(\",\",CM$14,(SUM(CG$16:CG20)+COUNT(CG$16:CG20)+1))-(SUM(CG$16:CG20)+COUNT(CG$16:CG20)+1)),\"\")","v":""},"","Critical Need",null,null,false,"",{"$f":"#REF!","v":{"$error":"#REF!"}},null,null,false,null,{"$f":"INDEX(RRDL_HousIncUnitRentGrid,6,1)","v":{"$error":"#NAME?"}},{"$f":"INDEX(RRDL_HousIncUnitRentGrid,6,2)","v":{"$error":"#NAME?"}},{"$f":"INDEX(RRDL_HousIncUnitRentGrid,6,3)","v":{"$error":"#NAME?"}},{"$f":"INDEX(RRDL_HousIncUnitRentGrid,6,4)","v":{"$error":"#NAME?"}},{"$f":"INDEX(RRDL_HousIncUnitRentGrid,6,5)","v":{"$error":"#NAME?"}},{"$error":"#NAME?"},{"$error":"#NAME?"},{"$error":"#NAME?"},{"$error":"#NAME?"},{"$error":"#NAME?"},{"$error":"#NAME?"},null,null,{"$f":"IF('Housing Income'!$B36=\"0BR/SRO\",'Housing Income'!$D36,0)","v":0},{"$f":"IF('Housing Income'!$B36=\"1BR\",'Housing Income'!$D36,0)","v":0},{"$f":"IF('Housing Income'!$B36=\"2BR\",'Housing Income'!$D36,0)","v":0},{"$f":"IF('Housing Income'!$B36=\"3BR\",'Housing Income'!$D36,0)","v":0},{"$f":"IF('Housing Income'!$B36=\"4BR\",'Housing Income'!$D36,0)","v":0},{"$f":"IF('Housing Income'!$B36=\"5BR\",'Housing Income'!$D36,0)","v":0},{"$f":"IF('Housing Income'!$B36=\"6BR\",'Housing Income'!$D36,0)","v":0},{"$f":"IF('Housing Income'!$B36=\"Bed\",'Housing Income'!$D36,0)","v":0},null,{"$f":"IF($BP21=TRUE,'Housing Income'!$D36,0)","v":0},{"$f":"IF($BQ21=TRUE,'Housing Income'!$D36,0)","v":0},{"$f":"IF($BR21=TRUE,'Housing Income'!$D36,0)","v":0},{"$f":"IF($BO21=TRUE,'Housing Income'!$D36,0)","v":0},{"$f":"IF($BT21=TRUE,'Housing Income'!$D36,0)","v":0},{"$f":"IF($BU21=TRUE,'Housing Income'!$D36,0)","v":0},{"$f":"IF($BV21=TRUE,'Housing Income'!$D36,0)","v":0},{"$f":"IF($BW21=TRUE,'Housing Income'!$D36,0)","v":0},null,null,null,null,null,null,null,null,"PriorMHFAFunding",null,false,false,null,null,null,null,null,null,null,2,{"$f":"#REF!&\"-\"&#REF!","v":{"$error":"#REF!"}},null,null,null,null,false,{"$f":"LEFT(EQ21,6)&MID(EQ21,FIND(\"-\",EQ21,1)+1,7)&\"Part1\"","v":{"$error":"#REF!"}},null,null,"Request Status:",null,null,null,null,null,null,{"$f":"#REF!","v":{"$error":"#REF!"}}]
["Subsidy Layering",null,null,null,null,null,null,null,null,null,null,null,"imgRRDLTabUnSel",38,null,null,null,null,null,null,null,null,21,"imgCompletenessTabUnSel",78,21,null,null,null,null,null,null,null,null,null,null,null,null,null,null,null,"Has Acquired Related party?",false,false,null,"Utility",null,null,"Owner Paid","Tenant Paid","0BR/SRO","1BR","2BR","3BR","4BR","5BR","6BR","Bed",null,"0BR/SRO",{"$f":"'Housing Income'!E13","v":0},null,null,null,null,null,{"$f":"IF('Housing Income'!J37=\"Market\", TRUE, FALSE)","v":false},false,false,false,false,false,false,false,false,{"$f":"IF(HousIncomeUnitTypeHTC19=TRUE,'Housing Income'!D37,0)","v":0},null,null,null,null,{"$f":"IF(AND(HousIncomeUnitTypeRRDL10=TRUE,RRDL_RentLimit10=\"RRDL Limit\"),RRDL_HINumUnits10,0)","v":{"$error":"#NAME?"}},null,null,null,{"$f":"IF(SUM(CG$16:CG21)+COUNT(CG$16:CG21)<LEN(CM$14),IF(ISERROR(FIND(\",\",CM$14,SUM(CG$16:CG21)+COUNT(CG$16:CG21)+1)),LEN(MID(CM$14,(SUM(CG$16:CG21)+COUNT(CG$16:CG21)+1),100)),FIND(\",\",CM$14,(SUM(CG$16:CG21)+COUNT(CG$16:CG21)+1))-(SUM(CG$16:CG21)+COUNT(CG$16:CG21)+1)),\"\")","v":""},null,null,null,null,null,null,{"$f":"#REF!","v":{"$error":"#REF!"}},null,null,false,null,{"$f":"INDEX(RRDL_HousIncUnitRentGrid,7,1)","v":{"$error":"#NAME?"}},{"$f":"INDEX(RRDL_HousIncUnitRentGrid,7,2)","v":{"$error":"#NAME?"}},{"$f":"INDEX(RRDL_HousIncUnitRentGrid,7,3)","v":{"$error":"#NAME?"}},{"$f":"INDEX(RRDL_HousIncUnitRentGrid,7,4)","v":{"$error":"#NAME?"}},{"$f":"INDEX(RRDL_HousIncUnitRentGrid,7,5)","v":{"$error":"#NAME?"}},{"$error":"#NAME?"},{"$error":"#NAME?"},{"$error":"#NAME?"},{"$error":"#NAME?"},{"$error":"#NAME?"},{"$error":"#NAME?"},null,null,{"$f":"IF('Housing Income'!$B37=\"0BR/SRO\",'Housing Income'!$D37,0)","v":0},{"$f":"IF('Housing Income'!$B37=\"1BR\",'Housing Income'!$D37,0)","v":0},{"$f":"IF('Housing Income'!$B37=\"2BR\",'Housing Income'!$D37,0)","v":0},{"$f":"IF('Housing Income'!$B37=\"3BR\",'Housing Income'!$D37,0)","v":0},{"$f":"IF('Housing Income'!$B37=\"4BR\",'Housing Income'!$D37,0)","v":0},{"$f":"IF('Housing Income'!$B37=\"5BR\",'Housing Income'!$D37,0)","v":0},{"$f":"IF('Housing Income'!$B37=\"6BR\",'Housing Income'!$D37,0)","v":0},{"$f":"IF('Housing Income'!$B37=\"Bed\",'Housing Income'!$D37,0)","v":0},null,{"$f":"IF($BP22=TRUE,'Housing Income'!$D37,0)","v":0},{"$f":"IF($BQ22=TRUE,'Housing Income'!$D37,0)","v":0},{"$f":"IF($BR22=TRUE,'Housing Income'!$D37,0)","v":0},{"$f":"IF($BO22=TRUE,'Housing Income'!$D37,0)","v":0},{"$f":"IF($BT22=TRUE,'Housing Income'!$D37,0)","v":0},{"$f":"IF($BU22=TRUE,'Housing Income'!$D37,0)","v":0},{"$f":"IF($BV22=TRUE,'Housing Income'!$D37,0)","v":0},{"$f":"IF($BW22=TRUE,'Housing Income'!$D37,0)","v":0},null,null,null,null,null,null,null,null,"CompleteCompliance",null,false,false,null,null,null,null,null,null,null,3,{"$f":"#REF!&\"-\"&#REF!","v":{"$error":"#REF!"}},null,null,null,null,false,{"$f":"LEFT(EQ22,6)&MID(EQ22,FIND(\"-\",EQ22,1)+1,7)&\"Part2\"","v":{"$error":"#REF!"}},null,null,{"$f":"'Funding Request'!M14","v":" Reservation"},null,null,null,null,true,null,{"$f":"#REF!","v":{"$error":"#REF!"}},null,"",""]
["Mortgage Rate Calc",null,null,null,null,null,null,null,null,null,null,null,"imgAmortATabUnSel",49,null,null,null,null,null,null,null,null,null,null,null,null,null,null,null,null,null,null,null,null,null,null,null,null,null,null,null,"Has Acquired UnRelated party?",false,false,null,"Heating",null,null,false,true,{"$f":"IF($AX23=TRUE,#REF!,0)","v":{"$error":"#REF!"}},{"$f":"IF($AX23=TRUE,#REF!,0)","v":{"$error":"#REF!"}},{"$f":"IF($AX23=TRUE,#REF!,0)","v":{"$error":"#REF!"}},{"$f":"IF($AX23=TRUE,#REF!,0)","v":{"$error":"#REF!"}},{"$f":"IF($AX23=TRUE,#REF!,0)","v":{"$error":"#REF!"}},{"$f":"IF($AX23=TRUE,#REF!,0)","v":{"$error":"#REF!"}},{"$f":"IF($AX23=TRUE,#REF!,0)","v":{"$error":"#REF!"}},{"$f":"IF($AX23=TRUE,#REF!,0)","v":{"$error":"#REF!"}},null,"1BR",{"$f":"'Housing Income'!F13","v":0},null,null,null,null,null,{"$f":"IF('Housing Income'!J38=\"Market\", TRUE, FALSE)","v":false},false,false,false,false,false,false,false,false,{"$f":"IF(HousIncomeUnitTypeHTC20=TRUE,'Housing Income'!D38,0)","v":0},null,null,null,null,{"$f":"IF(AND(HousIncomeUnitTypeRRDL11=TRUE,RRDL_RentLimit11=\"RRDL Limit\"),RRDL_HINumUnits11,0)","v":{"$error":"#NAME?"}},null,null,null,{"$f":"IF(SUM(CG$16:CG22)+COUNT(CG$16:CG22)<LEN(CM$14),IF(ISERROR(FIND(\",\",CM$14,SUM(CG$16:CG22)+COUNT(CG$16:CG22)+1)),LEN(MID(CM$14,(SUM(CG$16:CG22)+COUNT(CG$16:CG22)+1),100)),FIND(\",\",CM$14,(SUM(CG$16:CG22)+COUNT(CG$16:CG22)+1))-(SUM(CG$16:CG22)+COUNT(CG$16:CG22)+1)),\"\")","v":""},null,"RRDL PROJECT DESCRIPTION",null,null,null,null,{"$f":"#REF!","v":{"$error":"#REF!"}},null,null,false,null,{"$f":"INDEX(RRDL_HousIncUnitRentGrid,8,1)","v":{"$error":"#NAME?"}},{"$f":"INDEX(RRDL_HousIncUnitRentGrid,8,2)","v":{"$error":"#NAME?"}},{"$f":"INDEX(RRDL_HousIncUnitRentGrid,8,3)","v":{"$error":"#NAME?"}},{"$f":"INDEX(RRDL_HousIncUnitRentGrid,8,4)","v":{"$error":"#NAME?"}},{"$f":"INDEX(RRDL_HousIncUnitRentGrid,8,5)","v":{"$error":"#NAME?"}},{"$error":"#NAME?"},{"$error":"#NAME?"},{"$error":"#NAME?"},{"$error":"#NAME?"},{"$error":"#NAME?"},{"$error":"#NAME?"},null,null,{"$f":"IF('Housing Income'!$B38=\"0BR/SRO\",'Housing Income'!$D38,0)","v":0},{"$f":"IF('Housing Income'!$B38=\"1BR\",'Housing Income'!$D38,0)","v":0},{"$f":"IF('Housing Income'!$B38=\"2BR\",'Housing Income'!$D38,0)","v":0},{"$f":"IF('Housing Income'!$B38=\"3BR\",'Housing Income'!$D38,0)","v":0},{"$f":"IF('Housing Income'!$B38=\"4BR\",'Housing Income'!$D38,0)","v":0},{"$f":"IF('Housing Income'!$B38=\"5BR\",'Housing Income'!$D38,0)","v":0},{"$f":"IF('Housing Income'!$B38=\"6BR\",'Housing Income'!$D38,0)","v":0},{"$f":"IF('Housing Income'!$B38=\"Bed\",'Housing Income'!$D38,0)","v":0},null,{"$f":"IF($BP23=TRUE,'Housing Income'!$D38,0)","v":0},{"$f":"IF($BQ23=TRUE,'Housing Income'!$D38,0)","v":0},{"$f":"IF($BR23=TRUE,'Housing Income'!$D38,0)","v":0},{"$f":"IF($BO23=TRUE,'Housing Income'!$D38,0)","v":0},{"$f":"IF($BT23=TRUE,'Housing Income'!$D38,0)","v":0},{"$f":"IF($BU23=TRUE,'Housing Income'!$D38,0)","v":0},{"$f":"IF($BV23=TRUE,'Housing Income'!$D38,0)","v":0},{"$f":"IF($BW23=TRUE,'Housing Income'!$D38,0)","v":0},null,null,null,null,null,null,null,null,"DesigHistoricBuild",null,false,false,null,null,null,null,null,null,null,4,{"$f":"#REF!&\"-\"&#REF!","v":{"$error":"#REF!"}},null,null,null,null,false,{"$f":"LEFT(EQ23,6)&MID(EQ23,FIND(\"-\",EQ23,1)+1,7)&\"Part3\"","v":{"$error":"#REF!"}},null,null,{"$f":"'Funding Request'!M15","v":" Carryover"},null,null,null,null,false,null,null,null,""]
["Rental Assistance",null,null,null,null,null,null,null,null,null,null,null,"imgAmortBTabUnSel",49,null,null,null,null,null,null,null,null,null,null,null,null,null,null,null,null,null,null,null,null,null,null,null,null,null,null,null,null,null,null,null,"Cooking",null,null,false,true,{"$f":"IF($AX24=TRUE,#REF!,0)","v":{"$error":"#REF!"}},{"$f":"IF($AX24=TRUE,#REF!,0)","v":{"$error":"#REF!"}},{"$f":"IF($AX24=TRUE,#REF!,0)","v":{"$error":"#REF!"}},{"$f":"IF($AX24=TRUE,#REF!,0)","v":{"$error":"#REF!"}},{"$f":"IF($AX24=TRUE,#REF!,0)","v":{"$error":"#REF!"}},{"$f":"IF($AX24=TRUE,#REF!,0)","v":{"$error":"#REF!"}},{"$f":"IF($AX24=TRUE,#REF!,0)","v":{"$error":"#REF!"}},{"$f":"IF($AX24=TRUE,#REF!,0)","v":{"$error":"#REF!"}},null,"2BR",{"$f":"'Housing Income'!G13","v":0},null,null,null,null,null,{"$f":"IF('Housing Income'!J39=\"Market\", TRUE, FALSE)","v":false},false,false,false,false,false,false,false,false,{"$f":"IF(HousIncomeUnitTypeHTC21=TRUE,'Housing Income'!D39,0)","v":0},null,null,null,null,{"$f":"IF(AND(HousIncomeUnitTypeRRDL12=TRUE,RRDL_RentLimit12=\"RRDL Limit\"),RRDL_HINumUnits12,0)","v":{"$error":"#NAME?"}},null,null,null,{"$f":"IF(SUM(CG$16:CG23)+COUNT(CG$16:CG23)<LEN(CM$14),IF(ISERROR(FIND(\",\",CM$14,SUM(CG$16:CG23)+COUNT(CG$16:CG23)+1)),LEN(MID(CM$14,(SUM(CG$16:CG23)+COUNT(CG$16:CG23)+1),100)),FIND(\",\",CM$14,(SUM(CG$16:CG23)+COUNT(CG$16:CG23)+1))-(SUM(CG$16:CG23)+COUNT(CG$16:CG23)+1)),\"\")","v":""},null,"Activity Type",null,null,null,null,null,null,null,null,null,{"$f":"INDEX(RRDL_HousIncUnitRentGrid,9,1)","v":{"$error":"#NAME?"}},{"$f":"INDEX(RRDL_HousIncUnitRentGrid,9,2)","v":{"$error":"#NAME?"}},{"$f":"INDEX(RRDL_HousIncUnitRentGrid,9,3)","v":{"$error":"#NAME?"}},{"$f":"INDEX(RRDL_HousIncUnitRentGrid,9,4)","v":{"$error":"#NAME?"}},{"$f":"INDEX(RRDL_HousIncUnitRentGrid,9,5)","v":{"$error":"#NAME?"}},{"$error":"#NAME?"},{"$error":"#NAME?"},{"$error":"#NAME?"},{"$error":"#NAME?"},{"$error":"#NAME?"},{"$error":"#NAME?"},null,null,{"$f":"IF('Housing Income'!$B39=\"0BR/SRO\",'Housing Income'!$D39,0)","v":0},{"$f":"IF('Housing Income'!$B39=\"1BR\",'Housing Income'!$D39,0)","v":0},{"$f":"IF('Housing Income'!$B39=\"2BR\",'Housing Income'!$D39,0)","v":0},{"$f":"IF('Housing Income'!$B39=\"3BR\",'Housing Income'!$D39,0)","v":0},{"$f":"IF('Housing Income'!$B39=\"4BR\",'Housing Income'!$D39,0)","v":0},{"$f":"IF('Housing Income'!$B39=\"5BR\",'Housing Income'!$D39,0)","v":0},{"$f":"IF('Housing Income'!$B39=\"6BR\",'Housing Income'!$D39,0)","v":0},{"$f":"IF('Housing Income'!$B39=\"Bed\",'Housing Income'!$D39,0)","v":0},null,{"$f":"IF($BP24=TRUE,'Housing Income'!$D39,0)","v":0},{"$f":"IF($BQ24=TRUE,'Housing Income'!$D39,0)","v":0},{"$f":"IF($BR24=TRUE,'Housing Income'!$D39,0)","v":0},{"$f":"IF($BO24=TRUE,'Housing Income'!$D39,0)","v":0},{"$f":"IF($BT24=TRUE,'Housing Income'!$D39,0)","v":0},{"$f":"IF($BU24=TRUE,'Housing Income'!$D39,0)","v":0},{"$f":"IF($BV24=TRUE,'Housing Income'!$D39,0)","v":0},{"$f":"IF($BW24=TRUE,'Housing Income'!$D39,0)","v":0},null,null,null,null,null,null,null,null,"PermanentDisplacement",null,false,false,null,null,null,null,null,null,null,6,{"$f":"#REF!&\"-\"&#REF!","v":{"$error":"#REF!"}},null,null,null,null,false,{"$f":"LEFT(EQ24,7)&MID(EQ24,FIND(\"-\",EQ24,1)+1,7)","v":{"$error":"#REF!"}},null,null,{"$f":"'Funding Request'!M16","v":" 8609"},null,null,null,null,false,null,null,null,""]
["Completeness",false,"Select All",true,"Select All",false,"Select All",false,"Select All",false,"Select All",null,"imgHOMETabUnSel",40,null,null,null,null,null,null,null,null,null,null,null,null,null,null,null,null,null,null,null,null,null,null,null,null,null,null,null,null,null,null,null,"Water Heating",null,null,false,false,{"$f":"IF($AX25=TRUE,#REF!,0)","v":0},{"$f":"IF($AX25=TRUE,#REF!,0)","v":0},{"$f":"IF($AX25=TRUE,#REF!,0)","v":0},{"$f":"IF($AX25=TRUE,#REF!,0)","v":0},{"$f":"IF($AX25=TRUE,#REF!,0)","v":0},{"$f":"IF($AX25=TRUE,#REF!,0)","v":0},{"$f":"IF($AX25=TRUE,#REF!,0)","v":0},{"$f":"IF($AX25=TRUE,#REF!,0)","v":0},null,"3BR",{"$f":"'Housing Income'!H13","v":0},null,null,null,null,null,{"$f":"COUNTIF(BO4:BO24,TRUE)","v":0},0,0,0,0,0,0,0,0,{"$f":"SUM(BX4:BX24)","v":0},"HTC Units",null,null,null,{"$f":"IF(AND(HousIncomeUnitTypeRRDL13=TRUE,RRDL_RentLimit13=\"RRDL Limit\"),RRDL_HINumUnits13,0)","v":{"$error":"#NAME?"}},null,null,null,{"$f":"IF(SUM(CG$16:CG24)+COUNT(CG$16:CG24)<LEN(CM$14),IF(ISERROR(FIND(\",\",CM$14,SUM(CG$16:CG24)+COUNT(CG$16:CG24)+1)),LEN(MID(CM$14,(SUM(CG$16:CG24)+COUNT(CG$16:CG24)+1),100)),FIND(\",\",CM$14,(SUM(CG$16:CG24)+COUNT(CG$16:CG24)+1))-(SUM(CG$16:CG24)+COUNT(CG$16:CG24)+1)),\"\")","v":""},{"$f":"TRIM(MID(SUBSTITUTE(RRDL_ActivityTypesAll,\",\",REPT(\" \",99)),(ROW()-24)*99-98,99))","v":""},{"$f":"#REF!","v":{"$error":"#REF!"}},null,null,false,{"$f":"IF(AND(CL25=FALSE,CM24=\"\"),\"\",IF(AND(CL25=FALSE,CM24<>\"\"),CM24,IF(AND(CL25=TRUE, CM24=\"\"), CI25,CM24&\",\"&CI25)))","v":""},null,null,null,null,null,{"$f":"INDEX(RRDL_HousIncUnitRentGrid,10,1)","v":{"$error":"#NAME?"}},{"$f":"INDEX(RRDL_HousIncUnitRentGrid,10,2)","v":{"$error":"#NAME?"}},{"$f":"INDEX(RRDL_HousIncUnitRentGrid,10,3)","v":{"$error":"#NAME?"}},{"$f":"INDEX(RRDL_HousIncUnitRentGrid,10,4)","v":{"$error":"#NAME?"}},{"$f":"INDEX(RRDL_HousIncUnitRentGrid,10,5)","v":{"$error":"#NAME?"}},{"$error":"#NAME?"},{"$error":"#NAME?"},{"$error":"#NAME?"},{"$error":"#NAME?"},{"$error":"#NAME?"},{"$error":"#NAME?"},null,null,{"$f":"SUM(DF4:DF24)","v":0},{"$f":"SUM(DG4:DG24)","v":0},0,0,0,0,0,0,null,{"$f":"SUM(DO4:DO24)","v":0},0,0,0,0,0,0,0,null,null,null,null,null,null,null,null,"TempRelocation",null,false,false,null,null,null,null,null,null,null,7,{"$f":"#REF!&\"-\"&#REF!","v":{"$error":"#REF!"}},null,null,null,null,false,{"$error":"#REF!"},null,null,{"$f":"'Funding Request'!M17","v":" Qualified Contract"},null,null,null,null,false,null,null,null,""]
["Development Team",false,"Clear All",false,"Clear All",false,"Clear All",false,"Clear All",false,"Clear All",null,"imgSubsidyLayeringTabUnSel",92,null,null,null,null,null,null,null,null,null,null,null,null,null,null,null,null,null,null,null,null,null,null,null,null,null,null,null,null,null,null,null,"Electric",null,null,false,false,{"$f":"IF($AX26=TRUE,#REF!,0)","v":0},{"$f":"IF($AX26=TRUE,#REF!,0)","v":0},{"$f":"IF($AX26=TRUE,#REF!,0)","v":0},{"$f":"IF($AX26=TRUE,#REF!,0)","v":0},{"$f":"IF($AX26=TRUE,#REF!,0)","v":0},{"$f":"IF($AX26=TRUE,#REF!,0)","v":0},{"$f":"IF($AX26=TRUE,#REF!,0)","v":0},{"$f":"IF($AX26=TRUE,#REF!,0)","v":0},null,"4BR",{"$f":"'Housing Income'!I13","v":0},null,null,null,{"$f":"IF(AND(OR(HousIncomeUnitTypeEmplOcc1=TRUE,HousIncomeUnitTypeOwnerOcc1=TRUE), HousIncomeUnitTypeHTC1=FALSE),'Housing Income'!E19*BQ26,0)","v":0},{"$f":"COUNTIF(BO4:BW4, TRUE)","v":0},{"$f":"IF(AND(HousIncomeUnitTypeHTC1=FALSE,HousIncomeUnitTypeEmplOcc1=FALSE,HousIncomeUnitTypeOwnerOcc1=FALSE),'Housing Income'!E19 * BP26, 0)","v":0},{"$f":"IF(AND(HousIncomeUnitTypeHTC1=FALSE,HousIncomeUnitTypeEmplOcc1=FALSE,HousIncomeUnitTypeOwnerOcc1=FALSE),'Housing Income'!D19, 0)","v":0},{"$f":"IF(AND(OR(HousIncomeUnitTypeEmplOcc1=TRUE,HousIncomeUnitTypeOwnerOcc1=TRUE), HousIncomeUnitTypeHTC1=FALSE),'Housing Income'!D19,0)","v":0},null,{"$f":"IF(AND(HousIncomeUnitTypeHOME1=TRUE, HousIncomeUnitTypeHTC1=FALSE),'Housing Income'!D19,0)","v":0},{"$f":"IF(AND(HousIncomeUnitTypeEmplOcc1=TRUE, HousIncomeUnitTypeHTC1=FALSE),'Housing Income'!D19,0)","v":0},{"$f":"IF(AND(HousIncomeUnitTypeOwnerOcc1=TRUE, HousIncomeUnitTypeHTC1=FALSE),'Housing Income'!D19,0)","v":0},{"$f":"IF(AND(HousIncomeUnitTypeRentAssist1=TRUE, HousIncomeUnitTypeHTC1=FALSE),'Housing Income'!D19,0)","v":0},{"$f":"IF(HousIncomeUnitTypeHTC1=TRUE,'Housing Income'!D19,0)","v":0},{"$f":"IF(AND(HousIncomeUnitTypeLTH1=TRUE, HousIncomeUnitTypeHTC1=FALSE),'Housing Income'!D19,0)","v":0},{"$f":"IF(AND(HousIncomeUnitTypeOpSubs1=TRUE, HousIncomeUnitTypeHTC1=FALSE),'Housing Income'!D19,0)","v":0},null,null,null,{"$f":"IF(AND(HousIncomeUnitTypeRRDL14=TRUE,RRDL_RentLimit14=\"RRDL Limit\"),RRDL_HINumUnits14,0)","v":{"$error":"#NAME?"}},null,null,null,{"$f":"IF(SUM(CG$16:CG25)+COUNT(CG$16:CG25)<LEN(CM$14),IF(ISERROR(FIND(\",\",CM$14,SUM(CG$16:CG25)+COUNT(CG$16:CG25)+1)),LEN(MID(CM$14,(SUM(CG$16:CG25)+COUNT(CG$16:CG25)+1),100)),FIND(\",\",CM$14,(SUM(CG$16:CG25)+COUNT(CG$16:CG25)+1))-(SUM(CG$16:CG25)+COUNT(CG$16:CG25)+1)),\"\")","v":""},"",{"$f":"#REF!","v":{"$error":"#REF!"}},null,null,false,{"$f":"IF(AND(CL26=FALSE,CM25=\"\"),\"\",IF(AND(CL26=FALSE,CM25<>\"\"),CM25,IF(AND(CL26=TRUE, CM25=\"\"), CI26,CM25&\",\"&CI26)))","v":""},null,null,null,null,null,{"$f":"INDEX(RRDL_HousIncUnitRentGrid,11,1)","v":{"$error":"#NAME?"}},{"$f":"INDEX(RRDL_HousIncUnitRentGrid,11,2)","v":{"$error":"#NAME?"}},{"$f":"INDEX(RRDL_HousIncUnitRentGrid,11,3)","v":{"$error":"#NAME?"}},{"$f":"INDEX(RRDL_HousIncUnitRentGrid,11,4)","v":{"$error":"#NAME?"}},{"$f":"INDEX(RRDL_HousIncUnitRentGrid,11,5)","v":{"$error":"#NAME?"}},{"$error":"#NAME?"},{"$error":"#NAME?"},{"$error":"#NAME?"},{"$error":"#NAME?"},{"$error":"#NAME?"},{"$error":"#NAME?"},null,null,null,null,null,null,null,null,null,null,null,null,null,null,null,null,null,null,null,null,null,null,null,null,null,null,"AddBuildings1City","",null,null,null,null,null,null,null,false,null,null,1,{"$f":"#REF!&\"-\"&#REF!","v":{"$error":"#REF!"}},null,null,null,null,false,{"$f":"LEFT(EQ26,7)&MID(EQ26,FIND(\"-\",EQ26,1)+1,5)&\"M\"","v":{"$error":"#REF!"}},null,null,{"$f":"'Funding Request'!M18","v":" 42(m)(1)(D)"},null,null,null,null,false,null,null,null,"Aberdeen Line Junction",""]
["DATA",null,null,null,null,null,null,null,null,null,null,null,"imgMtgeRateCalcTabUnSel",102,null,null,null,null,null,null,null,null,null,null,null,null,null,null,null,null,null,null,null,null,null,null,null,null,null,null,null,null,null,null,null,"A/C",null,null,false,false,{"$f":"IF($AX27=TRUE,#REF!,0)","v":0},{"$f":"IF($AX27=TRUE,#REF!,0)","v":0},{"$f":"IF($AX27=TRUE,#REF!,0)","v":0},{"$f":"IF($AX27=TRUE,#REF!,0)","v":0},{"$f":"IF($AX27=TRUE,#REF!,0)","v":0},{"$f":"IF($AX27=TRUE,#REF!,0)","v":0},{"$f":"IF($AX27=TRUE,#REF!,0)","v":0},{"$f":"IF($AX27=TRUE,#REF!,0)","v":0},null,"5BR",{"$f":"'Housing Income'!J13","v":0},null,null,null,{"$f":"IF(AND(OR(HousIncomeUnitTypeEmplOcc2=TRUE,HousIncomeUnitTypeOwnerOcc2=TRUE), HousIncomeUnitTypeHTC2=FALSE),'Housing Income'!E20*BQ27,0)","v":0},0,{"$f":"IF(AND(HousIncomeUnitTypeHTC2=FALSE,HousIncomeUnitTypeEmplOcc2=FALSE,HousIncomeUnitTypeOwnerOcc2=FALSE),'Housing Income'!E20 * BP27, 0)","v":0},{"$f":"IF(AND(HousIncomeUnitTypeHTC2=FALSE,HousIncomeUnitTypeEmplOcc2=FALSE,HousIncomeUnitTypeOwnerOcc2=FALSE),'Housing Income'!D20, 0)","v":0},{"$f":"IF(AND(OR(HousIncomeUnitTypeEmplOcc2=TRUE,HousIncomeUnitTypeOwnerOcc2=TRUE), HousIncomeUnitTypeHTC2=FALSE),'Housing Income'!D20,0)","v":0},null,{"$f":"IF(AND(HousIncomeUnitTypeHOME2=TRUE, HousIncomeUnitTypeHTC2=FALSE),'Housing Income'!D20,0)","v":0},{"$f":"IF(AND(HousIncomeUnitTypeEmplOcc2=TRUE, HousIncomeUnitTypeHTC2=FALSE),'Housing Income'!D20,0)","v":0},{"$f":"IF(AND(HousIncomeUnitTypeOwnerOcc2=TRUE, HousIncomeUnitTypeHTC2=FALSE),'Housing Income'!D20,0)","v":0},{"$f":"IF(AND(HousIncomeUnitTypeRentAssist2=TRUE, HousIncomeUnitTypeHTC2=FALSE),'Housing Income'!D20,0)","v":0},{"$f":"IF(HousIncomeUnitTypeHTC2=TRUE,'Housing Income'!D20,0)","v":0},{"$f":"IF(AND(HousIncomeUnitTypeLTH2=TRUE, HousIncomeUnitTypeHTC2=FALSE),'Housing Income'!D20,0)","v":0},{"$f":"IF(AND(HousIncomeUnitTypeOpSubs2=TRUE, HousIncomeUnitTypeHTC2=FALSE),'Housing Income'!D20,0)","v":0},null,null,null,{"$f":"IF(AND(HousIncomeUnitTypeRRDL15=TRUE,RRDL_RentLimit15=\"RRDL Limit\"),RRDL_HINumUnits15,0)","v":{"$error":"#NAME?"}},null,null,null,{"$f":"IF(SUM(CG$16:CG26)+COUNT(CG$16:CG26)<LEN(CM$14),IF(ISERROR(FIND(\",\",CM$14,SUM(CG$16:CG26)+COUNT(CG$16:CG26)+1)),LEN(MID(CM$14,(SUM(CG$16:CG26)+COUNT(CG$16:CG26)+1),100)),FIND(\",\",CM$14,(SUM(CG$16:CG26)+COUNT(CG$16:CG26)+1))-(SUM(CG$16:CG26)+COUNT(CG$16:CG26)+1)),\"\")","v":""},"",{"$f":"#REF!","v":{"$error":"#REF!"}},null,null,false,"",null,null,null,null,null,{"$f":"INDEX(RRDL_HousIncUnitRentGrid,12,1)","v":{"$error":"#NAME?"}},{"$f":"INDEX(RRDL_HousIncUnitRentGrid,12,2)","v":{"$error":"#NAME?"}},{"$f":"INDEX(RRDL_HousIncUnitRentGrid,12,3)","v":{"$error":"#NAME?"}},{"$f":"INDEX(RRDL_HousIncUnitRentGrid,12,4)","v":{"$error":"#NAME?"}},{"$f":"INDEX(RRDL_HousIncUnitRentGrid,12,5)","v":{"$error":"#NAME?"}},{"$error":"#NAME?"},{"$error":"#NAME?"},{"$error":"#NAME?"},{"$error":"#NAME?"},{"$error":"#NAME?"},{"$error":"#NAME?"},null,null,null,null,null,null,null,null,null,null,null,null,null,null,null,null,null,null,null,null,null,null,null,null,null,null,"AddBuildings1County",null,null,null,null,null,null,null,null,null,null,null,2,{"$f":"#REF!&\"-\"&#REF!","v":{"$error":"#REF!"}},null,null,null,null,false,{"$f":"LEFT(EQ27,7)&MID(EQ27,FIND(\"-\",EQ27,1)+1,7)&\"Part1\"","v":{"$error":"#REF!"}},null,null,"N/A",null,null,null,null,false,null,"INCOME AND EXPENSE",null,null,null,null,null,"INCOME AND EXPENSE",null,null,null,null,null,"INCOME AND EXPENSE"]
["Controls",null,null,null,null,null,null,null,null,null,null,null,"imgCompletenessTabUnSel",78,null,null,null,null,null,null,null,null,null,null,null,null,null,null,null,null,null,null,null,null,null,null,null,null,null,null,null,null,null,null,null,"Water/Sewer",null,null,false,false,{"$f":"IF($AX28=TRUE,#REF!,0)","v":0},{"$f":"IF($AX28=TRUE,#REF!,0)","v":0},{"$f":"IF($AX28=TRUE,#REF!,0)","v":0},{"$f":"IF($AX28=TRUE,#REF!,0)","v":0},{"$f":"IF($AX28=TRUE,#REF!,0)","v":0},{"$f":"IF($AX28=TRUE,#REF!,0)","v":0},{"$f":"IF($AX28=TRUE,#REF!,0)","v":0},{"$f":"IF($AX28=TRUE,#REF!,0)","v":0},null,"6BR",{"$f":"'Housing Income'!K13","v":0},null,null,null,{"$f":"IF(AND(OR(HousIncomeUnitTypeEmplOcc3=TRUE,HousIncomeUnitTypeOwnerOcc3=TRUE), HousIncomeUnitTypeHTC3=FALSE),'Housing Income'!E21*BQ28,0)","v":0},0,{"$f":"IF(AND(HousIncomeUnitTypeHTC3=FALSE,HousIncomeUnitTypeEmplOcc3=FALSE,HousIncomeUnitTypeOwnerOcc3=FALSE),'Housing Income'!E21 * BP28, 0)","v":0},{"$f":"IF(AND(HousIncomeUnitTypeHTC3=FALSE,HousIncomeUnitTypeEmplOcc3=FALSE,HousIncomeUnitTypeOwnerOcc3=FALSE),'Housing Income'!D21, 0)","v":0},{"$f":"IF(AND(OR(HousIncomeUnitTypeEmplOcc3=TRUE,HousIncomeUnitTypeOwnerOcc3=TRUE), HousIncomeUnitTypeHTC3=FALSE),'Housing Income'!D21,0)","v":0},null,{"$f":"IF(AND(HousIncomeUnitTypeHOME3=TRUE, HousIncomeUnitTypeHTC3=FALSE),'Housing Income'!D21,0)","v":0},{"$f":"IF(AND(HousIncomeUnitTypeEmplOcc3=TRUE, HousIncomeUnitTypeHTC3=FALSE),'Housing Income'!D21,0)","v":0},{"$f":"IF(AND(HousIncomeUnitTypeOwnerOcc3=TRUE, HousIncomeUnitTypeHTC3=FALSE),'Housing Income'!D21,0)","v":0},{"$f":"IF(AND(HousIncomeUnitTypeRentAssist3=TRUE, HousIncomeUnitTypeHTC3=FALSE),'Housing Income'!D21,0)","v":0},{"$f":"IF(HousIncomeUnitTypeHTC3=TRUE,'Housing Income'!D21,0)","v":0},{"$f":"IF(AND(HousIncomeUnitTypeLTH3=TRUE, HousIncomeUnitTypeHTC3=FALSE),'Housing Income'!D21,0)","v":0},{"$f":"IF(AND(HousIncomeUnitTypeOpSubs3=TRUE, HousIncomeUnitTypeHTC3=FALSE),'Housing Income'!D21,0)","v":0},null,null,null,{"$f":"IF(AND(HousIncomeUnitTypeRRDL16=TRUE,RRDL_RentLimit16=\"RRDL Limit\"),RRDL_HINumUnits16,0)","v":{"$error":"#NAME?"}},null,null,null,{"$f":"IF(SUM(CG$16:CG27)+COUNT(CG$16:CG27)<LEN(CM$14),IF(ISERROR(FIND(\",\",CM$14,SUM(CG$16:CG27)+COUNT(CG$16:CG27)+1)),LEN(MID(CM$14,(SUM(CG$16:CG27)+COUNT(CG$16:CG27)+1),100)),FIND(\",\",CM$14,(SUM(CG$16:CG27)+COUNT(CG$16:CG27)+1))-(SUM(CG$16:CG27)+COUNT(CG$16:CG27)+1)),\"\")","v":""},"",{"$f":"#REF!","v":{"$error":"#REF!"}},null,null,false,"",null,null,null,null,null,{"$f":"INDEX(RRDL_HousIncUnitRentGrid,13,1)","v":{"$error":"#NAME?"}},{"$f":"INDEX(RRDL_HousIncUnitRentGrid,13,2)","v":{"$error":"#NAME?"}},{"$f":"INDEX(RRDL_HousIncUnitRentGrid,13,3)","v":{"$error":"#NAME?"}},{"$f":"INDEX(RRDL_HousIncUnitRentGrid,13,4)","v":{"$error":"#NAME?"}},{"$f":"INDEX(RRDL_HousIncUnitRentGrid,13,5)","v":{"$error":"#NAME?"}},{"$error":"#NAME?"},{"$error":"#NAME?"},{"$error":"#NAME?"},{"$error":"#NAME?"},{"$error":"#NAME?"},{"$error":"#NAME?"},null,"IsRRDL",null,null,null,null,null,null,null,null,null,null,null,null,null,null,null,null,null,null,null,null,null,null,null,null,null,"General Contractor",null,false,false,null,null,null,null,null,null,null,3,{"$f":"#REF!&\"-\"&#REF!","v":{"$error":"#REF!"}},null,null,null,null,false,{"$f":"LEFT(EQ28,7)&MID(EQ28,FIND(\"-\",EQ28,1)+1,7)&\"Part2\"","v":{"$error":"#REF!"}},null,null,null,null,null,null,null,null,null,"GROSS POTENTIAL RENT",null,null,null,null,null,"GROSS POTENTIAL RENT",null,null,null,null,null,"Reserves & Escrows Subtotal"]
["Tables",null,null,null,null,null,null,null,null,null,null,null,"imgOperatingSubsidyTabUnSel",99,null,null,null,null,null,null,null,null,null,null,null,null,null,null,null,null,null,null,null,null,null,null,null,null,null,null,null,null,null,null,null,"Service Fee",null,null,false,false,{"$f":"IF($AX29=TRUE,#REF!,0)","v":0},{"$f":"IF($AX29=TRUE,#REF!,0)","v":0},{"$f":"IF($AX29=TRUE,#REF!,0)","v":0},{"$f":"IF($AX29=TRUE,#REF!,0)","v":0},{"$f":"IF($AX29=TRUE,#REF!,0)","v":0},{"$f":"IF($AX29=TRUE,#REF!,0)","v":0},{"$f":"IF($AX29=TRUE,#REF!,0)","v":0},{"$f":"IF($AX29=TRUE,#REF!,0)","v":0},null,"Bed",{"$f":"HousIncomeTotUtilBed","v":{"$error":"#REF!"}},null,null,null,{"$f":"IF(AND(OR(HousIncomeUnitTypeEmplOcc4=TRUE,HousIncomeUnitTypeOwnerOcc4=TRUE), HousIncomeUnitTypeHTC4=FALSE),'Housing Income'!E22*BQ29,0)","v":0},0,{"$f":"IF(AND(HousIncomeUnitTypeHTC4=FALSE,HousIncomeUnitTypeEmplOcc4=FALSE,HousIncomeUnitTypeOwnerOcc4=FALSE),'Housing Income'!E22 * BP29, 0)","v":0},{"$f":"IF(AND(HousIncomeUnitTypeHTC4=FALSE,HousIncomeUnitTypeEmplOcc4=FALSE,HousIncomeUnitTypeOwnerOcc4=FALSE),'Housing Income'!D22, 0)","v":0},{"$f":"IF(AND(OR(HousIncomeUnitTypeEmplOcc4=TRUE,HousIncomeUnitTypeOwnerOcc4=TRUE), HousIncomeUnitTypeHTC4=FALSE),'Housing Income'!D22,0)","v":0},null,{"$f":"IF(AND(HousIncomeUnitTypeHOME4=TRUE, HousIncomeUnitTypeHTC4=FALSE),'Housing Income'!D22,0)","v":0},{"$f":"IF(AND(HousIncomeUnitTypeEmplOcc4=TRUE, HousIncomeUnitTypeHTC4=FALSE),'Housing Income'!D22,0)","v":0},{"$f":"IF(AND(HousIncomeUnitTypeOwnerOcc4=TRUE, HousIncomeUnitTypeHTC4=FALSE),'Housing Income'!D22,0)","v":0},{"$f":"IF(AND(HousIncomeUnitTypeRentAssist4=TRUE, HousIncomeUnitTypeHTC4=FALSE),'Housing Income'!D22,0)","v":0},{"$f":"IF(HousIncomeUnitTypeHTC4=TRUE,'Housing Income'!D22,0)","v":0},{"$f":"IF(AND(HousIncomeUnitTypeLTH4=TRUE, HousIncomeUnitTypeHTC4=FALSE),'Housing Income'!D22,0)","v":0},{"$f":"IF(AND(HousIncomeUnitTypeOpSubs4=TRUE, HousIncomeUnitTypeHTC4=FALSE),'Housing Income'!D22,0)","v":0},null,null,null,{"$f":"IF(AND(HousIncomeUnitTypeRRDL17=TRUE,RRDL_RentLimit17=\"RRDL Limit\"),RRDL_HINumUnits17,0)","v":{"$error":"#NAME?"}},null,null,null,null,"",{"$f":"#REF!","v":{"$error":"#REF!"}},null,null,false,"",null,null,null,null,null,{"$f":"INDEX(RRDL_HousIncUnitRentGrid,14,1)","v":{"$error":"#NAME?"}},{"$f":"INDEX(RRDL_HousIncUnitRentGrid,14,2)","v":{"$error":"#NAME?"}},{"$f":"INDEX(RRDL_HousIncUnitRentGrid,14,3)","v":{"$error":"#NAME?"}},{"$f":"INDEX(RRDL_HousIncUnitRentGrid,14,4)","v":{"$error":"#NAME?"}},{"$f":"INDEX(RRDL_HousIncUnitRentGrid,14,5)","v":{"$error":"#NAME?"}},{"$error":"#NAME?"},{"$error":"#NAME?"},{"$error":"#NAME?"},{"$error":"#NAME?"},{"$error":"#NAME?"},{"$error":"#NAME?"},null,{"$f":"IF(OR(LoanTypeTotals=38,LoanTypeTotals=45),TRUE,FALSE)","v":false},null,null,null,null,null,null,null,null,null,null,null,null,null,null,null,null,null,null,null,null,null,null,null,null,null,"Identity of Interest",null,null,null,null,null,null,null,null,null,null,4,{"$f":"#REF!&\"-\"&#REF!","v":{"$error":"#REF!"}},null,null,null,null,false,{"$f":"LEFT(EQ29,7)&MID(EQ29,FIND(\"-\",EQ29,1)+1,7)&\"Part3\"","v":{"$error":"#REF!"}},null,null,null,null,null,null,null,null,null,{"$f":"#REF!","v":{"$error":"#REF!"}},null,{"$f":"IF('Income & Expense'!J5=\"\",0,'Income & Expense'!J5)","v":0},{"$f":"IF('Income & Expense'!K5=\"\",0,'Income & Expense'!K5)","v":0},{"$f":"IF('Income & Expense'!L5=\"\",0,'Income & Expense'!L5)","v":0},null,{"$f":"#REF!","v":{"$error":"#REF!"}},null,{"$f":"IncExpGrPotRentTotal","v":0},null,null,null,{"$f":"#REF!","v":{"$error":"#REF!"}},null,{"$f":"IF('Income & Expense'!J68=\"\",0,'Income & Expense'!J68)","v":0},{"$f":"'Income & Expense'!K68","v":0},{"$f":"'Income & Expense'!L68","v":0}]
["WorksheetsTabs",null,null,null,null,null,null,null,null,null,null,null,null,null,null,null,null,null,null,null,null,null,null,null,null,null,null,null,null,null,null,null,null,null,null,null,null,null,null,null,null,null,null,null,null,"Tax",null,null,false,false,{"$f":"IF($AX30=TRUE,#REF!,0)","v":0},{"$f":"IF($AX30=TRUE,#REF!,0)","v":0},{"$f":"IF($AX30=TRUE,#REF!,0)","v":0},{"$f":"IF($AX30=TRUE,#REF!,0)","v":0},{"$f":"IF($AX30=TRUE,#REF!,0)","v":0},{"$f":"IF($AX30=TRUE,#REF!,0)","v":0},{"$f":"IF($AX30=TRUE,#REF!,0)","v":0},{"$f":"IF($AX30=TRUE,#REF!,0)","v":0},null,null,null,null,null,null,{"$f":"IF(AND(OR(HousIncomeUnitTypeEmplOcc5=TRUE,HousIncomeUnitTypeOwnerOcc5=TRUE), HousIncomeUnitTypeHTC5=FALSE),'Housing Income'!E23*BQ30,0)","v":0},0,{"$f":"IF(AND(HousIncomeUnitTypeHTC5=FALSE,HousIncomeUnitTypeEmplOcc5=FALSE,HousIncomeUnitTypeOwnerOcc5=FALSE),'Housing Income'!E23 * BP30, 0)","v":0},{"$f":"IF(AND(HousIncomeUnitTypeHTC5=FALSE,HousIncomeUnitTypeEmplOcc5=FALSE,HousIncomeUnitTypeOwnerOcc5=FALSE),'Housing Income'!D23, 0)","v":0},{"$f":"IF(AND(OR(HousIncomeUnitTypeEmplOcc5=TRUE,HousIncomeUnitTypeOwnerOcc5=TRUE), HousIncomeUnitTypeHTC5=FALSE),'Housing Income'!D23,0)","v":0},null,{"$f":"IF(AND(HousIncomeUnitTypeHOME5=TRUE, HousIncomeUnitTypeHTC5=FALSE),'Housing Income'!D23,0)","v":0},{"$f":"IF(AND(HousIncomeUnitTypeEmplOcc5=TRUE, HousIncomeUnitTypeHTC5=FALSE),'Housing Income'!D23,0)","v":0},{"$f":"IF(AND(HousIncomeUnitTypeOwnerOcc5=TRUE, HousIncomeUnitTypeHTC5=FALSE),'Housing Income'!D23,0)","v":0},{"$f":"IF(AND(HousIncomeUnitTypeRentAssist5=TRUE, HousIncomeUnitTypeHTC5=FALSE),'Housing Income'!D23,0)","v":0},{"$f":"IF(HousIncomeUnitTypeHTC5=TRUE,'Housing Income'!D23,0)","v":0},{"$f":"IF(AND(HousIncomeUnitTypeLTH5=TRUE, HousIncomeUnitTypeHTC5=FALSE),'Housing Income'!D23,0)","v":0},{"$f":"IF(AND(HousIncomeUnitTypeOpSubs5=TRUE, HousIncomeUnitTypeHTC5=FALSE),'Housing Income'!D23,0)","v":0},null,null,null,{"$f":"IF(AND(HousIncomeUnitTypeRRDL18=TRUE,RRDL_RentLimit18=\"RRDL Limit\"),RRDL_HINumUnits18,0)","v":{"$error":"#NAME?"}},null,null,null,null,"",{"$f":"RRDL_ProjDescActivityTypeOther1","v":{"$error":"#NAME?"}},null,null,false,"",null,null,null,null,null,{"$f":"INDEX(RRDL_HousIncUnitRentGrid,15,1)","v":{"$error":"#NAME?"}},{"$f":"INDEX(RRDL_HousIncUnitRentGrid,15,2)","v":{"$error":"#NAME?"}},{"$f":"INDEX(RRDL_HousIncUnitRentGrid,15,3)","v":{"$error":"#NAME?"}},{"$f":"INDEX(RRDL_HousIncUnitRentGrid,15,4)","v":{"$error":"#NAME?"}},{"$f":"INDEX(RRDL_HousIncUnitRentGrid,15,5)","v":{"$error":"#NAME?"}},{"$error":"#NAME?"},{"$error":"#NAME?"},{"$error":"#NAME?"},{"$error":"#NAME?"},{"$error":"#NAME?"},{"$error":"#NAME?"},null,null,null,null,null,null,null,null,null,null,null,null,null,null,null,null,null,null,null,null,null,null,null,null,null,null,null,null,null,null,null,null,null,null,null,null,null,null,5,{"$f":"#REF!&\"-\"&#REF!","v":{"$error":"#REF!"}},null,null,null,null,false,{"$error":"#REF!"},null,null,null,null,null,null,null,null,null,null,null,{"$f":"'Income & Expense'!J6","v":0},{"$f":"'Income & Expense'!K6","v":0},{"$f":"'Income & Expense'!L6","v":0},null,{"$f":"#REF!","v":{"$error":"#REF!"}},null,{"$f":"SUM('Income & Expense'!J12:J17)","v":0},null,null,null,{"$f":"#REF!","v":{"$error":"#REF!"}},null,{"$f":"IF('Income & Expense'!J69=\"\",0,'Income & Expense'!J69)","v":0},{"$f":"'Income & Expense'!K69","v":0},{"$f":"'Income & Expense'!L69","v":0}]
[null,null,null,null,null,null,null,null,null,null,null,null,null,null,null,null,null,null,null,null,null,null,null,null,null,null,null,null,null,null,null,null,null,null,null,null,null,null,null,null,null,null,null,null,null,"Totals by Unit Type",null,null,null,null,{"$f":"SUM(AY23:AY30)","v":{"$error":"#REF!"}},{"$error":"#REF!"},{"$error":"#REF!"},{"$error":"#REF!"},{"$error":"#REF!"},{"$error":"#REF!"},{"$error":"#REF!"},{"$error":"#REF!"},null,null,null,null,null,null,{"$f":"IF(AND(OR(HousIncomeUnitTypeEmplOcc6=TRUE,HousIncomeUnitTypeOwnerOcc6=TRUE), HousIncomeUnitTypeHTC6=FALSE),'Housing Income'!E24*BQ31,0)","v":0},0,{"$f":"IF(AND(HousIncomeUnitTypeHTC6=FALSE,HousIncomeUnitTypeEmplOcc6=FALSE,HousIncomeUnitTypeOwnerOcc6=FALSE),'Housing Income'!E24 * BP31, 0)","v":0},{"$f":"IF(AND(HousIncomeUnitTypeHTC6=FALSE,HousIncomeUnitTypeEmplOcc6=FALSE,HousIncomeUnitTypeOwnerOcc6=FALSE),'Housing Income'!D24, 0)","v":0},{"$f":"IF(AND(OR(HousIncomeUnitTypeEmplOcc6=TRUE,HousIncomeUnitTypeOwnerOcc6=TRUE), HousIncomeUnitTypeHTC6=FALSE),'Housing Income'!D24,0)","v":0},null,{"$f":"IF(AND(HousIncomeUnitTypeHOME6=TRUE, HousIncomeUnitTypeHTC6=FALSE),'Housing Income'!D24,0)","v":0},{"$f":"IF(AND(HousIncomeUnitTypeEmplOcc6=TRUE, HousIncomeUnitTypeHTC6=FALSE),'Housing Income'!D24,0)","v":0},{"$f":"IF(AND(HousIncomeUnitTypeOwnerOcc6=TRUE, HousIncomeUnitTypeHTC6=FALSE),'Housing Income'!D24,0)","v":0},{"$f":"IF(AND(HousIncomeUnitTypeRentAssist6=TRUE, HousIncomeUnitTypeHTC6=FALSE),'Housing Income'!D24,0)","v":0},{"$f":"IF(HousIncomeUnitTypeHTC6=TRUE,'Housing Income'!D24,0)","v":0},{"$f":"IF(AND(HousIncomeUnitTypeLTH6=TRUE, HousIncomeUnitTypeHTC6=FALSE),'Housing Income'!D24,0)","v":0},{"$f":"IF(AND(HousIncomeUnitTypeOpSubs6=TRUE, HousIncomeUnitTypeHTC6=FALSE),'Housing Income'!D24,0)","v":0},null,null,null,{"$f":"IF(AND(HousIncomeUnitTypeRRDL19=TRUE,RRDL_RentLimit19=\"RRDL Limit\"),RRDL_HINumUnits19,0)","v":{"$error":"#NAME?"}},null,null,null,null,"",{"$f":"RRDL_ProjDescActivityTypeOther2","v":{"$error":"#NAME?"}},null,null,false,"",null,null,null,null,null,{"$f":"INDEX(RRDL_HousIncUnitRentGrid,16,1)","v":{"$error":"#NAME?"}},{"$f":"INDEX(RRDL_HousIncUnitRentGrid,16,2)","v":{"$error":"#NAME?"}},{"$f":"INDEX(RRDL_HousIncUnitRentGrid,16,3)","v":{"$error":"#NAME?"}},{"$f":"INDEX(RRDL_HousIncUnitRentGrid,16,4)","v":{"$error":"#NAME?"}},{"$f":"INDEX(RRDL_HousIncUnitRentGrid,16,5)","v":{"$error":"#NAME?"}},{"$error":"#NAME?"},{"$error":"#NAME?"},{"$error":"#NAME?"},{"$error":"#NAME?"},{"$error":"#NAME?"},{"$error":"#NAME?"},null,null,null,null,null,null,null,null,null,null,null,null,null,null,null,null,null,null,null,null,null,null,null,null,null,null,null,null,null,null,null,null,null,null,null,null,null,null,7,{"$f":"#REF!&\"-\"&#REF!","v":{"$error":"#REF!"}},null,null,null,null,false,{"$error":"#REF!"},null,null,null,null,null,null,null,null,null,{"$f":"#REF!","v":{"$error":"#REF!"}},null,{"$f":"IF(incExpCoveredParking=\"\",0,incExpCoveredParking)","v":0},{"$f":"IF('Income & Expense'!K7=\"\",0,'Income & Expense'!K7)","v":0},{"$f":"IF('Income & Expense'!L7=\"\",0,'Income & Expense'!L7)","v":0},null,{"$f":"#REF!","v":{"$error":"#REF!"}},null,{"$f":"IF(NOT(ISERROR(IncExpTotRentLoss)),IF(IncExpTotRentLoss=\"\",0,IncExpTotRentLoss),0)","v":0},null,null,null,{"$f":"#REF!","v":{"$error":"#REF!"}},null,{"$f":"IF('Income & Expense'!J70=\"\",0,'Income & Expense'!J70)","v":0},{"$f":"'Income & Expense'!K70","v":0},{"$f":"'Income & Expense'!L70","v":0}]
["MORTGAGE CALC",null,null,null,null,null,null,null,null,null,null,null,null,null,null,null,null,null,null,null,null,null,null,null,null,null,null,null,null,null,null,null,null,null,null,null,null,null,null,null,null,null,null,null,null,"TotMandO",null,null,"RRDL_TotMandO",null,null,null,null,null,null,null,null,null,null,null,null,null,null,null,{"$f":"IF(AND(OR(HousIncomeUnitTypeEmplOcc7=TRUE,HousIncomeUnitTypeOwnerOcc7=TRUE), HousIncomeUnitTypeHTC7=FALSE),'Housing Income'!E25*BQ32,0)","v":0},0,{"$f":"IF(AND(HousIncomeUnitTypeHTC7=FALSE,HousIncomeUnitTypeEmplOcc7=FALSE,HousIncomeUnitTypeOwnerOcc7=FALSE),'Housing Income'!E25 * BP32, 0)","v":0},{"$f":"IF(AND(HousIncomeUnitTypeHTC7=FALSE,HousIncomeUnitTypeEmplOcc7=FALSE,HousIncomeUnitTypeOwnerOcc7=FALSE),'Housing Income'!D25, 0)","v":0},{"$f":"IF(AND(OR(HousIncomeUnitTypeEmplOcc7=TRUE,HousIncomeUnitTypeOwnerOcc7=TRUE), HousIncomeUnitTypeHTC7=FALSE),'Housing Income'!D25,0)","v":0},null,{"$f":"IF(AND(HousIncomeUnitTypeHOME7=TRUE, HousIncomeUnitTypeHTC7=FALSE),'Housing Income'!D25,0)","v":0},{"$f":"IF(AND(HousIncomeUnitTypeEmplOcc7=TRUE, HousIncomeUnitTypeHTC7=FALSE),'Housing Income'!D25,0)","v":0},{"$f":"IF(AND(HousIncomeUnitTypeOwnerOcc7=TRUE, HousIncomeUnitTypeHTC7=FALSE),'Housing Income'!D25,0)","v":0},{"$f":"IF(AND(HousIncomeUnitTypeRentAssist7=TRUE, HousIncomeUnitTypeHTC7=FALSE),'Housing Income'!D25,0)","v":0},{"$f":"IF(HousIncomeUnitTypeHTC7=TRUE,'Housing Income'!D25,0)","v":0},{"$f":"IF(AND(HousIncomeUnitTypeLTH7=TRUE, HousIncomeUnitTypeHTC7=FALSE),'Housing Income'!D25,0)","v":0},{"$f":"IF(AND(HousIncomeUnitTypeOpSubs7=TRUE, HousIncomeUnitTypeHTC7=FALSE),'Housing Income'!D25,0)","v":0},null,null,null,{"$f":"IF(AND(HousIncomeUnitTypeRRDL20=TRUE,RRDL_RentLimit20=\"RRDL Limit\"),RRDL_HINumUnits20,0)","v":{"$error":"#NAME?"}},null,null,null,null,{"$f":"TRIM(MID(SUBSTITUTE(CM$14,\",\",REPT(\" \",99)),(ROW()-2)*99-98,99))","v":""},null,null,null,null,null,null,null,null,null,null,{"$f":"INDEX(RRDL_HousIncUnitRentGrid,17,1)","v":{"$error":"#NAME?"}},{"$f":"INDEX(RRDL_HousIncUnitRentGrid,17,2)","v":{"$error":"#NAME?"}},{"$f":"INDEX(RRDL_HousIncUnitRentGrid,17,3)","v":{"$error":"#NAME?"}},{"$f":"INDEX(RRDL_HousIncUnitRentGrid,17,4)","v":{"$error":"#NAME?"}},{"$f":"INDEX(RRDL_HousIncUnitRentGrid,17,5)","v":{"$error":"#NAME?"}},{"$error":"#NAME?"},{"$error":"#NAME?"},{"$error":"#NAME?"},{"$error":"#NAME?"},{"$error":"#NAME?"},{"$error":"#NAME?"},null,null,null,null,null,null,null,null,null,null,null,null,null,null,null,null,null,null,null,null,null,null,null,null,null,null,null,null,null,null,null,null,null,null,null,null,null,null,8,{"$f":"#REF!&\"-\"&#REF!","v":{"$error":"#REF!"}},null,null,null,null,false,{"$error":"#REF!"},null,null,null,null,null,null,null,null,null,{"$f":"#REF!","v":{"$error":"#REF!"}},null,{"$f":"IF(IncExpSurfaceParking=\"\",0,IncExpSurfaceParking)","v":0},{"$f":"IF(#REF!=\"\",0,#REF!)","v":{"$error":"#REF!"}},{"$f":"IF('Income & Expense'!L8=\"\",0,'Income & Expense'!L8)","v":0},null,"NET RENTAL INCOME / TOTAL REVENUE",null,{"$f":"FO29+FO30-FO31","v":0}," "," ",null,{"$f":"#REF!","v":{"$error":"#REF!"}},null,{"$f":"SUM(FU29:FU31)","v":0},{"$f":"SUM(FV29:FV31)","v":0},{"$f":"SUM(FW29:FW31)","v":0}]
["Negotiated First Mortgage",null,null,null,null,null,null,null,null,null,null,null,null,null,null,null,null,null,null,null,null,null,null,null,null,null,null,null,null,null,null,null,null,null,null,null,null,null,null,null,null,null,null,null,null,"J41",{"$f":"IF('Income & Expense'!J41=\"\",0,'Income & Expense'!J41)","v":0},null,"J41",{"$f":"IF(RRDL_IncExpAdminSubTot=\"\",0,RRDL_IncExpAdminSubTot)","v":{"$error":"#NAME?"}},null,"SubAllocator=50",null,{"$f":"IF(OR(BI15:BJ15),50,0)","v":0},"SubAlloc",null,null,null,null,null,null,null,null,null,{"$f":"IF(AND(OR(HousIncomeUnitTypeEmplOcc8=TRUE,HousIncomeUnitTypeOwnerOcc8=TRUE), HousIncomeUnitTypeHTC8=FALSE),'Housing Income'!E26*BQ33,0)","v":0},0,{"$f":"IF(AND(HousIncomeUnitTypeHTC8=FALSE,HousIncomeUnitTypeEmplOcc8=FALSE,HousIncomeUnitTypeOwnerOcc8=FALSE),'Housing Income'!E26 * BP33, 0)","v":0},{"$f":"IF(AND(HousIncomeUnitTypeHTC8=FALSE,HousIncomeUnitTypeEmplOcc8=FALSE,HousIncomeUnitTypeOwnerOcc8=FALSE),'Housing Income'!D26, 0)","v":0},{"$f":"IF(AND(OR(HousIncomeUnitTypeEmplOcc8=TRUE,HousIncomeUnitTypeOwnerOcc8=TRUE), HousIncomeUnitTypeHTC8=FALSE),'Housing Income'!D26,0)","v":0},null,{"$f":"IF(AND(HousIncomeUnitTypeHOME8=TRUE, HousIncomeUnitTypeHTC8=FALSE),'Housing Income'!D26,0)","v":0},{"$f":"IF(AND(HousIncomeUnitTypeEmplOcc8=TRUE, HousIncomeUnitTypeHTC8=FALSE),'Housing Income'!D26,0)","v":0},{"$f":"IF(AND(HousIncomeUnitTypeOwnerOcc8=TRUE, HousIncomeUnitTypeHTC8=FALSE),'Housing Income'!D26,0)","v":0},{"$f":"IF(AND(HousIncomeUnitTypeRentAssist8=TRUE, HousIncomeUnitTypeHTC8=FALSE),'Housing Income'!D26,0)","v":0},{"$f":"IF(HousIncomeUnitTypeHTC8=TRUE,'Housing Income'!D26,0)","v":0},{"$f":"IF(AND(HousIncomeUnitTypeLTH8=TRUE, HousIncomeUnitTypeHTC8=FALSE),'Housing Income'!D26,0)","v":0},{"$f":"IF(AND(HousIncomeUnitTypeOpSubs8=TRUE, HousIncomeUnitTypeHTC8=FALSE),'Housing Income'!D26,0)","v":0},null,null,null,{"$f":"IF(AND(HousIncomeUnitTypeRRDL21=TRUE,RRDL_RentLimit21=\"RRDL Limit\"),RRDL_HINumUnits21,0)","v":{"$error":"#NAME?"}},null,null,null,null,null,null,null,null,null,null,null,null,null,null,null,{"$f":"INDEX(RRDL_HousIncUnitRentGrid,18,1)","v":{"$error":"#NAME?"}},{"$f":"INDEX(RRDL_HousIncUnitRentGrid,18,2)","v":{"$error":"#NAME?"}},{"$f":"INDEX(RRDL_HousIncUnitRentGrid,18,3)","v":{"$error":"#NAME?"}},{"$f":"INDEX(RRDL_HousIncUnitRentGrid,18,4)","v":{"$error":"#NAME?"}},{"$f":"INDEX(RRDL_HousIncUnitRentGrid,18,5)","v":{"$error":"#NAME?"}},{"$error":"#NAME?"},{"$error":"#NAME?"},{"$error":"#NAME?"},{"$error":"#NAME?"},{"$error":"#NAME?"},{"$error":"#NAME?"},null,null,null,null,null,null,null,null,null,null,null,null,null,null,null,null,null,null,null,null,null,null,null,null,null,null,null,null,null,null,null,null,null,null,null,null,null,null,1,{"$f":"#REF!&\"-\"&#REF!","v":{"$error":"#REF!"}},null,null,null,null,false,{"$f":"LEFT(EQ33,7)&MID(EQ33,FIND(\"-\",EQ33,1)+1,5)&\"M\"","v":{"$error":"#REF!"}},null,null,null,null,null,null,null,null,null,{"$f":"#REF!","v":{"$error":"#REF!"}},null,{"$f":"IF('Income & Expense'!J9=\"\",0,'Income & Expense'!J9)","v":0},{"$f":"IF('Income & Expense'!K9=\"\",0,'Income & Expense'!K9)","v":0},{"$f":"IF('Income & Expense'!L9=\"\",0,'Income & Expense'!L9)","v":0}]
["Mn Housing CheckBox",null,true,null,null,null,null,null,null,null,null,null,null,null,null,null,null,null,null,null,null,null,null,null,null,null,null,null,null,null,null,null,null,null,null,null,null,null,null,null,null,null,null,null,null,"J55",{"$f":"IF('Income & Expense'!J55=\"\",0,'Income & Expense'!J55)","v":0},null,"J55",{"$f":"IF(RRDL_IncExpMaintSubTot=\"\",0,RRDL_IncExpMaintSubTot)","v":{"$error":"#NAME?"}},null,null,null,null,null,null,null,null,null,null,null,null,null,null,{"$f":"IF(AND(OR(HousIncomeUnitTypeEmplOcc9=TRUE,HousIncomeUnitTypeOwnerOcc9=TRUE), HousIncomeUnitTypeHTC9=FALSE),'Housing Income'!E27*BQ34,0)","v":0},0,{"$f":"IF(AND(HousIncomeUnitTypeHTC9=FALSE,HousIncomeUnitTypeEmplOcc9=FALSE,HousIncomeUnitTypeOwnerOcc9=FALSE),'Housing Income'!E27 * BP34, 0)","v":0},{"$f":"IF(AND(HousIncomeUnitTypeHTC9=FALSE,HousIncomeUnitTypeEmplOcc9=FALSE,HousIncomeUnitTypeOwnerOcc9=FALSE),'Housing Income'!D27, 0)","v":0},{"$f":"IF(AND(OR(HousIncomeUnitTypeEmplOcc9=TRUE,HousIncomeUnitTypeOwnerOcc9=TRUE), HousIncomeUnitTypeHTC9=FALSE),'Housing Income'!D27,0)","v":0},null,{"$f":"IF(AND(HousIncomeUnitTypeHOME9=TRUE, HousIncomeUnitTypeHTC9=FALSE),'Housing Income'!D27,0)","v":0},{"$f":"IF(AND(HousIncomeUnitTypeEmplOcc9=TRUE, HousIncomeUnitTypeHTC9=FALSE),'Housing Income'!D27,0)","v":0},{"$f":"IF(AND(HousIncomeUnitTypeOwnerOcc9=TRUE, HousIncomeUnitTypeHTC9=FALSE),'Housing Income'!D27,0)","v":0},{"$f":"IF(AND(HousIncomeUnitTypeRentAssist9=TRUE, HousIncomeUnitTypeHTC9=FALSE),'Housing Income'!D27,0)","v":0},{"$f":"IF(HousIncomeUnitTypeHTC9=TRUE,'Housing Income'!D27,0)","v":0},{"$f":"IF(AND(HousIncomeUnitTypeLTH9=TRUE, HousIncomeUnitTypeHTC9=FALSE),'Housing Income'!D27,0)","v":0},{"$f":"IF(AND(HousIncomeUnitTypeOpSubs9=TRUE, HousIncomeUnitTypeHTC9=FALSE),'Housing Income'!D27,0)","v":0},null,null,"Total",{"$f":"SUM(CC13:CC33)","v":{"$error":"#NAME?"}},null,null,null,null,null,null,null,null,null,null,null,null,null,null,null,{"$f":"INDEX(RRDL_HousIncUnitRentGrid,19,1)","v":{"$error":"#NAME?"}},{"$f":"INDEX(RRDL_HousIncUnitRentGrid,19,2)","v":{"$error":"#NAME?"}},{"$f":"INDEX(RRDL_HousIncUnitRentGrid,19,3)","v":{"$error":"#NAME?"}},{"$f":"INDEX(RRDL_HousIncUnitRentGrid,19,4)","v":{"$error":"#NAME?"}},{"$f":"INDEX(RRDL_HousIncUnitRentGrid,19,5)","v":{"$error":"#NAME?"}},{"$error":"#NAME?"},{"$error":"#NAME?"},{"$error":"#NAME?"},{"$error":"#NAME?"},{"$error":"#NAME?"},{"$error":"#NAME?"},null,null,null,null,null,null,null,null,null,null,null,null,null,null,null,null,null,null,null,null,null,null,null,null,null,null,null,null,null,null,null,null,null,null,null,null,null,null,2,{"$f":"#REF!&\"-\"&#REF!","v":{"$error":"#REF!"}},null,null,null,null,false,{"$f":"LEFT(EQ34,7)&MID(EQ34,FIND(\"-\",EQ34,1)+1,7)&\"Part1\"","v":{"$error":"#REF!"}},null,null,null,null,null,null,null,null,null,null,null,{"$f":"SUM(FI29:FI33)","v":0},{"$f":"SUM(FJ29:FJ33)","v":{"$error":"#REF!"}},{"$f":"SUM(FK29:FK33)","v":0},null,{"$f":"#REF!","v":{"$error":"#REF!"}},null,{"$f":"IF(IncExpRentLossRentVacancy=\"\",0,ROUND((FO29+FO30)* IncExpRentLossRentVacancy,0))","v":0},null,null,null,"Total M & O",null,{"$f":"IF('Income & Expense'!J66=\"\",0,'Income & Expense'!J66)","v":0},{"$f":"'Income & Expense'!K66","v":0},{"$f":"'Income & Expense'!L66","v":0}]
[null,null,null,null,null,null,null,null,null,null,null,null,null,null,null,null,null,null,null,null,null,null,null,null,null,null,null,null,null,null,null,null,null,null,null,null,null,null,null,null,null,null,null,null,null,"J60",{"$f":"IF('Income & Expense'!J60=\"\",0,'Income & Expense'!J60)","v":0},null,"J60",{"$f":"IF(RRDL_IncExpUtilitiesSubTot=\"\",0,RRDL_IncExpUtilitiesSubTot)","v":{"$error":"#NAME?"}},null,null,null,null,null,null,null,null,null,null,null,null,null,null,{"$f":"IF(AND(OR(HousIncomeUnitTypeEmplOcc10=TRUE,HousIncomeUnitTypeOwnerOcc10=TRUE), HousIncomeUnitTypeHTC10=FALSE),'Housing Income'!E28*BQ35,0)","v":0},0,{"$f":"IF(AND(HousIncomeUnitTypeHTC10=FALSE,HousIncomeUnitTypeEmplOcc10=FALSE,HousIncomeUnitTypeOwnerOcc10=FALSE),'Housing Income'!E28*BP35, 0)","v":0},{"$f":"IF(AND(HousIncomeUnitTypeHTC10=FALSE,HousIncomeUnitTypeEmplOcc10=FALSE,HousIncomeUnitTypeOwnerOcc10=FALSE),'Housing Income'!D28, 0)","v":0},{"$f":"IF(AND(OR(HousIncomeUnitTypeEmplOcc10=TRUE,HousIncomeUnitTypeOwnerOcc10=TRUE), HousIncomeUnitTypeHTC10=FALSE),'Housing Income'!D28,0)","v":0},null,{"$f":"IF(AND(HousIncomeUnitTypeHOME10=TRUE, HousIncomeUnitTypeHTC10=FALSE),'Housing Income'!D28,0)","v":0},{"$f":"IF(AND(HousIncomeUnitTypeEmplOcc10=TRUE, HousIncomeUnitTypeHTC10=FALSE),'Housing Income'!D28,0)","v":0},{"$f":"IF(AND(HousIncomeUnitTypeOwnerOcc10=TRUE, HousIncomeUnitTypeHTC10=FALSE),'Housing Income'!D28,0)","v":0},{"$f":"IF(AND(HousIncomeUnitTypeRentAssist10=TRUE, HousIncomeUnitTypeHTC10=FALSE),'Housing Income'!D28,0)","v":0},{"$f":"IF(HousIncomeUnitTypeHTC10=TRUE,'Housing Income'!D28,0)","v":0},{"$f":"IF(AND(HousIncomeUnitTypeLTH10=TRUE, HousIncomeUnitTypeHTC10=FALSE),'Housing Income'!D28,0)","v":0},{"$f":"IF(AND(HousIncomeUnitTypeOpSubs10=TRUE, HousIncomeUnitTypeHTC10=FALSE),'Housing Income'!D28,0)","v":0},null,null,null,null,null,null,null,null,null,null,null,null,null,null,null,null,null,null,null,{"$f":"INDEX(RRDL_HousIncUnitRentGrid,20,1)","v":{"$error":"#NAME?"}},{"$f":"INDEX(RRDL_HousIncUnitRentGrid,20,2)","v":{"$error":"#NAME?"}},{"$f":"INDEX(RRDL_HousIncUnitRentGrid,20,3)","v":{"$error":"#NAME?"}},{"$f":"INDEX(RRDL_HousIncUnitRentGrid,20,4)","v":{"$error":"#NAME?"}},{"$f":"INDEX(RRDL_HousIncUnitRentGrid,20,5)","v":{"$error":"#NAME?"}},{"$error":"#NAME?"},{"$error":"#NAME?"},{"$error":"#NAME?"},{"$error":"#NAME?"},{"$error":"#NAME?"},{"$error":"#NAME?"},null,null,null,null,null,null,null,null,null,null,null,null,null,null,null,null,null,null,null,null,null,null,null,null,null,null,null,null,null,null,null,null,null,null,null,null,null,null,3,{"$f":"#REF!&\"-\"&#REF!","v":{"$error":"#REF!"}},null,null,null,null,false,{"$f":"LEFT(EQ35,7)&MID(EQ35,FIND(\"-\",EQ35,1)+1,7)&\"Part2\"","v":{"$error":"#REF!"}},null,null,null,null,null,null,null,null,null,null,null,null,null,null,null,{"$f":"#REF!","v":{"$error":"#REF!"}},null,{"$f":"IF(IncExpRentLossParkingVacancy=\"\",0,(FI31+FI32)*IncExpRentLossParkingVacancy)","v":0}]
[null,null,null,null,null,null,null,null,null,null,null,null,null,null,null,null,null,null,null,null,null,null,null,null,null,null,null,null,null,null,null,null,null,null,null,null,null,null,null,null,null,null,null,null,null,"J62",{"$f":"IF('Income & Expense'!J62=\"\",0,'Income & Expense'!J62)","v":0},null,"J62",{"$f":"IF(RRDL_IncExpUniqOpExp=\"\",0,RRDL_IncExpUniqOpExp)","v":{"$error":"#NAME?"}},null,null,null,null,null,null,null,null,null,null,null,null,null,null,{"$f":"IF(AND(OR(HousIncomeUnitTypeEmplOcc11=TRUE,HousIncomeUnitTypeOwnerOcc11=TRUE), HousIncomeUnitTypeHTC11=FALSE),'Housing Income'!E29*BQ36,0)","v":0},0,{"$f":"IF(AND(HousIncomeUnitTypeHTC11=FALSE,HousIncomeUnitTypeEmplOcc11=FALSE,HousIncomeUnitTypeOwnerOcc11=FALSE),'Housing Income'!E29 * BP36, 0)","v":0},{"$f":"IF(AND(HousIncomeUnitTypeHTC11=FALSE,HousIncomeUnitTypeEmplOcc11=FALSE,HousIncomeUnitTypeOwnerOcc11=FALSE),'Housing Income'!D29, 0)","v":0},{"$f":"IF(AND(OR(HousIncomeUnitTypeEmplOcc11=TRUE,HousIncomeUnitTypeOwnerOcc11=TRUE), HousIncomeUnitTypeHTC11=FALSE),'Housing Income'!D29,0)","v":0},null,{"$f":"IF(AND(HousIncomeUnitTypeHOME11=TRUE, HousIncomeUnitTypeHTC11=FALSE),'Housing Income'!D29,0)","v":0},{"$f":"IF(AND(HousIncomeUnitTypeEmplOcc11=TRUE, HousIncomeUnitTypeHTC11=FALSE),'Housing Income'!D29,0)","v":0},{"$f":"IF(AND(HousIncomeUnitTypeOwnerOcc11=TRUE, HousIncomeUnitTypeHTC11=FALSE),'Housing Income'!D29,0)","v":0},{"$f":"IF(AND(HousIncomeUnitTypeRentAssist11=TRUE, HousIncomeUnitTypeHTC11=FALSE),'Housing Income'!D29,0)","v":0},{"$f":"IF(HousIncomeUnitTypeHTC11=TRUE,'Housing Income'!D29,0)","v":0},{"$f":"IF(AND(HousIncomeUnitTypeLTH11=TRUE, HousIncomeUnitTypeHTC11=FALSE),'Housing Income'!D29,0)","v":0},{"$f":"IF(AND(HousIncomeUnitTypeOpSubs11=TRUE, HousIncomeUnitTypeHTC11=FALSE),'Housing Income'!D29,0)","v":0},null,null,null,null,null,null,null,null,null,null,null,null,null,null,null,null,null,null,null,{"$f":"INDEX(RRDL_HousIncUnitRentGrid,21,1)","v":{"$error":"#NAME?"}},{"$f":"INDEX(RRDL_HousIncUnitRentGrid,21,2)","v":{"$error":"#NAME?"}},{"$f":"INDEX(RRDL_HousIncUnitRentGrid,21,3)","v":{"$error":"#NAME?"}},{"$f":"INDEX(RRDL_HousIncUnitRentGrid,21,4)","v":{"$error":"#NAME?"}},{"$f":"INDEX(RRDL_HousIncUnitRentGrid,21,5)","v":{"$error":"#NAME?"}},{"$error":"#NAME?"},{"$error":"#NAME?"},{"$error":"#NAME?"},{"$error":"#NAME?"},{"$error":"#NAME?"},{"$error":"#NAME?"},null,null,null,null,null,null,null,null,null,null,null,null,null,null,null,null,null,null,null,null,null,null,null,null,null,null,null,null,null,null,null,null,null,null,null,null,null,null,4,{"$f":"#REF!&\"-\"&#REF!","v":{"$error":"#REF!"}},null,null,null,null,false,{"$f":"LEFT(EQ36,7)&MID(EQ36,FIND(\"-\",EQ36,1)+1,7)&\"Part3\"","v":{"$error":"#REF!"}},null,null,null,null,null,null,null,null,null,"INCOME AND EXPENSE",null,null,null,null,null,null,null,null,null,null,null,{"$f":"#REF!","v":{"$error":"#REF!"}},null,{"$f":"'Income & Expense'!J20","v":0},{"$f":"'Income & Expense'!K20","v":0},{"$f":"'Income & Expense'!L20","v":0}]
[null,null,null,null,null,null,null,null,null,null,null,null,null,null,null,null,null,null,null,null,null,null,null,null,null,null,null,null,null,null,null,null,null,null,null,null,null,null,null,null,null,null,null,null,null,"J64",{"$f":"IF('Income & Expense'!J64=\"\",0,'Income & Expense'!J64)","v":0},null,"J64",{"$f":"IF(RRDL_IncExpInsPropLiabInsExp=\"\",0,RRDL_IncExpInsPropLiabInsExp)","v":{"$error":"#NAME?"}},null,null,null,null,null,null,null,null,null,null,null,null,null,null,{"$f":"IF(AND(OR(HousIncomeUnitTypeEmplOcc12=TRUE,HousIncomeUnitTypeOwnerOcc12=TRUE), HousIncomeUnitTypeHTC12=FALSE),'Housing Income'!E30*BQ37,0)","v":0},0,{"$f":"IF(AND(HousIncomeUnitTypeHTC12=FALSE,HousIncomeUnitTypeEmplOcc12=FALSE,HousIncomeUnitTypeOwnerOcc12=FALSE),'Housing Income'!E30 * BP37, 0)","v":0},{"$f":"IF(AND(HousIncomeUnitTypeHTC12=FALSE,HousIncomeUnitTypeEmplOcc12=FALSE,HousIncomeUnitTypeOwnerOcc12=FALSE),'Housing Income'!D30, 0)","v":0},{"$f":"IF(AND(OR(HousIncomeUnitTypeEmplOcc12=TRUE,HousIncomeUnitTypeOwnerOcc12=TRUE), HousIncomeUnitTypeHTC12=FALSE),'Housing Income'!D30,0)","v":0},null,{"$f":"IF(AND(HousIncomeUnitTypeHOME12=TRUE, HousIncomeUnitTypeHTC12=FALSE),'Housing Income'!D30,0)","v":0},{"$f":"IF(AND(HousIncomeUnitTypeEmplOcc12=TRUE, HousIncomeUnitTypeHTC12=FALSE),'Housing Income'!D30,0)","v":0},{"$f":"IF(AND(HousIncomeUnitTypeOwnerOcc12=TRUE, HousIncomeUnitTypeHTC12=FALSE),'Housing Income'!D30,0)","v":0},{"$f":"IF(AND(HousIncomeUnitTypeRentAssist12=TRUE, HousIncomeUnitTypeHTC12=FALSE),'Housing Income'!D30,0)","v":0},{"$f":"IF(HousIncomeUnitTypeHTC12=TRUE,'Housing Income'!D30,0)","v":0},{"$f":"IF(AND(HousIncomeUnitTypeLTH12=TRUE, HousIncomeUnitTypeHTC12=FALSE),'Housing Income'!D30,0)","v":0},{"$f":"IF(AND(HousIncomeUnitTypeOpSubs12=TRUE, HousIncomeUnitTypeHTC12=FALSE),'Housing Income'!D30,0)","v":0},null,null,null,null,null,null,null,null,null,null,null,null,null,null,null,null,null,null,null,null,null,null,null,null,null,null,null,null,null,null,null,null,null,null,null,null,null,null,null,null,null,null,null,null,null,null,null,null,null,null,null,null,null,null,null,null,null,null,null,null,null,null,null,null,null,null,null,null,5,{"$f":"#REF!&\"-\"&#REF!","v":{"$error":"#REF!"}},null,null,null,null,false,{"$f":"LEFT(EQ37,7)&MID(EQ37,FIND(\"-\",EQ37,1)+1,7)","v":{"$error":"#REF!"}},null,null,null,null,null,null,null,null,null,"RENTAL LOSS",null,null,null,null,null,null,null,null,null,null,null,{"$f":"#REF!","v":{"$error":"#REF!"}},null,{"$f":"'Income & Expense'!J21","v":0},{"$f":"'Income & Expense'!K21","v":0},{"$f":"'Income & Expense'!L21","v":0}]
[null,null,null,null,null,null,"MORTGAGE CALC",null,null,null,null,null,null,null,null,null,null,null,null,null,null,null,null,null,null,null,null,null,null,null,null,"HOUSING INCOME",null,null,null,null,null,null,null,null,null,null,null,null,null,"J66",{"$f":"SUM(AU33:AU37)","v":0},null,"J66",{"$f":"SUM(AX33:AX37)","v":{"$error":"#NAME?"}},null,null,null,null,null,null,null,null,null,null,null,null,null,null,{"$f":"IF(AND(OR(HousIncomeUnitTypeEmplOcc13=TRUE,HousIncomeUnitTypeOwnerOcc13=TRUE), HousIncomeUnitTypeHTC13=FALSE),'Housing Income'!E31*BQ38,0)","v":0},0,{"$f":"IF(AND(HousIncomeUnitTypeHTC13=FALSE,HousIncomeUnitTypeEmplOcc13=FALSE,HousIncomeUnitTypeOwnerOcc13=FALSE),'Housing Income'!E31 * BP38, 0)","v":0},{"$f":"IF(AND(HousIncomeUnitTypeHTC13=FALSE,HousIncomeUnitTypeEmplOcc13=FALSE,HousIncomeUnitTypeOwnerOcc13=FALSE),'Housing Income'!D31, 0)","v":0},{"$f":"IF(AND(OR(HousIncomeUnitTypeEmplOcc13=TRUE,HousIncomeUnitTypeOwnerOcc13=TRUE), HousIncomeUnitTypeHTC13=FALSE),'Housing Income'!D31,0)","v":0},null,{"$f":"IF(AND(HousIncomeUnitTypeHOME13=TRUE, HousIncomeUnitTypeHTC13=FALSE),'Housing Income'!D31,0)","v":0},{"$f":"IF(AND(HousIncomeUnitTypeEmplOcc13=TRUE, HousIncomeUnitTypeHTC13=FALSE),'Housing Income'!D31,0)","v":0},{"$f":"IF(AND(HousIncomeUnitTypeOwnerOcc13=TRUE, HousIncomeUnitTypeHTC13=FALSE),'Housing Income'!D31,0)","v":0},{"$f":"IF(AND(HousIncomeUnitTypeRentAssist13=TRUE, HousIncomeUnitTypeHTC13=FALSE),'Housing Income'!D31,0)","v":0},{"$f":"IF(HousIncomeUnitTypeHTC13=TRUE,'Housing Income'!D31,0)","v":0},{"$f":"IF(AND(HousIncomeUnitTypeLTH13=TRUE, HousIncomeUnitTypeHTC13=FALSE),'Housing Income'!D31,0)","v":0},{"$f":"IF(AND(HousIncomeUnitTypeOpSubs13=TRUE, HousIncomeUnitTypeHTC13=FALSE),'Housing Income'!D31,0)","v":0},null,null,"SOURCES",null,null,null,null,"DEV COSTS",null,null,null,null,null,null,null,null,"HOUSING INCOME",null,null,null,null,null,null,null,null,null,null,null,"SUMMARY",null,null,null,null,null,null,"SUMMARY",null,null,null,null,null,null,null,null,null,"SUBSIDY LAYERING",null,null,null,"SUBSIDY LAYERING",null,null,null,"BUILDINGS",null,null,null,"SUMMARY",null,null,null,null,"SUMMARY",null,null,null,null,null,6,{"$f":"#REF!&\"-\"&#REF!","v":{"$error":"#REF!"}},null,null,null,null,false,{"$f":"LEFT(EQ38,7)&MID(EQ38,FIND(\"-\",EQ38,1)+1,7)","v":{"$error":"#REF!"}},null,null,null,null,null,null,null,null,null,"IncExpRentLossOther1Val",null,null,null,{"$f":"IncExpRentLossOther1Val","v":0},null,null,null,null,null,null,null,{"$f":"#REF!","v":{"$error":"#REF!"}},null,{"$f":"'Income & Expense'!J22","v":0},{"$f":"'Income & Expense'!K22","v":0},{"$f":"'Income & Expense'!L22","v":0}]
["PROJECT DESCRIPTION",null,null,null,"Yes/No Dropdowns",null,"MN Hsg 1st Mort Fees",null,"MN Housing First Mortgage Fees",null,null,null,null,null,null,null,"HOUSING TAX CREDIT REQUEST",null,null,null,"TENANT FACILITIES / AMENITIES",null,null,null,null,"OTHER BASIS CONSIDERATIONS",null,null,null,null,null,"UNIT/RENT GRID",null,null,null,null,null,null,null,null,null,null,null,null,null,null,null,null,null,null,"SOURCES",null,null,null,null,"DETERMINATION OF CREDIT",null,null,null,"HTC INFO",null,null,null,null,{"$f":"IF(AND(OR(HousIncomeUnitTypeEmplOcc14=TRUE,HousIncomeUnitTypeOwnerOcc14=TRUE), HousIncomeUnitTypeHTC14=FALSE),'Housing Income'!E32*BQ39,0)","v":0},0,{"$f":"IF(AND(HousIncomeUnitTypeHTC14=FALSE,HousIncomeUnitTypeEmplOcc14=FALSE,HousIncomeUnitTypeOwnerOcc14=FALSE),'Housing Income'!E32 * BP39, 0)","v":0},{"$f":"IF(AND(HousIncomeUnitTypeHTC14=FALSE,HousIncomeUnitTypeEmplOcc14=FALSE,HousIncomeUnitTypeOwnerOcc14=FALSE),'Housing Income'!D32, 0)","v":0},{"$f":"IF(AND(OR(HousIncomeUnitTypeEmplOcc14=TRUE,HousIncomeUnitTypeOwnerOcc14=TRUE), HousIncomeUnitTypeHTC14=FALSE),'Housing Income'!D32,0)","v":0},null,{"$f":"IF(AND(HousIncomeUnitTypeHOME14=TRUE, HousIncomeUnitTypeHTC14=FALSE),'Housing Income'!D32,0)","v":0},{"$f":"IF(AND(HousIncomeUnitTypeEmplOcc14=TRUE, HousIncomeUnitTypeHTC14=FALSE),'Housing Income'!D32,0)","v":0},{"$f":"IF(AND(HousIncomeUnitTypeOwnerOcc14=TRUE, HousIncomeUnitTypeHTC14=FALSE),'Housing Income'!D32,0)","v":0},{"$f":"IF(AND(HousIncomeUnitTypeRentAssist14=TRUE, HousIncomeUnitTypeHTC14=FALSE),'Housing Income'!D32,0)","v":0},{"$f":"IF(HousIncomeUnitTypeHTC14=TRUE,'Housing Income'!D32,0)","v":0},{"$f":"IF(AND(HousIncomeUnitTypeLTH14=TRUE, HousIncomeUnitTypeHTC14=FALSE),'Housing Income'!D32,0)","v":0},{"$f":"IF(AND(HousIncomeUnitTypeOpSubs14=TRUE, HousIncomeUnitTypeHTC14=FALSE),'Housing Income'!D32,0)","v":0},null,null,"FED/LOC/PHIL CONTRIBUTIONS",null,null,null,"Locked","ACQUISITION or REFINANCE EXISTING DEBT",null,"Units-T","Units-F","SqFt-T","SqFt-F","Tot Int Costs",null,null,"UNIT / RENT GRID",null,null,null,null,null,null,null,null,null,null,null,"TARGET HOUSEHOLDS",null,null,null,"Lookup Table",null,null,"Existing Debt",null,null,null,"Lookup Table",null,null,null,null,null,"Version",null,null,null,"EQUITY PROCEEDS",null,null,null,null,"City","County",null,"Construction Sources",null,null,null,null,"Subsidy Funding",null,null,null,null,null,8,{"$f":"#REF!&\"-\"&#REF!","v":{"$error":"#REF!"}},null,null,null,null,false,{"$f":"\"TaxCred\"&MID(EQ39,FIND(\"-\",EQ39,1)+1,7)","v":{"$error":"#REF!"}},null,null,null,null,null,null,null,null,null,"IncExpRentLossOther2Val",null,null,null,{"$f":"IncExpRentLossOther2Val","v":0},null,null,null,null,null,null,null,{"$f":"#REF!","v":{"$error":"#REF!"}},null,{"$f":"'Income & Expense'!J23","v":0},{"$f":"'Income & Expense'!K23","v":0},{"$f":"'Income & Expense'!L23","v":0}]
["DEVELOPMENT LOCATION",null,null,null,"Yes",null,false,null,"Development Cost Escrow",null,false,null,null,null,null,null,"Request Type",null,null,null,"Parking / Garages",null,null,false,null,"Code Sec. 103",null,false,true,null,null,"Units",null,"HTC Units","Non-HTC Units",null,"SqFt","HTC SqFt","NonHtc SqFt",null,null,null,"Units","SqFt",null,null,null,null,null,null," CAPITAL SOURCES",null,null,null,null,"Credit Limit Waiver",null,null,null,"Treasury Waiver",null,null,null,null,{"$f":"IF(AND(OR(HousIncomeUnitTypeEmplOcc15=TRUE,HousIncomeUnitTypeOwnerOcc15=TRUE), HousIncomeUnitTypeHTC15=FALSE),'Housing Income'!E33*BQ40,0)","v":0},0,{"$f":"IF(AND(HousIncomeUnitTypeHTC15=FALSE,HousIncomeUnitTypeEmplOcc15=FALSE,HousIncomeUnitTypeOwnerOcc15=FALSE),'Housing Income'!E33 * BP40, 0)","v":0},{"$f":"IF(AND(HousIncomeUnitTypeHTC15=FALSE,HousIncomeUnitTypeEmplOcc15=FALSE,HousIncomeUnitTypeOwnerOcc15=FALSE),'Housing Income'!D33, 0)","v":0},{"$f":"IF(AND(OR(HousIncomeUnitTypeEmplOcc15=TRUE,HousIncomeUnitTypeOwnerOcc15=TRUE), HousIncomeUnitTypeHTC15=FALSE),'Housing Income'!D33,0)","v":0},null,{"$f":"IF(AND(HousIncomeUnitTypeHOME15=TRUE, HousIncomeUnitTypeHTC15=FALSE),'Housing Income'!D33,0)","v":0},{"$f":"IF(AND(HousIncomeUnitTypeEmplOcc15=TRUE, HousIncomeUnitTypeHTC15=FALSE),'Housing Income'!D33,0)","v":0},{"$f":"IF(AND(HousIncomeUnitTypeOwnerOcc15=TRUE, HousIncomeUnitTypeHTC15=FALSE),'Housing Income'!D33,0)","v":0},{"$f":"IF(AND(HousIncomeUnitTypeRentAssist15=TRUE, HousIncomeUnitTypeHTC15=FALSE),'Housing Income'!D33,0)","v":0},{"$f":"IF(HousIncomeUnitTypeHTC15=TRUE,'Housing Income'!D33,0)","v":0},{"$f":"IF(AND(HousIncomeUnitTypeLTH15=TRUE, HousIncomeUnitTypeHTC15=FALSE),'Housing Income'!D33,0)","v":0},{"$f":"IF(AND(HousIncomeUnitTypeOpSubs15=TRUE, HousIncomeUnitTypeHTC15=FALSE),'Housing Income'!D33,0)","v":0},null,null,0,null,null,false,true,null,null,null,null,null,null,{"$f":"IF(DevCostsAquisRefHoldCosts1=TRUE,'Development Costs'!H12,0)","v":0},null,null,"Unit Type","# of Bath-rooms","# of Units","Approx Sq Ft","Monthly Contract Rent",null,null,null,null,null,"Rooms per Unit",null,{"$f":"IF(ProjDescTargHHGenOcc>0,ProjDescTargHHGenOccDesc,\"\")","v":""},{"$f":"IF('Project Description'!B42=\"\", \"\",VLOOKUP(1,DE$40:DF$62,2,FALSE))","v":""},{"$f":"IF(ISNA(VLOOKUP(DC40, DF40:DG62, 2, FALSE)),\"\",VLOOKUP(DC40, DF40:DG62, 2, FALSE))","v":""},1,{"$f":"'Project Description'!C42","v":"General Occupancy"},{"$f":"'Project Description'!B42","v":0},null,"Lender Name","Orig Amt","Unpaid","Maturity",null,null,null,null,null,null,{"$f":"#REF!","v":{"$error":"#REF!"}},null,null,null,{"$f":"#REF!","v":{"$error":"#REF!"}},null,null,null,{"$f":"Buildings!B6","v":"Primary"},null,null,null,{"$f":"Summary!B132","v":""},null,true,null,null,"Rental Assistance",null,null,null,null,null,9,{"$f":"#REF!&\"-\"&#REF!","v":{"$error":"#REF!"}},null,null,null,null,false,{"$f":"\"TaxCred\"&MID(EQ40,FIND(\"-\",EQ40,1)+1,7)","v":{"$error":"#REF!"}},null,null,null,null,null,null,null,null,null,"IncExpRentLossOtherValTot",null,null,null,{"$f":"SUM(FK38:FK39)","v":0},null,null,null,null,null,null,null,{"$f":"#REF!","v":{"$error":"#REF!"}},null,{"$f":"'Income & Expense'!J24","v":0},{"$f":"'Income & Expense'!K24","v":0},{"$f":"'Income & Expense'!L24","v":0}]
["cboProjectDescCity",null,0,null,"No",null,false,null,"MN Housing Origination Fee",null,true,null,null,null,null,null,"First Request",null,false,null,"Storage Lockers",null,null,false,null,"Source of Funds:1",null,null,null,null,null,{"$f":"'Housing Income'!D19","v":0},0,{"$f":"IF(HousIncomeUnitTypeHTC1=TRUE,$AF41,0)","v":0},{"$f":"IF(HousIncomeUnitTypeHTC1=FALSE,$AF41,0)","v":0},null,{"$f":"'Housing Income'!E19","v":0},{"$f":"IF(OR(AK41=\"\", AH41=\"\"),0,AK41*AH41)","v":0},{"$f":"IF(OR(AK41=\"\", AI41=\"\"),0,AK41*AI41)","v":0},null,null,null,{"$f":"IF(AND(HousIncomeUnitTypeHTC1=FALSE,OR(HousIncomeUnitTypeEmplOcc1=TRUE, HousIncomeUnitTypeOwnerOcc1=TRUE)),'Housing Income'!$D19,0)","v":0},{"$f":"IF(AND(HousIncomeUnitTypeHTC1=FALSE,OR(HousIncomeUnitTypeEmplOcc1=TRUE, HousIncomeUnitTypeOwnerOcc1=TRUE)),'Housing Income'!$E19,0)","v":0},null,null,null,null,null,null,null,null,"Committed","HTC Gap",null,null,"Credit Prev Alloc",false,null,"TreasuryWaiver",false,false,null,null,{"$f":"IF(AND(OR(HousIncomeUnitTypeEmplOcc16=TRUE,HousIncomeUnitTypeOwnerOcc16=TRUE), HousIncomeUnitTypeHTC16=FALSE),'Housing Income'!E34*BQ41,0)","v":0},0,{"$f":"IF(AND(HousIncomeUnitTypeHTC16=FALSE,HousIncomeUnitTypeEmplOcc16=FALSE,HousIncomeUnitTypeOwnerOcc16=FALSE),'Housing Income'!E34 * BP41, 0)","v":0},{"$f":"IF(AND(HousIncomeUnitTypeHTC16=FALSE,HousIncomeUnitTypeEmplOcc16=FALSE,HousIncomeUnitTypeOwnerOcc16=FALSE),'Housing Income'!D34, 0)","v":0},{"$f":"IF(AND(OR(HousIncomeUnitTypeEmplOcc16=TRUE,HousIncomeUnitTypeOwnerOcc16=TRUE), HousIncomeUnitTypeHTC16=FALSE),'Housing Income'!D34,0)","v":0},null,{"$f":"IF(AND(HousIncomeUnitTypeHOME16=TRUE, HousIncomeUnitTypeHTC16=FALSE),'Housing Income'!D34,0)","v":0},{"$f":"IF(AND(HousIncomeUnitTypeEmplOcc16=TRUE, HousIncomeUnitTypeHTC16=FALSE),'Housing Income'!D34,0)","v":0},{"$f":"IF(AND(HousIncomeUnitTypeOwnerOcc16=TRUE, HousIncomeUnitTypeHTC16=FALSE),'Housing Income'!D34,0)","v":0},{"$f":"IF(AND(HousIncomeUnitTypeRentAssist16=TRUE, HousIncomeUnitTypeHTC16=FALSE),'Housing Income'!D34,0)","v":0},{"$f":"IF(HousIncomeUnitTypeHTC16=TRUE,'Housing Income'!D34,0)","v":0},{"$f":"IF(AND(HousIncomeUnitTypeLTH16=TRUE, HousIncomeUnitTypeHTC16=FALSE),'Housing Income'!D34,0)","v":0},{"$f":"IF(AND(HousIncomeUnitTypeOpSubs16=TRUE, HousIncomeUnitTypeHTC16=FALSE),'Housing Income'!D34,0)","v":0},null,null,0,null,null,false,true,null,null,null,null,null,null,{"$f":"IF(DevCostsAquisRefHoldCosts2=TRUE,'Development Costs'!H13,0)","v":0},null,null,null,null,null,null,null,"Units per Unit Type",null,null,null,null,null,null,{"$f":"IF(ProjDescTargHHFamilies=0, DB40, IF(DB40=\"\", ProjDescTargHHFamiliesDesc, DB40 & \",\" & ProjDescTargHHFamiliesDesc))","v":""},{"$f":"IF('Project Description'!B43=\"\", \"\",VLOOKUP(2,DE$40:DF$62,2,FALSE))","v":""},"",2,{"$f":"'Project Description'!C43","v":"Families"},{"$f":"'Project Description'!B43","v":0},null,{"$f":"#REF!","v":{"$error":"#REF!"}},{"$f":"#REF!","v":{"$error":"#REF!"}},{"$f":"#REF!","v":{"$error":"#REF!"}},{"$f":"#REF!","v":{"$error":"#REF!"}},{"$f":"IF(DI41=\"\",\"\",DI41)","v":{"$error":"#REF!"}},{"$f":"IF(DI41=0,\"\",TRIM(MID(SUBSTITUTE(DM$47,\",\",REPT(\" \",299)),(ROW()-40)*299-298,299)))","v":{"$error":"#REF!"}},{"$f":"IF(ISNA(VLOOKUP(DN41,DI41:DL47, 2, FALSE)),\"\",VLOOKUP(DN41,DI41:DL47, 2, FALSE))","v":{"$error":"#REF!"}},{"$f":"IF(ISNA(VLOOKUP(DN41,DI41:DL47, 3, FALSE)),\"\",VLOOKUP(DN41,DI41:DL47, 3, FALSE))","v":{"$error":"#REF!"}},{"$f":"IF(ISNA(VLOOKUP(DN41,DI41:DL47, 4, FALSE)),\"\",VLOOKUP(DN41,DI41:DL47, 4, FALSE))","v":{"$error":"#REF!"}},null,{"$f":"#REF!","v":{"$error":"#REF!"}},null,null,null,{"$f":"#REF!","v":{"$error":"#REF!"}},null,null,null,{"$f":"Buildings!B7","v":2},null,"",null,{"$f":"Summary!B133","v":""},null,true,null,null,"Type","Name",null,null,null,null,1,{"$f":"#REF!&\"-\"&#REF!","v":{"$error":"#REF!"}},null,null,null,null,false,{"$f":"\"TaxCred\"&MID(EQ41,FIND(\"-\",EQ41,1)+1,5)&\"M\"","v":{"$error":"#REF!"}},null,null,null,null,null,null,null,null,null,"IncExpAdminOtherAdmin",null,null,null,{"$f":"IncExpAdminAppScreenCollExp+IncExpAdminSiteOfficeExp+IncExpAdminOtherAdmin","v":0},null,null,null,null,null,null,null,"Total Rental Loss",null,{"$f":"SUM(FU36:FU40)","v":0},{"$f":"SUM(FV36:FV40)","v":0},{"$f":"SUM(FW36:FW40)","v":0}]
["cboProjectDescCounty",null,0,null,null,null,false,null,"Mortgage Insurance Premium",null,false,null,null,null,null,null,"Supplemental Request",null,false,null,"Club House",null,null,false,null,"N/A",null,false,null,null,null,{"$f":"'Housing Income'!D20","v":0},0,{"$f":"IF(HousIncomeUnitTypeHTC2=TRUE,$AF42,0)","v":0},{"$f":"IF(HousIncomeUnitTypeHTC2=FALSE,$AF42,0)","v":0},null,{"$f":"'Housing Income'!E20","v":0},0,0,null,null,null,{"$f":"IF(AND(HousIncomeUnitTypeHTC2=FALSE,OR(HousIncomeUnitTypeEmplOcc2=TRUE, HousIncomeUnitTypeOwnerOcc2=TRUE)),'Housing Income'!$D20,0)","v":0},{"$f":"IF(AND(HousIncomeUnitTypeHTC2=FALSE,OR(HousIncomeUnitTypeEmplOcc2=TRUE, HousIncomeUnitTypeOwnerOcc2=TRUE)),'Housing Income'!$E20,0)","v":0},null,null,null,null,null,null,{"$f":"Sources!$B15","v":"First Mortgage"},null,false,false,null,null,null,null,null,"OwnerOccupied",false,false,null,null,{"$f":"IF(AND(OR(HousIncomeUnitTypeEmplOcc17=TRUE,HousIncomeUnitTypeOwnerOcc17=TRUE), HousIncomeUnitTypeHTC17=FALSE),'Housing Income'!E35*BQ42,0)","v":0},0,{"$f":"IF(AND(HousIncomeUnitTypeHTC17=FALSE,HousIncomeUnitTypeEmplOcc17=FALSE,HousIncomeUnitTypeOwnerOcc17=FALSE),'Housing Income'!E35 * BP42, 0)","v":0},{"$f":"IF(AND(HousIncomeUnitTypeHTC17=FALSE,HousIncomeUnitTypeEmplOcc17=FALSE,HousIncomeUnitTypeOwnerOcc17=FALSE),'Housing Income'!D35, 0)","v":0},{"$f":"IF(AND(OR(HousIncomeUnitTypeEmplOcc17=TRUE,HousIncomeUnitTypeOwnerOcc17=TRUE), HousIncomeUnitTypeHTC17=FALSE),'Housing Income'!D35,0)","v":0},null,{"$f":"IF(AND(HousIncomeUnitTypeHOME17=TRUE, HousIncomeUnitTypeHTC17=FALSE),'Housing Income'!D35,0)","v":0},{"$f":"IF(AND(HousIncomeUnitTypeEmplOcc17=TRUE, HousIncomeUnitTypeHTC17=FALSE),'Housing Income'!D35,0)","v":0},{"$f":"IF(AND(HousIncomeUnitTypeOwnerOcc17=TRUE, HousIncomeUnitTypeHTC17=FALSE),'Housing Income'!D35,0)","v":0},{"$f":"IF(AND(HousIncomeUnitTypeRentAssist17=TRUE, HousIncomeUnitTypeHTC17=FALSE),'Housing Income'!D35,0)","v":0},{"$f":"IF(HousIncomeUnitTypeHTC17=TRUE,'Housing Income'!D35,0)","v":0},{"$f":"IF(AND(HousIncomeUnitTypeLTH17=TRUE, HousIncomeUnitTypeHTC17=FALSE),'Housing Income'!D35,0)","v":0},{"$f":"IF(AND(HousIncomeUnitTypeOpSubs17=TRUE, HousIncomeUnitTypeHTC17=FALSE),'Housing Income'!D35,0)","v":0},null,null,0,null,null,false,false,"PROFESSIONAL FEES",null,null,null,null,null,null,null,null,null,null,null,null,null,"0BR/SRO","1BR","2BR","3BR","4BR+",null,null,{"$f":"IF(ProjDescTargHHSingHHWChild=0,DB41,IF(DB41=\"\",ProjDescTargHHSingHHWChildDesc,DB41&\",\"&ProjDescTargHHSingHHWChildDesc))","v":""},{"$f":"IF('Project Description'!B44=\"\", \"\",VLOOKUP(3,DE$40:DF$62,2,FALSE))","v":""},"",3,{"$f":"'Project Description'!C44","v":"Single Head of Households with Minor Children"},{"$f":"'Project Description'!B44","v":0},null,{"$f":"ProjSescExistDebtLenders1","v":0},{"$f":"ProjSescExistDebtLoanAmt1","v":0},{"$f":"ProjSescExistDebtUnPBal1","v":0},{"$f":"ProjSescExistDebtMatDate1","v":"00:00:00"},{"$f":"IF(DI42=\"\", DM41, DM41 & \",\" & DI42)","v":{"$error":"#REF!"}},{"$f":"IF(DI42=0,\"\",TRIM(MID(SUBSTITUTE(DM$47,\",\",REPT(\" \",299)),(ROW()-40)*299-298,299)))","v":""},{"$f":"IF(ISNA(VLOOKUP(DN42,DI42:DL48, 2, FALSE)),\"\",VLOOKUP(DN42,DI42:DL48, 2, FALSE))","v":""},{"$f":"IF(ISNA(VLOOKUP(DN42,DI42:DL48, 3, FALSE)),\"\",VLOOKUP(DN42,DI42:DL48, 3, FALSE))","v":""},{"$f":"IF(ISNA(VLOOKUP(DN42,DI42:DL48, 4, FALSE)),\"\",VLOOKUP(DN42,DI42:DL48, 4, FALSE))","v":""},null,null,null,null,null,null,null,null,null,{"$f":"Buildings!B8","v":3},null,null,null,{"$f":"Summary!B134","v":""},null,true,null,null,{"$f":"IF(Sources!B39=\"Rental Assistance\",1,0)","v":0},{"$f":"IF(OR(Sources!E39 = \"MN Hsg Rental Assistance\", Sources!E39 = \"Metro HRA Project Based\", Sources!E39 = \"Minneapolis PHA Project Based\", Sources!E39 = \"S. Paul PHA Project Based\"),1,0)","v":0},{"$f":"IF(SelectedRequestTypeNonRRDL=\"Section811PRATabs\", RACalcTotalGrant, IF(SUM(EJ42:EK42)>=2,Sources!K39,0))","v":0},null,null,null,2,{"$f":"#REF!&\"-\"&#REF!","v":{"$error":"#REF!"}},null,null,null,null,false,{"$f":"\"TaxCred\"&MID(EQ42,FIND(\"-\",EQ42,1)+1,7)&\"Part1\"","v":{"$error":"#REF!"}}]
[null,null,null,null,null,null,null,null,null,null,null,null,null,null,null,null,"Repeat Request - Not Selected",null,false,null,"Swimming Pool",null,null,false,null,"4% credit",null,false,null,null,null,{"$f":"'Housing Income'!D21","v":0},0,{"$f":"IF(HousIncomeUnitTypeHTC3=TRUE,$AF43,0)","v":0},{"$f":"IF(HousIncomeUnitTypeHTC3=FALSE,$AF43,0)","v":0},null,{"$f":"'Housing Income'!E21","v":0},0,0,null,null,null,{"$f":"IF(AND(HousIncomeUnitTypeHTC3=FALSE,OR(HousIncomeUnitTypeEmplOcc3=TRUE, HousIncomeUnitTypeOwnerOcc3=TRUE)),'Housing Income'!$D21,0)","v":0},{"$f":"IF(AND(HousIncomeUnitTypeHTC3=FALSE,OR(HousIncomeUnitTypeEmplOcc3=TRUE, HousIncomeUnitTypeOwnerOcc3=TRUE)),'Housing Income'!$E21,0)","v":0},null,null,null,null,null,null,{"$f":"Sources!$B16","v":"General Partner Cash"},null,false,false,null,"Funding Gap",null,{"$f":"IF(ISERROR(('Determination of Credit'!H64-'Determination of Credit'!H65)*-1),0,('Determination of Credit'!H64-'Determination of Credit'!H65)*-1)","v":0},null,null,null,null,true,false,{"$f":"IF(AND(OR(HousIncomeUnitTypeEmplOcc18=TRUE,HousIncomeUnitTypeOwnerOcc18=TRUE), HousIncomeUnitTypeHTC18=FALSE),'Housing Income'!E36*BQ43,0)","v":0},0,{"$f":"IF(AND(HousIncomeUnitTypeHTC18=FALSE,HousIncomeUnitTypeEmplOcc18=FALSE,HousIncomeUnitTypeOwnerOcc18=FALSE),'Housing Income'!E36 * BP43, 0)","v":0},{"$f":"IF(AND(HousIncomeUnitTypeHTC18=FALSE,HousIncomeUnitTypeEmplOcc18=FALSE,HousIncomeUnitTypeOwnerOcc18=FALSE),'Housing Income'!D36, 0)","v":0},{"$f":"IF(AND(OR(HousIncomeUnitTypeEmplOcc18=TRUE,HousIncomeUnitTypeOwnerOcc18=TRUE), HousIncomeUnitTypeHTC18=FALSE),'Housing Income'!D36,0)","v":0},null,{"$f":"IF(AND(HousIncomeUnitTypeHOME18=TRUE, HousIncomeUnitTypeHTC18=FALSE),'Housing Income'!D36,0)","v":0},{"$f":"IF(AND(HousIncomeUnitTypeEmplOcc18=TRUE, HousIncomeUnitTypeHTC18=FALSE),'Housing Income'!D36,0)","v":0},{"$f":"IF(AND(HousIncomeUnitTypeOwnerOcc18=TRUE, HousIncomeUnitTypeHTC18=FALSE),'Housing Income'!D36,0)","v":0},{"$f":"IF(AND(HousIncomeUnitTypeRentAssist18=TRUE, HousIncomeUnitTypeHTC18=FALSE),'Housing Income'!D36,0)","v":0},{"$f":"IF(HousIncomeUnitTypeHTC18=TRUE,'Housing Income'!D36,0)","v":0},{"$f":"IF(AND(HousIncomeUnitTypeLTH18=TRUE, HousIncomeUnitTypeHTC18=FALSE),'Housing Income'!D36,0)","v":0},{"$f":"IF(AND(HousIncomeUnitTypeOpSubs18=TRUE, HousIncomeUnitTypeHTC18=FALSE),'Housing Income'!D36,0)","v":0},null,null,0,null,null,false,false,{"$f":"'Development Costs'!B49","v":"Architect's Fee Total"},null,null,null,null,null,null,null,null,{"$f":"INDEX(HousIncUnitRentGrid,1,1)","v":0},{"$f":"INDEX(HousIncUnitRentGrid,1,2)","v":0},{"$f":"INDEX(HousIncUnitRentGrid,1,3)","v":0},{"$f":"INDEX(HousIncUnitRentGrid,1,4)","v":0},{"$f":"INDEX(HousIncUnitRentGrid,1,5)","v":0},{"$f":"IF($CP43=\"0BR/SRO\",$CR43,0)","v":0},{"$f":"IF($CP43=\"1BR\",$CR43,0)","v":0},{"$f":"IF($CP43=\"2BR\",$CR43,0)","v":0},{"$f":"IF($CP43=\"3BR\",$CR43,0)","v":0},{"$f":"IF(OR($CP43=\"4BR\",$CP43=\"5BR\",$CP43=\"6BR\",$CP43=\"Bed\"),$CR43,0)","v":0},{"$f":"IF(NOT(ISNA(VLOOKUP(CP43,$CY$65:$CZ$72,2,FALSE))),VLOOKUP(CP43,$CY$65:$CZ$72,2,FALSE),\"\")","v":""},null,{"$f":"IF(ProjDescTargHHIndHHColor=0, DB42, IF(DB42=\"\", ProjDescTargHHIndHHColorDesc, DB42 & \",\" & ProjDescTargHHIndHHColorDesc))","v":""},{"$f":"IF('Project Description'!B45=\"\", \"\",VLOOKUP(4,DE$40:DF$62,2,FALSE))","v":""},"",4,{"$f":"'Project Description'!C45","v":"Individuals and Households of Color"},{"$f":"'Project Description'!B45","v":0},null,{"$f":"ProjSescExistDebtLenders2","v":0},{"$f":"ProjSescExistDebtLoanAmt2","v":0},{"$f":"ProjSescExistDebtUnPBal2","v":0},{"$f":"ProjSescExistDebtMatDate2","v":"00:00:00"},{"$error":"#REF!"},"","","","",null,null,null,null,null,null,null,null,null,{"$f":"Buildings!B9","v":4},null,null,null,{"$f":"Summary!B135","v":""},null,true,null,null,{"$f":"IF(Sources!B40=\"Rental Assistance\",1,0)","v":0},{"$f":"IF(OR(Sources!E40 = \"MN Hsg Rental Assistance\", Sources!E40 = \"Metro HRA Project Based\", Sources!E40 = \"Minneapolis PHA Project Based\", Sources!E40 = \"S. Paul PHA Project Based\"),1,0)","v":0},{"$f":"IF(SUM(EJ43:EK43)>=2,Sources!K40,0)","v":0},null,null,null,3,{"$f":"#REF!&\"-\"&#REF!","v":{"$error":"#REF!"}},null,null,null,null,false,{"$f":"\"TaxCred\"&MID(EQ43,FIND(\"-\",EQ43,1)+1,7)&\"Part2\"","v":{"$error":"#REF!"}},null,null,null,null,null,null,null,null,null,null,null,"RRDL INCOME AND EXPENSE",null,null,null,null,"RRDL INCOME AND EXPENSE",null,null,null,null,{"$f":"#REF!","v":{"$error":"#REF!"}},null,{"$f":"'Income & Expense'!I68","v":0},{"$f":"'Income & Expense'!J68","v":0},{"$f":"'Income & Expense'!K68","v":0}]
[null,null,null,null,null,null,null,null,null,null,null,null,null,null,null,null,"Request Status",null,null,null,"Community Service Facility",null,null,false,null,"Subtract from basis",null,true,null,null,null,{"$f":"'Housing Income'!D22","v":0},0,{"$f":"IF(HousIncomeUnitTypeHTC4=TRUE,$AF44,0)","v":0},{"$f":"IF(HousIncomeUnitTypeHTC4=FALSE,$AF44,0)","v":0},null,{"$f":"'Housing Income'!E22","v":0},0,0,null,null,null,{"$f":"IF(AND(HousIncomeUnitTypeHTC4=FALSE,OR(HousIncomeUnitTypeEmplOcc4=TRUE, HousIncomeUnitTypeOwnerOcc4=TRUE)),'Housing Income'!$D22,0)","v":0},{"$f":"IF(AND(HousIncomeUnitTypeHTC4=FALSE,OR(HousIncomeUnitTypeEmplOcc4=TRUE, HousIncomeUnitTypeOwnerOcc4=TRUE)),'Housing Income'!$E22,0)","v":0},null,null,null,null,null,null,{"$f":"Sources!$B17","v":"Syndication Proceeds"},null,false,false,null,"Equity Factor",null,{"$f":"'Determination of Credit'!H67","v":0},null,null,null,null,null,null,{"$f":"IF(AND(OR(HousIncomeUnitTypeEmplOcc19=TRUE,HousIncomeUnitTypeOwnerOcc19=TRUE), HousIncomeUnitTypeHTC19=FALSE),'Housing Income'!E37*BQ44,0)","v":0},0,{"$f":"IF(AND(HousIncomeUnitTypeHTC19=FALSE,HousIncomeUnitTypeEmplOcc19=FALSE,HousIncomeUnitTypeOwnerOcc19=FALSE),'Housing Income'!E37 * BP44, 0)","v":0},{"$f":"IF(AND(HousIncomeUnitTypeHTC19=FALSE,HousIncomeUnitTypeEmplOcc19=FALSE,HousIncomeUnitTypeOwnerOcc19=FALSE),'Housing Income'!D37, 0)","v":0},{"$f":"IF(AND(OR(HousIncomeUnitTypeEmplOcc19=TRUE,HousIncomeUnitTypeOwnerOcc19=TRUE), HousIncomeUnitTypeHTC19=FALSE),'Housing Income'!D37,0)","v":0},null,{"$f":"IF(AND(HousIncomeUnitTypeHOME19=TRUE, HousIncomeUnitTypeHTC19=FALSE),'Housing Income'!D37,0)","v":0},{"$f":"IF(AND(HousIncomeUnitTypeEmplOcc19=TRUE, HousIncomeUnitTypeHTC19=FALSE),'Housing Income'!D37,0)","v":0},{"$f":"IF(AND(HousIncomeUnitTypeOwnerOcc19=TRUE, HousIncomeUnitTypeHTC19=FALSE),'Housing Income'!D37,0)","v":0},{"$f":"IF(AND(HousIncomeUnitTypeRentAssist19=TRUE, HousIncomeUnitTypeHTC19=FALSE),'Housing Income'!D37,0)","v":0},{"$f":"IF(HousIncomeUnitTypeHTC19=TRUE,'Housing Income'!D37,0)","v":0},{"$f":"IF(AND(HousIncomeUnitTypeLTH19=TRUE, HousIncomeUnitTypeHTC19=FALSE),'Housing Income'!D37,0)","v":0},{"$f":"IF(AND(HousIncomeUnitTypeOpSubs19=TRUE, HousIncomeUnitTypeHTC19=FALSE),'Housing Income'!D37,0)","v":0},null,null,0,null,null,false,true,null,null,0,0,0,0,{"$f":"IF(DevCostsProfFeesArchFeeDesign=TRUE,DevCostsArchFeeDesign,0)","v":0},null,null,{"$f":"INDEX(HousIncUnitRentGrid,2,1)","v":0},{"$f":"INDEX(HousIncUnitRentGrid,2,2)","v":0},{"$f":"INDEX(HousIncUnitRentGrid,2,3)","v":0},{"$f":"INDEX(HousIncUnitRentGrid,2,4)","v":0},{"$f":"INDEX(HousIncUnitRentGrid,2,5)","v":0},{"$f":"IF($CP44=\"0BR/SRO\",CR44,0)","v":0},0,0,0,0,"",null,{"$f":"IF(ProjDescTargHHYouth=0, DB43, IF(DB43=\"\",ProjDescTargHHYouthDesc, DB43 & \",\" & ProjDescTargHHYouthDesc))","v":""},{"$f":"IF('Project Description'!B46=\"\", \"\",VLOOKUP(5,DE$40:DF$62,2,FALSE))","v":""},"",5,{"$f":"'Project Description'!C46","v":"Youth"},{"$f":"'Project Description'!B46","v":0},null,{"$f":"ProjSescExistDebtLenders3","v":0},{"$f":"ProjSescExistDebtLoanAmt3","v":0},{"$f":"ProjSescExistDebtUnPBal3","v":0},{"$f":"ProjSescExistDebtMatDate3","v":"00:00:00"},{"$error":"#REF!"},"","","","",null,null,null,null,null,null,null,null,null,{"$f":"Buildings!B10","v":5},null,null,null,{"$f":"Summary!B136","v":""},null,true,null,null,{"$f":"IF(Sources!B41=\"Rental Assistance\",1,0)","v":0},{"$f":"IF(OR(Sources!E41 = \"MN Hsg Rental Assistance\", Sources!E41 = \"Metro HRA Project Based\", Sources!E41 = \"Minneapolis PHA Project Based\", Sources!E41 = \"S. Paul PHA Project Based\"),1,0)","v":0},{"$f":"IF(SUM(EJ44:EK44)>=2,Sources!K41,0)","v":0},null,null,null,4,{"$f":"#REF!&\"-\"&#REF!","v":{"$error":"#REF!"}},null,null,null,null,false,{"$f":"\"TaxCred\"&MID(EQ44,FIND(\"-\",EQ44,1)+1,7)&\"Part3\"","v":{"$error":"#REF!"}},null,null,null,null,null,null,null,null,null,null,null,"RENTAL LOSS",null,null,null,null,"GROSS POTENTIAL RENT",null,null,null,null,{"$f":"#REF!","v":{"$error":"#REF!"}},null,{"$f":"'Income & Expense'!I69","v":0},{"$f":"'Income & Expense'!J69","v":0},{"$f":"'Income & Expense'!K69","v":0}]
["TARGET HOUSEHOLDS",null,"LTH",null,null,null,null,null,null,null,null,null,null,null,null,null,"Reservation",null,false,null,"Office",null,null,false,null,"Source of Funds:2",null,null,null,null,null,{"$f":"'Housing Income'!D23","v":0},0,{"$f":"IF(HousIncomeUnitTypeHTC5=TRUE,$AF45,0)","v":0},{"$f":"IF(HousIncomeUnitTypeHTC5=FALSE,$AF45,0)","v":0},null,{"$f":"'Housing Income'!E23","v":0},0,0,null,null,null,{"$f":"IF(AND(HousIncomeUnitTypeHTC5=FALSE,OR(HousIncomeUnitTypeEmplOcc5=TRUE, HousIncomeUnitTypeOwnerOcc5=TRUE)),'Housing Income'!$D23,0)","v":0},{"$f":"IF(AND(HousIncomeUnitTypeHTC5=FALSE,OR(HousIncomeUnitTypeEmplOcc5=TRUE, HousIncomeUnitTypeOwnerOcc5=TRUE)),'Housing Income'!$E23,0)","v":0},null,null,null,null,null,null,{"$f":"Sources!$B18","v":"State Historic Proceeds"},null,false,false,null,"10 Year Credit Gap",null,{"$f":"IF(OR(BF44=0,BF44=\"\"),\"\",DetOfCrFundingGap/BF44)","v":""},null,null,null,null,null,null,{"$f":"IF(AND(OR(HousIncomeUnitTypeEmplOcc20=TRUE,HousIncomeUnitTypeOwnerOcc20=TRUE), HousIncomeUnitTypeHTC20=FALSE),'Housing Income'!E38*BQ45,0)","v":0},0,{"$f":"IF(AND(HousIncomeUnitTypeHTC20=FALSE,HousIncomeUnitTypeEmplOcc20=FALSE,HousIncomeUnitTypeOwnerOcc20=FALSE),'Housing Income'!E38 * BP45, 0)","v":0},{"$f":"IF(AND(HousIncomeUnitTypeHTC20=FALSE,HousIncomeUnitTypeEmplOcc20=FALSE,HousIncomeUnitTypeOwnerOcc20=FALSE),'Housing Income'!D38, 0)","v":0},{"$f":"IF(AND(OR(HousIncomeUnitTypeEmplOcc20=TRUE,HousIncomeUnitTypeOwnerOcc20=TRUE), HousIncomeUnitTypeHTC20=FALSE),'Housing Income'!D38,0)","v":0},null,{"$f":"IF(AND(HousIncomeUnitTypeHOME20=TRUE, HousIncomeUnitTypeHTC20=FALSE),'Housing Income'!D38,0)","v":0},{"$f":"IF(AND(HousIncomeUnitTypeEmplOcc20=TRUE, HousIncomeUnitTypeHTC20=FALSE),'Housing Income'!D38,0)","v":0},{"$f":"IF(AND(HousIncomeUnitTypeOwnerOcc20=TRUE, HousIncomeUnitTypeHTC20=FALSE),'Housing Income'!D38,0)","v":0},{"$f":"IF(AND(HousIncomeUnitTypeRentAssist20=TRUE, HousIncomeUnitTypeHTC20=FALSE),'Housing Income'!D38,0)","v":0},{"$f":"IF(HousIncomeUnitTypeHTC20=TRUE,'Housing Income'!D38,0)","v":0},{"$f":"IF(AND(HousIncomeUnitTypeLTH20=TRUE, HousIncomeUnitTypeHTC20=FALSE),'Housing Income'!D38,0)","v":0},{"$f":"IF(AND(HousIncomeUnitTypeOpSubs20=TRUE, HousIncomeUnitTypeHTC20=FALSE),'Housing Income'!D38,0)","v":0},null,null,0,null,null,false,true,null,null,0,0,0,0,{"$f":"IF(DevCostsProfFeesArchFeeSuper,DevCostsArchFeeSupervision,0)","v":0},null,null,{"$f":"INDEX(HousIncUnitRentGrid,3,1)","v":0},{"$f":"INDEX(HousIncUnitRentGrid,3,2)","v":0},{"$f":"INDEX(HousIncUnitRentGrid,3,3)","v":0},{"$f":"INDEX(HousIncUnitRentGrid,3,4)","v":0},{"$f":"INDEX(HousIncUnitRentGrid,3,5)","v":0},0,0,0,0,0,"",null,{"$f":"IF(ProjDescTargHHSingMen=0, DB44, IF(DB44=\"\", ProjDescTargHHSingMenDesc, DB44 & \",\" & ProjDescTargHHSingMenDesc))","v":""},{"$f":"IF('Project Description'!B47=\"\", \"\",VLOOKUP(6,DE$40:DF$62,2,FALSE))","v":""},"",6,{"$f":"'Project Description'!C47","v":"Single Men"},{"$f":"'Project Description'!B47","v":0},null,{"$f":"ProjSescExistDebtLenders4","v":0},{"$f":"ProjSescExistDebtLoanAmt4","v":0},{"$f":"ProjSescExistDebtUnPBal4","v":0},{"$f":"ProjSescExistDebtMatDate4","v":"00:00:00"},{"$error":"#REF!"},"","","","",null,null,null,null,null,null,null,null,null,{"$f":"Buildings!B11","v":6},null,null,null,null,null,null,null,null,{"$f":"IF(Sources!B42=\"Rental Assistance\",1,0)","v":0},{"$f":"IF(OR(Sources!E42 = \"MN Hsg Rental Assistance\", Sources!E42 = \"Metro HRA Project Based\", Sources!E42 = \"Minneapolis PHA Project Based\", Sources!E42 = \"S. Paul PHA Project Based\"),1,0)","v":0},{"$f":"IF(SUM(EJ45:EK45)>=2,Sources!K42,0)","v":0},null,null,null,5,{"$f":"#REF!&\"-\"&#REF!","v":{"$error":"#REF!"}},null,null,null,null,false,{"$f":"\"TaxCred\"&MID(EQ45,FIND(\"-\",EQ45,1)+1,7)","v":{"$error":"#REF!"}},null,null,"PRESERVATION",null,null,null,"MORTGAGE RATE CALC",null,null,null,null,"IncExpRentLossOther1Val",null,null,null,{"$f":"RRDL_OtherIncomeOther1Amt","v":{"$error":"#NAME?"}},{"$f":"#REF!","v":{"$error":"#REF!"}},null,{"$f":"IF(RRDL_HousIncRentHousPotTot=\"\",0,RRDL_HousIncRentHousPotTot)","v":{"$error":"#NAME?"}},{"$f":"IF(RRDL_HousIncRentHousPotPerUnit=\"\",0,RRDL_HousIncRentHousPotPerUnit)","v":{"$error":"#NAME?"}},{"$f":"IF(#REF!=\"\",0,#REF!)","v":{"$error":"#REF!"}},{"$f":"#REF!","v":{"$error":"#REF!"}},null,{"$f":"'Income & Expense'!I70","v":0},{"$f":"'Income & Expense'!J70","v":0},{"$f":"'Income & Expense'!K70","v":0}]
[{"$f":"ProjDescTargHHFamily+ProjDescTargHHSingAdults+ProjDescTargHHUnAccompYouth","v":0},null,null,null,null,null,null,null,null,null,null,null,null,null,null,null,"Carryover",null,false,null,"Other",null,null,false,null,"N/A",null,false,null,null,null,{"$f":"'Housing Income'!D24","v":0},0,{"$f":"IF(HousIncomeUnitTypeHTC6=TRUE,$AF46,0)","v":0},{"$f":"IF(HousIncomeUnitTypeHTC6=FALSE,$AF46,0)","v":0},null,{"$f":"'Housing Income'!E24","v":0},0,0,null,null,null,{"$f":"IF(AND(HousIncomeUnitTypeHTC6=FALSE,OR(HousIncomeUnitTypeEmplOcc6=TRUE, HousIncomeUnitTypeOwnerOcc6=TRUE)),'Housing Income'!$D24,0)","v":0},{"$f":"IF(AND(HousIncomeUnitTypeHTC6=FALSE,OR(HousIncomeUnitTypeEmplOcc6=TRUE, HousIncomeUnitTypeOwnerOcc6=TRUE)),'Housing Income'!$E24,0)","v":0},null,null,null,null,null,null,{"$f":"Sources!$B19","v":"Federal Historic Proceeds"},null,false,false,null,"10 Year Credit Gap2",null,0,null,"DETERMINATION OF CREDIT",null,null,null,null,{"$f":"IF(AND(OR(HousIncomeUnitTypeEmplOcc21=TRUE,HousIncomeUnitTypeOwnerOcc21=TRUE), HousIncomeUnitTypeHTC21=FALSE),'Housing Income'!E39*BQ46,0)","v":0},0,{"$f":"IF(AND(HousIncomeUnitTypeHTC21=FALSE,HousIncomeUnitTypeEmplOcc21=FALSE,HousIncomeUnitTypeOwnerOcc21=FALSE),'Housing Income'!E39 * BP46, 0)","v":0},{"$f":"IF(AND(HousIncomeUnitTypeHTC21=FALSE,HousIncomeUnitTypeEmplOcc21=FALSE,HousIncomeUnitTypeOwnerOcc21=FALSE),'Housing Income'!D39, 0)","v":0},{"$f":"IF(AND(OR(HousIncomeUnitTypeEmplOcc21=TRUE,HousIncomeUnitTypeOwnerOcc21=TRUE), HousIncomeUnitTypeHTC21=FALSE),'Housing Income'!D39,0)","v":0},null,{"$f":"IF(AND(HousIncomeUnitTypeHOME21=TRUE, HousIncomeUnitTypeHTC21=FALSE),'Housing Income'!D39,0)","v":0},{"$f":"IF(AND(HousIncomeUnitTypeEmplOcc21=TRUE, HousIncomeUnitTypeHTC21=FALSE),'Housing Income'!D39,0)","v":0},{"$f":"IF(AND(HousIncomeUnitTypeOwnerOcc21=TRUE, HousIncomeUnitTypeHTC21=FALSE),'Housing Income'!D39,0)","v":0},{"$f":"IF(AND(HousIncomeUnitTypeRentAssist21=TRUE, HousIncomeUnitTypeHTC21=FALSE),'Housing Income'!D39,0)","v":0},{"$f":"IF(HousIncomeUnitTypeHTC21=TRUE,'Housing Income'!D39,0)","v":0},{"$f":"IF(AND(HousIncomeUnitTypeLTH21=TRUE, HousIncomeUnitTypeHTC21=FALSE),'Housing Income'!D39,0)","v":0},{"$f":"IF(AND(HousIncomeUnitTypeOpSubs21=TRUE, HousIncomeUnitTypeHTC21=FALSE),'Housing Income'!D39,0)","v":0},null,null,null,null,null,null,true,null,null,0,0,0,0,{"$f":"IF(DevCostsProfFeesArchReimb=TRUE,DevCostsProfFeesArchReim,0)","v":0},null,null,{"$f":"INDEX(HousIncUnitRentGrid,4,1)","v":0},{"$f":"INDEX(HousIncUnitRentGrid,4,2)","v":0},{"$f":"INDEX(HousIncUnitRentGrid,4,3)","v":0},{"$f":"INDEX(HousIncUnitRentGrid,4,4)","v":0},{"$f":"INDEX(HousIncUnitRentGrid,4,5)","v":0},0,0,0,0,0,"",null,{"$f":"IF(ProjDescTargHHSingWomen=0, DB45, IF(DB45=\"\", ProjDescTargHHSingWomenDesc, DB45 & \",\" & ProjDescTargHHSingWomenDesc))","v":""},{"$f":"IF('Project Description'!B48=\"\", \"\",VLOOKUP(7,DE$40:DF$62,2,FALSE))","v":""},"",7,{"$f":"'Project Description'!C48","v":"Single Women"},{"$f":"'Project Description'!B48","v":0},null,{"$f":"ProjSescExistDebtLenders5","v":0},{"$f":"ProjSescExistDebtLoanAmt5","v":0},{"$f":"ProjSescExistDebtUnPBal5","v":0},{"$f":"ProjSescExistDebtMatDate5","v":"00:00:00"},{"$error":"#REF!"},"","","","",null,null,null,null,null,null,null,null,null,{"$f":"Buildings!B12","v":7},null,null,null,null,null,null,null,null,null,"Total Rent Assist",{"$f":"SUM(EL42:EL45)","v":0},null,null,null,6,{"$f":"#REF!&\"-\"&#REF!","v":{"$error":"#REF!"}},null,null,null,null,false,{"$f":"\"TaxCred\"&MID(EQ46,FIND(\"-\",EQ46,1)+1,7)","v":{"$error":"#REF!"}},null,null,"Project & Mkt Comp Rents",null,null,null,"Effective Rate with all Minnesota Housing Funds",null,null,null,null,"IncExpRentLossOther2Val",null,null,null,{"$f":"RRDL_OtherIncomeOther2Amt","v":{"$error":"#NAME?"}},{"$f":"#REF!","v":{"$error":"#REF!"}},null,{"$f":"IF(RRDL_IncExpCoveredParking=\"\",0,RRDL_IncExpCoveredParking)","v":{"$error":"#NAME?"}},{"$f":"IF(RRDL_IncExpCoveredParkingPerUnit=\"\",0,RRDL_IncExpCoveredParkingPerUnit)","v":{"$error":"#NAME?"}},{"$f":"#REF!","v":{"$error":"#REF!"}},"Total Escrow Reserves",null,{"$f":"SUM(FU43:FU45)","v":0},{"$f":"SUM(FV43:FV45)","v":0},{"$f":"SUM(FW43:FW45)","v":0}]
[{"$f":"IF(ProjDescTargHHSerMentalIll <> ProjDescTargHHSerPersMentalIll, ProjDescTargHHSerMentalIll, ProjDescTargHHSerPersMentalIll)","v":0},null,null,null,null,null,null,null,null,null,null,null,null,null,null,null,8609,null,false,null,null,null,null,null,null,"4% credit",null,true,null,null,null,{"$f":"'Housing Income'!D25","v":0},0,{"$f":"IF(HousIncomeUnitTypeHTC7=TRUE,$AF47,0)","v":0},{"$f":"IF(HousIncomeUnitTypeHTC7=FALSE,$AF47,0)","v":0},null,{"$f":"'Housing Income'!E25","v":0},0,0,null,null,null,{"$f":"IF(AND(HousIncomeUnitTypeHTC7=FALSE,OR(HousIncomeUnitTypeEmplOcc7=TRUE, HousIncomeUnitTypeOwnerOcc7=TRUE)),'Housing Income'!$D25,0)","v":0},{"$f":"IF(AND(HousIncomeUnitTypeHTC7=FALSE,OR(HousIncomeUnitTypeEmplOcc7=TRUE, HousIncomeUnitTypeOwnerOcc7=TRUE)),'Housing Income'!$E25,0)","v":0},null,null,null,null,null,null,{"$f":"Sources!$B20","v":"Deferred Loan Request"},null,false,false,null,"Annual Credit Gap",null,{"$f":"ROUND((TenYrCrGap/10),0)","v":0},null,"TAX CREDIT SYNDICATION",null,null,null,null,{"$f":"SUM(BM26:BM46)","v":0},null,{"$f":"SUM(BO26:BO46)","v":0},{"$f":"SUM(BP26:BP46)","v":0},{"$f":"SUM(BQ26:BQ46)","v":0},null,{"$f":"SUM(BS26:BS46)","v":0},0,0,0,0,0,0,null,null,null,null,null,null,true,null,null,0,0,0,0,{"$f":"IF(DevCostsProfFeesMktg=TRUE,'Development Costs'!H53,0)","v":0},null,null,{"$f":"INDEX(HousIncUnitRentGrid,5,1)","v":0},{"$f":"INDEX(HousIncUnitRentGrid,5,2)","v":0},{"$f":"INDEX(HousIncUnitRentGrid,5,3)","v":0},{"$f":"INDEX(HousIncUnitRentGrid,5,4)","v":0},{"$f":"INDEX(HousIncUnitRentGrid,5,5)","v":0},0,0,0,0,0,"",null,{"$f":"IF(ProjDescTargHHElderly=0, DB46, IF(DB46=\"\", ProjDescTargHHElderlyDesc, DB46 & \",\" & ProjDescTargHHElderlyDesc))","v":""},{"$f":"IF('Project Description'!B49=\"\", \"\",VLOOKUP(8,DE$40:DF$62,2,FALSE))","v":""},"",8,{"$f":"'Project Description'!C49","v":"Elderly"},{"$f":"'Project Description'!B49","v":0},null,{"$f":"ProjSescExistDebtLenders6","v":0},{"$f":"ProjSescExistDebtLoanAmt6","v":0},{"$f":"ProjSescExistDebtUnPBal6","v":0},{"$f":"ProjSescExistDebtMatDate6","v":"00:00:00"},{"$error":"#REF!"},"","","","",null,null,null,null,null,null,null,null,null,{"$f":"Buildings!B13","v":8},null,null,null,null,null,null,null,null,null,null,null,null,null,null,7,{"$f":"#REF!&\"-\"&#REF!","v":{"$error":"#REF!"}},null,null,null,null,false,{"$f":"\"TaxCred\"&MID(EQ47,FIND(\"-\",EQ47,1)+1,7)","v":{"$error":"#REF!"}},null,null,"# Units","Monthly Contract Rent","Mkt Rent Based on Comps","Mkt Rent Based on Comps * Unit","Loan Number",null,null,null,null,"IncExpRentLossOtherValTot",null,null,null,{"$f":"SUM(FM45:FM46)","v":{"$error":"#NAME?"}},{"$f":"#REF!","v":{"$error":"#REF!"}},null,{"$f":"IF(RRDL_IncExpCoveredParking=\"\",0,RRDL_IncExpCoveredParking)","v":{"$error":"#NAME?"}},{"$f":"RRDL_IncExpCoveredParkingPerUnit","v":{"$error":"#NAME?"}},{"$f":"IF(#REF!=\"\",0,#REF!)","v":{"$error":"#REF!"}}]
[null,null,null,null,null,null,null,null,null,null,null,null,null,null,null,null,"Tax Exempt Bond Credits",null,false,null,null,null,null,null,null,"Subtract from basis",null,false,null,null,null,{"$f":"'Housing Income'!D26","v":0},0,{"$f":"IF(HousIncomeUnitTypeHTC8=TRUE,$AF48,0)","v":0},{"$f":"IF(HousIncomeUnitTypeHTC8=FALSE,$AF48,0)","v":0},null,{"$f":"'Housing Income'!E26","v":0},0,0,null,null,null,{"$f":"IF(AND(HousIncomeUnitTypeHTC8=FALSE,OR(HousIncomeUnitTypeEmplOcc8=TRUE, HousIncomeUnitTypeOwnerOcc8=TRUE)),'Housing Income'!$D26,0)","v":0},{"$f":"IF(AND(HousIncomeUnitTypeHTC8=FALSE,OR(HousIncomeUnitTypeEmplOcc8=TRUE, HousIncomeUnitTypeOwnerOcc8=TRUE)),'Housing Income'!$E26,0)","v":0},null,null,null,null,null,null,{"$f":"Sources!$B21","v":0},null,false,false,null,null,null,null,null,"Tax Credits offered",null,false,null,null,"Comm Sp SqFt",null,"Market Rate SqFt","Market Rate Units","Common Space",null,"HOME","Empl Occ","Own Occ","Rent Asst","HTC","LTH","Op Sub",null,null,"SOURCES",null,null,null,false,{"$f":"'Development Costs'!B54","v":"Surveys"},false,0,0,0,0,{"$f":"IF(DevCostsProfFeesSurveys=TRUE,'Development Costs'!H54,0)","v":0},null,null,{"$f":"INDEX(HousIncUnitRentGrid,6,1)","v":0},{"$f":"INDEX(HousIncUnitRentGrid,6,2)","v":0},{"$f":"INDEX(HousIncUnitRentGrid,6,3)","v":0},{"$f":"INDEX(HousIncUnitRentGrid,6,4)","v":0},{"$f":"INDEX(HousIncUnitRentGrid,6,5)","v":0},0,0,0,0,0,"",null,{"$f":"IF(ProjDescTargHHDisabledInd=0, DB47, IF(DB47=\"\", ProjDescTargHHDisabledIndDesc, DB47 & \",\" & ProjDescTargHHDisabledIndDesc))","v":""},{"$f":"IF('Project Description'!B50=\"\", \"\",VLOOKUP(9,DE$40:DF$62,2,FALSE))","v":""},"",9,{"$f":"'Project Description'!C50","v":"Disabled Individuals"},{"$f":"'Project Description'!B50","v":0},null,{"$f":"ProjSescExistDebtLenders7","v":0},{"$f":"ProjSescExistDebtLoanAmt7","v":0},{"$f":"ProjSescExistDebtUnPBal7","v":0},{"$f":"ProjSescExistDebtMatDate7","v":"00:00:00"},{"$f":"IF(DI48=\"\", DM47, DM47 & \",\" & DI48)","v":{"$error":"#REF!"}},{"$f":"IF(DI48=0,\"\",TRIM(MID(SUBSTITUTE(DM$47,\",\",REPT(\" \",299)),(ROW()-40)*299-298,299)))","v":""},{"$f":"IF(ISNA(VLOOKUP(DN48,DI48:DL54, 2, FALSE)),\"\",VLOOKUP(DN48,DI48:DL54, 2, FALSE))","v":""},{"$f":"IF(ISNA(VLOOKUP(DN48,DI48:DL54, 3, FALSE)),\"\",VLOOKUP(DN48,DI48:DL54, 3, FALSE))","v":""},{"$f":"IF(ISNA(VLOOKUP(DN48,DI48:DL54, 4, FALSE)),\"\",VLOOKUP(DN48,DI48:DL54, 4, FALSE))","v":""},null,null,null,null,null,null,null,null,null,{"$f":"Buildings!B14","v":9},null,null,null,null,null,null,null,null,"Operating Subsidy",null,null,null,null,null,10,{"$f":"#REF!&\"-\"&#REF!","v":{"$error":"#REF!"}},null,null,null,null,false,{"$f":"LEFT(EQ48,7)&MID(EQ48,FIND(\"-\",EQ48,1)+1,7)","v":{"$error":"#REF!"}},null,null,{"$f":"IF(#REF!=\"\",0,#REF!)","v":{"$error":"#REF!"}},{"$f":"EZ48*#REF!","v":{"$error":"#REF!"}},{"$f":"EZ48*#REF!","v":{"$error":"#REF!"}},{"$f":"FB48*EZ48","v":{"$error":"#REF!"}},1,{"$f":"IF(MortRateCalcLoanAmt1=\"\",0,MortRateCalcLoanAmt1)","v":{"$error":"#NAME?"}},null,null,null,"IncExpAdminOtherAdmin",null,null,null,{"$f":"RRDL_OpExpCollExp+RRDL_OpExpOffExp+RRDL_OpExpOtherAdmin","v":{"$error":"#NAME?"}},{"$f":"#REF!","v":{"$error":"#REF!"}},null,{"$f":"IF(RRDL_IncExpSurfaceParkingTot=\"\",0,RRDL_IncExpSurfaceParkingTot)","v":{"$error":"#NAME?"}},{"$f":"IF(RRDL_IncExpSurfaceParkingPerUnit=\"\",0,RRDL_IncExpSurfaceParkingPerUnit)","v":{"$error":"#NAME?"}},{"$f":"IF(#REF!=\"\",0,#REF!)","v":{"$error":"#REF!"}},"RRDL Reserves & Escrows Subtotal"]
[null,null,null,null,null,null,null,null,null,null,null,null,null,null,null,null,"Set-Aside of Housing Credits Requested",null,null,null,null,null,null,null,null,"Community Service Facility Conditions Met",null,null,null,null,null,{"$f":"'Housing Income'!D27","v":0},0,{"$f":"IF(HousIncomeUnitTypeHTC9=TRUE,$AF49,0)","v":0},{"$f":"IF(HousIncomeUnitTypeHTC9=FALSE,$AF49,0)","v":0},null,{"$f":"'Housing Income'!E27","v":0},0,0,null,null,null,{"$f":"IF(AND(HousIncomeUnitTypeHTC9=FALSE,OR(HousIncomeUnitTypeEmplOcc9=TRUE, HousIncomeUnitTypeOwnerOcc9=TRUE)),'Housing Income'!$D27,0)","v":0},{"$f":"IF(AND(HousIncomeUnitTypeHTC9=FALSE,OR(HousIncomeUnitTypeEmplOcc9=TRUE, HousIncomeUnitTypeOwnerOcc9=TRUE)),'Housing Income'!$E27,0)","v":0},null,null,null,null,null,null,{"$f":"Sources!$B22","v":0},null,false,false,null,null,null,null,null,"Type ofOffering",null,false,null,null,null,null,"MR","HTC","HOME","LTH","RRDL","Empl Occ","Owner Occ","Rent Asst","Op Subs","RRDL CheckBox & RRDL Limit",null,null,null,"RENTAL ASSIST OR OP SUB FUND",null,null,null,false,{"$f":"'Development Costs'!B55","v":"Soil Borings"},false,0,0,0,0,{"$f":"IF(DevCostsProfFeesSoilBorings=TRUE,'Development Costs'!H55,0)","v":0},null,null,{"$f":"INDEX(HousIncUnitRentGrid,7,1)","v":0},{"$f":"INDEX(HousIncUnitRentGrid,7,2)","v":0},{"$f":"INDEX(HousIncUnitRentGrid,7,3)","v":0},{"$f":"INDEX(HousIncUnitRentGrid,7,4)","v":0},{"$f":"INDEX(HousIncUnitRentGrid,7,5)","v":0},0,0,0,0,0,"",null,{"$f":"IF(ProjDescTargHHHIV=0, DB48, IF(DB48=\"\", ProjDescTargHHHIVDesc, DB48 & \",\" & ProjDescTargHHHIVDesc))","v":""},{"$f":"IF('Project Description'!B51=\"\", \"\",VLOOKUP(10,DE$40:DF$62,2,FALSE))","v":""},"",10,{"$f":"'Project Description'!C51","v":"Persons with HIV/AIDS"},{"$f":"'Project Description'!B51","v":0},null,null,null,null,null,null,null,null,null,null,null,null,null,null,null,null,null,null,null,{"$f":"Buildings!B15","v":10},null,null,null,null,null,null,null,null,"Type","Name",null,null,null,null,11,{"$f":"#REF!&\"-\"&#REF!","v":{"$error":"#REF!"}},null,null,null,null,false,{"$f":"LEFT(EQ49,7)&MID(EQ49,FIND(\"-\",EQ49,1)+1,7)","v":{"$error":"#REF!"}},null,null,{"$f":"IF(#REF!=\"\",0,#REF!)","v":{"$error":"#REF!"}},{"$f":"EZ49*#REF!","v":{"$error":"#REF!"}},{"$f":"EZ49*#REF!","v":{"$error":"#REF!"}},{"$f":"FB49*EZ49","v":{"$error":"#REF!"}},2,{"$f":"IF(MortRateCalcLoanAmt2=\"\",0,MortRateCalcLoanAmt2)","v":{"$error":"#NAME?"}},null,null,null,null,null,null,null,null,{"$f":"#REF!","v":{"$error":"#REF!"}},null,{"$f":"RRDL_IncExpGrossPotRentCommPotTot","v":{"$error":"#NAME?"}},{"$f":"RRDL_IncExpGrossPotRentCommPotPerUnit","v":{"$error":"#NAME?"}},{"$f":"IF(#REF!=\"\",0,#REF!)","v":{"$error":"#REF!"}},"Real Estate Taxes",null,{"$f":"IF(RRDL_IncExpRETaxes=\"\",0,RRDL_IncExpRETaxes)","v":{"$error":"#NAME?"}},{"$f":"#REF!","v":{"$error":"#REF!"}},{"$f":"#REF!","v":{"$error":"#REF!"}}]
[null,null,null,null,null,null,null,null,null,null,null,null,null,null,null,null,"Greater MN For-Profit",null,false,null,null,null,null,null,null,null,null,false,false,null,null,{"$f":"'Housing Income'!D28","v":0},0,{"$f":"IF(HousIncomeUnitTypeHTC10=TRUE,$AF50,0)","v":0},{"$f":"IF(HousIncomeUnitTypeHTC10=FALSE,$AF50,0)","v":0},null,{"$f":"'Housing Income'!E28","v":0},0,0,null,null,null,{"$f":"IF(AND(HousIncomeUnitTypeHTC10=FALSE,OR(HousIncomeUnitTypeEmplOcc10=TRUE, HousIncomeUnitTypeOwnerOcc10=TRUE)),'Housing Income'!$D28,0)","v":0},{"$f":"IF(AND(HousIncomeUnitTypeHTC10=FALSE,OR(HousIncomeUnitTypeEmplOcc10=TRUE, HousIncomeUnitTypeOwnerOcc10=TRUE)),'Housing Income'!$E28,0)","v":0},null,null,null,null,null,null,{"$f":"Sources!$B23","v":0},null,false,false,null,null,null,null,null,null,null,null,false,null,null,null,{"$f":"IF(BO4=TRUE,'Housing Income'!$D19,0)","v":0},{"$f":"IF(BP4=TRUE,'Housing Income'!$D19,0)","v":0},{"$f":"IF(BQ4=TRUE,'Housing Income'!$D19,0)","v":0},{"$f":"IF(BR4=TRUE,'Housing Income'!$D19,0)","v":0},{"$f":"IF(BS4=TRUE,'Housing Income'!$D19,0)","v":0},{"$f":"IF(BT4=TRUE,'Housing Income'!$D19,0)","v":0},{"$f":"IF(BU4=TRUE,'Housing Income'!$D19,0)","v":0},{"$f":"IF(BV4=TRUE,'Housing Income'!$D19,0)","v":0},{"$f":"IF(BW4=TRUE,'Housing Income'!$D19,0)","v":0},null,{"$f":"IF(AND(BS4=TRUE, 'Housing Income'!$J19=\"RRDL Limit\"),'Housing Income'!$D19,0)","v":0},null,null,{"$f":"Sources!$B$39","v":0},{"$f":"IF(CB50=\"Rental Assistance\",Sources!K39,0)","v":0},{"$f":"IF(CB50=\"Operating Subsidy\",Sources!K39,0)","v":0},false,false,{"$f":"'Development Costs'!B56","v":"Payment & Performance Bond Premium"},false,0,0,0,0,{"$f":"IF(DevCostsProfFeesPayment=TRUE,'Development Costs'!H56,0)","v":0},null,null,{"$f":"INDEX(HousIncUnitRentGrid,8,1)","v":0},{"$f":"INDEX(HousIncUnitRentGrid,8,2)","v":0},{"$f":"INDEX(HousIncUnitRentGrid,8,3)","v":0},{"$f":"INDEX(HousIncUnitRentGrid,8,4)","v":0},{"$f":"INDEX(HousIncUnitRentGrid,8,5)","v":0},0,0,0,0,0,"",null,{"$f":"IF(ProjDescTargHHOther=0, DB49, IF(DB49=\"\", ProjDescTargHHOtherSpec, DB49 & \",\" & ProjDescTargHHOtherSpec))","v":""},{"$f":"IF('Project Description'!B52=\"\", \"\",VLOOKUP(11,DE$40:DF$62,2,FALSE))","v":""},"",11,{"$f":"'Project Description'!E52","v":0},{"$f":"'Project Description'!B52","v":0},null,"RRDL SUMMARY",null,null,null,null,null,null,"RRDL SUMMARY",null,null,null,null,null,null,null,null,null,null,{"$f":"Buildings!B16","v":11},null,null,null,null,null,null,null,null,{"$f":"IF(Sources!B39=\"Operating Subsidy\",1,0)","v":0},{"$f":"IF(OR(Sources!E39 = \"MN Hsg Operating Subsidy\", Sources!E45 = \"DHS HSASMI Operating Subsidy\"),1,0)","v":0},{"$f":"IF(SUM(EJ50:EK50)>=2,Sources!K39,0)","v":0},null,null,null,1,{"$f":"#REF!&\"-\"&#REF!","v":{"$error":"#REF!"}},null,null,null,null,false,{"$f":"LEFT(EQ50,7)&MID(EQ50,FIND(\"-\",EQ50,1)+1,5)&\"M\"","v":{"$error":"#REF!"}},null,null,{"$f":"IF(#REF!=\"\",0,#REF!)","v":{"$error":"#REF!"}},{"$f":"EZ50*#REF!","v":{"$error":"#REF!"}},{"$f":"EZ50*#REF!","v":{"$error":"#REF!"}},{"$error":"#REF!"},3,{"$f":"IF(MortRateCalcLoanAmt3=\"\",0,MortRateCalcLoanAmt3)","v":{"$error":"#NAME?"}},null,null,null,"Rental Housing Potential",null,null,{"$f":"RRDL_HousIncRentHousPotTot","v":{"$error":"#NAME?"}},null,null,null,{"$f":"SUM(FP45:FP49)","v":{"$error":"#NAME?"}},{"$f":"SUM(FQ45:FQ49)","v":{"$error":"#NAME?"}},{"$f":"SUM(FR45:FR49)","v":{"$error":"#REF!"}},"Replacement Reserve",null,{"$f":"IF(RRDL_IncExpReplRes=\"\",0,RRDL_IncExpReplRes)","v":{"$error":"#NAME?"}},{"$f":"#REF!","v":{"$error":"#REF!"}},{"$f":"#REF!","v":{"$error":"#REF!"}}]
[null,null,null,null,null,null,null,null,null,null,null,null,null,null,null,null,"Greater MN Non-Profit*",null,false,null,null,null,null,null,null,"TAX EXEMPT BOND FINANCING",null,null,null,null,null,{"$f":"'Housing Income'!D29","v":0},0,{"$f":"IF(HousIncomeUnitTypeHTC11=TRUE,$AF51,0)","v":0},{"$f":"IF(HousIncomeUnitTypeHTC11=FALSE,$AF51,0)","v":0},null,{"$f":"'Housing Income'!E29","v":0},0,0,null,null,null,{"$f":"IF(AND(HousIncomeUnitTypeHTC11=FALSE,OR(HousIncomeUnitTypeEmplOcc11=TRUE, HousIncomeUnitTypeOwnerOcc11=TRUE)),'Housing Income'!$D29,0)","v":0},{"$f":"IF(AND(HousIncomeUnitTypeHTC11=FALSE,OR(HousIncomeUnitTypeEmplOcc11=TRUE, HousIncomeUnitTypeOwnerOcc11=TRUE)),'Housing Income'!$E29,0)","v":0},null,null,null,null,null,null,{"$f":"Sources!$B24","v":0},null,false,false,null,null,null,null,null,null,null,null,true,null,null,null,{"$f":"IF(BO5=TRUE,'Housing Income'!$D20,0)","v":0},{"$f":"IF(BP5=TRUE,'Housing Income'!$D20,0)","v":0},{"$f":"IF(BQ5=TRUE,'Housing Income'!$D20,0)","v":0},{"$f":"IF(BR5=TRUE,'Housing Income'!$D20,0)","v":0},{"$f":"IF(BS5=TRUE,'Housing Income'!$D20,0)","v":0},{"$f":"IF(BT5=TRUE,'Housing Income'!$D20,0)","v":0},{"$f":"IF(BU5=TRUE,'Housing Income'!$D20,0)","v":0},{"$f":"IF(BV5=TRUE,'Housing Income'!$D20,0)","v":0},{"$f":"IF(BW5=TRUE,'Housing Income'!$D20,0)","v":0},null,{"$f":"IF(AND(BS5=TRUE, 'Housing Income'!$J20=\"RRDL Limit\"),'Housing Income'!$D20,0)","v":0},null,null,{"$f":"Sources!$B$40","v":0},{"$f":"IF(CB51=\"Rental Assistance\",Sources!K40,0)","v":0},{"$f":"IF(CB51=\"Operating Subsidy\",Sources!K40,0)","v":0},false,false,{"$f":"'Development Costs'!B57","v":"Building Permit(s)"},false,0,0,0,0,{"$f":"IF(DevCostsProfFeesBuildPermit=TRUE,'Development Costs'!H57,0)","v":0},null,null,{"$f":"INDEX(HousIncUnitRentGrid,9,1)","v":0},{"$f":"INDEX(HousIncUnitRentGrid,9,2)","v":0},{"$f":"INDEX(HousIncUnitRentGrid,9,3)","v":0},{"$f":"INDEX(HousIncUnitRentGrid,9,4)","v":0},{"$f":"INDEX(HousIncUnitRentGrid,9,5)","v":0},0,0,0,0,0,"",null,{"$f":"IF(ProjDescTargHHAtRiskHomeless=0, DB50, IF(DB50=\"\", ProjDescTargHHAtRiskHomelessDesc, DB50 & \",\" & ProjDescTargHHAtRiskHomelessDesc))","v":""},{"$f":"IF('Project Description'!I42=\"\", \"\",VLOOKUP(12,DE$40:DF$62,2,FALSE))","v":""},"",12,{"$f":"'Project Description'!J42","v":0},{"$f":"'Project Description'!I42","v":0},null,"TARGET HOUSEHOLDS",null,null,null,"Lookup Table",null,null,"Existing Debt",null,null,null,"Lookup Table",null,null,null,null,null,null,{"$f":"Buildings!B17","v":12},null,null,null,null,null,null,null,null,{"$f":"IF(Sources!B40=\"Operating Subsidy\",1,0)","v":0},{"$f":"IF(OR(Sources!E40 = \"MN Hsg Operating Subsidy\", Sources!E46 = \"DHS HSASMI Operating Subsidy\"),1,0)","v":0},{"$f":"IF(SUM(EJ51:EK51)>=2,Sources!K40,0)","v":0},null,null,null,2,{"$f":"#REF!&\"-\"&#REF!","v":{"$error":"#REF!"}},null,null,null,null,false,{"$f":"LEFT(EQ51,7)&MID(EQ51,FIND(\"-\",EQ51,1)+1,7)&\"Part1\"","v":{"$error":"#REF!"}},null,null,{"$f":"IF(#REF!=\"\",0,#REF!)","v":{"$error":"#REF!"}},{"$f":"EZ51*#REF!","v":{"$error":"#REF!"}},{"$f":"EZ51*#REF!","v":{"$error":"#REF!"}},{"$error":"#REF!"},4,{"$f":"IF(MortRateCalcLoanAmt4=\"\",0,MortRateCalcLoanAmt4)","v":{"$error":"#NAME?"}},null,null,null,null,null,null,null,null,null,null,null,null,null,"Miscellaneous Reserves",null,{"$f":"IF(RRDL_IncExpRETaxesResTotal=\"\",0,RRDL_IncExpRETaxesResTotal)","v":{"$error":"#NAME?"}},{"$f":"#REF!","v":{"$error":"#REF!"}},{"$f":"#REF!","v":{"$error":"#REF!"}}]
[null,null,null,null,null,null,null,null,null,null,null,null,null,null,null,null,"Metro For-Profit",null,false,null,null,null,null,null,null,"Are tax exempt bonds to be issued?",null,false,true,null,null,{"$f":"'Housing Income'!D30","v":0},0,{"$f":"IF(HousIncomeUnitTypeHTC12=TRUE,$AF52,0)","v":0},{"$f":"IF(HousIncomeUnitTypeHTC12=FALSE,$AF52,0)","v":0},null,{"$f":"'Housing Income'!E30","v":0},0,0,null,null,null,{"$f":"IF(AND(HousIncomeUnitTypeHTC12=FALSE,OR(HousIncomeUnitTypeEmplOcc12=TRUE, HousIncomeUnitTypeOwnerOcc12=TRUE)),'Housing Income'!$D30,0)","v":0},{"$f":"IF(AND(HousIncomeUnitTypeHTC12=FALSE,OR(HousIncomeUnitTypeEmplOcc12=TRUE, HousIncomeUnitTypeOwnerOcc12=TRUE)),'Housing Income'!$E30,0)","v":0},null,null,null,null,null,null,{"$f":"Sources!$B25","v":0},null,false,false,null,null,null,null,null,"SOURCES",null,null,null,null,null,null,{"$f":"IF(BO6=TRUE,'Housing Income'!$D21,0)","v":0},{"$f":"IF(BP6=TRUE,'Housing Income'!$D21,0)","v":0},{"$f":"IF(BQ6=TRUE,'Housing Income'!$D21,0)","v":0},{"$f":"IF(BR6=TRUE,'Housing Income'!$D21,0)","v":0},{"$f":"IF(BS6=TRUE,'Housing Income'!$D21,0)","v":0},{"$f":"IF(BT6=TRUE,'Housing Income'!$D21,0)","v":0},{"$f":"IF(BU6=TRUE,'Housing Income'!$D21,0)","v":0},{"$f":"IF(BV6=TRUE,'Housing Income'!$D21,0)","v":0},{"$f":"IF(BW6=TRUE,'Housing Income'!$D21,0)","v":0},null,{"$f":"IF(AND(BS6=TRUE, 'Housing Income'!$J21=\"RRDL Limit\"),'Housing Income'!$D21,0)","v":0},null,null,{"$f":"Sources!$B$41","v":0},{"$f":"IF(CB52=\"Rental Assistance\",Sources!K41,0)","v":0},{"$f":"IF(CB52=\"Operating Subsidy\",Sources!K41,0)","v":0},false,false,{"$f":"'Development Costs'!B58","v":"Sewer-Water Access Charge"},false,0,0,0,0,{"$f":"IF(DevCostsProfFeesSewerChg=TRUE,'Development Costs'!H58,0)","v":0},null,null,{"$f":"INDEX(HousIncUnitRentGrid,10,1)","v":0},{"$f":"INDEX(HousIncUnitRentGrid,10,2)","v":0},{"$f":"INDEX(HousIncUnitRentGrid,10,3)","v":0},{"$f":"INDEX(HousIncUnitRentGrid,10,4)","v":0},{"$f":"INDEX(HousIncUnitRentGrid,10,5)","v":0},0,0,0,0,0,"",null,{"$f":"IF(ProjDescTargHHSingMen=0, DB51, IF(DB51=\"\", ProjDescTargHHSingMenDesc, DB51 & \",\" & ProjDescTargHHSingMenDesc))","v":""},{"$f":"IF('Project Description'!I43=\"\", \"\",VLOOKUP(13,DE$40:DF$62,2,FALSE))","v":""},"",13,{"$f":"'Project Description'!J43","v":"Homeless (not LTH)"},{"$f":"'Project Description'!I43","v":0},null,{"$f":"IF(RRDL_ProjDescTargHHGenOcc=\"\", \"\",RRDL_General_Occupancy)","v":{"$error":"#NAME?"}},{"$f":"IF(RRDL_ProjDescTargHHGenOcc=\"\", \"\",VLOOKUP(1,DL$52:DM$73,2,FALSE))","v":{"$error":"#NAME?"}},{"$f":"IF(ISNA(VLOOKUP(DJ52, DM52:DN71, 2, FALSE)),\"\",VLOOKUP(DJ52, DM52:DN71, 2, FALSE))","v":{"$error":"#NAME?"}},1,{"$f":"RRDL_General_Occupancy","v":{"$error":"#NAME?"}},{"$f":"RRDL_ProjDescTargHHGenOcc","v":{"$error":"#NAME?"}},null,"Lender Name","Orig Amt","Unpaid","Maturity",null,null,null,null,null,null,null,{"$f":"Buildings!B18","v":13},null,null,null,null,null,null,null,null,{"$f":"IF(Sources!B41=\"Operating Subsidy\",1,0)","v":0},{"$f":"IF(OR(Sources!E41 = \"MN Hsg Operating Subsidy\", Sources!E47 = \"DHS HSASMI Operating Subsidy\"),1,0)","v":0},{"$f":"IF(SUM(EJ52:EK52)>=2,Sources!K41,0)","v":0},null,null,null,3,{"$f":"#REF!&\"-\"&#REF!","v":{"$error":"#REF!"}},null,null,null,null,false,{"$f":"LEFT(EQ52,7)&MID(EQ52,FIND(\"-\",EQ52,1)+1,7)&\"Part2\"","v":{"$error":"#REF!"}},null,null,{"$f":"IF(#REF!=\"\",0,#REF!)","v":{"$error":"#REF!"}},{"$f":"EZ52*#REF!","v":{"$error":"#REF!"}},{"$f":"EZ52*#REF!","v":{"$error":"#REF!"}},{"$error":"#REF!"},5,{"$f":"IF(MortRateCalcLoanAmt5=\"\",0,MortRateCalcLoanAmt5)","v":{"$error":"#NAME?"}},null,null,null,null,null,null,null,null,"Total Coverd & Surface",null,{"$f":"SUM(FP47:FP48)","v":{"$error":"#NAME?"}},null,null,"Reserves & Escrows Subtotal",null,{"$f":"SUM(FU49:FU51)","v":{"$error":"#NAME?"}},{"$f":"SUM(FV49:FV51)","v":{"$error":"#REF!"}},{"$f":"SUM(FW49:FW51)","v":{"$error":"#REF!"}}]
[null,null,null,null,null,null,null,null,null,null,null,null,null,null,null,null,"Metro Non-Profit*",null,false,null,null,null,null,null,null,null,null,null,null,null,null,{"$f":"'Housing Income'!D31","v":0},0,{"$f":"IF(HousIncomeUnitTypeHTC13=TRUE,$AF53,0)","v":0},{"$f":"IF(HousIncomeUnitTypeHTC13=FALSE,$AF53,0)","v":0},null,{"$f":"'Housing Income'!E31","v":0},0,0,null,null,null,{"$f":"IF(AND(HousIncomeUnitTypeHTC13=FALSE,OR(HousIncomeUnitTypeEmplOcc13=TRUE, HousIncomeUnitTypeOwnerOcc13=TRUE)),'Housing Income'!$D31,0)","v":0},{"$f":"IF(AND(HousIncomeUnitTypeHTC13=FALSE,OR(HousIncomeUnitTypeEmplOcc13=TRUE, HousIncomeUnitTypeOwnerOcc13=TRUE)),'Housing Income'!$E31,0)","v":0},null,null,null,null,null,null,{"$f":"Sources!$B26","v":0},null,false,false,null,null,null,null,null,"CONSTRUCTION SOURCES",null,null,null,null,null,null,{"$f":"IF(BO7=TRUE,'Housing Income'!$D22,0)","v":0},{"$f":"IF(BP7=TRUE,'Housing Income'!$D22,0)","v":0},{"$f":"IF(BQ7=TRUE,'Housing Income'!$D22,0)","v":0},{"$f":"IF(BR7=TRUE,'Housing Income'!$D22,0)","v":0},{"$f":"IF(BS7=TRUE,'Housing Income'!$D22,0)","v":0},{"$f":"IF(BT7=TRUE,'Housing Income'!$D22,0)","v":0},{"$f":"IF(BU7=TRUE,'Housing Income'!$D22,0)","v":0},{"$f":"IF(BV7=TRUE,'Housing Income'!$D22,0)","v":0},{"$f":"IF(BW7=TRUE,'Housing Income'!$D22,0)","v":0},null,{"$f":"IF(AND(BS7=TRUE, 'Housing Income'!$J22=\"RRDL Limit\"),'Housing Income'!$D22,0)","v":0},null,null,{"$f":"Sources!$B$42","v":0},{"$f":"IF(CB53=\"Rental Assistance\",Sources!K42,0)","v":0},{"$f":"IF(CB53=\"Operating Subsidy\",Sources!K42,0)","v":0},false,true,null,null,0,0,0,0,{"$f":"IF(DevCostsProfFeesLocalFees=TRUE,'Development Costs'!H59,0)","v":0},null,null,{"$f":"INDEX(HousIncUnitRentGrid,11,1)","v":0},{"$f":"INDEX(HousIncUnitRentGrid,11,2)","v":0},{"$f":"INDEX(HousIncUnitRentGrid,11,3)","v":0},{"$f":"INDEX(HousIncUnitRentGrid,11,4)","v":0},{"$f":"INDEX(HousIncUnitRentGrid,11,5)","v":0},0,0,0,0,0,"",null,{"$f":"IF(ProjDescTargHHHomeless=0, DB52, IF(DB52=\"\", ProjDescTargHHHomelessDesc, DB52 & \",\" & ProjDescTargHHHomelessDesc))","v":""},{"$f":"IF('Project Description'!I44=\"\", \"\",VLOOKUP(14,DE$40:DF$62,2,FALSE))","v":""},"",14,{"$f":"'Project Description'!J44","v":"LTH Family"},{"$f":"'Project Description'!I44","v":0},{"$f":"RRDL_ProjDescTargHHGenOcc","v":{"$error":"#NAME?"}},{"$f":"IF(RRDL_ProjDescTargHHFamilies=0,DI52,IF(DI$52=\"\",RRDL_Families,DI$52&\",\"&RRDL_Families))","v":{"$error":"#NAME?"}},{"$f":"IF(RRDL_ProjDescTargHHFamilies=0,\"\",VLOOKUP(2,DL$52:DM$73,2,FALSE))","v":{"$error":"#NAME?"}},{"$f":"IF(ISNA(VLOOKUP(DJ53, DM52:DN72, 2, FALSE)),\"\",VLOOKUP(DJ53, DM52:DN72, 2, FALSE))","v":{"$error":"#NAME?"}},2,{"$f":"RRDL_Families","v":{"$error":"#NAME?"}},{"$f":"RRDL_ProjDescTargHHFamilies","v":{"$error":"#NAME?"}},null,{"$f":"#REF!","v":{"$error":"#REF!"}},{"$f":"#REF!","v":{"$error":"#REF!"}},{"$f":"#REF!","v":{"$error":"#REF!"}},{"$f":"#REF!","v":{"$error":"#REF!"}},{"$f":"IF(DP53=\"\",\"\",DP53)","v":{"$error":"#REF!"}},{"$f":"IF(DP53=0,\"\",TRIM(MID(SUBSTITUTE(DT$47,\",\",REPT(\" \",299)),(ROW()-40)*299-298,299)))","v":{"$error":"#REF!"}},{"$f":"IF(ISNA(VLOOKUP(DU53,DP53:DS59, 2, FALSE)),\"\",VLOOKUP(DU53,DP53:DS59, 2, FALSE))","v":{"$error":"#REF!"}},{"$f":"IF(ISNA(VLOOKUP(DU53,DP53:DS59, 3, FALSE)),\"\",VLOOKUP(DU53,DP53:DS59, 3, FALSE))","v":{"$error":"#REF!"}},{"$f":"IF(ISNA(VLOOKUP(DU53,DP53:DS59, 4, FALSE)),\"\",VLOOKUP(DU53,DP53:DS59, 4, FALSE))","v":{"$error":"#REF!"}},null,null,{"$f":"Buildings!B19","v":14},null,null,null,null,null,null,null,null,{"$f":"IF(Sources!B42=\"Operating Subsidy\",1,0)","v":0},{"$f":"IF(OR(Sources!E42 = \"MN Hsg Operating Subsidy\", Sources!E48 = \"DHS HSASMI Operating Subsidy\"),1,0)","v":0},{"$f":"IF(SUM(EJ53:EK53)>=2,Sources!K42,0)","v":0},null,null,null,4,{"$f":"#REF!&\"-\"&#REF!","v":{"$error":"#REF!"}},null,null,null,null,false,{"$f":"LEFT(EQ53,7)&MID(EQ53,FIND(\"-\",EQ53,1)+1,7)&\"Part3\"","v":{"$error":"#REF!"}},null,null,{"$f":"IF(#REF!=\"\",0,#REF!)","v":{"$error":"#REF!"}},{"$f":"EZ53*#REF!","v":{"$error":"#REF!"}},{"$f":"EZ53*#REF!","v":{"$error":"#REF!"}},{"$error":"#REF!"}]
[null,null,null,null,null,null,null,null,null,null,null,null,null,null,null,null,"Rural Development/Small Project",null,false,null,null,null,null,null,null,null,null,null,null,null,null,{"$f":"'Housing Income'!D32","v":0},0,{"$f":"IF(HousIncomeUnitTypeHTC14=TRUE,$AF54,0)","v":0},{"$f":"IF(HousIncomeUnitTypeHTC14=FALSE,$AF54,0)","v":0},null,{"$f":"'Housing Income'!E32","v":0},0,0,null,null,null,{"$f":"IF(AND(HousIncomeUnitTypeHTC14=FALSE,OR(HousIncomeUnitTypeEmplOcc14=TRUE, HousIncomeUnitTypeOwnerOcc14=TRUE)),'Housing Income'!$D32,0)","v":0},{"$f":"IF(AND(HousIncomeUnitTypeHTC14=FALSE,OR(HousIncomeUnitTypeEmplOcc14=TRUE, HousIncomeUnitTypeOwnerOcc14=TRUE)),'Housing Income'!$E32,0)","v":0},null,null,null,null,null,null,{"$f":"Sources!$B27","v":0},null,false,false,null,null,null,null,null,false,null,null,null,"RRDL",null,null,{"$f":"IF(BO8=TRUE,'Housing Income'!$D23,0)","v":0},{"$f":"IF(BP8=TRUE,'Housing Income'!$D23,0)","v":0},{"$f":"IF(BQ8=TRUE,'Housing Income'!$D23,0)","v":0},{"$f":"IF(BR8=TRUE,'Housing Income'!$D23,0)","v":0},{"$f":"IF(BS8=TRUE,'Housing Income'!$D23,0)","v":0},{"$f":"IF(BT8=TRUE,'Housing Income'!$D23,0)","v":0},{"$f":"IF(BU8=TRUE,'Housing Income'!$D23,0)","v":0},{"$f":"IF(BV8=TRUE,'Housing Income'!$D23,0)","v":0},{"$f":"IF(BW8=TRUE,'Housing Income'!$D23,0)","v":0},null,{"$f":"IF(AND(BS8=TRUE, 'Housing Income'!$J23=\"RRDL Limit\"),'Housing Income'!$D23,0)","v":0},null,null,null,{"$f":"SUM(CC50:CC53)","v":0},{"$f":"SUM(CD50:CD53)","v":0},null,true,null,null,0,0,0,0,{"$f":"IF(DevCostsProfFeesApraisFee=TRUE,'Development Costs'!H60,0)","v":0},null,null,{"$f":"INDEX(HousIncUnitRentGrid,12,1)","v":0},{"$f":"INDEX(HousIncUnitRentGrid,12,2)","v":0},{"$f":"INDEX(HousIncUnitRentGrid,12,3)","v":0},{"$f":"INDEX(HousIncUnitRentGrid,12,4)","v":0},{"$f":"INDEX(HousIncUnitRentGrid,12,5)","v":0},0,0,0,0,0,"",null,{"$f":"IF(ProjDescTargHHFamily=0, DB53, IF(DB53=\"\", ProjDescTargHHFamilyDesc, DB53 & \",\" & ProjDescTargHHFamilyDesc))","v":""},{"$f":"IF('Project Description'!I45=\"\", \"\",VLOOKUP(15,DE$40:DF$62,2,FALSE))","v":""},"",15,{"$f":"'Project Description'!J45","v":"LTH Single Adults"},{"$f":"'Project Description'!I45","v":0},null,{"$f":"IF(RRDL_ProjDescTargHHSingHHWChild=0,DI53,IF(DI$53=\"\",RRDL_SingHHWChild,DI$53&\",\"&RRDL_SingHHWChild))","v":{"$error":"#NAME?"}},{"$f":"IF(RRDL_ProjDescTargHHSingHHWChild=\"\", \"\",VLOOKUP(3,DL$52:DM$73,2,FALSE))","v":{"$error":"#NAME?"}},{"$f":"IF(ISNA(VLOOKUP(DJ54, DM52:DN73, 2, FALSE)),\"\",VLOOKUP(DJ54, DM52:DN73, 2, FALSE))","v":{"$error":"#NAME?"}},3,{"$f":"RRDL_SingHHWChild","v":{"$error":"#NAME?"}},{"$f":"RRDL_ProjDescTargHHSingHHWChild","v":{"$error":"#NAME?"}},null,{"$f":"#REF!","v":{"$error":"#REF!"}},{"$f":"#REF!","v":{"$error":"#REF!"}},{"$f":"#REF!","v":{"$error":"#REF!"}},{"$f":"#REF!","v":{"$error":"#REF!"}},{"$f":"IF(DP54=\"\", DT53, DT53 & \",\" & DP54)","v":{"$error":"#REF!"}},{"$f":"IF(DP54=0,\"\",TRIM(MID(SUBSTITUTE(DT$47,\",\",REPT(\" \",299)),(ROW()-40)*299-298,299)))","v":{"$error":"#REF!"}},{"$f":"IF(ISNA(VLOOKUP(DU54,DP54:DS60, 2, FALSE)),\"\",VLOOKUP(DU54,DP54:DS60, 2, FALSE))","v":{"$error":"#REF!"}},{"$f":"IF(ISNA(VLOOKUP(DU54,DP54:DS60, 3, FALSE)),\"\",VLOOKUP(DU54,DP54:DS60, 3, FALSE))","v":{"$error":"#REF!"}},{"$f":"IF(ISNA(VLOOKUP(DU54,DP54:DS60, 4, FALSE)),\"\",VLOOKUP(DU54,DP54:DS60, 4, FALSE))","v":{"$error":"#REF!"}},null,null,{"$f":"Buildings!B24","v":0},null,null,null,null,null,null,null,null,null,"Total Op Subsidy",{"$f":"SUM(EL50:EL53)","v":0},null,null,null,5,{"$f":"#REF!&\"-\"&#REF!","v":{"$error":"#REF!"}},null,null,null,null,false,{"$f":"LEFT(EQ54,7)&MID(EQ54,FIND(\"-\",EQ54,1)+1,7)","v":{"$error":"#REF!"}},null,null,{"$f":"IF(#REF!=\"\",0,#REF!)","v":{"$error":"#REF!"}},{"$f":"EZ54*#REF!","v":{"$error":"#REF!"}},{"$f":"EZ54*#REF!","v":{"$error":"#REF!"}},{"$error":"#REF!"},null,null,null,null,null,null,null,null,null,null,null,null,null,null,null,"Total M & O",null,{"$f":"IF(RRDL_TotMandO=\"\",0,RRDL_TotMandO)","v":{"$error":"#NAME?"}},{"$f":"#REF!","v":{"$error":"#REF!"}},{"$f":"#REF!","v":{"$error":"#REF!"}}]
[null,null,null,null,null,null,null,null,null,null,null,null,null,null,null,null,"Tax Exempt Bond",null,false,null,null,null,null,null,null,null,null,null,null,null,null,{"$f":"'Housing Income'!D33","v":0},0,{"$f":"IF(HousIncomeUnitTypeHTC15=TRUE,$AF55,0)","v":0},{"$f":"IF(HousIncomeUnitTypeHTC15=FALSE,$AF55,0)","v":0},null,{"$f":"'Housing Income'!E33","v":0},0,0,null,null,null,{"$f":"IF(AND(HousIncomeUnitTypeHTC15=FALSE,OR(HousIncomeUnitTypeEmplOcc15=TRUE, HousIncomeUnitTypeOwnerOcc15=TRUE)),'Housing Income'!$D33,0)","v":0},{"$f":"IF(AND(HousIncomeUnitTypeHTC15=FALSE,OR(HousIncomeUnitTypeEmplOcc15=TRUE, HousIncomeUnitTypeOwnerOcc15=TRUE)),'Housing Income'!$E33,0)","v":0},null,null,null,null,null,null,{"$f":"SourcesSourceName11","v":0},null,false,false,null,null,null,null,null,false,null,null,null,null,null,null,{"$f":"IF(BO9=TRUE,'Housing Income'!$D24,0)","v":0},{"$f":"IF(BP9=TRUE,'Housing Income'!$D24,0)","v":0},{"$f":"IF(BQ9=TRUE,'Housing Income'!$D24,0)","v":0},{"$f":"IF(BR9=TRUE,'Housing Income'!$D24,0)","v":0},{"$f":"IF(BS9=TRUE,'Housing Income'!$D24,0)","v":0},{"$f":"IF(BT9=TRUE,'Housing Income'!$D24,0)","v":0},{"$f":"IF(BU9=TRUE,'Housing Income'!$D24,0)","v":0},{"$f":"IF(BV9=TRUE,'Housing Income'!$D24,0)","v":0},{"$f":"IF(BW9=TRUE,'Housing Income'!$D24,0)","v":0},null,{"$f":"IF(AND(BS9=TRUE, 'Housing Income'!$J24=\"RRDL Limit\"),'Housing Income'!$D24,0)","v":0},null,null,null,"Rent Assist","Op Sub",null,true,null,null,0,0,0,0,{"$f":"IF(SummaryTabControlsValues!B95=TRUE,'Development Costs'!H61,0)","v":0},null,null,{"$f":"INDEX(HousIncUnitRentGrid,13,1)","v":0},{"$f":"INDEX(HousIncUnitRentGrid,13,2)","v":0},{"$f":"INDEX(HousIncUnitRentGrid,13,3)","v":0},{"$f":"INDEX(HousIncUnitRentGrid,13,4)","v":0},{"$f":"INDEX(HousIncUnitRentGrid,13,5)","v":0},0,0,0,0,0,"",null,{"$f":"IF(ProjDescTargHHSingAdults=0, DB54, IF(DB54=\"\", ProjDescTargHHSingAdultsDesc, DB54 & \",\" & ProjDescTargHHSingAdultsDesc))","v":""},{"$f":"IF('Project Description'!I46=\"\", \"\",VLOOKUP(16,DE$40:DF$62,2,FALSE))","v":""},"",16,{"$f":"'Project Description'!J46","v":"LTH Unaccompanied Youth"},{"$f":"'Project Description'!I46","v":0},null,{"$f":"IF(RRDL_ProjDescTargHHIndHHColor=0,DI54,IF(DI$54=\"\",RRDL_IndHHColor,DI$54&\",\"&RRDL_IndHHColor))","v":{"$error":"#NAME?"}},{"$f":"IF(RRDL_ProjDescTargHHIndHHColor=\"\", \"\",VLOOKUP(4,DL$52:DM$73,2,FALSE))","v":{"$error":"#NAME?"}},{"$f":"IF(ISNA(VLOOKUP(DJ55, DM53:DN76, 2, FALSE)),\"\",VLOOKUP(DJ55, DM53:DN76, 2, FALSE))","v":{"$error":"#NAME?"}},4,{"$f":"RRDL_IndHHColor","v":{"$error":"#NAME?"}},{"$f":"RRDL_ProjDescTargHHIndHHColor","v":{"$error":"#NAME?"}},null,{"$f":"#REF!","v":{"$error":"#REF!"}},{"$f":"#REF!","v":{"$error":"#REF!"}},{"$f":"#REF!","v":{"$error":"#REF!"}},{"$f":"#REF!","v":{"$error":"#REF!"}},{"$error":"#REF!"},{"$error":"#REF!"},{"$error":"#REF!"},{"$error":"#REF!"},{"$error":"#REF!"},null,null,{"$f":"Buildings!B14","v":9},null,null,null,null,null,null,null,null,null,null,null,null,null,null,6,{"$f":"#REF!&\"-\"&#REF!","v":{"$error":"#REF!"}},null,null,null,null,false,{"$f":"LEFT(EQ55,7)&MID(EQ55,FIND(\"-\",EQ55,1)+1,7)","v":{"$error":"#REF!"}},null,null,{"$f":"IF(#REF!=\"\",0,#REF!)","v":{"$error":"#REF!"}},{"$f":"EZ55*#REF!","v":{"$error":"#REF!"}},{"$f":"EZ55*#REF!","v":{"$error":"#REF!"}},{"$error":"#REF!"}]
[null,null,null,null,null,null,null,null,null,null,null,null,null,null,null,null,"CreditType",null,null,null,null,null,null,null,null,null,null,null,null,null,null,{"$f":"'Housing Income'!D34","v":0},0,{"$f":"IF(HousIncomeUnitTypeHTC16=TRUE,$AF56,0)","v":0},{"$f":"IF(HousIncomeUnitTypeHTC16=FALSE,$AF56,0)","v":0},null,{"$f":"'Housing Income'!E34","v":0},0,0,null,null,null,{"$f":"IF(AND(HousIncomeUnitTypeHTC16=FALSE,OR(HousIncomeUnitTypeEmplOcc16=TRUE, HousIncomeUnitTypeOwnerOcc16=TRUE)),'Housing Income'!$D34,0)","v":0},{"$f":"IF(AND(HousIncomeUnitTypeHTC16=FALSE,OR(HousIncomeUnitTypeEmplOcc16=TRUE, HousIncomeUnitTypeOwnerOcc16=TRUE)),'Housing Income'!$E34,0)","v":0},null,null,null,null,null,null,{"$f":"Sources!$B29","v":0},null,false,false,null,null,null,null,null,false,null,null,true,null,null,null,{"$f":"IF(BO10=TRUE,'Housing Income'!$D25,0)","v":0},{"$f":"IF(BP10=TRUE,'Housing Income'!$D25,0)","v":0},{"$f":"IF(BQ10=TRUE,'Housing Income'!$D25,0)","v":0},{"$f":"IF(BR10=TRUE,'Housing Income'!$D25,0)","v":0},{"$f":"IF(BS10=TRUE,'Housing Income'!$D25,0)","v":0},{"$f":"IF(BT10=TRUE,'Housing Income'!$D25,0)","v":0},{"$f":"IF(BU10=TRUE,'Housing Income'!$D25,0)","v":0},{"$f":"IF(BV10=TRUE,'Housing Income'!$D25,0)","v":0},{"$f":"IF(BW10=TRUE,'Housing Income'!$D25,0)","v":0},null,{"$f":"IF(AND(BS10=TRUE, 'Housing Income'!$J25=\"RRDL Limit\"),'Housing Income'!$D25,0)","v":0},null,null,null,null,null,null,true,null,null,0,0,0,0,{"$f":"IF(DevCostsProfFeesEnergyCons=TRUE,'Development Costs'!H62,0)","v":0},null,null,{"$f":"INDEX(HousIncUnitRentGrid,14,1)","v":0},{"$f":"INDEX(HousIncUnitRentGrid,14,2)","v":0},{"$f":"INDEX(HousIncUnitRentGrid,14,3)","v":0},{"$f":"INDEX(HousIncUnitRentGrid,14,4)","v":0},{"$f":"INDEX(HousIncUnitRentGrid,14,5)","v":0},0,0,0,0,0,"",null,{"$f":"IF(atRiskLTH=0, DB55, IF(DB55=\"\", atRiskLTHdesc, DB55 & \",\" & atRiskLTHdesc))","v":""},{"$f":"IF('Project Description'!I47=\"\", \"\",VLOOKUP(23,DE$40:DF$62,2,FALSE))","v":""},"",23,{"$f":"'Project Description'!J47","v":"At Risk LTH (HIB)"},{"$f":"'Project Description'!I47","v":0},null,{"$f":"IF(RRDL_ProjDescTargHHYouth=0,DI55,IF(DI55=\"\",RRDL_Youth,DI55&\",\"&RRDL_Youth))","v":{"$error":"#NAME?"}},{"$f":"IF(RRDL_ProjDescTargHHYouth=\"\", \"\",VLOOKUP(5,DL$52:DM$73,2,FALSE))","v":{"$error":"#NAME?"}},{"$error":"#NAME?"},5,{"$f":"RRDL_Youth","v":{"$error":"#NAME?"}},{"$f":"RRDL_ProjDescTargHHYouth","v":{"$error":"#NAME?"}},null,{"$f":"#REF!","v":{"$error":"#REF!"}},{"$f":"#REF!","v":{"$error":"#REF!"}},{"$f":"#REF!","v":{"$error":"#REF!"}},{"$f":"#REF!","v":{"$error":"#REF!"}},{"$error":"#REF!"},{"$error":"#REF!"},{"$error":"#REF!"},{"$error":"#REF!"},{"$error":"#REF!"},null,null,{"$f":"Buildings!B15","v":10},null,null,null,null,null,null,null,null,null,null,null,null,null,null,7,{"$f":"#REF!&\"-\"&#REF!","v":{"$error":"#REF!"}},null,null,null,null,false,{"$f":"LEFT(EQ56,7)&MID(EQ56,FIND(\"-\",EQ56,1)+1,7)","v":{"$error":"#REF!"}},null,null,{"$f":"IF(#REF!=\"\",0,#REF!)","v":{"$error":"#REF!"}},{"$f":"EZ56*#REF!","v":{"$error":"#REF!"}},{"$f":"EZ56*#REF!","v":{"$error":"#REF!"}},{"$error":"#REF!"},null,null,null,null,null,null,null,null,null,null,null,null,null,null,null,"Rental Housing Vacancy ",null,{"$f":"RRDL_RentHousVac","v":{"$error":"#NAME?"}},{"$f":"#REF!","v":{"$error":"#REF!"}},{"$f":"#REF!","v":{"$error":"#REF!"}}]
[null,null,null,null,null,null,null,null,null,null,null,null,null,null,null,null,"Newly constructed and not federally subsidized",null,false,null,null,null,null,null,null,null,null,null,null,null,null,{"$f":"'Housing Income'!D35","v":0},0,{"$f":"IF(HousIncomeUnitTypeHTC17=TRUE,$AF57,0)","v":0},{"$f":"IF(HousIncomeUnitTypeHTC17=FALSE,$AF57,0)","v":0},null,{"$f":"'Housing Income'!E35","v":0},0,0,null,null,null,{"$f":"IF(AND(HousIncomeUnitTypeHTC17=FALSE,OR(HousIncomeUnitTypeEmplOcc17=TRUE, HousIncomeUnitTypeOwnerOcc17=TRUE)),'Housing Income'!$D35,0)","v":0},{"$f":"IF(AND(HousIncomeUnitTypeHTC17=FALSE,OR(HousIncomeUnitTypeEmplOcc17=TRUE, HousIncomeUnitTypeOwnerOcc17=TRUE)),'Housing Income'!$E35,0)","v":0},null,null,null,null,null,null,{"$f":"Sources!$B30","v":0},null,false,false,null,null,null,null,null,false,null,null,true,null,null,null,{"$f":"IF(BO11=TRUE,'Housing Income'!$D26,0)","v":0},{"$f":"IF(BP11=TRUE,'Housing Income'!$D26,0)","v":0},{"$f":"IF(BQ11=TRUE,'Housing Income'!$D26,0)","v":0},{"$f":"IF(BR11=TRUE,'Housing Income'!$D26,0)","v":0},{"$f":"IF(BS11=TRUE,'Housing Income'!$D26,0)","v":0},{"$f":"IF(BT11=TRUE,'Housing Income'!$D26,0)","v":0},{"$f":"IF(BU11=TRUE,'Housing Income'!$D26,0)","v":0},{"$f":"IF(BV11=TRUE,'Housing Income'!$D26,0)","v":0},{"$f":"IF(BW11=TRUE,'Housing Income'!$D26,0)","v":0},null,{"$f":"IF(AND(BS11=TRUE, 'Housing Income'!$J26=\"RRDL Limit\"),'Housing Income'!$D26,0)","v":0},null,null,null,null,null,null,true,null,null,0,0,0,0,{"$f":"IF(DevCostsProfFeesEnvAssess=TRUE,'Development Costs'!H63,0)","v":0},null,null,{"$f":"INDEX(HousIncUnitRentGrid,15,1)","v":0},{"$f":"INDEX(HousIncUnitRentGrid,15,2)","v":0},{"$f":"INDEX(HousIncUnitRentGrid,15,3)","v":0},{"$f":"INDEX(HousIncUnitRentGrid,15,4)","v":0},{"$f":"INDEX(HousIncUnitRentGrid,15,5)","v":0},0,0,0,0,0,"",null,{"$f":"IF(ProjDescTargHHUnAccompYouth=0, DB56, IF(DB56=\"\", ProjDescTargHHUnAccompYouthDesc, DB56 & \",\" & ProjDescTargHHUnAccompYouthDesc))","v":""},{"$f":"IF('Project Description'!I48=\"\", \"\",VLOOKUP(17,DE$40:DF$62,2,FALSE))","v":""},{"$f":"IF(ISNA(VLOOKUP(DC57, DF57:DG78, 2, FALSE)),\"\",VLOOKUP(DC57, DF57:DG78, 2, FALSE))","v":""},17,{"$f":"'Project Description'!J48","v":"Drug Dependent"},{"$f":"'Project Description'!I48","v":0},null,{"$f":"IF(RRDL_ProjDescTargHHSingMen=0,DI56,IF(DI56=\"\",RRDL_Single_Men,DI56&\",\"&RRDL_Single_Men))","v":{"$error":"#NAME?"}},{"$f":"IF(RRDL_ProjDescTargHHSingMen=\"\", \"\",VLOOKUP(6,DL$52:DM$73,2,FALSE))","v":{"$error":"#NAME?"}},{"$error":"#NAME?"},6,{"$f":"RRDL_Single_Men","v":{"$error":"#NAME?"}},{"$f":"RRDL_ProjDescTargHHSingMen","v":{"$error":"#NAME?"}},null,{"$f":"#REF!","v":{"$error":"#REF!"}},{"$f":"#REF!","v":{"$error":"#REF!"}},{"$f":"#REF!","v":{"$error":"#REF!"}},{"$f":"#REF!","v":{"$error":"#REF!"}},{"$error":"#REF!"},{"$error":"#REF!"},{"$error":"#REF!"},{"$error":"#REF!"},{"$error":"#REF!"},null,null,{"$f":"Buildings!B16","v":11},null,null,null,null,null,null,null,null,null,null,null,null,null,null,8,{"$f":"#REF!&\"-\"&#REF!","v":{"$error":"#REF!"}},null,null,null,null,false,{"$f":"LEFT(EQ57,7)&\"TaxCred\"","v":{"$error":"#REF!"}},null,null,{"$f":"IF(#REF!=\"\",0,#REF!)","v":{"$error":"#REF!"}},{"$f":"EZ57*#REF!","v":{"$error":"#REF!"}},{"$f":"EZ57*#REF!","v":{"$error":"#REF!"}},{"$error":"#REF!"},null,null,null,null,null,null,null,null,null,null,null,null,null,null,null,"Parking / Garage Vacancy",null,{"$f":"RRDL_ParkingVac","v":{"$error":"#NAME?"}},{"$f":"#REF!","v":{"$error":"#REF!"}},{"$f":"#REF!","v":{"$error":"#REF!"}}]
[null,null,null,null,null,null,null,null,null,null,null,null,null,null,null,null,"Newly constructed and federally subsidized",null,false,null,null,null,null,null,null,null,null,null,null,null,null,{"$f":"'Housing Income'!D36","v":0},0,{"$f":"IF(HousIncomeUnitTypeHTC18=TRUE,$AF58,0)","v":0},{"$f":"IF(HousIncomeUnitTypeHTC18=FALSE,$AF58,0)","v":0},null,{"$f":"'Housing Income'!E36","v":0},0,0,null,null,null,{"$f":"IF(AND(HousIncomeUnitTypeHTC18=FALSE,OR(HousIncomeUnitTypeEmplOcc18=TRUE, HousIncomeUnitTypeOwnerOcc18=TRUE)),'Housing Income'!$D36,0)","v":0},{"$f":"IF(AND(HousIncomeUnitTypeHTC18=FALSE,OR(HousIncomeUnitTypeEmplOcc18=TRUE, HousIncomeUnitTypeOwnerOcc18=TRUE)),'Housing Income'!$E36,0)","v":0},null,null,null,null,null,null,{"$f":"Sources!$B31","v":0},null,false,false,null,null,null,null,null,false,null,null,true,null,null,null,{"$f":"IF(BO12=TRUE,'Housing Income'!$D27,0)","v":0},{"$f":"IF(BP12=TRUE,'Housing Income'!$D27,0)","v":0},{"$f":"IF(BQ12=TRUE,'Housing Income'!$D27,0)","v":0},{"$f":"IF(BR12=TRUE,'Housing Income'!$D27,0)","v":0},{"$f":"IF(BS12=TRUE,'Housing Income'!$D27,0)","v":0},{"$f":"IF(BT12=TRUE,'Housing Income'!$D27,0)","v":0},{"$f":"IF(BU12=TRUE,'Housing Income'!$D27,0)","v":0},{"$f":"IF(BV12=TRUE,'Housing Income'!$D27,0)","v":0},{"$f":"IF(BW12=TRUE,'Housing Income'!$D27,0)","v":0},null,{"$f":"IF(AND(BS12=TRUE, 'Housing Income'!$J27=\"RRDL Limit\"),'Housing Income'!$D27,0)","v":0},null,null,null,null,null,null,true,null,null,0,0,0,0,{"$f":"IF(DevCostsProfFeesCostCert=TRUE,'Development Costs'!H64,0)","v":0},null,null,{"$f":"INDEX(HousIncUnitRentGrid,16,1)","v":0},{"$f":"INDEX(HousIncUnitRentGrid,16,2)","v":0},{"$f":"INDEX(HousIncUnitRentGrid,16,3)","v":0},{"$f":"INDEX(HousIncUnitRentGrid,16,4)","v":0},{"$f":"INDEX(HousIncUnitRentGrid,16,5)","v":0},0,0,0,0,0,"",null,{"$f":"IF(ProjDescTargHHLTHDrugDep=0, DB57, IF(DB57=\"\", ProjDescTargHHLTHDrugDepDesc, DB57 & \",\" & ProjDescTargHHLTHDrugDepDesc))","v":""},{"$f":"IF('Project Description'!I49=\"\", \"\",VLOOKUP(18,DE$40:DF$62,2,FALSE))","v":""},"",18,{"$f":"'Project Description'!J49","v":"Permanent Physical Disabilities"},{"$f":"'Project Description'!I49","v":0},null,{"$f":"IF(RRDL_ProjDescTargHHSingWomen=0,DI57,IF(DI57=\"\",RRDL_Single_Women,DI57&\",\"&RRDL_Single_Women))","v":{"$error":"#NAME?"}},{"$f":"IF(RRDL_ProjDescTargHHSingWomen=\"\", \"\",VLOOKUP(7,DL$52:DM$73,2,FALSE))","v":{"$error":"#NAME?"}},{"$error":"#NAME?"},7,{"$f":"RRDL_Single_Women","v":{"$error":"#NAME?"}},{"$f":"RRDL_ProjDescTargHHSingWomen","v":{"$error":"#NAME?"}},null,{"$f":"#REF!","v":{"$error":"#REF!"}},{"$f":"#REF!","v":{"$error":"#REF!"}},{"$f":"#REF!","v":{"$error":"#REF!"}},{"$f":"#REF!","v":{"$error":"#REF!"}},{"$error":"#REF!"},{"$error":"#REF!"},{"$error":"#REF!"},{"$error":"#REF!"},{"$error":"#REF!"},null,null,{"$f":"Buildings!B17","v":12},null,null,null,null,null,null,null,null,null,null,null,null,null,null,11,{"$f":"#REF!&\"-\"&#REF!","v":{"$error":"#REF!"}},null,null,null,null,false,{"$f":"LEFT(EQ58,3)&MID(EQ58,9,3)&MID(EQ58,FIND(\"-\",EQ58,1)+1,7)","v":{"$error":"#REF!"}},null,null,{"$f":"IF(#REF!=\"\",0,#REF!)","v":{"$error":"#REF!"}},{"$f":"EZ58*#REF!","v":{"$error":"#REF!"}},{"$f":"EZ58*#REF!","v":{"$error":"#REF!"}},{"$error":"#REF!"},null,null,null,null,null,null,null,null,null,null,null,null,null,null,null,"Commerical Vacancy",null,{"$f":"RRDL_CommVac","v":{"$error":"#NAME?"}},{"$f":"#REF!","v":{"$error":"#REF!"}},{"$f":"#REF!","v":{"$error":"#REF!"}}]
[null,null,null,null,null,null,null,null,null,null,null,null,null,null,null,null,"Rehabiltiation expenditures not federally subsidized",null,false,null,null,null,null,null,null,null,null,null,null,null,null,{"$f":"'Housing Income'!D37","v":0},0,{"$f":"IF(HousIncomeUnitTypeHTC19=TRUE,$AF59,0)","v":0},{"$f":"IF(HousIncomeUnitTypeHTC19=FALSE,$AF59,0)","v":0},null,{"$f":"'Housing Income'!E37","v":0},0,0,null,null,null,{"$f":"IF(AND(HousIncomeUnitTypeHTC19=FALSE,OR(HousIncomeUnitTypeEmplOcc19=TRUE, HousIncomeUnitTypeOwnerOcc19=TRUE)),'Housing Income'!$D37,0)","v":0},{"$f":"IF(AND(HousIncomeUnitTypeHTC19=FALSE,OR(HousIncomeUnitTypeEmplOcc19=TRUE, HousIncomeUnitTypeOwnerOcc19=TRUE)),'Housing Income'!$E37,0)","v":0},null,null,null,null,null,null,{"$f":"Sources!$B32","v":0},null,false,false,null,null,null,null,null,null,null,null,true,null,null,null,{"$f":"IF(BO13=TRUE,'Housing Income'!$D28,0)","v":0},{"$f":"IF(BP13=TRUE,'Housing Income'!$D28,0)","v":0},{"$f":"IF(BQ13=TRUE,'Housing Income'!$D28,0)","v":0},{"$f":"IF(BR13=TRUE,'Housing Income'!$D28,0)","v":0},{"$f":"IF(BS13=TRUE,'Housing Income'!$D28,0)","v":0},{"$f":"IF(BT13=TRUE,'Housing Income'!$D28,0)","v":0},{"$f":"IF(BU13=TRUE,'Housing Income'!$D28,0)","v":0},{"$f":"IF(BV13=TRUE,'Housing Income'!$D28,0)","v":0},{"$f":"IF(BW13=TRUE,'Housing Income'!$D28,0)","v":0},null,{"$f":"IF(AND(BS13=TRUE, 'Housing Income'!$J28=\"RRDL Limit\"),'Housing Income'!$D28,0)","v":0},null,null,null,null,null,null,true,null,null,0,0,0,0,{"$f":"IF(DevCostsProfFeesMktStudy=TRUE,'Development Costs'!H65,0)","v":0},null,null,{"$f":"INDEX(HousIncUnitRentGrid,17,1)","v":0},{"$f":"INDEX(HousIncUnitRentGrid,17,2)","v":0},{"$f":"INDEX(HousIncUnitRentGrid,17,3)","v":0},{"$f":"INDEX(HousIncUnitRentGrid,17,4)","v":0},{"$f":"INDEX(HousIncUnitRentGrid,17,5)","v":0},0,0,0,0,0,"",null,{"$f":"IF(ProjDescTargHHPhysDis=0, DB58, IF(DB58=\"\", ProjDescTargHHPhysDisDesc, DB58 & \",\" & ProjDescTargHHPhysDisDesc))","v":""},{"$f":"IF('Project Description'!I50=\"\", \"\",VLOOKUP(19,DE$40:DF$62,2,FALSE))","v":""},"",19,{"$f":"'Project Description'!J50","v":"Developmental Disability"},{"$f":"'Project Description'!I50","v":0},null,{"$f":"IF(RRDL_ProjDescTargHHElderly=0,DI58,IF(DI58=\"\",RRDL_Elderly,DI58&\",\"&RRDL_Elderly))","v":{"$error":"#NAME?"}},{"$f":"IF(RRDL_ProjDescTargHHElderly=\"\", \"\",VLOOKUP(8,DL$52:DM$73,2,FALSE))","v":{"$error":"#NAME?"}},{"$error":"#NAME?"},8,{"$f":"RRDL_Elderly","v":{"$error":"#NAME?"}},{"$f":"RRDL_ProjDescTargHHElderly","v":{"$error":"#NAME?"}},null,{"$f":"#REF!","v":{"$error":"#REF!"}},{"$f":"#REF!","v":{"$error":"#REF!"}},{"$f":"#REF!","v":{"$error":"#REF!"}},{"$f":"#REF!","v":{"$error":"#REF!"}},{"$error":"#REF!"},{"$error":"#REF!"},{"$error":"#REF!"},{"$error":"#REF!"},{"$error":"#REF!"},null,null,{"$f":"Buildings!B18","v":13},null,null,null,null,null,null,null,null,null,null,null,null,null,null,12,{"$f":"#REF!&\"-\"&#REF!","v":{"$error":"#REF!"}},null,null,null,null,false,{"$f":"LEFT(EQ59,3)&MID(EQ59,9,3)&MID(EQ59,FIND(\"-\",EQ59,1)+1,7)","v":{"$error":"#REF!"}},null,null,{"$f":"IF(#REF!=\"\",0,#REF!)","v":{"$error":"#REF!"}},{"$f":"EZ59*#REF!","v":{"$error":"#REF!"}},{"$f":"EZ59*#REF!","v":{"$error":"#REF!"}},{"$error":"#REF!"},null,null,null,null,null,null,null,null,null,null,null,null,null,null,null,"Other",null,{"$f":"IncExpRentLossOther1Val","v":0},{"$f":"#REF!","v":{"$error":"#REF!"}},{"$f":"#REF!","v":{"$error":"#REF!"}}]
[null,null,null,null,null,null,null,null,null,null,null,null,null,null,null,null,"Rehabiltiation expenditures federally subsidized",null,false,null,null,null,null,null,null,null,null,null,null,null,null,{"$f":"'Housing Income'!D38","v":0},0,{"$f":"IF(HousIncomeUnitTypeHTC20=TRUE,$AF60,0)","v":0},{"$f":"IF(HousIncomeUnitTypeHTC20=FALSE,$AF60,0)","v":0},null,{"$f":"'Housing Income'!E38","v":0},0,0,null,null,null,{"$f":"IF(AND(HousIncomeUnitTypeHTC20=FALSE,OR(HousIncomeUnitTypeEmplOcc20=TRUE, HousIncomeUnitTypeOwnerOcc20=TRUE)),'Housing Income'!$D38,0)","v":0},{"$f":"IF(AND(HousIncomeUnitTypeHTC20=FALSE,OR(HousIncomeUnitTypeEmplOcc20=TRUE, HousIncomeUnitTypeOwnerOcc20=TRUE)),'Housing Income'!$E38,0)","v":0},null,null,null,null,null,null,{"$f":"Sources!$B33","v":"Deferred Developer Fee"},null,false,false,null,null,null,null,null,null,null,null,false,null,null,null,{"$f":"IF(BO14=TRUE,'Housing Income'!$D29,0)","v":0},{"$f":"IF(BP14=TRUE,'Housing Income'!$D29,0)","v":0},{"$f":"IF(BQ14=TRUE,'Housing Income'!$D29,0)","v":0},{"$f":"IF(BR14=TRUE,'Housing Income'!$D29,0)","v":0},{"$f":"IF(BS14=TRUE,'Housing Income'!$D29,0)","v":0},{"$f":"IF(BT14=TRUE,'Housing Income'!$D29,0)","v":0},{"$f":"IF(BU14=TRUE,'Housing Income'!$D29,0)","v":0},{"$f":"IF(BV14=TRUE,'Housing Income'!$D29,0)","v":0},{"$f":"IF(BW14=TRUE,'Housing Income'!$D29,0)","v":0},null,{"$f":"IF(AND(BS14=TRUE, 'Housing Income'!$J29=\"RRDL Limit\"),'Housing Income'!$D29,0)","v":0},null,null,null,null,null,null,true,null,null,0,0,0,0,{"$f":"IF(DevCostsProfFeesTaxCrFees=TRUE,'Development Costs'!H66,0)","v":0},null,null,{"$f":"INDEX(HousIncUnitRentGrid,18,1)","v":0},{"$f":"INDEX(HousIncUnitRentGrid,18,2)","v":0},{"$f":"INDEX(HousIncUnitRentGrid,18,3)","v":0},{"$f":"INDEX(HousIncUnitRentGrid,18,4)","v":0},{"$f":"INDEX(HousIncUnitRentGrid,18,5)","v":0},0,0,0,0,0,"",null,{"$f":"IF(ProjDescTargHHDevDis=0, DB59, IF(DB59=\"\", ProjDescTargHHDevDisDesc, DB59 & \",\" & ProjDescTargHHDevDisDesc))","v":""},{"$f":"IF('Project Description'!I51=\"\", \"\",VLOOKUP(20,DE$40:DF$62,2,FALSE))","v":""},"",20,{"$f":"'Project Description'!J51","v":"Brain Injury"},{"$f":"'Project Description'!I51","v":0},null,{"$f":"IF(RRDL_ProjDescTargHHDisabledInd=0,DI59,IF(DI59=\"\",RRDL_Disabled_Individuals,DI59&\",\"&RRDL_Disabled_Individuals))","v":{"$error":"#NAME?"}},{"$f":"IF(RRDL_ProjDescTargHHDisabledInd=\"\", \"\",VLOOKUP(9,DL$52:DM$73,2,FALSE))","v":{"$error":"#NAME?"}},{"$error":"#NAME?"},9,{"$f":"RRDL_Disabled_Individuals","v":{"$error":"#NAME?"}},{"$f":"RRDL_ProjDescTargHHDisabledInd","v":{"$error":"#NAME?"}},null,null,null,null,null,null,null,null,null,null,null,null,{"$f":"Buildings!B19","v":14},null,null,null,null,null,null,null,null,null,null,null,null,null,null,1,{"$f":"#REF!&\"-\"&#REF!","v":{"$error":"#REF!"}},null,null,null,null,false,{"$f":"LEFT(EQ60,3)&MID(EQ60,9,3)&MID(EQ60,FIND(\"-\",EQ60,1)+1,5)&\"M\"","v":{"$error":"#REF!"}},null,null,{"$f":"IF(#REF!=\"\",0,#REF!)","v":{"$error":"#REF!"}},{"$f":"EZ60*#REF!","v":{"$error":"#REF!"}},{"$f":"EZ60*#REF!","v":{"$error":"#REF!"}},{"$error":"#REF!"},null,null,null,null,null,null,null,null,null,null,null,null,null,null,null,"Other ",null,{"$f":"IncExpRentLossOther2Val","v":0},{"$f":"#REF!","v":{"$error":"#REF!"}},{"$f":"#REF!","v":{"$error":"#REF!"}}]
[null,null,null,null,null,null,null,null,null,null,null,null,null,null,null,null,"Existing Housing",null,false,null,null,null,null,null,null,null,null,null,null,null,null,{"$f":"'Housing Income'!D39","v":0},0,{"$f":"IF(HousIncomeUnitTypeHTC21=TRUE,$AF61,0)","v":0},{"$f":"IF(HousIncomeUnitTypeHTC21=FALSE,$AF61,0)","v":0},null,{"$f":"'Housing Income'!E39","v":0},0,0,null,null,null,{"$f":"IF(AND(HousIncomeUnitTypeHTC21=FALSE,OR(HousIncomeUnitTypeEmplOcc21=TRUE, HousIncomeUnitTypeOwnerOcc21=TRUE)),'Housing Income'!$D39,0)","v":0},{"$f":"IF(AND(HousIncomeUnitTypeHTC21=FALSE,OR(HousIncomeUnitTypeEmplOcc21=TRUE, HousIncomeUnitTypeOwnerOcc21=TRUE)),'Housing Income'!$E39,0)","v":0},null,null,null,null,null,null,{"$f":"Sources!$B35","v":"FUNDING GAP REMAINING"},null,false,false,null,null,null,null,null,null,null,null,null,null,null,null,{"$f":"IF(BO15=TRUE,'Housing Income'!$D30,0)","v":0},{"$f":"IF(BP15=TRUE,'Housing Income'!$D30,0)","v":0},{"$f":"IF(BQ15=TRUE,'Housing Income'!$D30,0)","v":0},{"$f":"IF(BR15=TRUE,'Housing Income'!$D30,0)","v":0},{"$f":"IF(BS15=TRUE,'Housing Income'!$D30,0)","v":0},{"$f":"IF(BT15=TRUE,'Housing Income'!$D30,0)","v":0},{"$f":"IF(BU15=TRUE,'Housing Income'!$D30,0)","v":0},{"$f":"IF(BV15=TRUE,'Housing Income'!$D30,0)","v":0},{"$f":"IF(BW15=TRUE,'Housing Income'!$D30,0)","v":0},null,{"$f":"IF(AND(BS15=TRUE, 'Housing Income'!$J30=\"RRDL Limit\"),'Housing Income'!$D30,0)","v":0},null,null,null,null,null,null,true,null,null,0,0,0,0,{"$f":"IF(DevCostsProfFeesComplFees=TRUE,'Development Costs'!H67,0)","v":0},null,null,{"$f":"INDEX(HousIncUnitRentGrid,19,1)","v":0},{"$f":"INDEX(HousIncUnitRentGrid,19,2)","v":0},{"$f":"INDEX(HousIncUnitRentGrid,19,3)","v":0},{"$f":"INDEX(HousIncUnitRentGrid,19,4)","v":0},{"$f":"INDEX(HousIncUnitRentGrid,19,5)","v":0},0,0,0,0,0,"",null,{"$f":"IF(ProjDescTargHHBrainInj=0, DB60, IF(DB60=\"\", ProjDescTargHHBrainInjDesc, DB60 & \",\" & ProjDescTargHHBrainInjDesc))","v":""},{"$f":"IF('Project Description'!I52=\"\", \"\",VLOOKUP(21,DE$40:DF$62,2,FALSE))","v":""},"",21,{"$f":"'Project Description'!J52","v":"Serious Mental Illness"},{"$f":"'Project Description'!I52","v":0},null,{"$f":"IF(RRDL_ProjDescTargHHHIV=0,DI60,IF(DI60=\"\",RRDL_Persons_with_HIV_AIDS,DI60&\",\"&RRDL_Persons_with_HIV_AIDS))","v":{"$error":"#NAME?"}},{"$f":"IF(RRDL_ProjDescTargHHHIV=\"\", \"\",VLOOKUP(10,DL$52:DM$73,2,FALSE))","v":{"$error":"#NAME?"}},{"$error":"#NAME?"},10,{"$f":"RRDL_Persons_with_HIV_AIDS","v":{"$error":"#NAME?"}},{"$f":"RRDL_ProjDescTargHHHIV","v":{"$error":"#NAME?"}},null,null,null,null,null,null,null,null,null,null,null,null,{"$f":"Buildings!B24","v":0},null,null,null,null,null,null,null,null,null,null,null,null,null,null,2,{"$f":"#REF!&\"-\"&#REF!","v":{"$error":"#REF!"}},null,null,null,null,false,{"$f":"LEFT(EQ61,3)&MID(EQ61,9,3)&MID(EQ61,FIND(\"-\",EQ61,1)+1,7)&\"Part1\"","v":{"$error":"#REF!"}},null,null,{"$f":"IF(#REF!=\"\",0,#REF!)","v":{"$error":"#REF!"}},{"$f":"EZ61*#REF!","v":{"$error":"#REF!"}},{"$f":"EZ61*#REF!","v":{"$error":"#REF!"}},{"$error":"#REF!"},null,null,null,null,null,null,null,null,null,null,null,null,null,null,null,"Total Rental Loss",null,{"$f":"SUM(FU56:FU60)","v":{"$error":"#NAME?"}},{"$f":"SUM(FV56:FV60)","v":{"$error":"#REF!"}},{"$f":"SUM(FW56:FW60)","v":{"$error":"#REF!"}}]
[null,null,null,null,null,null,null,null,null,null,null,null,null,null,null,null,{"$f":"'HTC Info'!C9","v":"Allocation subject to non profit set aside under sec. 42(h)(5)"},null,false,null,null,null,null,null,null,null,null,null,null,null,null,"Total HTC Units",null,{"$f":"SUM(AH41:AH61)","v":0},null,null,"Total HTC SqFt",{"$f":"SUM(AL41:AL61)","v":0},null,null,null,"Employee / Common Space Units",{"$f":"SUM(AQ41:AQ61)","v":0},null,null,null,null,null,null,null,null,null,false,false,null,null,null,null,null,null,null,null,null,null,null,null,{"$f":"IF(BO16=TRUE,'Housing Income'!$D31,0)","v":0},{"$f":"IF(BP16=TRUE,'Housing Income'!$D31,0)","v":0},{"$f":"IF(BQ16=TRUE,'Housing Income'!$D31,0)","v":0},{"$f":"IF(BR16=TRUE,'Housing Income'!$D31,0)","v":0},{"$f":"IF(BS16=TRUE,'Housing Income'!$D31,0)","v":0},{"$f":"IF(BT16=TRUE,'Housing Income'!$D31,0)","v":0},{"$f":"IF(BU16=TRUE,'Housing Income'!$D31,0)","v":0},{"$f":"IF(BV16=TRUE,'Housing Income'!$D31,0)","v":0},{"$f":"IF(BW16=TRUE,'Housing Income'!$D31,0)","v":0},null,{"$f":"IF(AND(BS16=TRUE, 'Housing Income'!$J31=\"RRDL Limit\"),'Housing Income'!$D31,0)","v":0},null,null,null,null,null,null,false,{"$f":"'Development Costs'!B68","v":"Furnishings and Equipment"},false,0,0,0,0,{"$f":"IF(DevCostsProfFeesFurnishings=TRUE,'Development Costs'!H68,0)","v":0},null,null,{"$f":"INDEX(HousIncUnitRentGrid,20,1)","v":0},{"$f":"INDEX(HousIncUnitRentGrid,20,2)","v":0},{"$f":"INDEX(HousIncUnitRentGrid,20,3)","v":0},{"$f":"INDEX(HousIncUnitRentGrid,20,4)","v":0},{"$f":"INDEX(HousIncUnitRentGrid,20,5)","v":0},0,0,0,0,0,"",null,{"$f":"IF(ProjDescTargHHSerMentalIll=0, DB61, IF(DB61=\"\", ProjDescTargHHSerMentalIllDesc, DB61 & \",\" & ProjDescTargHHSerMentalIllDesc))","v":""},{"$f":"IF('Project Description'!I53=\"\", \"\",VLOOKUP(22,DE$40:DF$62,2,FALSE))","v":""},"",22,{"$f":"'Project Description'!J53","v":"Serious and Persistent Mental Illness"},{"$f":"'Project Description'!I53","v":0},null,{"$f":"IF(RRDL_ProjDescTargHHOther=0,DI61,IF(DI61=\"\",RRDL_ProjDescTargHHOtherSpec,DI61&\",\"&RRDL_ProjDescTargHHOtherSpec))","v":{"$error":"#NAME?"}},{"$f":"IF(RRDL_ProjDescTargHHOther=\"\", \"\",VLOOKUP(11,DL$52:DM$73,2,FALSE))","v":{"$error":"#NAME?"}},{"$error":"#NAME?"},11,{"$f":"RRDL_ProjDescTargHHOtherSpec","v":{"$error":"#NAME?"}},{"$f":"RRDL_ProjDescTargHHOther","v":{"$error":"#NAME?"}},null,null,null,null,null,null,null,null,null,null,null,null,{"$f":"Buildings!B25","v":0},null,null,null,null,null,null,null,null,null,null,null,null,null,null,3,{"$f":"#REF!&\"-\"&#REF!","v":{"$error":"#REF!"}},null,null,null,null,false,{"$f":"LEFT(EQ62,3)&MID(EQ62,9,3)&MID(EQ62,FIND(\"-\",EQ62,1)+1,7)&\"Part2\"","v":{"$error":"#REF!"}},null,null,{"$f":"IF(#REF!=\"\",0,#REF!)","v":{"$error":"#REF!"}},{"$f":"EZ62*#REF!","v":{"$error":"#REF!"}},{"$f":"EZ62*#REF!","v":{"$error":"#REF!"}},{"$error":"#REF!"}]
[null,null,null,null,null,null,null,null,null,null,null,null,null,null,null,null,"Minimum Set-Aside",null,null,null,null,null,null,null,null,null,null,null,null,null,null,"Total Non-HTC Units",null,null,{"$f":"SUM(AI41:AI61)","v":0},null,"Total Non-HTC SqFt",null,{"$f":"SUM(AM41:AM61)","v":0},null,null,"Employee / Common Space SqFt",null,{"$f":"SUM(AR41:AR61)","v":0},null,null,null,null,null,null,null,null,null,null,null,null,null,null,null,null,null,null,null,null,null,null,{"$f":"IF(BO17=TRUE,'Housing Income'!$D32,0)","v":0},{"$f":"IF(BP17=TRUE,'Housing Income'!$D32,0)","v":0},{"$f":"IF(BQ17=TRUE,'Housing Income'!$D32,0)","v":0},{"$f":"IF(BR17=TRUE,'Housing Income'!$D32,0)","v":0},{"$f":"IF(BS17=TRUE,'Housing Income'!$D32,0)","v":0},{"$f":"IF(BT17=TRUE,'Housing Income'!$D32,0)","v":0},{"$f":"IF(BU17=TRUE,'Housing Income'!$D32,0)","v":0},{"$f":"IF(BV17=TRUE,'Housing Income'!$D32,0)","v":0},{"$f":"IF(BW17=TRUE,'Housing Income'!$D32,0)","v":0},null,{"$f":"IF(AND(BS17=TRUE, 'Housing Income'!$J32=\"RRDL Limit\"),'Housing Income'!$D32,0)","v":0},null,null,null,null,null,null,true,null,null,0,0,0,0,{"$f":"IF(DevCostsProfFeesLegalFees=TRUE,'Development Costs'!H69,0)","v":0},null,null,{"$f":"INDEX(HousIncUnitRentGrid,21,1)","v":0},{"$f":"INDEX(HousIncUnitRentGrid,21,2)","v":0},{"$f":"INDEX(HousIncUnitRentGrid,21,3)","v":0},{"$f":"INDEX(HousIncUnitRentGrid,21,4)","v":0},{"$f":"INDEX(HousIncUnitRentGrid,21,5)","v":0},0,0,0,0,0,"",null,{"$f":"IF(ProjDescTargHHSerPersMentalIll=0, DB62, IF(DB62=\"\", ProjDescTargHHSerPersMentalIllDesc, DB62 & \",\" & ProjDescTargHHSerPersMentalIllDesc))","v":""},null,null,null,null,null,null,{"$f":"IF(RRDL_ProjDescTargHHAtRiskHomeless=0,DI62,IF(DI62=\"\",RRDL_At_Risk_of_Homelessness,DI62&\",\"&RRDL_At_Risk_of_Homelessness))","v":{"$error":"#NAME?"}},{"$f":"IF(RRDL_ProjDescTargHHAtRiskHomeless=\"\", \"\",VLOOKUP(12,DL$52:DM$73,2,FALSE))","v":{"$error":"#NAME?"}},{"$error":"#NAME?"},12,{"$f":"RRDL_At_Risk_of_Homelessness","v":{"$error":"#NAME?"}},{"$f":"RRDL_ProjDescTargHHAtRiskHomeless","v":{"$error":"#NAME?"}},null,null,null,null,null,null,null,null,null,null,null,null,{"$f":"Buildings!B26","v":0},null,null,null,null,null,null,null,null,null,null,null,null,null,null,4,{"$f":"#REF!&\"-\"&#REF!","v":{"$error":"#REF!"}},null,null,null,null,false,{"$f":"LEFT(EQ63,3)&MID(EQ63,9,3)&MID(EQ63,FIND(\"-\",EQ63,1)+1,7)&\"Part3\"","v":{"$error":"#REF!"}},null,null,{"$f":"IF(#REF!=\"\",0,#REF!)","v":{"$error":"#REF!"}},{"$f":"EZ63*#REF!","v":{"$error":"#REF!"}},{"$f":"EZ63*#REF!","v":{"$error":"#REF!"}},{"$error":"#REF!"},null,null,null,null,null,null,null,null,null,null,null,null,null,null,null,"Real Estate Taxes",null,{"$f":"RRDL_IncExpRETaxes","v":{"$error":"#NAME?"}},{"$f":"#REF!","v":{"$error":"#REF!"}},{"$f":"#REF!","v":{"$error":"#REF!"}}]
[null,null,null,null,null,null,null,null,null,null,null,null,null,null,null,null,"20% of the units serving households at 50% of the area median",null,false,null,null,null,null,null,null,null,null,null,null,null,null,null,null,null,null,null,null,null,null,null,null,null,null,null,null,null,null,null,null,null,null,null,null,null,null,null,null,null,null,null,null,null,null,null,null,null,{"$f":"IF(BO18=TRUE,'Housing Income'!$D33,0)","v":0},{"$f":"IF(BP18=TRUE,'Housing Income'!$D33,0)","v":0},{"$f":"IF(BQ18=TRUE,'Housing Income'!$D33,0)","v":0},{"$f":"IF(BR18=TRUE,'Housing Income'!$D33,0)","v":0},{"$f":"IF(BS18=TRUE,'Housing Income'!$D33,0)","v":0},{"$f":"IF(BT18=TRUE,'Housing Income'!$D33,0)","v":0},{"$f":"IF(BU18=TRUE,'Housing Income'!$D33,0)","v":0},{"$f":"IF(BV18=TRUE,'Housing Income'!$D33,0)","v":0},{"$f":"IF(BW18=TRUE,'Housing Income'!$D33,0)","v":0},null,{"$f":"IF(AND(BS18=TRUE, 'Housing Income'!$J33=\"RRDL Limit\"),'Housing Income'!$D33,0)","v":0},null,null,null,null,null,null,true,null,null,0,0,0,0,{"$f":"IF(DevCostsProfFeesRelocCosts=TRUE,'Development Costs'!H70,0)","v":0},null,null,null,null,null,null,null,null,null,null,null,null,null,null,null,null,null,null,null,null,null,{"$f":"IF(RRDL_ProjDescTargHHHomeless=0,DI63,IF(DI63=\"\",RRDL_Homeless,DI63&\",\"&RRDL_Homeless))","v":{"$error":"#NAME?"}},{"$f":"IF(RRDL_ProjDescTargHHHomeless=\"\", \"\",VLOOKUP(13,DL$52:DM$73,2,FALSE))","v":{"$error":"#NAME?"}},{"$error":"#NAME?"},13,{"$f":"RRDL_Homeless","v":{"$error":"#NAME?"}},{"$f":"RRDL_ProjDescTargHHHomeless","v":{"$error":"#NAME?"}},null,null,null,null,null,null,null,null,null,null,null,null,{"$f":"Buildings!B27","v":0},null,null,null,null,null,null,null,null,null,null,null,null,null,null,5,{"$f":"#REF!&\"-\"&#REF!","v":{"$error":"#REF!"}},null,null,null,null,false,{"$f":"LEFT(EQ64,3)&MID(EQ64,9,3)&MID(EQ64,FIND(\"-\",EQ64,1)+1,7)","v":{"$error":"#REF!"}},null,null,{"$f":"IF(#REF!=\"\",0,#REF!)","v":{"$error":"#REF!"}},{"$f":"EZ64*#REF!","v":{"$error":"#REF!"}},{"$f":"EZ64*#REF!","v":{"$error":"#REF!"}},{"$error":"#REF!"},null,null,null,null,null,null,null,null,null,null,null,null,null,null,null,"Replacement Reserve",null,{"$f":"RRDL_IncExpReplRes","v":{"$error":"#NAME?"}},{"$f":"#REF!","v":{"$error":"#REF!"}},{"$f":"#REF!","v":{"$error":"#REF!"}}]
[null,null,null,null,null,null,null,null,null,null,null,null,null,null,null,null,"40% of the units serving households at 60% of the area median",null,true,null,null,null,null,null,null,null,null,null,null,null,null,null,null,null,null,null,null,null,null,null,null,null,null,null,null,null,null,null,null,null,"RRDL HOUSING INCOME",null,null,null,null,null,null,null,null,null,null,null,null,null,null,null,{"$f":"IF(BO19=TRUE,'Housing Income'!$D34,0)","v":0},{"$f":"IF(BP19=TRUE,'Housing Income'!$D34,0)","v":0},{"$f":"IF(BQ19=TRUE,'Housing Income'!$D34,0)","v":0},{"$f":"IF(BR19=TRUE,'Housing Income'!$D34,0)","v":0},{"$f":"IF(BS19=TRUE,'Housing Income'!$D34,0)","v":0},{"$f":"IF(BT19=TRUE,'Housing Income'!$D34,0)","v":0},{"$f":"IF(BU19=TRUE,'Housing Income'!$D34,0)","v":0},{"$f":"IF(BV19=TRUE,'Housing Income'!$D34,0)","v":0},{"$f":"IF(BW19=TRUE,'Housing Income'!$D34,0)","v":0},null,{"$f":"IF(AND(BS19=TRUE, 'Housing Income'!$J34=\"RRDL Limit\"),'Housing Income'!$D34,0)","v":0},null,null,null,null,null,null,false,null,null,0,0,0,0,{"$f":"IF(DevCostsProfFeesOther1=TRUE,'Development Costs'!H71,0)","v":0},null,null,"0BR/SRO","1BR","2BR","3BR","4BR+",null,"HUD Limit Test",null,null,"0BR/SRO",2.5,null,"# ofRows",{"$f":"23 - COUNTBLANK(DC40:DC62)","v":0},null,null,null,null,null,{"$f":"IF(RRDL_ProjDescTargHHFamily=0,DI64,IF(DI64=\"\",RRDL_LTH_Family,DI64&\",\"&RRDL_LTH_Family))","v":{"$error":"#NAME?"}},{"$f":"IF(RRDL_ProjDescTargHHFamily=\"\", \"\",VLOOKUP(14,DL$52:DM$73,2,FALSE))","v":{"$error":"#NAME?"}},{"$error":"#NAME?"},14,{"$f":"RRDL_LTH_Family","v":{"$error":"#NAME?"}},{"$f":"RRDL_ProjDescTargHHFamily","v":{"$error":"#NAME?"}},null,null,null,null,null,null,null,null,null,null,null,null,{"$f":"Buildings!B28","v":0},null,null,null,null,null,null,null,null,null,null,null,null,null,null,6,{"$f":"#REF!&\"-\"&#REF!","v":{"$error":"#REF!"}},null,null,null,null,false,{"$f":"LEFT(EQ65,3)&MID(EQ65,9,3)&MID(EQ65,FIND(\"-\",EQ65,1)+1,7)","v":{"$error":"#REF!"}},null,null,{"$f":"IF(#REF!=\"\",0,#REF!)","v":{"$error":"#REF!"}},{"$f":"EZ65*#REF!","v":{"$error":"#REF!"}},{"$f":"EZ65*#REF!","v":{"$error":"#REF!"}},{"$error":"#REF!"},null,null,null,null,null,null,null,null,null,null,null,null,null,null,null,"Miscellaneous Reserves",null,{"$f":"IncExpRETaxesResTotal","v":0},{"$f":"#REF!","v":{"$error":"#REF!"}},{"$f":"#REF!","v":{"$error":"#REF!"}}]
[null,null,null,null,null,null,null,null,null,null,null,null,null,null,null,null,null,null,null,null,null,null,null,null,null,null,null,null,null,null,null,null,null,null,null,null,null,null,null,null,null,null,null,null,null,null,null,null,null,null,"Housing & Income Utility Allowance",null,null,null,null,null,null,null,null,null,null,null,null,null,null,null,{"$f":"IF(BO20=TRUE,'Housing Income'!$D35,0)","v":0},{"$f":"IF(BP20=TRUE,'Housing Income'!$D35,0)","v":0},{"$f":"IF(BQ20=TRUE,'Housing Income'!$D35,0)","v":0},{"$f":"IF(BR20=TRUE,'Housing Income'!$D35,0)","v":0},{"$f":"IF(BS20=TRUE,'Housing Income'!$D35,0)","v":0},{"$f":"IF(BT20=TRUE,'Housing Income'!$D35,0)","v":0},{"$f":"IF(BU20=TRUE,'Housing Income'!$D35,0)","v":0},{"$f":"IF(BV20=TRUE,'Housing Income'!$D35,0)","v":0},{"$f":"IF(BW20=TRUE,'Housing Income'!$D35,0)","v":0},null,{"$f":"IF(AND(BS20=TRUE, 'Housing Income'!$J35=\"RRDL Limit\"),'Housing Income'!$D35,0)","v":0},null,null,null,null,null,null,false,null,null,0,0,0,0,{"$f":"IF(DevCostsProfFeesOther2=TRUE,'Development Costs'!H72,0)","v":0},null,null,null,null,null,null,null,null,"0BR/SRO",{"$f":"IF(CP67>0,#REF!,\"\")","v":""},null,"1BR",3.5,null,null,null,null,null,null,null,null,{"$f":"IF(RRDL_ProjDescTargHHSingAdults=0,DI65,IF(DI65=\"\",RRDL_LTH_Single_Adults,DI65&\",\"&RRDL_LTH_Single_Adults))","v":{"$error":"#NAME?"}},{"$f":"IF(RRDL_ProjDescTargHHSingAdults=\"\", \"\",VLOOKUP(15,DL$52:DM$73,2,FALSE))","v":{"$error":"#NAME?"}},{"$f":"IF(ISNA(VLOOKUP(DJ66, DM64:DN87, 2, FALSE)),\"\",VLOOKUP(DJ66, DM64:DN87, 2, FALSE))","v":{"$error":"#NAME?"}},15,{"$f":"RRDL_LTH_Single_Adults","v":{"$error":"#NAME?"}},{"$f":"RRDL_ProjDescTargHHSingAdults","v":{"$error":"#NAME?"}},null,null,null,null,null,null,null,null,null,null,null,null,{"$f":"Buildings!B29","v":0},null,null,null,null,null,null,null,null,null,null,null,null,null,null,7,{"$f":"#REF!&\"-\"&#REF!","v":{"$error":"#REF!"}},null,null,null,null,false,{"$f":"LEFT(EQ66,3)&MID(EQ66,9,3)&MID(EQ66,FIND(\"-\",EQ66,1)+1,7)","v":{"$error":"#REF!"}},null,null,{"$f":"IF(#REF!=\"\",0,#REF!)","v":{"$error":"#REF!"}},{"$f":"EZ66*#REF!","v":{"$error":"#REF!"}},{"$f":"EZ66*#REF!","v":{"$error":"#REF!"}},{"$error":"#REF!"},null,null,null,null,null,null,null,null,null,null,null,null,null,null,null,"Total Escrow Reserves",null,{"$f":"SUM(FU63:FU65)","v":{"$error":"#NAME?"}},{"$f":"SUM(FV63:FV65)","v":{"$error":"#REF!"}},{"$f":"SUM(FW63:FW65)","v":{"$error":"#REF!"}}]
[null,null,null,null,null,null,null,null,null,null,null,null,null,null,null,null,null,null,null,null,null,null,null,null,null,null,null,null,null,null,null,null,null,null,null,null,null,null,null,null,null,null,null,null,null,null,null,null,null,null,"0BR/SRO","1BR","2BR","3BR","4BR","5BR","6BR",null,null,null,null,null,null,null,null,null,{"$f":"IF(BO21=TRUE,'Housing Income'!$D36,0)","v":0},{"$f":"IF(BP21=TRUE,'Housing Income'!$D36,0)","v":0},{"$f":"IF(BQ21=TRUE,'Housing Income'!$D36,0)","v":0},{"$f":"IF(BR21=TRUE,'Housing Income'!$D36,0)","v":0},{"$f":"IF(BS21=TRUE,'Housing Income'!$D36,0)","v":0},{"$f":"IF(BT21=TRUE,'Housing Income'!$D36,0)","v":0},{"$f":"IF(BU21=TRUE,'Housing Income'!$D36,0)","v":0},{"$f":"IF(BV21=TRUE,'Housing Income'!$D36,0)","v":0},{"$f":"IF(BW21=TRUE,'Housing Income'!$D36,0)","v":0},null,{"$f":"IF(AND(BS21=TRUE, 'Housing Income'!$J36=\"RRDL Limit\"),'Housing Income'!$D36,0)","v":0},null,null,null,null,null,null,false,null,null,0,0,0,0,{"$f":"IF(DevCostsProfFeesOther3=TRUE,'Development Costs'!H73,0)","v":0},"# of Units",null,{"$f":"SUM(CU43:CU62)","v":0},{"$f":"SUM(CV43:CV62)","v":0},{"$f":"SUM(CW43:CW62)","v":0},{"$f":"SUM(CX43:CX62)","v":0},{"$f":"SUM(CY43:CY62)","v":0},null,"1BR",{"$f":"IF(CQ67>0,#REF!,\"\")","v":""},null,"2BR",4.5,null,null,null,null,null,null,null,null,{"$f":"IF(RRDL_ProjDescTargHHUnAccompYouth=0,DI66,IF(DI66=\"\",RRDL_LTH_Unaccompanied_Youth,DI66&\",\"&RRDL_LTH_Unaccompanied_Youth))","v":{"$error":"#NAME?"}},{"$f":"IF(RRDL_ProjDescTargHHUnAccompYouth=\"\", \"\",VLOOKUP(16,DL$52:DM$73,2,FALSE))","v":{"$error":"#NAME?"}},{"$error":"#NAME?"},16,{"$f":"RRDL_LTH_Unaccompanied_Youth","v":{"$error":"#NAME?"}},{"$f":"RRDL_ProjDescTargHHUnAccompYouth","v":{"$error":"#NAME?"}},null,null,null,null,null,null,null,null,null,null,null,null,{"$f":"Buildings!B30","v":0},null,null,null,null,null,null,null,null,null,null,null,null,null,null,8,{"$f":"#REF!&\"-\"&#REF!","v":{"$error":"#REF!"}},null,null,null,null,false,{"$f":"LEFT(EQ67,3)&MID(EQ67,9,3)&\"TaxCred\"","v":{"$error":"#REF!"}},null,null,{"$f":"IF(#REF!=\"\",0,#REF!)","v":{"$error":"#REF!"}},{"$f":"EZ67*#REF!","v":{"$error":"#REF!"}},{"$f":"EZ67*#REF!","v":{"$error":"#REF!"}},{"$error":"#REF!"}]
[null,null,null,null,null,null,null,null,null,null,null,null,null,null,null,null,null,null,null,null,null,null,null,null,null,null,null,null,null,null,null,null,null,null,null,null,null,null,null,null,null,null,null,null,null,null,null,null,null,null,{"$f":"IF(RRDL_IncExpUnitType1=\"0BR/SRO\",RRDL_AnnIncExpTenUtil1,0)","v":{"$error":"#NAME?"}},{"$f":"IF(RRDL_IncExpUnitType1=\"1BR\",RRDL_AnnIncExpTenUtil1,0)","v":{"$error":"#NAME?"}},{"$f":"IF(RRDL_IncExpUnitType1=\"2BR\",RRDL_AnnIncExpTenUtil1,0)","v":{"$error":"#NAME?"}},{"$f":"IF(RRDL_IncExpUnitType1=\"3BR\",RRDL_AnnIncExpTenUtil1,0)","v":{"$error":"#NAME?"}},{"$f":"IF(RRDL_IncExpUnitType1=\"4BR\",RRDL_AnnIncExpTenUtil1,0)","v":{"$error":"#NAME?"}},{"$f":"IF(RRDL_IncExpUnitType1=\"5BR\",RRDL_AnnIncExpTenUtil1,0)","v":{"$error":"#NAME?"}},{"$f":"IF(RRDL_IncExpUnitType1=\"6BR\",RRDL_AnnIncExpTenUtil1,0)","v":{"$error":"#NAME?"}},null,null,null,null,null,null,null,null,null,{"$f":"IF(BO22=TRUE,'Housing Income'!$D37,0)","v":0},{"$f":"IF(BP22=TRUE,'Housing Income'!$D37,0)","v":0},{"$f":"IF(BQ22=TRUE,'Housing Income'!$D37,0)","v":0},{"$f":"IF(BR22=TRUE,'Housing Income'!$D37,0)","v":0},{"$f":"IF(BS22=TRUE,'Housing Income'!$D37,0)","v":0},{"$f":"IF(BT22=TRUE,'Housing Income'!$D37,0)","v":0},{"$f":"IF(BU22=TRUE,'Housing Income'!$D37,0)","v":0},{"$f":"IF(BV22=TRUE,'Housing Income'!$D37,0)","v":0},{"$f":"IF(BW22=TRUE,'Housing Income'!$D37,0)","v":0},null,{"$f":"IF(AND(BS22=TRUE, 'Housing Income'!$J37=\"RRDL Limit\"),'Housing Income'!$D37,0)","v":0},null,null,null,null,null,null,false,null,null,0,0,0,0,{"$f":"IF(DevCostsProfFeesOther4=TRUE,'Development Costs'!H74,0)","v":0},"# of Bath-rooms",null,null,null,null,null,null,null,"2BR",{"$f":"IF(CR67>0,#REF!,\"\")","v":""},null,"3BR",6,null,null,null,null,null,null,null,null,{"$f":"IF(RRDL_ProjDescTargHHLTHDrugDep=0,DI67,IF(DI67=\"\",RRDL_Drug_Dependent,DI67&\",\"&RRDL_Drug_Dependent))","v":{"$error":"#NAME?"}},{"$f":"IF(RRDL_ProjDescTargHHLTHDrugDep=\"\", \"\",VLOOKUP(17,DL$52:DM$73,2,FALSE))","v":{"$error":"#NAME?"}},{"$error":"#NAME?"},17,{"$f":"RRDL_Drug_Dependent","v":{"$error":"#NAME?"}},{"$f":"RRDL_ProjDescTargHHLTHDrugDep","v":{"$error":"#NAME?"}},null,null,null,null,null,null,null,null,null,null,null,null,{"$f":"Buildings!B31","v":0},null,null,null,null,null,null,null,null,null,null,null,null,null,null,9,"General Contractor-Processing Agent",null,null,null,null,false,{"$f":"LEFT(EQ68,3)&MID(EQ68,9,3)&MID(EQ68,FIND(\"-\",EQ68,1)+1,3)&MID(EQ68,FIND(\"-\",EQ68,1)+13,4)","v":"GenConProgent"},null,null,{"$f":"IF(#REF!=\"\",0,#REF!)","v":{"$error":"#REF!"}},{"$f":"EZ68*#REF!","v":{"$error":"#REF!"}},{"$f":"EZ68*#REF!","v":{"$error":"#REF!"}},{"$error":"#REF!"}]
[null,null,null,null,null,null,null,null,null,null,null,null,null,null,null,null,null,null,null,null,null,null,null,null,null,null,null,null,null,null,null,null,null,null,null,null,null,null,null,null,null,null,null,null,null,null,null,null,null,null,{"$f":"IF(RRDL_IncExpUnitType2=\"0BR/SRO\",RRDL_AnnIncExpTenUtil2,0)","v":{"$error":"#NAME?"}},{"$f":"IF(RRDL_IncExpUnitType2=\"1BR\",RRDL_AnnIncExpTenUtil2,0)","v":{"$error":"#NAME?"}},{"$f":"IF(RRDL_IncExpUnitType2=\"2BR\",RRDL_AnnIncExpTenUtil2,0)","v":{"$error":"#NAME?"}},{"$f":"IF(RRDL_IncExpUnitType2=\"3BR\",RRDL_AnnIncExpTenUtil2,0)","v":{"$error":"#NAME?"}},{"$f":"IF(RRDL_IncExpUnitType2=\"4BR\",RRDL_AnnIncExpTenUtil2,0)","v":{"$error":"#NAME?"}},{"$f":"IF(RRDL_IncExpUnitType2=\"5BR\",RRDL_AnnIncExpTenUtil2,0)","v":{"$error":"#NAME?"}},{"$f":"IF(RRDL_IncExpUnitType2=\"6BR\",RRDL_AnnIncExpTenUtil2,0)","v":{"$error":"#NAME?"}},null,null,null,null,null,null,null,null,null,{"$f":"IF(BO23=TRUE,'Housing Income'!$D38,0)","v":0},{"$f":"IF(BP23=TRUE,'Housing Income'!$D38,0)","v":0},{"$f":"IF(BQ23=TRUE,'Housing Income'!$D38,0)","v":0},{"$f":"IF(BR23=TRUE,'Housing Income'!$D38,0)","v":0},{"$f":"IF(BS23=TRUE,'Housing Income'!$D38,0)","v":0},{"$f":"IF(BT23=TRUE,'Housing Income'!$D38,0)","v":0},{"$f":"IF(BU23=TRUE,'Housing Income'!$D38,0)","v":0},{"$f":"IF(BV23=TRUE,'Housing Income'!$D38,0)","v":0},{"$f":"IF(BW23=TRUE,'Housing Income'!$D38,0)","v":0},null,{"$f":"IF(AND(BS23=TRUE, 'Housing Income'!$J38=\"RRDL Limit\"),'Housing Income'!$D38,0)","v":0},null,null,null,null,null,null,false,"DEVELOPER FEE",null,null,null,null,null,null,"Approx Sq Ft",null,null,null,null,null,null,null,"3BR",{"$f":"IF(CS67>0,#REF!,\"\")","v":""},null,"4BR",7,null,null,null,null,null,null,null,null,{"$f":"IF(RRDL_ProjDescTargHHPhysDis=0,DI68,IF(DI68=\"\",RRDL_Permanent_Physical_Disabilities,DI68&\",\"&RRDL_Permanent_Physical_Disabilities))","v":{"$error":"#NAME?"}},{"$f":"IF(RRDL_ProjDescTargHHPhysDis=\"\", \"\",VLOOKUP(18,DL$52:DM$73,2,FALSE))","v":{"$error":"#NAME?"}},{"$error":"#NAME?"},18,{"$f":"RRDL_Permanent_Physical_Disabilities","v":{"$error":"#NAME?"}},{"$f":"RRDL_ProjDescTargHHPhysDis","v":{"$error":"#NAME?"}},null,null,null,null,null,null,null,null,null,null,null,null,{"$f":"Buildings!B32","v":0},null,null,null,null,null,null,null,null,null,null,null,null,null,null,14,{"$f":"#REF!&\"-\"&#REF!","v":{"$error":"#REF!"}},null,null,null,null,false,{"$f":"LEFT(EQ69,7)&MID(EQ69,FIND(\"-\",EQ69,1)+1,7)","v":{"$error":"#REF!"}},null,null,"Totals",{"$f":"SUM(FA48:FA68)","v":{"$error":"#REF!"}},{"$f":"SUM(FB48:FB68)","v":{"$error":"#REF!"}},{"$f":"SUM(FC48:FC68)","v":{"$error":"#REF!"}}]
[null,null,null,null,null,null,null,null,null,null,null,null,null,null,null,null,null,null,null,null,null,null,null,null,null,null,null,null,null,null,null,null,null,null,null,null,null,null,null,null,null,null,null,null,null,null,null,null,null,null,{"$f":"IF(RRDL_IncExpUnitType3=\"0BR/SRO\",RRDL_AnnIncExpTenUtil3,0)","v":{"$error":"#NAME?"}},{"$f":"IF(RRDL_IncExpUnitType3=\"1BR\",RRDL_AnnIncExpTenUtil3,0)","v":{"$error":"#NAME?"}},{"$f":"IF(RRDL_IncExpUnitType3=\"2BR\",RRDL_AnnIncExpTenUtil3,0)","v":{"$error":"#NAME?"}},{"$f":"IF(RRDL_IncExpUnitType3=\"3BR\",RRDL_AnnIncExpTenUtil3,0)","v":{"$error":"#NAME?"}},{"$f":"IF(RRDL_IncExpUnitType3=\"4BR\",RRDL_AnnIncExpTenUtil3,0)","v":{"$error":"#NAME?"}},{"$f":"IF(RRDL_IncExpUnitType3=\"5BR\",RRDL_AnnIncExpTenUtil3,0)","v":{"$error":"#NAME?"}},{"$f":"IF(RRDL_IncExpUnitType3=\"6BR\",RRDL_AnnIncExpTenUtil3,0)","v":{"$error":"#NAME?"}},null,null,null,null,null,null,null,null,null,{"$f":"IF(BO24=TRUE,'Housing Income'!$D39,0)","v":0},{"$f":"IF(BP24=TRUE,'Housing Income'!$D39,0)","v":0},{"$f":"IF(BQ24=TRUE,'Housing Income'!$D39,0)","v":0},{"$f":"IF(BR24=TRUE,'Housing Income'!$D39,0)","v":0},{"$f":"IF(BS24=TRUE,'Housing Income'!$D39,0)","v":0},{"$f":"IF(BT24=TRUE,'Housing Income'!$D39,0)","v":0},{"$f":"IF(BU24=TRUE,'Housing Income'!$D39,0)","v":0},{"$f":"IF(BV24=TRUE,'Housing Income'!$D39,0)","v":0},{"$f":"IF(BW24=TRUE,'Housing Income'!$D39,0)","v":0},null,{"$f":"IF(AND(BS24=TRUE, 'Housing Income'!$J39=\"RRDL Limit\"),'Housing Income'!$D39,0)","v":0},null,null,null,null,null,null,true,null,null,0,0,0,0,{"$f":"IF(DevCostsDevFeeDevFee=TRUE,'Development Costs'!H77,0)","v":0},"Monthly Contract Rent",null,null,null,null,null,null,null,"4BR+",{"$f":"IF(CT67>0,#REF!,\"\")","v":""},null,"5BR",8.5,null,null,null,null,null,null,null,null,{"$f":"IF(RRDL_ProjDescTargHHDevDis=0,DI69,IF(DI69=\"\",RRDL_Developmental_Disability,DI69&\",\"&RRDL_Developmental_Disability))","v":{"$error":"#NAME?"}},{"$f":"IF(RRDL_ProjDescTargHHDevDis=\"\", \"\",VLOOKUP(19,DL$52:DM$73,2,FALSE))","v":{"$error":"#NAME?"}},{"$error":"#NAME?"},19,{"$f":"RRDL_Developmental_Disability","v":{"$error":"#NAME?"}},{"$f":"RRDL_ProjDescTargHHDevDis","v":{"$error":"#NAME?"}},null,null,null,null,null,null,null,null,null,null,null,null,{"$f":"Buildings!B33","v":0},null,null,null,null,null,null,null,null,null,null,null,null,null,null,15,{"$f":"#REF!&\"-\"&#REF!","v":{"$error":"#REF!"}},null,null,null,null,false,{"$f":"LEFT(EQ70,7)&MID(EQ70,FIND(\"-\",EQ70,1)+1,7)","v":{"$error":"#REF!"}}]
[null,null,null,null,null,null,null,null,null,null,null,null,null,null,null,null,null,null,null,null,null,null,null,null,null,null,null,null,null,null,null,null,null,null,null,null,null,null,null,null,null,null,null,null,null,null,null,null,null,null,{"$f":"IF(RRDL_IncExpUnitType4=\"0BR/SRO\",RRDL_AnnIncExpTenUtil4,0)","v":{"$error":"#NAME?"}},{"$f":"IF(RRDL_IncExpUnitType4=\"1BR\",RRDL_AnnIncExpTenUtil4,0)","v":{"$error":"#NAME?"}},{"$f":"IF(RRDL_IncExpUnitType4=\"2BR\",RRDL_AnnIncExpTenUtil4,0)","v":{"$error":"#NAME?"}},{"$f":"IF(RRDL_IncExpUnitType4=\"3BR\",RRDL_AnnIncExpTenUtil4,0)","v":{"$error":"#NAME?"}},{"$f":"IF(RRDL_IncExpUnitType4=\"4BR\",RRDL_AnnIncExpTenUtil4,0)","v":{"$error":"#NAME?"}},{"$f":"IF(RRDL_IncExpUnitType4=\"5BR\",RRDL_AnnIncExpTenUtil4,0)","v":{"$error":"#NAME?"}},{"$f":"IF(RRDL_IncExpUnitType4=\"6BR\",RRDL_AnnIncExpTenUtil4,0)","v":{"$error":"#NAME?"}},null,null,null,null,null,null,null,null,null,{"$f":"IF(BO25=TRUE,'Housing Income'!$D40,0)","v":0},{"$f":"IF(BP25=TRUE,'Housing Income'!$D40,0)","v":0},{"$f":"IF(BQ25=TRUE,'Housing Income'!$D40,0)","v":0},{"$f":"IF(BR25=TRUE,'Housing Income'!$D40,0)","v":0},{"$f":"IF(BS25=TRUE,'Housing Income'!$D40,0)","v":0},{"$f":"IF(BT25=TRUE,'Housing Income'!$D40,0)","v":0},{"$f":"IF(BU25=TRUE,'Housing Income'!$D40,0)","v":0},{"$f":"IF(BV25=TRUE,'Housing Income'!$D40,0)","v":0},{"$f":"IF(BW25=TRUE,'Housing Income'!$D40,0)","v":0},null,{"$f":"IF(AND(BS25=TRUE, 'Housing Income'!$J40=\"RRDL Limit\"),'Housing Income'!$D40,0)","v":0},null,null,null,null,null,null,true,null,null,0,0,0,0,{"$f":"IF(DevCostsDevFeeProcAgent=TRUE,'Development Costs'!H78,0)","v":0},null,null,null,null,null,null,null,null,"Min HOME Units by Subsidy Limit Test",{"$f":"MIN(CW66:CW70)","v":0},null,"6BR",9.5,null,null,null,null,null,null,null,null,{"$f":"IF(RRDL_ProjDescTargHHBrainInj=0,DI70,IF(DI70=\"\",RRDL_Brain_Injury,DI70&\",\"&RRDL_Brain_Injury))","v":{"$error":"#NAME?"}},{"$f":"IF(RRDL_ProjDescTargHHBrainInj=\"\", \"\",VLOOKUP(20,DL$52:DM$73,2,FALSE))","v":{"$error":"#NAME?"}},{"$error":"#NAME?"},20,{"$f":"RRDL_Brain_Injury","v":{"$error":"#NAME?"}},{"$f":"RRDL_ProjDescTargHHBrainInj","v":{"$error":"#NAME?"}},null,null,null,null,null,null,null,null,null,null,null,null,{"$f":"Buildings!B34","v":0},null,null,null,null,null,null,null,null,null,null,null,null,null,null,1,{"$f":"#REF!&\"-\"&#REF!","v":{"$error":"#REF!"}},null,null,null,null,false,{"$f":"LEFT(EQ71,7)&MID(EQ71,FIND(\"-\",EQ71,1)+1,5)&\"M\"","v":{"$error":"#REF!"}}]
[null,null,null,null,null,null,null,null,null,null,null,null,null,null,null,null,null,null,null,null,null,null,null,null,null,null,null,null,null,null,null,null,null,null,null,null,null,null,null,null,null,null,null,null,null,null,null,null,null,null,{"$f":"IF(RRDL_IncExpUnitType5=\"0BR/SRO\",RRDL_AnnIncExpTenUtil5,0)","v":{"$error":"#NAME?"}},{"$f":"IF(RRDL_IncExpUnitType5=\"1BR\",RRDL_AnnIncExpTenUtil5,0)","v":{"$error":"#NAME?"}},{"$f":"IF(RRDL_IncExpUnitType5=\"2BR\",RRDL_AnnIncExpTenUtil5,0)","v":{"$error":"#NAME?"}},{"$f":"IF(RRDL_IncExpUnitType5=\"3BR\",RRDL_AnnIncExpTenUtil5,0)","v":{"$error":"#NAME?"}},{"$f":"IF(RRDL_IncExpUnitType5=\"4BR\",RRDL_AnnIncExpTenUtil5,0)","v":{"$error":"#NAME?"}},{"$f":"IF(RRDL_IncExpUnitType5=\"5BR\",RRDL_AnnIncExpTenUtil5,0)","v":{"$error":"#NAME?"}},{"$f":"IF(RRDL_IncExpUnitType5=\"6BR\",RRDL_AnnIncExpTenUtil5,0)","v":{"$error":"#NAME?"}},null,null,null,null,null,null,null,null,null,{"$f":"SUM(BO50:BO71)","v":0},0,0,0,0,0,0,0,0,null,{"$f":"SUM(BY50:BY71)","v":0},null,null,null,null,null,null,true,null,null,0,0,0,0,{"$f":"IF(DevCostsDevFeeConstRep=TRUE,'Development Costs'!H79,0)","v":0},null,null,null,null,null,null,null,null,null,null,null,"Bed",2,null,null,null,null,null,null,null,null,{"$f":"IF(RRDL_ProjDescTargHHSerMentalIll=0,DI71,IF(DI71=\"\",RRDL_Serious_Mental_Illness,DI71&\",\"&RRDL_Serious_Mental_Illness))","v":{"$error":"#NAME?"}},{"$f":"IF(RRDL_ProjDescTargHHSerMentalIll=\"\", \"\",VLOOKUP(21,DL$52:DM$73,2,FALSE))","v":{"$error":"#NAME?"}},{"$error":"#NAME?"},21,{"$f":"RRDL_Serious_Mental_Illness","v":{"$error":"#NAME?"}},{"$f":"RRDL_ProjDescTargHHSerMentalIll","v":{"$error":"#NAME?"}},null,null,null,null,null,null,null,null,null,null,null,null,{"$f":"Buildings!B35","v":0},null,null,null,null,null,null,null,null,null,null,null,null,null,null,2,{"$f":"#REF!&\"-\"&#REF!","v":{"$error":"#REF!"}},null,null,null,null,false,{"$f":"LEFT(EQ72,7)&MID(EQ72,FIND(\"-\",EQ72,1)+1,7)&\"Part1\"","v":{"$error":"#REF!"}}]
[null,null,null,null,null,null,null,null,null,null,null,null,null,null,null,null,null,null,null,null,null,null,null,null,null,null,null,null,null,null,null,null,null,null,null,null,null,null,null,null,null,null,null,null,null,null,null,null,null,null,{"$f":"IF(RRDL_IncExpUnitType6=\"0BR/SRO\",RRDL_AnnIncExpTenUtil6,0)","v":{"$error":"#NAME?"}},{"$f":"IF(RRDL_IncExpUnitType6=\"1BR\",RRDL_AnnIncExpTenUtil6,0)","v":{"$error":"#NAME?"}},{"$f":"IF(RRDL_IncExpUnitType6=\"2BR\",RRDL_AnnIncExpTenUtil6,0)","v":{"$error":"#NAME?"}},{"$f":"IF(RRDL_IncExpUnitType6=\"3BR\",RRDL_AnnIncExpTenUtil6,0)","v":{"$error":"#NAME?"}},{"$f":"IF(RRDL_IncExpUnitType6=\"4BR\",RRDL_AnnIncExpTenUtil6,0)","v":{"$error":"#NAME?"}},{"$f":"IF(RRDL_IncExpUnitType6=\"5BR\",RRDL_AnnIncExpTenUtil6,0)","v":{"$error":"#NAME?"}},{"$f":"IF(RRDL_IncExpUnitType6=\"6BR\",RRDL_AnnIncExpTenUtil6,0)","v":{"$error":"#NAME?"}},null,null,null,null,null,null,null,null,null,null,null,null,null,null,null,null,null,null,null,null,null,null,null,null,null,null,true,null,null,0,0,0,0,{"$f":"IF(DevCostsDevFeeOtherConsFees=TRUE,'Development Costs'!H80,0)","v":0},null,null,"Total RRDL Rows",null,{"$f":"(5-COUNTIF(#REF!,\"\")) + RRDLIncrementalRows","v":{"$error":"#REF!"}},"Incremental Rows",null,5,null,null,null,null,null,null,null,null,null,null,null,null,null,{"$f":"IF(RRDL_ProjDescTargHHSerPersMentalIll=0,DI72,IF(DI72=\"\",RRDL_Serious_and_Persistent_Mental_Illness,DI72&\",\"&RRDL_Serious_and_Persistent_Mental_Illness))","v":{"$error":"#NAME?"}},{"$f":"IF(RRDL_ProjDescTargHHSerPersMentalIll=\"\", \"\",VLOOKUP(22,DL$52:DM$73,2,FALSE))","v":{"$error":"#NAME?"}},{"$error":"#NAME?"},22,{"$f":"RRDL_Serious_and_Persistent_Mental_Illness","v":{"$error":"#NAME?"}},{"$f":"RRDL_ProjDescTargHHSerPersMentalIll","v":{"$error":"#NAME?"}},null,null,null,null,null,null,null,null,null,null,null,null,{"$f":"Buildings!B36","v":0},null,null,null,null,null,null,null,null,null,null,null,null,null,null,3,{"$f":"#REF!&\"-\"&#REF!","v":{"$error":"#REF!"}},null,null,null,null,false,{"$f":"LEFT(EQ73,7)&MID(EQ73,FIND(\"-\",EQ73,1)+1,7)&\"Part2\"","v":{"$error":"#REF!"}}]
[null,null,null,null,null,null,null,null,null,null,null,null,null,null,null,null,null,null,null,null,null,null,null,null,null,null,null,null,null,null,null,null,null,null,null,null,null,null,null,null,null,null,null,null,null,null,null,null,null,null,{"$f":"IF(NOT(ISERROR(RRDL_IncExpUnitType7)),IF(RRDL_IncExpUnitType7=\"0BR/SRO\",RRDL_AnnIncExpTenUtil7),0)","v":0},{"$f":"IF(NOT(ISERROR(RRDL_IncExpUnitType7)),IF(RRDL_IncExpUnitType7=\"1BR\",RRDL_AnnIncExpTenUtil7),0)","v":0},{"$f":"IF(NOT(ISERROR(RRDL_IncExpUnitType7)),IF(RRDL_IncExpUnitType7=\"2BR\",RRDL_AnnIncExpTenUtil7),0)","v":0},{"$f":"IF(NOT(ISERROR(RRDL_IncExpUnitType7)),IF(RRDL_IncExpUnitType7=\"3BR\",RRDL_AnnIncExpTenUtil7),0)","v":0},{"$f":"IF(NOT(ISERROR(RRDL_IncExpUnitType7)),IF(RRDL_IncExpUnitType7=\"4BR\",RRDL_AnnIncExpTenUtil7),0)","v":0},{"$f":"IF(NOT(ISERROR(RRDL_IncExpUnitType7)),IF(RRDL_IncExpUnitType7=\"5BR\",RRDL_AnnIncExpTenUtil7),0)","v":0},{"$f":"IF(NOT(ISERROR(RRDL_IncExpUnitType7)),IF(RRDL_IncExpUnitType7=\"6BR\",RRDL_AnnIncExpTenUtil7),0)","v":0},null,null,null,null,null,null,null,null,null,null,null,null,null,null,null,null,null,null,null,null,null,null,null,null,null,null,false,null,null,0,0,0,0,{"$f":"IF(DevCostsDevFeeOther1=TRUE,'Development Costs'!H81,0)","v":0},null,null,null,null,null,null,null,null,null,null,null,null,null,null,null,null,null,null,null,null,null,{"$f":"IF(#REF!=0, DB62, IF(DB62=\"\",#REF!, DB62 & \",\" &#REF!))","v":{"$error":"#REF!"}},null,null,null,null,null,null,null,null,null,null,null,null,null,null,null,null,null,{"$f":"Buildings!B37","v":0},null,null,null,null,null,null,null,null,null,null,null,null,null,null,4,{"$f":"#REF!&\"-\"&#REF!","v":{"$error":"#REF!"}},null,null,null,null,false,{"$f":"LEFT(EQ74,7)&MID(EQ74,FIND(\"-\",EQ74,1)+1,7)&\"Part3\"","v":{"$error":"#REF!"}}]
[null,null,null,null,null,null,null,null,null,null,null,null,null,null,null,null,null,null,null,null,null,null,null,null,null,null,null,null,null,null,null,null,null,null,null,null,null,null,null,null,null,null,null,null,null,null,null,null,null,null,{"$f":"IF(NOT(ISERROR(RRDL_IncExpUnitType8)),IF(RRDL_IncExpUnitType8=\"0BR/SRO\",RRDL_AnnIncExpTenUtil8),0)","v":0},{"$f":"IF(NOT(ISERROR(RRDL_IncExpUnitType8)),IF(RRDL_IncExpUnitType8=\"1BR\",RRDL_AnnIncExpTenUtil8),0)","v":0},{"$f":"IF(NOT(ISERROR(RRDL_IncExpUnitType8)),IF(RRDL_IncExpUnitType8=\"2BR\",RRDL_AnnIncExpTenUtil8),0)","v":0},{"$f":"IF(NOT(ISERROR(RRDL_IncExpUnitType8)),IF(RRDL_IncExpUnitType8=\"3BR\",RRDL_AnnIncExpTenUtil8),0)","v":0},{"$f":"IF(NOT(ISERROR(RRDL_IncExpUnitType8)),IF(RRDL_IncExpUnitType8=\"4BR\",RRDL_AnnIncExpTenUtil8),0)","v":0},{"$f":"IF(NOT(ISERROR(RRDL_IncExpUnitType8)),IF(RRDL_IncExpUnitType8=\"5BR\",RRDL_AnnIncExpTenUtil8),0)","v":0},{"$f":"IF(NOT(ISERROR(RRDL_IncExpUnitType8)),IF(RRDL_IncExpUnitType8=\"6BR\",RRDL_AnnIncExpTenUtil8),0)","v":0},null,null,null,null,null,null,null,null,null,null,null,null,null,null,null,null,null,null,null,null,null,null,null,null,null,null,false,"SYNDICATOR/INVESTOR FEES",null,null,null,null,null,null,null,null,null,null,null,null,null,null,null,null,null,null,null,null,null,null,null,null,null,null,null,null,null,null,null,null,null,null,null,null,null,null,null,null,null,null,null,null,null,{"$f":"Buildings!B38","v":0},null,null,null,null,null,null,null,null,null,null,null,null,null,null,5,{"$f":"#REF!&\"-\"&#REF!","v":{"$error":"#REF!"}},null,null,null,null,false,{"$f":"LEFT(EQ75,7)&MID(EQ75,FIND(\"-\",EQ75,1)+1,7)","v":{"$error":"#REF!"}}]
[null,null,null,null,null,null,null,null,null,null,null,null,null,null,null,null,null,null,null,null,null,null,null,null,null,null,null,null,null,null,null,null,null,null,null,null,null,null,null,null,null,null,null,null,null,null,null,null,null,null,{"$f":"IF(NOT(ISERROR(RRDL_IncExpUnitType9)),IF(RRDL_IncExpUnitType9=\"0BR/SRO\",RRDL_AnnIncExpTenUtil9),0)","v":0},{"$f":"IF(NOT(ISERROR(RRDL_IncExpUnitType9)),IF(RRDL_IncExpUnitType9=\"1BR\",RRDL_AnnIncExpTenUtil9),0)","v":0},{"$f":"IF(NOT(ISERROR(RRDL_IncExpUnitType9)),IF(RRDL_IncExpUnitType9=\"2BR\",RRDL_AnnIncExpTenUtil9),0)","v":0},{"$f":"IF(NOT(ISERROR(RRDL_IncExpUnitType9)),IF(RRDL_IncExpUnitType9=\"3BR\",RRDL_AnnIncExpTenUtil9),0)","v":0},{"$f":"IF(NOT(ISERROR(RRDL_IncExpUnitType9)),IF(RRDL_IncExpUnitType9=\"4BR\",RRDL_AnnIncExpTenUtil9),0)","v":0},{"$f":"IF(NOT(ISERROR(RRDL_IncExpUnitType9)),IF(RRDL_IncExpUnitType9=\"5BR\",RRDL_AnnIncExpTenUtil9),0)","v":0},{"$f":"IF(NOT(ISERROR(RRDL_IncExpUnitType9)),IF(RRDL_IncExpUnitType9=\"6BR\",RRDL_AnnIncExpTenUtil9),0)","v":0},null,null,null,null,null,null,null,null,null,null,null,null,null,null,null,null,null,null,null,null,null,null,null,null,null,null,true,null,null,0,0,0,0,{"$f":"IF(DevCostsSyndFeesOrgFees=TRUE,'Development Costs'!H84,0)","v":0},null,null,null,null,null,null,null,null,null,null,null,null,null,null,null,null,null,null,null,null,null,"# ofRows",{"$f":"22 - COUNTBLANK(DJ52:DJ73)","v":22},null,null,null,null,null,null,null,null,null,null,null,null,null,null,null,null,{"$f":"Buildings!B39","v":0},null,null,null,null,null,null,null,null,null,null,null,null,null,null,6,{"$f":"#REF!&\"-\"&#REF!","v":{"$error":"#REF!"}},null,null,null,null,false,{"$f":"LEFT(EQ76,7)&MID(EQ76,FIND(\"-\",EQ76,1)+1,7)","v":{"$error":"#REF!"}}]
[null,null,null,null,null,null,null,null,null,null,null,null,null,null,null,null,null,null,null,null,null,null,null,null,null,null,null,null,null,null,null,null,null,null,null,null,null,null,null,null,null,null,null,null,null,null,null,null,null,null,{"$f":"IF(NOT(ISERROR(RRDL_IncExpUnitType10)),IF(RRDL_IncExpUnitType10=\"0BR/SRO\",RRDL_AnnIncExpTenUtil10),0)","v":0},{"$f":"IF(NOT(ISERROR(RRDL_IncExpUnitType10)),IF(RRDL_IncExpUnitType10=\"1BR\",RRDL_AnnIncExpTenUtil10),0)","v":0},{"$f":"IF(NOT(ISERROR(RRDL_IncExpUnitType10)),IF(RRDL_IncExpUnitType10=\"2BR\",RRDL_AnnIncExpTenUtil10),0)","v":0},{"$f":"IF(NOT(ISERROR(RRDL_IncExpUnitType10)),IF(RRDL_IncExpUnitType10=\"3BR\",RRDL_AnnIncExpTenUtil10),0)","v":0},{"$f":"IF(NOT(ISERROR(RRDL_IncExpUnitType10)),IF(RRDL_IncExpUnitType10=\"4BR\",RRDL_AnnIncExpTenUtil10),0)","v":0},{"$f":"IF(NOT(ISERROR(RRDL_IncExpUnitType10)),IF(RRDL_IncExpUnitType10=\"5BR\",RRDL_AnnIncExpTenUtil10),0)","v":0},{"$f":"IF(NOT(ISERROR(RRDL_IncExpUnitType10)),IF(RRDL_IncExpUnitType10=\"6BR\",RRDL_AnnIncExpTenUtil10),0)","v":0},null,null,null,null,null,null,null,null,null,null,null,null,null,null,null,null,null,null,null,null,null,null,null,null,null,null,true,null,null,0,0,0,0,{"$f":"IF(DevCostsSyndFeesBridgeLoan=TRUE,'Development Costs'!H85,0)","v":0},null,null,null,null,null,null,null,null,null,null,null,null,null,null,null,null,null,null,null,null,null,null,null,null,null,null,null,null,null,null,null,null,null,null,null,null,null,null,null,{"$f":"Buildings!B40","v":0},null,null,null,null,null,null,null,null,null,null,null,null,null,null,7,{"$f":"#REF!&\"-\"&#REF!","v":{"$error":"#REF!"}},null,null,null,null,false,{"$f":"LEFT(EQ77,7)&MID(EQ77,FIND(\"-\",EQ77,1)+1,7)","v":{"$error":"#REF!"}}]
[null,null,null,null,null,null,null,null,null,null,null,null,null,null,null,null,null,null,null,null,null,null,null,null,null,null,null,null,null,null,null,null,null,null,null,null,null,null,null,null,null,null,null,null,null,null,null,null,null,null,{"$f":"IF(NOT(ISERROR(RRDL_IncExpUnitType11)),IF(RRDL_IncExpUnitType11=\"0BR/SRO\",RRDL_AnnIncExpTenUtil11),0)","v":0},{"$f":"IF(NOT(ISERROR(RRDL_IncExpUnitType11)),IF(RRDL_IncExpUnitType11=\"1BR\",RRDL_AnnIncExpTenUtil11),0)","v":0},{"$f":"IF(NOT(ISERROR(RRDL_IncExpUnitType11)),IF(RRDL_IncExpUnitType11=\"2BR\",RRDL_AnnIncExpTenUtil11),0)","v":0},{"$f":"IF(NOT(ISERROR(RRDL_IncExpUnitType11)),IF(RRDL_IncExpUnitType11=\"3BR\",RRDL_AnnIncExpTenUtil11),0)","v":0},{"$f":"IF(NOT(ISERROR(RRDL_IncExpUnitType11)),IF(RRDL_IncExpUnitType11=\"4BR\",RRDL_AnnIncExpTenUtil11),0)","v":0},{"$f":"IF(NOT(ISERROR(RRDL_IncExpUnitType11)),IF(RRDL_IncExpUnitType11=\"5BR\",RRDL_AnnIncExpTenUtil11),0)","v":0},{"$f":"IF(NOT(ISERROR(RRDL_IncExpUnitType11)),IF(RRDL_IncExpUnitType11=\"6BR\",RRDL_AnnIncExpTenUtil11),0)","v":0},null,null,null,null,null,null,null,null,null,null,null,null,null,null,null,null,null,null,null,null,null,null,null,null,null,null,true,null,null,0,0,0,0,{"$f":"IF(DevCostsSyndFeesTaxOpinion=TRUE,'Development Costs'!H86,0)","v":0},null,null,null,null,null,null,null,null,null,null,null,null,null,null,null,null,null,null,null,null,null,"RRDL HOUSING INCOME",null,null,null,null,null,null,null,null,null,null,null,null,null,null,null,null,null,{"$f":"Buildings!B41","v":0},null,null,null,null,null,null,null,null,null,null,null,null,null,null,8,{"$f":"#REF!&\"-\"&#REF!","v":{"$error":"#REF!"}},null,null,null,null,false,{"$f":"LEFT(EQ78,7)&MID(EQ78,FIND(\"-\",EQ78,1)+1,3)&MID(EQ78,FIND(\"-\",EQ78,1)+5,4)","v":{"$error":"#REF!"}}]
[null,null,null,null,null,null,null,null,null,null,null,null,null,null,null,null,null,null,null,null,null,null,null,null,null,null,null,null,null,null,null,null,null,null,null,null,null,null,null,null,null,null,null,null,null,null,null,null,null,null,{"$f":"IF(NOT(ISERROR(RRDL_IncExpUnitType12)),IF(RRDL_IncExpUnitType12=\"0BR/SRO\",RRDL_AnnIncExpTenUtil12),0)","v":0},{"$f":"IF(NOT(ISERROR(RRDL_IncExpUnitType12)),IF(RRDL_IncExpUnitType12=\"1BR\",RRDL_AnnIncExpTenUtil12),0)","v":0},{"$f":"IF(NOT(ISERROR(RRDL_IncExpUnitType12)),IF(RRDL_IncExpUnitType12=\"2BR\",RRDL_AnnIncExpTenUtil12),0)","v":0},{"$f":"IF(NOT(ISERROR(RRDL_IncExpUnitType12)),IF(RRDL_IncExpUnitType12=\"3BR\",RRDL_AnnIncExpTenUtil12),0)","v":0},{"$f":"IF(NOT(ISERROR(RRDL_IncExpUnitType12)),IF(RRDL_IncExpUnitType12=\"4BR\",RRDL_AnnIncExpTenUtil12),0)","v":0},{"$f":"IF(NOT(ISERROR(RRDL_IncExpUnitType12)),IF(RRDL_IncExpUnitType12=\"5BR\",RRDL_AnnIncExpTenUtil12),0)","v":0},{"$f":"IF(NOT(ISERROR(RRDL_IncExpUnitType12)),IF(RRDL_IncExpUnitType12=\"6BR\",RRDL_AnnIncExpTenUtil12),0)","v":0},null,null,null,null,null,null,null,null,null,null,null,null,null,null,null,null,null,null,null,null,null,null,null,null,null,null,true,null,null,0,0,0,0,{"$f":"IF(DevCostsSyndFeesDueDilFees=TRUE,'Development Costs'!H87,0)","v":0},null,null,null,null,null,null,null,null,null,null,null,null,null,null,null,null,null,null,null,null,null,null,null,null,null,null,null,null,null,null,null,null,null,null,null,null,null,null,null,{"$f":"Buildings!B42","v":0},null,null,null,null,null,null,null,null,null,null,null,null,null,null,9,"Attorney-Processing Agent",null,null,null,null,false,{"$f":"LEFT(EQ79,7)&MID(EQ79,FIND(\"-\",EQ79,1)+1,3)&MID(EQ79,FIND(\"-\",EQ79,1)+5,4)","v":"AttorneProessi"}]
[null,null,null,null,null,null,null,null,null,null,null,null,null,null,null,null,null,null,null,null,null,null,null,null,null,null,null,null,null,null,null,null,null,null,null,null,null,null,null,null,null,null,null,null,null,null,null,null,null,null,{"$f":"IF(NOT(ISERROR(RRDL_IncExpUnitType13)),IF(RRDL_IncExpUnitType13=\"0BR/SRO\",RRDL_AnnIncExpTenUtil13),0)","v":0},{"$f":"IF(NOT(ISERROR(RRDL_IncExpUnitType13)),IF(RRDL_IncExpUnitType13=\"1BR\",RRDL_AnnIncExpTenUtil13),0)","v":0},{"$f":"IF(NOT(ISERROR(RRDL_IncExpUnitType13)),IF(RRDL_IncExpUnitType13=\"2BR\",RRDL_AnnIncExpTenUtil13),0)","v":0},{"$f":"IF(NOT(ISERROR(RRDL_IncExpUnitType13)),IF(RRDL_IncExpUnitType13=\"3BR\",RRDL_AnnIncExpTenUtil13),0)","v":0},{"$f":"IF(NOT(ISERROR(RRDL_IncExpUnitType13)),IF(RRDL_IncExpUnitType13=\"4BR\",RRDL_AnnIncExpTenUtil13),0)","v":0},{"$f":"IF(NOT(ISERROR(RRDL_IncExpUnitType13)),IF(RRDL_IncExpUnitType13=\"5BR\",RRDL_AnnIncExpTenUtil13),0)","v":0},{"$f":"IF(NOT(ISERROR(RRDL_IncExpUnitType13)),IF(RRDL_IncExpUnitType13=\"6BR\",RRDL_AnnIncExpTenUtil13),0)","v":0},null,null,null,null,null,null,null,null,null,null,null,null,null,null,null,null,null,null,null,null,null,null,null,null,null,null,false,null,null,0,0,0,0,{"$f":"IF(DevCostsSyndFeesOtherFees=TRUE,'Development Costs'!H88,0)","v":0},null,null,null,null,null,null,null,null,null,null,null,null,null,null,null,null,null,null,null,null,null,"# ofRows",{"$f":"21-COUNTBLANK(RRDL_HousIncUnitTypeRange)","v":{"$error":"#NAME?"}},null,null,null,null,null,null,null,null,null,null,null,null,null,null,null,null,{"$f":"Buildings!B43","v":0},null,null,null,null,null,null,null,null,null,null,null,null,null,null,10,"Attorney-General Contractor",null,null,null,null,false,{"$f":"LEFT(EQ80,7)&MID(EQ80,FIND(\"-\",EQ80,1)+1,3)&MID(EQ80,FIND(\"-\",EQ80,1)+5,4)","v":"AttorneGenral "}]
[null,null,null,null,null,null,null,null,null,null,null,null,null,null,null,null,null,null,null,null,null,null,null,null,null,null,null,null,null,null,null,null,null,null,null,null,null,null,null,null,null,null,null,null,null,null,null,null,null,null,{"$f":"IF(NOT(ISERROR(RRDL_IncExpUnitType14)),IF(RRDL_IncExpUnitType14=\"0BR/SRO\",RRDL_AnnIncExpTenUtil14),0)","v":0},{"$f":"IF(NOT(ISERROR(RRDL_IncExpUnitType14)),IF(RRDL_IncExpUnitType14=\"1BR\",RRDL_AnnIncExpTenUtil14),0)","v":0},{"$f":"IF(NOT(ISERROR(RRDL_IncExpUnitType14)),IF(RRDL_IncExpUnitType14=\"2BR\",RRDL_AnnIncExpTenUtil14),0)","v":0},{"$f":"IF(NOT(ISERROR(RRDL_IncExpUnitType14)),IF(RRDL_IncExpUnitType14=\"3BR\",RRDL_AnnIncExpTenUtil14),0)","v":0},{"$f":"IF(NOT(ISERROR(RRDL_IncExpUnitType14)),IF(RRDL_IncExpUnitType14=\"4BR\",RRDL_AnnIncExpTenUtil14),0)","v":0},{"$f":"IF(NOT(ISERROR(RRDL_IncExpUnitType14)),IF(RRDL_IncExpUnitType14=\"5BR\",RRDL_AnnIncExpTenUtil14),0)","v":0},{"$f":"IF(NOT(ISERROR(RRDL_IncExpUnitType14)),IF(RRDL_IncExpUnitType14=\"6BR\",RRDL_AnnIncExpTenUtil14),0)","v":0},null,null,null,null,null,null,null,null,null,null,null,null,null,null,null,null,null,null,null,null,null,null,null,null,null,null,false,"FINANCING COSTS",null,null,null,null,null,null,null,null,null,null,null,null,null,null,null,null,null,null,null,null,null,null,null,null,null,null,null,null,null,null,null,null,null,null,null,null,null,null,null,null,null,null,null,null,null,{"$f":"Buildings!B44","v":0},null,null,null,null,null,null,null,null,null,null,null,null,null,null,1,{"$f":"\"Other-\"&#REF!","v":{"$error":"#REF!"}},null,null,null,null,false,{"$f":"LEFT(EQ81,5)&MID(EQ81,FIND(\"-\",EQ81,1)+1,3)&MID(EQ81,FIND(\"-\",EQ81,1)+5,4)","v":{"$error":"#REF!"}}]
[null,null,null,null,null,null,null,null,null,null,null,null,null,null,null,null,null,null,null,null,null,null,null,null,null,null,null,null,null,null,null,null,null,null,null,null,null,null,null,null,null,null,null,null,null,null,null,null,null,null,{"$f":"IF(NOT(ISERROR(RRDL_IncExpUnitType15)),IF(RRDL_IncExpUnitType15=\"0BR/SRO\",RRDL_AnnIncExpTenUtil15),0)","v":0},{"$f":"IF(NOT(ISERROR(RRDL_IncExpUnitType15)),IF(RRDL_IncExpUnitType15=\"1BR\",RRDL_AnnIncExpTenUtil15),0)","v":0},{"$f":"IF(NOT(ISERROR(RRDL_IncExpUnitType15)),IF(RRDL_IncExpUnitType15=\"2BR\",RRDL_AnnIncExpTenUtil15),0)","v":0},{"$f":"IF(NOT(ISERROR(RRDL_IncExpUnitType15)),IF(RRDL_IncExpUnitType15=\"3BR\",RRDL_AnnIncExpTenUtil15),0)","v":0},{"$f":"IF(NOT(ISERROR(RRDL_IncExpUnitType15)),IF(RRDL_IncExpUnitType15=\"4BR\",RRDL_AnnIncExpTenUtil15),0)","v":0},{"$f":"IF(NOT(ISERROR(RRDL_IncExpUnitType15)),IF(RRDL_IncExpUnitType15=\"5BR\",RRDL_AnnIncExpTenUtil15),0)","v":0},{"$f":"IF(NOT(ISERROR(RRDL_IncExpUnitType15)),IF(RRDL_IncExpUnitType15=\"6BR\",RRDL_AnnIncExpTenUtil15),0)","v":0},null,null,null,null,null,null,null,null,null,null,null,null,null,null,null,null,null,null,null,null,null,null,null,null,null,null,false,"Construction Costs",null,null,null,null,null,null,null,null,null,null,null,null,null,null,null,null,null,null,null,null,null,null,null,null,null,null,null,{"$f":"#REF!","v":{"$error":"#REF!"}},{"$f":"RRDL_HIOBr","v":{"$error":"#NAME?"}},null,null,null,null,null,null,null,null,null,null,null,null,null,null,null,null,{"$f":"Buildings!B45","v":0},null,null,null,null,null,null,null,null,null,null,null,null,null,null,2,{"$f":"\"Other-\"&#REF!","v":{"$error":"#REF!"}},null,null,null,null,false,{"$f":"LEFT(EQ82,5)&MID(EQ82,FIND(\"-\",EQ82,1)+1,3)&MID(EQ82,FIND(\"-\",EQ82,1)+5,4)","v":{"$error":"#REF!"}}]
[null,null,null,null,null,null,null,null,null,null,null,null,null,null,null,null,null,null,null,null,null,null,null,null,null,null,null,null,null,null,null,null,null,null,null,null,null,null,null,null,null,null,null,null,null,null,null,null,null,null,{"$f":"IF(NOT(ISERROR(RRDL_IncExpUnitType16)),IF(RRDL_IncExpUnitType16=\"0BR/SRO\",RRDL_AnnIncExpTenUtil16),0)","v":0},{"$f":"IF(NOT(ISERROR(RRDL_IncExpUnitType16)),IF(RRDL_IncExpUnitType16=\"1BR\",RRDL_AnnIncExpTenUtil16),0)","v":0},{"$f":"IF(NOT(ISERROR(RRDL_IncExpUnitType16)),IF(RRDL_IncExpUnitType16=\"2BR\",RRDL_AnnIncExpTenUtil16),0)","v":0},{"$f":"IF(NOT(ISERROR(RRDL_IncExpUnitType16)),IF(RRDL_IncExpUnitType16=\"3BR\",RRDL_AnnIncExpTenUtil16),0)","v":0},{"$f":"IF(NOT(ISERROR(RRDL_IncExpUnitType16)),IF(RRDL_IncExpUnitType16=\"4BR\",RRDL_AnnIncExpTenUtil16),0)","v":0},{"$f":"IF(NOT(ISERROR(RRDL_IncExpUnitType16)),IF(RRDL_IncExpUnitType16=\"5BR\",RRDL_AnnIncExpTenUtil16),0)","v":0},{"$f":"IF(NOT(ISERROR(RRDL_IncExpUnitType16)),IF(RRDL_IncExpUnitType16=\"6BR\",RRDL_AnnIncExpTenUtil16),0)","v":0},null,null,null,null,null,null,null,null,null,null,null,null,null,null,null,null,null,null,null,null,null,null,null,null,null,null,false,{"$f":"'Development Costs'!B92","v":"Hazard and Liability Insurance"},false,0,0,0,0,{"$f":"IF(DevCostsFinCostsHazIns=TRUE,'Development Costs'!H92,0)","v":0},null,null,null,null,null,null,null,null,null,null,null,null,null,null,null,{"$f":"IF(NOT(ISERROR(VLOOKUP(RRDL_HousIncUnitGidrUnitType1,RRDL_HousIncUtilAllow,2,FALSE))),VLOOKUP(RRDL_HousIncUnitGidrUnitType1, RRDL_HousIncUtilAllow, 2, FALSE),\"\")","v":""},null,null,null,null,null,{"$f":"#REF!","v":{"$error":"#REF!"}},{"$f":"RRDL_HI1Br","v":{"$error":"#NAME?"}},null,null,null,null,null,null,null,null,null,null,null,null,null,null,null,null,{"$f":"Buildings!B46","v":0},null,null,null,null,null,null,null,null,null,null,null,null,null,null,3,{"$f":"\"Other-\"&#REF!","v":{"$error":"#REF!"}},null,null,null,null,false,"OtherOwnrMo"]
[null,null,null,null,null,null,null,null,null,null,null,null,null,null,null,null,null,null,null,null,null,null,null,null,null,null,null,null,null,null,null,null,null,null,null,null,null,null,null,null,null,null,null,null,null,null,null,null,null,null,{"$f":"IF(NOT(ISERROR(RRDL_IncExpUnitType17)),IF(RRDL_IncExpUnitType17=\"0BR/SRO\",RRDL_AnnIncExpTenUtil17),0)","v":0},{"$f":"IF(NOT(ISERROR(RRDL_IncExpUnitType17)),IF(RRDL_IncExpUnitType17=\"1BR\",RRDL_AnnIncExpTenUtil17),0)","v":0},{"$f":"IF(NOT(ISERROR(RRDL_IncExpUnitType17)),IF(RRDL_IncExpUnitType17=\"2BR\",RRDL_AnnIncExpTenUtil17),0)","v":0},{"$f":"IF(NOT(ISERROR(RRDL_IncExpUnitType17)),IF(RRDL_IncExpUnitType17=\"3BR\",RRDL_AnnIncExpTenUtil17),0)","v":0},{"$f":"IF(NOT(ISERROR(RRDL_IncExpUnitType17)),IF(RRDL_IncExpUnitType17=\"4BR\",RRDL_AnnIncExpTenUtil17),0)","v":0},{"$f":"IF(NOT(ISERROR(RRDL_IncExpUnitType17)),IF(RRDL_IncExpUnitType17=\"5BR\",RRDL_AnnIncExpTenUtil17),0)","v":0},{"$f":"IF(NOT(ISERROR(RRDL_IncExpUnitType17)),IF(RRDL_IncExpUnitType17=\"6BR\",RRDL_AnnIncExpTenUtil17),0)","v":0},null,null,null,null,null,null,null,null,null,null,null,null,null,null,null,null,null,null,null,null,null,null,null,null,null,null,true,null,null,0,0,0,0,{"$f":"IF(DevCostsFinCostsConstrInt=TRUE,'Development Costs'!H93,0)","v":0},null,null,null,null,null,null,null,null,null,null,null,null,null,null,null,null,null,null,null,null,null,{"$f":"#REF!","v":{"$error":"#REF!"}},{"$f":"RRDL_HI2Br","v":{"$error":"#NAME?"}},null,null,null,null,null,null,null,null,null,null,null,null,null,null,null,null,{"$f":"Buildings!B47","v":0},null,null,null,null,null,null,null,null,null,null,null,null,null,null,4,{"$f":"\"Other-\"&#REF!","v":{"$error":"#REF!"}},null,null,null,null,false,"OtherGenral1"]
[null,null,null,null,null,null,null,null,null,null,null,null,null,null,null,null,null,null,null,null,null,null,null,null,null,null,null,null,null,null,null,null,null,null,null,null,null,null,null,null,null,null,null,null,null,null,null,null,null,null,{"$f":"IF(NOT(ISERROR(RRDL_IncExpUnitType18)),IF(RRDL_IncExpUnitType18=\"0BR/SRO\",RRDL_AnnIncExpTenUtil18),0)","v":0},{"$f":"IF(NOT(ISERROR(RRDL_IncExpUnitType18)),IF(RRDL_IncExpUnitType18=\"1BR\",RRDL_AnnIncExpTenUtil18),0)","v":0},{"$f":"IF(NOT(ISERROR(RRDL_IncExpUnitType18)),IF(RRDL_IncExpUnitType18=\"2BR\",RRDL_AnnIncExpTenUtil18),0)","v":0},{"$f":"IF(NOT(ISERROR(RRDL_IncExpUnitType18)),IF(RRDL_IncExpUnitType18=\"3BR\",RRDL_AnnIncExpTenUtil18),0)","v":0},{"$f":"IF(NOT(ISERROR(RRDL_IncExpUnitType18)),IF(RRDL_IncExpUnitType18=\"4BR\",RRDL_AnnIncExpTenUtil18),0)","v":0},{"$f":"IF(NOT(ISERROR(RRDL_IncExpUnitType18)),IF(RRDL_IncExpUnitType18=\"5BR\",RRDL_AnnIncExpTenUtil18),0)","v":0},{"$f":"IF(NOT(ISERROR(RRDL_IncExpUnitType18)),IF(RRDL_IncExpUnitType18=\"6BR\",RRDL_AnnIncExpTenUtil18),0)","v":0},null,null,null,null,null,null,null,null,null,null,null,null,null,null,null,null,null,null,null,null,null,null,null,null,null,null,true,null,null,0,0,0,0,{"$f":"IF(DevCostsFinCostsRiskIns=TRUE,'Development Costs'!H94,0)","v":0},null,null,null,null,null,null,null,null,null,null,null,null,null,null,null,null,null,null,null,null,null,{"$f":"#REF!","v":{"$error":"#REF!"}},{"$f":"RRDL_HI3Br","v":{"$error":"#NAME?"}},null,null,null,null,null,null,null,null,null,null,null,null,null,null,null,null,{"$f":"Buildings!B48","v":0},null,null,null,null,null,null,null,null,null,null,null,null,null,null,5,{"$f":"\"Other-\"&#REF!","v":{"$error":"#REF!"}},null,null,null,null,false,"OtherGenral2"]
[null,null,null,null,null,null,null,null,null,null,null,null,null,null,null,null,null,null,null,null,null,null,null,null,null,null,null,null,null,null,null,null,null,null,null,null,null,null,null,null,null,null,null,null,null,null,null,null,null,null,{"$f":"IF(NOT(ISERROR(RRDL_IncExpUnitType19)),IF(RRDL_IncExpUnitType19=\"0BR/SRO\",RRDL_AnnIncExpTenUtil19),0)","v":0},{"$f":"IF(NOT(ISERROR(RRDL_IncExpUnitType19)),IF(RRDL_IncExpUnitType19=\"1BR\",RRDL_AnnIncExpTenUtil19),0)","v":0},{"$f":"IF(NOT(ISERROR(RRDL_IncExpUnitType19)),IF(RRDL_IncExpUnitType19=\"2BR\",RRDL_AnnIncExpTenUtil19),0)","v":0},{"$f":"IF(NOT(ISERROR(RRDL_IncExpUnitType19)),IF(RRDL_IncExpUnitType19=\"3BR\",RRDL_AnnIncExpTenUtil19),0)","v":0},{"$f":"IF(NOT(ISERROR(RRDL_IncExpUnitType19)),IF(RRDL_IncExpUnitType19=\"4BR\",RRDL_AnnIncExpTenUtil19),0)","v":0},{"$f":"IF(NOT(ISERROR(RRDL_IncExpUnitType19)),IF(RRDL_IncExpUnitType19=\"5BR\",RRDL_AnnIncExpTenUtil19),0)","v":0},{"$f":"IF(NOT(ISERROR(RRDL_IncExpUnitType19)),IF(RRDL_IncExpUnitType19=\"6BR\",RRDL_AnnIncExpTenUtil19),0)","v":0},null,null,null,null,null,null,null,null,null,null,null,null,null,null,null,null,null,null,null,null,null,null,null,null,null,null,true,null,null,0,0,0,0,{"$f":"IF(DevCostsFinCostsConstrTaxes=TRUE,'Development Costs'!H95,0)","v":0},null,null,null,null,null,null,null,null,null,null,null,null,null,null,null,null,null,null,null,null,null,{"$f":"#REF!","v":{"$error":"#REF!"}},{"$f":"RRDL_HI4Br","v":{"$error":"#NAME?"}},null,null,null,null,null,null,null,null,null,null,null,null,null,null,null,null,{"$f":"Buildings!B49","v":0},null,null,null,null,null,null,null,null,null,null,null,null,null,null,6,{"$f":"\"Other-\"&#REF!","v":{"$error":"#REF!"}},null,null,null,null,false,"OtherGenral3"]
[null,null,null,null,null,null,null,null,null,null,null,null,null,null,null,null,null,null,null,null,null,null,null,null,null,null,null,null,null,null,null,null,null,null,null,null,null,null,null,null,null,null,null,null,null,null,null,null,null,null,{"$f":"IF(NOT(ISERROR(RRDL_IncExpUnitType20)),IF(RRDL_IncExpUnitType20=\"0BR/SRO\",RRDL_AnnIncExpTenUtil20),0)","v":0},{"$f":"IF(NOT(ISERROR(RRDL_IncExpUnitType20)),IF(RRDL_IncExpUnitType20=\"1BR\",RRDL_AnnIncExpTenUtil20),0)","v":0},{"$f":"IF(NOT(ISERROR(RRDL_IncExpUnitType20)),IF(RRDL_IncExpUnitType20=\"2BR\",RRDL_AnnIncExpTenUtil20),0)","v":0},{"$f":"IF(NOT(ISERROR(RRDL_IncExpUnitType20)),IF(RRDL_IncExpUnitType20=\"3BR\",RRDL_AnnIncExpTenUtil20),0)","v":0},{"$f":"IF(NOT(ISERROR(RRDL_IncExpUnitType20)),IF(RRDL_IncExpUnitType20=\"4BR\",RRDL_AnnIncExpTenUtil20),0)","v":0},{"$f":"IF(NOT(ISERROR(RRDL_IncExpUnitType20)),IF(RRDL_IncExpUnitType20=\"5BR\",RRDL_AnnIncExpTenUtil20),0)","v":0},{"$f":"IF(NOT(ISERROR(RRDL_IncExpUnitType20)),IF(RRDL_IncExpUnitType20=\"6BR\",RRDL_AnnIncExpTenUtil20),0)","v":0},null,null,null,null,null,null,null,null,null,null,null,null,null,null,null,null,null,null,null,null,null,null,null,null,null,null,true,null,null,0,0,0,0,{"$f":"IF(DevCostsFinCostsMNHsgBridgeLoan=TRUE,'Development Costs'!H96,0)","v":0},null,null,null,null,null,null,null,null,null,null,null,null,null,null,null,null,null,null,null,null,null,{"$f":"#REF!","v":{"$error":"#REF!"}},{"$f":"RRDL_HI5Br","v":{"$error":"#NAME?"}},null,null,null,null,null,null,null,null,null,null,null,null,null,null,null,null,{"$f":"Buildings!B50","v":0},null,null,null,null,null,null,null,null,null,null,null,null,null,null,7,{"$f":"\"Other-\"&#REF!","v":{"$error":"#REF!"}},null,null,null,null,false,{"$error":"#REF!"}]
[null,null,null,null,null,null,null,null,null,null,null,null,null,null,null,null,null,null,null,null,null,null,null,null,null,null,null,null,null,null,null,null,null,null,null,null,null,null,null,null,null,null,null,null,null,null,null,null,null,null,{"$f":"IF(NOT(ISERROR(RRDL_IncExpUnitType21)),IF(RRDL_IncExpUnitType21=\"0BR/SRO\",RRDL_AnnIncExpTenUtil21),0)","v":0},{"$f":"IF(NOT(ISERROR(RRDL_IncExpUnitType21)),IF(RRDL_IncExpUnitType21=\"1BR\",RRDL_AnnIncExpTenUtil21),0)","v":0},{"$f":"IF(NOT(ISERROR(RRDL_IncExpUnitType21)),IF(RRDL_IncExpUnitType21=\"2BR\",RRDL_AnnIncExpTenUtil21),0)","v":0},{"$f":"IF(NOT(ISERROR(RRDL_IncExpUnitType21)),IF(RRDL_IncExpUnitType21=\"3BR\",RRDL_AnnIncExpTenUtil21),0)","v":0},{"$f":"IF(NOT(ISERROR(RRDL_IncExpUnitType21)),IF(RRDL_IncExpUnitType21=\"4BR\",RRDL_AnnIncExpTenUtil21),0)","v":0},{"$f":"IF(NOT(ISERROR(RRDL_IncExpUnitType21)),IF(RRDL_IncExpUnitType21=\"5BR\",RRDL_AnnIncExpTenUtil21),0)","v":0},{"$f":"IF(NOT(ISERROR(RRDL_IncExpUnitType21)),IF(RRDL_IncExpUnitType21=\"6BR\",RRDL_AnnIncExpTenUtil21),0)","v":0},null,null,null,null,null,null,null,null,null,null,null,null,null,null,null,null,null,null,null,null,null,null,null,null,null,null,true,null,null,0,0,0,0,{"$f":"IF(DevCostsFinCostsOrigFee=TRUE,'Development Costs'!H97,0)","v":0},null,null,null,null,null,null,null,null,null,null,null,null,null,null,null,null,null,null,null,null,null,{"$f":"#REF!","v":{"$error":"#REF!"}},{"$f":"RRDL_HI6Br","v":{"$error":"#NAME?"}},null,null,null,null,null,null,null,null,null,null,null,null,null,null,null,null,{"$f":"Buildings!B51","v":0},null,null,null,null,null,null,null,null,null,null,null,null,null,null,8,{"$f":"\"Other-\"&#REF!","v":{"$error":"#REF!"}},null,null,null,null,false,{"$error":"#REF!"}]
[null,null,null,null,null,null,null,null,null,null,null,null,null,null,null,null,null,null,null,null,null,null,null,null,null,null,null,null,null,null,null,null,null,null,null,null,null,null,null,null,null,null,null,null,null,null,null,"Average by Unit Type",null,null,{"$f":"IF(SUM(#REF!)=0,IF(SUM(AY68:AY88)>0,SUM(AY68:AY88)/COUNTIF(AY68:AY88, \">0\"),0),SUM(#REF!))","v":{"$error":"#REF!"}},{"$f":"IF(SUM(#REF!)=0,IF(SUM(AZ68:AZ88)>0,SUM(AZ68:AZ88)/COUNTIF(AZ68:AZ88, \">0\"),0),SUM(#REF!))","v":{"$error":"#REF!"}},{"$f":"IF(SUM(#REF!)=0,IF(SUM(BA68:BA88)>0,SUM(BA68:BA88)/COUNTIF(BA68:BA88,\">0\"),0),SUM(#REF!))","v":{"$error":"#REF!"}},{"$f":"IF(SUM(#REF!)=0,IF(SUM(BB68:BB88)>0,SUM(BB68:BB88)/COUNTIF(BB68:BB88, \">0\"),0),SUM(#REF!))","v":{"$error":"#REF!"}},{"$f":"IF(SUM(#REF!)=0,IF(SUM(BC68:BC88)>0,SUM(BC68:BC88)/COUNTIF(BC68:BC88, \">0\"),0),SUM(#REF!))","v":{"$error":"#REF!"}},{"$f":"IF(SUM(#REF!)=0,IF(SUM(BD68:BD88)>0,SUM(BD68:BD88)/COUNTIF(BD68:BD88, \">0\"),0),SUM(#REF!))","v":{"$error":"#REF!"}},{"$f":"IF(SUM(#REF!)=0,IF(SUM(BE68:BE88)>0,SUM(BE68:BE88)/COUNTIF(BE68:BE88, \">0\"),0),SUM(#REF!))","v":{"$error":"#REF!"}},null,null,null,null,null,null,null,null,null,null,null,null,null,null,null,null,null,null,null,null,null,null,null,null,null,null,true,null,null,0,0,0,0,{"$f":"IF(DevCostsFinCostsMNHsgInspFee=TRUE,'Development Costs'!H98,0)","v":0},null,null,null,null,null,null,null,null,null,null,null,null,null,null,null,null,null,null,null,null,null,null,null,null,null,null,null,null,null,null,null,null,null,null,null,null,null,null,null,{"$f":"Buildings!B52","v":0},null,null,null,null,null,null,null,null,null,null,null,null,null,null,9,{"$f":"\"Other-\"&#REF!","v":{"$error":"#REF!"}},null,null,null,null,false,{"$error":"#REF!"}]
[null,null,null,null,null,null,null,null,null,null,null,null,null,null,null,null,null,null,null,null,null,null,null,null,null,null,null,null,null,null,null,null,null,null,null,null,null,null,null,null,null,null,null,null,null,null,null,null,null,null,null,null,null,null,null,null,null,null,null,null,null,null,null,null,null,null,null,null,null,null,null,null,null,null,null,null,null,null,null,null,null,null,null,true,null,null,0,0,0,0,{"$f":"IF(DevCostsFinCostsOtherInspFee=TRUE,'Development Costs'!H99,0)","v":0},null,null,null,null,null,null,null,null,null,null,null,null,null,null,null,null,null,null,null,null,null,null,null,null,null,null,null,null,null,null,null,null,null,null,null,null,null,null,null,{"$f":"Buildings!B53","v":0},null,null,null,null,null,null,null,null,null,null,null,null,null,null,10,{"$f":"\"Other-\"&#REF!","v":{"$error":"#REF!"}},null,null,null,null,false,{"$error":"#REF!"}]
[null,null,null,null,null,null,null,null,null,null,null,null,null,null,null,null,null,null,null,null,null,null,null,null,null,null,null,null,null,null,null,null,null,null,null,null,null,null,null,null,null,null,null,null,null,null,null,null,null,"0BR/SRO",{"$f":"IF(SUM(RRDL_HousIncUtilAllow0BR)=0,RRDL_0BRAvg,SUM(RRDL_HousIncUtilAllow0BR))","v":{"$error":"#NAME?"}},null,null,null,null,null,null,null,null,null,null,null,null,null,null,null,null,null,null,null,null,null,null,null,null,null,null,null,null,null,null,null,null,false,null,null,0,0,0,0,{"$f":"IF(DevCostsFinCostsOther=TRUE,'Development Costs'!H100,0)","v":0},null,null,null,null,null,null,null,null,null,null,null,null,null,null,null,null,null,null,null,null,null,null,null,null,null,null,null,null,null,null,null,null,null,null,null,null,null,null,null,{"$f":"Buildings!B54","v":0},null,null,null,null,null,null,null,null,null,null,null,null,null,null,11,{"$f":"\"Other-\"&#REF!","v":{"$error":"#REF!"}},null,null,null,null,false,{"$error":"#REF!"}]
[null,null,null,null,null,null,null,null,null,null,null,null,null,null,null,null,null,null,null,null,null,null,null,null,null,null,null,null,null,null,null,null,null,null,null,null,null,null,null,null,null,null,null,null,null,null,null,null,null,"1BR",{"$f":"IF(SUM(RRDL_HousIncUtilAllow1BR)=0,RRDL_1BRAvg,SUM(RRDL_HousIncUtilAllow1BR))","v":{"$error":"#NAME?"}},null,null,null,null,null,null,null,null,null,null,null,null,null,null,null,null,null,null,null,null,null,null,null,null,null,null,null,null,null,null,null,null,false,"Permanent Financing Costs",null,null,null,null,null,null,null,null,null,null,null,null,null,null,null,null,null,null,null,null,null,null,null,null,null,null,"RRDL SUMMARY",null,null,null,null,null,null,null,null,null,null,null,null,null,null,null,null,null,null,{"$f":"Buildings!B55","v":0},null,null,null,null,null,null,null,null,null,null,null,null,null,null,12,{"$f":"\"Other-\"&#REF!","v":{"$error":"#REF!"}},null,null,null,null,false,{"$error":"#REF!"}]
[null,null,null,null,null,null,null,null,null,null,null,null,null,null,null,null,null,null,null,null,null,null,null,null,null,null,null,null,null,null,null,null,null,null,null,null,null,null,null,null,null,null,null,null,null,null,null,null,null,"2BR",{"$f":"IF(SUM(RRDL_HousIncUtilAllow2BR)=0,RRDL_2BRAvg,SUM(RRDL_HousIncUtilAllow2BR))","v":{"$error":"#NAME?"}},null,null,null,null,null,null,null,null,null,null,null,null,null,null,null,null,null,null,null,null,null,null,null,null,null,null,null,null,null,null,null,null,true,null,null,0,0,0,0,{"$f":"IF(DevCostsFinCostsMortAppl=TRUE,'Development Costs'!H102,0)","v":0},null,null,null,null,null,null,null,null,null,null,null,null,null,null,null,null,null,null,null,null,"UNIT SUMMARIES",null,null,null,null,null,null,null,null,null,null,null,null,null,null,null,null,null,null,null,null,null,null,null,null,null,null,null,null,null,null,null,null,null,13,{"$f":"\"Other-\"&#REF!","v":{"$error":"#REF!"}},null,null,null,null,false,{"$error":"#REF!"}]
[null,null,null,null,null,null,null,null,null,null,null,null,null,null,null,null,null,null,null,null,null,null,null,null,null,null,null,null,null,null,null,null,null,null,null,null,null,null,null,null,null,null,null,null,null,null,null,null,null,"3BR",{"$f":"IF(SUM(RRDL_HousIncUtilAllow3BR)=0,RRDL_3BRAvg,SUM(RRDL_HousIncUtilAllow3BR))","v":{"$error":"#NAME?"}},null,null,null,null,null,null,null,null,null,null,null,null,null,null,null,null,null,null,null,null,null,null,null,null,null,null,null,null,null,null,null,null,true,null,null,0,0,0,0,{"$f":"IF(DevCostsFinCostsMortOrig=TRUE,'Development Costs'!H103,0)","v":0},null,null,null,null,null,null,null,null,null,null,null,null,null,null,null,null,null,null,null,null,"0BR/SRO","1BR","2BR","3BR","4BR","5BR","6BR","Bed",null,"HTC","HOME","LTH","Market Rate","Employee Occupied","Owner Occupied","Rent Asst","Ops Subs"]
[null,null,null,null,null,null,null,null,null,null,null,null,null,null,null,null,null,null,null,null,null,null,null,null,null,null,null,null,null,null,null,null,null,null,null,null,null,null,null,null,null,null,null,null,null,null,null,null,null,"4BR",{"$f":"IF(SUM(RRDL_HousIncUtilAllow4BR)=0,RRDL_4BRAvg,SUM(RRDL_HousIncUtilAllow4BR))","v":{"$error":"#NAME?"}},null,null,null,null,null,null,null,null,null,null,null,null,null,null,null,null,null,null,null,null,null,null,null,null,null,null,null,null,null,null,null,null,true,null,null,0,0,0,0,{"$f":"IF(DevCostsFinCostsHUDMIP=TRUE,'Development Costs'!H104,0)","v":0},null,null,null,null,null,null,null,null,null,null,null,null,null,null,null,null,null,null,null,null,{"$f":"IF(#REF!=\"0BR/SRO\",#REF!,0)","v":{"$error":"#REF!"}},{"$f":"IF(#REF!=\"1BR\",#REF!,0)","v":{"$error":"#REF!"}},{"$f":"IF(#REF!=\"2BR\",#REF!,0)","v":{"$error":"#REF!"}},{"$f":"IF(#REF!=\"3BR\",#REF!,0)","v":{"$error":"#REF!"}},{"$f":"IF(#REF!=\"4BR\",#REF!,0)","v":{"$error":"#REF!"}},{"$f":"IF(#REF!=\"5BR\",#REF!,0)","v":{"$error":"#REF!"}},{"$f":"IF(#REF!=\"6BR\",#REF!,0)","v":{"$error":"#REF!"}},{"$f":"IF(#REF!=\"Bed\",#REF!,0)","v":{"$error":"#REF!"}},null,{"$f":"IF($BP4=TRUE,#REF!,0)","v":0},{"$f":"IF($BQ4=TRUE,#REF!,0)","v":0},{"$f":"IF($BR4=TRUE,#REF!,0)","v":0},{"$f":"IF($BO4=TRUE,#REF!,0)","v":0},{"$f":"IF($BT4=TRUE,#REF!,0)","v":0},{"$f":"IF($BU4=TRUE,#REF!,0)","v":0},{"$f":"IF($BV4=TRUE,#REF!,0)","v":0},{"$f":"IF($BW4=TRUE,#REF!,0)","v":0}]
[null,null,null,null,null,null,null,null,null,null,null,null,null,null,null,null,null,null,null,null,null,null,null,null,null,null,null,null,null,null,null,null,null,null,null,null,null,null,null,null,null,null,null,null,null,null,null,null,null,"5BR",{"$f":"IF(SUM(RRDL_HousIncUtilAllow5BR)=0,RRDL_5BRAvg,SUM(RRDL_HousIncUtilAllow5BR))","v":{"$error":"#NAME?"}},null,null,null,null,null,null,null,null,null,null,null,null,null,null,null,null,null,null,null,null,null,null,null,null,null,null,null,null,null,null,null,null,true,null,null,0,0,0,0,{"$f":"IF(DevCostsFinCostsHUDExamFee=TRUE,'Development Costs'!H105,0)","v":0},null,null,null,null,null,null,null,null,null,null,null,null,null,null,null,null,null,null,null,null,{"$f":"IF(#REF!=\"0BR/SRO\",#REF!,0)","v":{"$error":"#REF!"}},{"$f":"IF(#REF!=\"1BR\",#REF!,0)","v":{"$error":"#REF!"}},{"$f":"IF(#REF!=\"2BR\",#REF!,0)","v":{"$error":"#REF!"}},{"$f":"IF(#REF!=\"3BR\",#REF!,0)","v":{"$error":"#REF!"}},{"$f":"IF(#REF!=\"4BR\",#REF!,0)","v":{"$error":"#REF!"}},{"$f":"IF(#REF!=\"5BR\",#REF!,0)","v":{"$error":"#REF!"}},{"$f":"IF(#REF!=\"6BR\",#REF!,0)","v":{"$error":"#REF!"}},{"$f":"IF(#REF!=\"Bed\",#REF!,0)","v":{"$error":"#REF!"}},null,{"$f":"IF($BP5=TRUE,#REF!,0)","v":0},{"$f":"IF($BQ5=TRUE,#REF!,0)","v":0},{"$f":"IF($BR5=TRUE,#REF!,0)","v":0},{"$f":"IF($BO5=TRUE,#REF!,0)","v":0},{"$f":"IF($BT5=TRUE,#REF!,0)","v":0},{"$f":"IF($BU5=TRUE,#REF!,0)","v":0},{"$f":"IF($BV5=TRUE,#REF!,0)","v":0},{"$f":"IF($BW5=TRUE,#REF!,0)","v":0}]
[null,null,null,null,null,null,null,null,null,null,null,null,null,null,null,null,null,null,null,null,null,null,null,null,null,null,null,null,null,null,null,null,null,null,null,null,null,null,null,null,null,null,null,null,null,null,null,null,null,"6BR",{"$f":"IF(SUM(RRDL_HousIncUtilAllow6BR)=0,RRDL_6BRAvg,SUM(RRDL_HousIncUtilAllow6BR))","v":{"$error":"#NAME?"}},null,null,null,null,null,null,null,null,null,null,null,null,null,null,null,null,null,null,null,null,null,null,null,null,null,null,null,null,null,null,null,null,true,null,null,0,0,0,0,{"$f":"IF(DevCostsFinCostsHUDInspFee=TRUE,'Development Costs'!H106,0)","v":0},null,null,null,null,null,null,null,null,null,null,null,null,null,null,null,null,null,null,null,null,{"$f":"IF(#REF!=\"0BR/SRO\",#REF!,0)","v":{"$error":"#REF!"}},{"$f":"IF(#REF!=\"1BR\",#REF!,0)","v":{"$error":"#REF!"}},{"$f":"IF(#REF!=\"2BR\",#REF!,0)","v":{"$error":"#REF!"}},{"$f":"IF(#REF!=\"3BR\",#REF!,0)","v":{"$error":"#REF!"}},{"$f":"IF(#REF!=\"4BR\",#REF!,0)","v":{"$error":"#REF!"}},{"$f":"IF(#REF!=\"5BR\",#REF!,0)","v":{"$error":"#REF!"}},{"$f":"IF(#REF!=\"6BR\",#REF!,0)","v":{"$error":"#REF!"}},{"$f":"IF(#REF!=\"Bed\",#REF!,0)","v":{"$error":"#REF!"}},null,{"$f":"IF($BP6=TRUE,#REF!,0)","v":0},{"$f":"IF($BQ6=TRUE,#REF!,0)","v":0},{"$f":"IF($BR6=TRUE,#REF!,0)","v":0},{"$f":"IF($BO6=TRUE,#REF!,0)","v":0},{"$f":"IF($BT6=TRUE,#REF!,0)","v":0},{"$f":"IF($BU6=TRUE,#REF!,0)","v":0},{"$f":"IF($BV6=TRUE,#REF!,0)","v":0},{"$f":"IF($BW6=TRUE,#REF!,0)","v":0}]
[null,null,null,null,null,null,null,null,null,null,null,null,null,null,null,null,null,null,null,null,null,null,null,null,null,null,null,null,null,null,null,null,null,null,null,null,null,null,null,null,null,null,null,null,null,null,null,null,null,null,null,null,null,null,null,null,null,null,null,null,null,null,null,null,null,null,null,null,null,null,null,null,null,null,null,null,null,null,null,null,null,null,null,true,null,null,0,0,0,0,{"$f":"IF(DevCostsFinCostsOtherOrigFee=TRUE,'Development Costs'!H107,0)","v":0},null,null,null,null,null,null,null,null,null,null,null,null,null,null,null,null,null,null,null,null,{"$f":"IF(#REF!=\"0BR/SRO\",#REF!,0)","v":{"$error":"#REF!"}},{"$f":"IF(#REF!=\"1BR\",#REF!,0)","v":{"$error":"#REF!"}},{"$f":"IF(#REF!=\"2BR\",#REF!,0)","v":{"$error":"#REF!"}},{"$f":"IF(#REF!=\"3BR\",#REF!,0)","v":{"$error":"#REF!"}},{"$f":"IF(#REF!=\"4BR\",#REF!,0)","v":{"$error":"#REF!"}},{"$f":"IF(#REF!=\"5BR\",#REF!,0)","v":{"$error":"#REF!"}},{"$f":"IF(#REF!=\"6BR\",#REF!,0)","v":{"$error":"#REF!"}},{"$f":"IF(#REF!=\"Bed\",#REF!,0)","v":{"$error":"#REF!"}},null,{"$f":"IF($BP7=TRUE,#REF!,0)","v":0},{"$f":"IF($BQ7=TRUE,#REF!,0)","v":0},{"$f":"IF($BR7=TRUE,#REF!,0)","v":0},{"$f":"IF($BO7=TRUE,#REF!,0)","v":0},{"$f":"IF($BT7=TRUE,#REF!,0)","v":0},{"$f":"IF($BU7=TRUE,#REF!,0)","v":0},{"$f":"IF($BV7=TRUE,#REF!,0)","v":0},{"$f":"IF($BW7=TRUE,#REF!,0)","v":0}]
[null,null,null,null,null,null,null,null,null,null,null,null,null,null,null,null,null,null,null,null,null,null,null,null,null,null,null,null,null,null,null,null,null,null,null,null,null,null,null,null,null,null,null,null,null,null,null,null,null,null,null,null,null,null,null,null,null,null,null,null,null,null,null,null,null,null,null,null,null,null,null,null,null,null,null,null,null,null,null,null,null,null,null,true,null,null,0,0,0,0,{"$f":"IF(DevCostsFinCostsMortIns=TRUE,'Development Costs'!H108,0)","v":0},null,null,null,null,null,null,null,null,null,null,null,null,null,null,null,null,null,null,null,null,{"$f":"IF(#REF!=\"0BR/SRO\",#REF!,0)","v":{"$error":"#REF!"}},{"$f":"IF(#REF!=\"1BR\",#REF!,0)","v":{"$error":"#REF!"}},{"$f":"IF(#REF!=\"2BR\",#REF!,0)","v":{"$error":"#REF!"}},{"$f":"IF(#REF!=\"3BR\",#REF!,0)","v":{"$error":"#REF!"}},{"$f":"IF(#REF!=\"4BR\",#REF!,0)","v":{"$error":"#REF!"}},{"$f":"IF(#REF!=\"5BR\",#REF!,0)","v":{"$error":"#REF!"}},{"$f":"IF(#REF!=\"6BR\",#REF!,0)","v":{"$error":"#REF!"}},{"$f":"IF(#REF!=\"Bed\",#REF!,0)","v":{"$error":"#REF!"}},null,{"$f":"IF($BP8=TRUE,#REF!,0)","v":0},{"$f":"IF($BQ8=TRUE,#REF!,0)","v":0},{"$f":"IF($BR8=TRUE,#REF!,0)","v":0},{"$f":"IF($BO8=TRUE,#REF!,0)","v":0},{"$f":"IF($BT8=TRUE,#REF!,0)","v":0},{"$f":"IF($BU8=TRUE,#REF!,0)","v":0},{"$f":"IF($BV8=TRUE,#REF!,0)","v":0},{"$f":"IF($BW8=TRUE,#REF!,0)","v":0}]
[null,null,null,null,null,null,null,null,null,null,null,null,null,null,null,null,null,null,null,null,null,null,null,null,null,null,null,null,null,null,null,null,null,null,null,null,null,null,null,null,null,null,null,null,null,null,null,null,null,null,null,null,null,null,null,null,null,null,null,null,null,null,null,null,null,null,null,null,null,null,null,null,null,null,null,null,null,null,null,null,null,null,null,true,null,null,null,null,null,null,{"$f":"IF(DevCostsFinCostsBondIssFee=TRUE,'Development Costs'!H109,0)","v":0},null,null,null,null,null,null,null,null,null,null,null,null,null,null,null,null,null,null,null,null,{"$f":"IF(#REF!=\"0BR/SRO\",#REF!,0)","v":{"$error":"#REF!"}},{"$f":"IF(#REF!=\"1BR\",#REF!,0)","v":{"$error":"#REF!"}},{"$f":"IF(#REF!=\"2BR\",#REF!,0)","v":{"$error":"#REF!"}},{"$f":"IF(#REF!=\"3BR\",#REF!,0)","v":{"$error":"#REF!"}},{"$f":"IF(#REF!=\"4BR\",#REF!,0)","v":{"$error":"#REF!"}},{"$f":"IF(#REF!=\"5BR\",#REF!,0)","v":{"$error":"#REF!"}},{"$f":"IF(#REF!=\"6BR\",#REF!,0)","v":{"$error":"#REF!"}},{"$f":"IF(#REF!=\"Bed\",#REF!,0)","v":{"$error":"#REF!"}},null,{"$f":"IF($BP9=TRUE,#REF!,0)","v":0},{"$f":"IF($BQ9=TRUE,#REF!,0)","v":0},{"$f":"IF($BR9=TRUE,#REF!,0)","v":0},{"$f":"IF($BO9=TRUE,#REF!,0)","v":0},{"$f":"IF($BT9=TRUE,#REF!,0)","v":0},{"$f":"IF($BU9=TRUE,#REF!,0)","v":0},{"$f":"IF($BV9=TRUE,#REF!,0)","v":0},{"$f":"IF($BW9=TRUE,#REF!,0)","v":0}]
[null,null,null,null,null,null,null,null,null,null,null,null,null,null,null,null,null,null,null,null,null,null,null,null,null,null,null,null,null,null,null,null,null,null,null,null,null,null,null,null,null,null,null,null,null,null,null,null,null,null,null,null,null,null,null,null,null,null,null,null,null,null,null,null,null,null,null,null,null,null,null,null,null,null,null,null,null,null,null,null,null,null,null,true,null,null,null,null,null,null,{"$f":"IF(DevCostsFinCostsBondCounsel=TRUE,'Development Costs'!H110,0)","v":0},null,null,null,null,null,null,null,null,null,null,null,null,null,null,null,null,null,null,null,null,{"$f":"IF(#REF!=\"0BR/SRO\",#REF!,0)","v":{"$error":"#REF!"}},{"$f":"IF(#REF!=\"1BR\",#REF!,0)","v":{"$error":"#REF!"}},{"$f":"IF(#REF!=\"2BR\",#REF!,0)","v":{"$error":"#REF!"}},{"$f":"IF(#REF!=\"3BR\",#REF!,0)","v":{"$error":"#REF!"}},{"$f":"IF(#REF!=\"4BR\",#REF!,0)","v":{"$error":"#REF!"}},{"$f":"IF(#REF!=\"5BR\",#REF!,0)","v":{"$error":"#REF!"}},{"$f":"IF(#REF!=\"6BR\",#REF!,0)","v":{"$error":"#REF!"}},{"$f":"IF(#REF!=\"Bed\",#REF!,0)","v":{"$error":"#REF!"}},null,{"$f":"IF($BP10=TRUE,#REF!,0)","v":0},{"$f":"IF($BQ10=TRUE,#REF!,0)","v":0},{"$f":"IF($BR10=TRUE,#REF!,0)","v":0},{"$f":"IF($BO10=TRUE,#REF!,0)","v":0},{"$f":"IF($BT10=TRUE,#REF!,0)","v":0},{"$f":"IF($BU10=TRUE,#REF!,0)","v":0},{"$f":"IF($BV10=TRUE,#REF!,0)","v":0},{"$f":"IF($BW10=TRUE,#REF!,0)","v":0}]
[null,null,null,null,null,null,null,null,null,null,null,null,null,null,null,null,null,null,null,null,null,null,null,null,null,null,null,null,null,null,null,null,null,null,null,null,null,null,null,null,null,null,null,null,null,null,null,null,null,null,null,null,null,null,null,null,null,null,null,null,null,null,null,null,null,null,null,null,null,null,null,null,null,null,null,null,null,null,null,null,null,null,null,true,null,null,null,null,null,null,{"$f":"IF(DevCostsFinCostsUndWCounsel=TRUE,'Development Costs'!H111,0)","v":0},null,null,null,null,null,null,null,null,null,null,null,null,null,null,null,null,null,null,null,null,{"$f":"IF(#REF!=\"0BR/SRO\",#REF!,0)","v":{"$error":"#REF!"}},{"$f":"IF(#REF!=\"1BR\",#REF!,0)","v":{"$error":"#REF!"}},{"$f":"IF(#REF!=\"2BR\",#REF!,0)","v":{"$error":"#REF!"}},{"$f":"IF(#REF!=\"3BR\",#REF!,0)","v":{"$error":"#REF!"}},{"$f":"IF(#REF!=\"4BR\",#REF!,0)","v":{"$error":"#REF!"}},{"$f":"IF(#REF!=\"5BR\",#REF!,0)","v":{"$error":"#REF!"}},{"$f":"IF(#REF!=\"6BR\",#REF!,0)","v":{"$error":"#REF!"}},{"$f":"IF(#REF!=\"Bed\",#REF!,0)","v":{"$error":"#REF!"}},null,{"$f":"IF($BP11=TRUE,#REF!,0)","v":0},{"$f":"IF($BQ11=TRUE,#REF!,0)","v":0},{"$f":"IF($BR11=TRUE,#REF!,0)","v":0},{"$f":"IF($BO11=TRUE,#REF!,0)","v":0},{"$f":"IF($BT11=TRUE,#REF!,0)","v":0},{"$f":"IF($BU11=TRUE,#REF!,0)","v":0},{"$f":"IF($BV11=TRUE,#REF!,0)","v":0},{"$f":"IF($BW11=TRUE,#REF!,0)","v":0}]
[null,null,null,null,null,null,null,null,null,null,null,null,null,null,null,null,null,null,null,null,null,null,null,null,null,null,null,null,null,null,null,null,null,null,null,null,null,null,null,null,null,null,null,null,null,null,null,null,null,null,null,null,null,null,null,null,null,null,null,null,null,null,null,null,null,null,null,null,null,null,null,null,null,null,null,null,null,null,null,null,null,null,null,true,null,null,null,null,null,null,{"$f":"IF(DevCostsFinCostsTrusteeFee=TRUE,'Development Costs'!H112,0)","v":0},null,null,null,null,null,null,null,null,null,null,null,null,null,null,null,null,null,null,null,null,{"$f":"IF(#REF!=\"0BR/SRO\",#REF!,0)","v":{"$error":"#REF!"}},{"$f":"IF(#REF!=\"1BR\",#REF!,0)","v":{"$error":"#REF!"}},{"$f":"IF(#REF!=\"2BR\",#REF!,0)","v":{"$error":"#REF!"}},{"$f":"IF(#REF!=\"3BR\",#REF!,0)","v":{"$error":"#REF!"}},{"$f":"IF(#REF!=\"4BR\",#REF!,0)","v":{"$error":"#REF!"}},{"$f":"IF(#REF!=\"5BR\",#REF!,0)","v":{"$error":"#REF!"}},{"$f":"IF(#REF!=\"6BR\",#REF!,0)","v":{"$error":"#REF!"}},{"$f":"IF(#REF!=\"Bed\",#REF!,0)","v":{"$error":"#REF!"}},null,{"$f":"IF($BP12=TRUE,#REF!,0)","v":0},{"$f":"IF($BQ12=TRUE,#REF!,0)","v":0},{"$f":"IF($BR12=TRUE,#REF!,0)","v":0},{"$f":"IF($BO12=TRUE,#REF!,0)","v":0},{"$f":"IF($BT12=TRUE,#REF!,0)","v":0},{"$f":"IF($BU12=TRUE,#REF!,0)","v":0},{"$f":"IF($BV12=TRUE,#REF!,0)","v":0},{"$f":"IF($BW12=TRUE,#REF!,0)","v":0}]
[null,null,null,null,null,null,null,null,null,null,null,null,null,null,null,null,null,null,null,null,null,null,null,null,null,null,null,null,null,null,null,null,null,null,null,null,null,null,null,null,null,null,null,null,null,null,null,null,null,null,null,null,null,null,null,null,null,null,null,null,null,null,null,null,null,null,null,null,null,null,null,null,null,null,null,null,null,null,null,null,null,null,null,true,null,null,0,0,0,0,{"$f":"IF(DevCostsFinCostsDCE=TRUE,'Development Costs'!H113,0)","v":0},null,null,null,null,null,null,null,null,null,null,null,null,null,null,null,null,null,null,null,null,{"$f":"IF(#REF!=\"0BR/SRO\",#REF!,0)","v":{"$error":"#REF!"}},{"$f":"IF(#REF!=\"1BR\",#REF!,0)","v":{"$error":"#REF!"}},{"$f":"IF(#REF!=\"2BR\",#REF!,0)","v":{"$error":"#REF!"}},{"$f":"IF(#REF!=\"3BR\",#REF!,0)","v":{"$error":"#REF!"}},{"$f":"IF(#REF!=\"4BR\",#REF!,0)","v":{"$error":"#REF!"}},{"$f":"IF(#REF!=\"5BR\",#REF!,0)","v":{"$error":"#REF!"}},{"$f":"IF(#REF!=\"6BR\",#REF!,0)","v":{"$error":"#REF!"}},{"$f":"IF(#REF!=\"Bed\",#REF!,0)","v":{"$error":"#REF!"}},null,{"$f":"IF($BP13=TRUE,#REF!,0)","v":0},{"$f":"IF($BQ13=TRUE,#REF!,0)","v":0},{"$f":"IF($BR13=TRUE,#REF!,0)","v":0},{"$f":"IF($BO13=TRUE,#REF!,0)","v":0},{"$f":"IF($BT13=TRUE,#REF!,0)","v":0},{"$f":"IF($BU13=TRUE,#REF!,0)","v":0},{"$f":"IF($BV13=TRUE,#REF!,0)","v":0},{"$f":"IF($BW13=TRUE,#REF!,0)","v":0}]
[null,null,null,null,null,null,null,null,null,null,null,null,null,null,null,null,null,null,null,null,null,null,null,null,null,null,null,null,null,null,null,null,null,null,null,null,null,null,null,null,null,null,null,null,null,null,null,null,null,null,null,null,null,null,null,null,null,null,null,null,null,null,null,null,null,null,null,null,null,null,null,null,null,null,null,null,null,null,null,null,null,null,null,true,null,null,0,0,0,0,{"$f":"IF(DevCostsFinCostsOtherBondFees=TRUE,'Development Costs'!H114,0)","v":0},null,null,null,null,null,null,null,null,null,null,null,null,null,null,null,null,null,null,null,null,{"$f":"IF(#REF!=\"0BR/SRO\",#REF!,0)","v":{"$error":"#REF!"}},{"$f":"IF(#REF!=\"1BR\",#REF!,0)","v":{"$error":"#REF!"}},{"$f":"IF(#REF!=\"2BR\",#REF!,0)","v":{"$error":"#REF!"}},{"$f":"IF(#REF!=\"3BR\",#REF!,0)","v":{"$error":"#REF!"}},{"$f":"IF(#REF!=\"4BR\",#REF!,0)","v":{"$error":"#REF!"}},{"$f":"IF(#REF!=\"5BR\",#REF!,0)","v":{"$error":"#REF!"}},{"$f":"IF(#REF!=\"6BR\",#REF!,0)","v":{"$error":"#REF!"}},{"$f":"IF(#REF!=\"Bed\",#REF!,0)","v":{"$error":"#REF!"}},null,{"$f":"IF($BP14=TRUE,#REF!,0)","v":0},{"$f":"IF($BQ14=TRUE,#REF!,0)","v":0},{"$f":"IF($BR14=TRUE,#REF!,0)","v":0},{"$f":"IF($BO14=TRUE,#REF!,0)","v":0},{"$f":"IF($BT14=TRUE,#REF!,0)","v":0},{"$f":"IF($BU14=TRUE,#REF!,0)","v":0},{"$f":"IF($BV14=TRUE,#REF!,0)","v":0},{"$f":"IF($BW14=TRUE,#REF!,0)","v":0}]
[null,null,null,null,null,null,null,null,null,null,null,null,null,null,null,null,null,null,null,null,null,null,null,null,null,null,null,null,null,null,null,null,null,null,null,null,null,null,null,null,null,null,null,null,null,null,null,null,null,null,null,null,null,null,null,null,null,null,null,null,null,null,null,null,null,null,null,null,null,null,null,null,null,null,null,null,null,null,null,null,null,null,null,true,null,null,0,0,0,0,{"$f":"IF(DevCostsFinCostsTitleRec=TRUE,'Development Costs'!H115,0)","v":0},null,null,null,null,null,null,null,null,null,null,null,null,null,null,null,null,null,null,null,null,{"$f":"IF(#REF!=\"0BR/SRO\",#REF!,0)","v":{"$error":"#REF!"}},{"$f":"IF(#REF!=\"1BR\",#REF!,0)","v":{"$error":"#REF!"}},{"$f":"IF(#REF!=\"2BR\",#REF!,0)","v":{"$error":"#REF!"}},{"$f":"IF(#REF!=\"3BR\",#REF!,0)","v":{"$error":"#REF!"}},{"$f":"IF(#REF!=\"4BR\",#REF!,0)","v":{"$error":"#REF!"}},{"$f":"IF(#REF!=\"5BR\",#REF!,0)","v":{"$error":"#REF!"}},{"$f":"IF(#REF!=\"6BR\",#REF!,0)","v":{"$error":"#REF!"}},{"$f":"IF(#REF!=\"Bed\",#REF!,0)","v":{"$error":"#REF!"}},null,{"$f":"IF($BP15=TRUE,#REF!,0)","v":0},{"$f":"IF($BQ15=TRUE,#REF!,0)","v":0},{"$f":"IF($BR15=TRUE,#REF!,0)","v":0},{"$f":"IF($BO15=TRUE,#REF!,0)","v":0},{"$f":"IF($BT15=TRUE,#REF!,0)","v":0},{"$f":"IF($BU15=TRUE,#REF!,0)","v":0},{"$f":"IF($BV15=TRUE,#REF!,0)","v":0},{"$f":"IF($BW15=TRUE,#REF!,0)","v":0}]
[null,null,null,null,null,null,null,null,null,null,null,null,null,null,null,null,null,null,null,null,null,null,null,null,null,null,null,null,null,null,null,null,null,null,null,null,null,null,null,null,null,null,null,null,null,null,null,null,null,null,null,null,null,null,null,null,null,null,null,null,null,null,null,null,null,null,null,null,null,null,null,null,null,null,null,null,null,null,null,null,null,null,null,false,null,null,null,null,null,null,null,null,null,null,null,null,null,null,null,null,null,null,null,null,null,null,null,null,null,null,null,{"$f":"IF(#REF!=\"0BR/SRO\",#REF!,0)","v":{"$error":"#REF!"}},{"$f":"IF(#REF!=\"1BR\",#REF!,0)","v":{"$error":"#REF!"}},{"$f":"IF(#REF!=\"2BR\",#REF!,0)","v":{"$error":"#REF!"}},{"$f":"IF(#REF!=\"3BR\",#REF!,0)","v":{"$error":"#REF!"}},{"$f":"IF(#REF!=\"4BR\",#REF!,0)","v":{"$error":"#REF!"}},{"$f":"IF(#REF!=\"5BR\",#REF!,0)","v":{"$error":"#REF!"}},{"$f":"IF(#REF!=\"6BR\",#REF!,0)","v":{"$error":"#REF!"}},{"$f":"IF(#REF!=\"Bed\",#REF!,0)","v":{"$error":"#REF!"}},null,{"$f":"IF($BP16=TRUE,#REF!,0)","v":0},{"$f":"IF($BQ16=TRUE,#REF!,0)","v":0},{"$f":"IF($BR16=TRUE,#REF!,0)","v":0},{"$f":"IF($BO16=TRUE,#REF!,0)","v":0},{"$f":"IF($BT16=TRUE,#REF!,0)","v":0},{"$f":"IF($BU16=TRUE,#REF!,0)","v":0},{"$f":"IF($BV16=TRUE,#REF!,0)","v":0},{"$f":"IF($BW16=TRUE,#REF!,0)","v":0}]
[null,null,null,null,null,null,null,null,null,null,null,null,null,null,null,null,null,null,null,null,null,null,null,null,null,null,null,null,null,null,null,null,null,null,null,null,null,null,null,null,null,null,null,null,null,null,null,null,null,null,null,null,null,null,null,null,null,null,null,null,null,null,null,null,null,null,null,null,null,null,null,null,null,null,null,null,null,null,null,null,null,null,null,false,null,null,0,0,0,0,{"$f":"IF(DevCostsMortResOther1=TRUE,'Development Costs'!H116,0)","v":0},null,null,null,null,null,null,null,null,null,null,null,null,null,null,null,null,null,null,null,null,{"$f":"IF(#REF!=\"0BR/SRO\",#REF!,0)","v":{"$error":"#REF!"}},{"$f":"IF(#REF!=\"1BR\",#REF!,0)","v":{"$error":"#REF!"}},{"$f":"IF(#REF!=\"2BR\",#REF!,0)","v":{"$error":"#REF!"}},{"$f":"IF(#REF!=\"3BR\",#REF!,0)","v":{"$error":"#REF!"}},{"$f":"IF(#REF!=\"4BR\",#REF!,0)","v":{"$error":"#REF!"}},{"$f":"IF(#REF!=\"5BR\",#REF!,0)","v":{"$error":"#REF!"}},{"$f":"IF(#REF!=\"6BR\",#REF!,0)","v":{"$error":"#REF!"}},{"$f":"IF(#REF!=\"Bed\",#REF!,0)","v":{"$error":"#REF!"}},null,{"$f":"IF($BP17=TRUE,#REF!,0)","v":0},{"$f":"IF($BQ17=TRUE,#REF!,0)","v":0},{"$f":"IF($BR17=TRUE,#REF!,0)","v":0},{"$f":"IF($BO17=TRUE,#REF!,0)","v":0},{"$f":"IF($BT17=TRUE,#REF!,0)","v":0},{"$f":"IF($BU17=TRUE,#REF!,0)","v":0},{"$f":"IF($BV17=TRUE,#REF!,0)","v":0},{"$f":"IF($BW17=TRUE,#REF!,0)","v":0}]
[null,null,null,null,null,null,null,null,null,null,null,null,null,null,null,null,null,null,null,null,null,null,null,null,null,null,null,null,null,null,null,null,null,null,null,null,null,null,null,null,null,null,null,null,null,null,null,null,null,null,null,null,null,null,null,null,null,null,null,null,null,null,null,null,null,null,null,null,null,null,null,null,null,null,null,null,null,null,null,null,null,null,null,false,null,null,0,0,0,0,{"$f":"IF(DevCostsMortResOther2=TRUE,'Development Costs'!H117,0)","v":0},null,null,null,null,null,null,null,null,null,null,null,null,null,null,null,null,null,null,null,null,{"$f":"IF(#REF!=\"0BR/SRO\",#REF!,0)","v":{"$error":"#REF!"}},{"$f":"IF(#REF!=\"1BR\",#REF!,0)","v":{"$error":"#REF!"}},{"$f":"IF(#REF!=\"2BR\",#REF!,0)","v":{"$error":"#REF!"}},{"$f":"IF(#REF!=\"3BR\",#REF!,0)","v":{"$error":"#REF!"}},{"$f":"IF(#REF!=\"4BR\",#REF!,0)","v":{"$error":"#REF!"}},{"$f":"IF(#REF!=\"5BR\",#REF!,0)","v":{"$error":"#REF!"}},{"$f":"IF(#REF!=\"6BR\",#REF!,0)","v":{"$error":"#REF!"}},{"$f":"IF(#REF!=\"Bed\",#REF!,0)","v":{"$error":"#REF!"}},null,{"$f":"IF($BP18=TRUE,#REF!,0)","v":0},{"$f":"IF($BQ18=TRUE,#REF!,0)","v":0},{"$f":"IF($BR18=TRUE,#REF!,0)","v":0},{"$f":"IF($BO18=TRUE,#REF!,0)","v":0},{"$f":"IF($BT18=TRUE,#REF!,0)","v":0},{"$f":"IF($BU18=TRUE,#REF!,0)","v":0},{"$f":"IF($BV18=TRUE,#REF!,0)","v":0},{"$f":"IF($BW18=TRUE,#REF!,0)","v":0}]
[null,null,null,null,null,null,null,null,null,null,null,null,null,null,null,null,null,null,null,null,null,null,null,null,null,null,null,null,null,null,null,null,null,null,null,null,null,null,null,null,null,null,null,null,null,null,null,null,null,null,null,null,null,null,null,null,null,null,null,null,null,null,null,null,null,null,null,null,null,null,null,null,null,null,null,null,null,null,null,null,null,null,null,false,null,null,0,0,0,0,{"$f":"IF(DevCostsMortResOther3=TRUE,'Development Costs'!H118,0)","v":0},null,null,null,null,null,null,null,null,null,null,null,null,null,null,null,null,null,null,null,null,{"$f":"IF(#REF!=\"0BR/SRO\",#REF!,0)","v":{"$error":"#REF!"}},{"$f":"IF(#REF!=\"1BR\",#REF!,0)","v":{"$error":"#REF!"}},{"$f":"IF(#REF!=\"2BR\",#REF!,0)","v":{"$error":"#REF!"}},{"$f":"IF(#REF!=\"3BR\",#REF!,0)","v":{"$error":"#REF!"}},{"$f":"IF(#REF!=\"4BR\",#REF!,0)","v":{"$error":"#REF!"}},{"$f":"IF(#REF!=\"5BR\",#REF!,0)","v":{"$error":"#REF!"}},{"$f":"IF(#REF!=\"6BR\",#REF!,0)","v":{"$error":"#REF!"}},{"$f":"IF(#REF!=\"Bed\",#REF!,0)","v":{"$error":"#REF!"}},null,{"$f":"IF($BP19=TRUE,#REF!,0)","v":0},{"$f":"IF($BQ19=TRUE,#REF!,0)","v":0},{"$f":"IF($BR19=TRUE,#REF!,0)","v":0},{"$f":"IF($BO19=TRUE,#REF!,0)","v":0},{"$f":"IF($BT19=TRUE,#REF!,0)","v":0},{"$f":"IF($BU19=TRUE,#REF!,0)","v":0},{"$f":"IF($BV19=TRUE,#REF!,0)","v":0},{"$f":"IF($BW19=TRUE,#REF!,0)","v":0}]
[null,null,null,null,null,null,null,null,null,null,null,null,null,null,null,null,null,null,null,null,null,null,null,null,null,null,null,null,null,null,null,null,null,null,null,null,null,null,null,null,null,null,null,null,null,null,null,null,null,null,null,null,null,null,null,null,null,null,null,null,null,null,null,null,null,null,null,null,null,null,null,null,null,null,null,null,null,null,null,null,null,null,null,null,"Total TRUE",null,{"$f":"SUM(CI43:CI110)","v":0},{"$f":"SUM(CJ43:CJ110)","v":0},{"$f":"SUM(CK43:CK110)","v":0},{"$f":"SUM(CL43:CL110)","v":0},{"$f":"SUM(CM40:CM110)","v":0},null,null,null,null,null,null,null,null,null,null,null,null,null,null,null,null,null,null,null,null,{"$f":"IF(#REF!=\"0BR/SRO\",#REF!,0)","v":{"$error":"#REF!"}},{"$f":"IF(#REF!=\"1BR\",#REF!,0)","v":{"$error":"#REF!"}},{"$f":"IF(#REF!=\"2BR\",#REF!,0)","v":{"$error":"#REF!"}},{"$f":"IF(#REF!=\"3BR\",#REF!,0)","v":{"$error":"#REF!"}},{"$f":"IF(#REF!=\"4BR\",#REF!,0)","v":{"$error":"#REF!"}},{"$f":"IF(#REF!=\"5BR\",#REF!,0)","v":{"$error":"#REF!"}},{"$f":"IF(#REF!=\"6BR\",#REF!,0)","v":{"$error":"#REF!"}},{"$f":"IF(#REF!=\"Bed\",#REF!,0)","v":{"$error":"#REF!"}},null,{"$f":"IF($BP20=TRUE,#REF!,0)","v":0},{"$f":"IF($BQ20=TRUE,#REF!,0)","v":0},{"$f":"IF($BR20=TRUE,#REF!,0)","v":0},{"$f":"IF($BO20=TRUE,#REF!,0)","v":0},{"$f":"IF($BT20=TRUE,#REF!,0)","v":0},{"$f":"IF($BU20=TRUE,#REF!,0)","v":0},{"$f":"IF($BV20=TRUE,#REF!,0)","v":0},{"$f":"IF($BW20=TRUE,#REF!,0)","v":0}]
[null,null,null,null,null,null,null,null,null,null,null,null,null,null,null,null,null,null,null,null,null,null,null,null,null,null,null,null,null,null,null,null,null,null,null,null,null,null,null,null,null,null,null,null,null,null,null,null,null,null,null,null,null,null,null,null,null,null,null,null,null,null,null,null,null,null,null,null,null,null,null,null,null,null,null,null,null,null,null,null,null,null,null,null,null,null,null,null,null,null,null,null,null,null,null,null,null,null,null,null,null,null,null,null,null,null,null,null,null,null,null,{"$f":"IF(#REF!=\"0BR/SRO\",#REF!,0)","v":{"$error":"#REF!"}},{"$f":"IF(#REF!=\"1BR\",#REF!,0)","v":{"$error":"#REF!"}},{"$f":"IF(#REF!=\"2BR\",#REF!,0)","v":{"$error":"#REF!"}},{"$f":"IF(#REF!=\"3BR\",#REF!,0)","v":{"$error":"#REF!"}},{"$f":"IF(#REF!=\"4BR\",#REF!,0)","v":{"$error":"#REF!"}},{"$f":"IF(#REF!=\"5BR\",#REF!,0)","v":{"$error":"#REF!"}},{"$f":"IF(#REF!=\"6BR\",#REF!,0)","v":{"$error":"#REF!"}},{"$f":"IF(#REF!=\"Bed\",#REF!,0)","v":{"$error":"#REF!"}},null,{"$f":"IF($BP21=TRUE,#REF!,0)","v":0},{"$f":"IF($BQ21=TRUE,#REF!,0)","v":0},{"$f":"IF($BR21=TRUE,#REF!,0)","v":0},{"$f":"IF($BO21=TRUE,#REF!,0)","v":0},{"$f":"IF($BT21=TRUE,#REF!,0)","v":0},{"$f":"IF($BU21=TRUE,#REF!,0)","v":0},{"$f":"IF($BV21=TRUE,#REF!,0)","v":0},{"$f":"IF($BW21=TRUE,#REF!,0)","v":0}]
[null,null,null,null,null,null,null,null,null,null,null,null,null,null,null,null,null,null,null,null,null,null,null,null,null,null,null,null,null,null,null,null,null,null,null,null,null,null,null,null,null,null,null,null,null,null,null,null,null,null,null,null,null,null,null,null,null,null,null,null,null,null,null,null,null,null,null,null,null,null,null,null,null,null,null,null,null,null,null,null,null,null,null,null,null,null,null,null,null,null,null,null,null,null,null,null,null,null,null,null,null,null,null,null,null,null,null,null,null,null,null,{"$f":"IF(#REF!=\"0BR/SRO\",#REF!,0)","v":{"$error":"#REF!"}},{"$f":"IF(#REF!=\"1BR\",#REF!,0)","v":{"$error":"#REF!"}},{"$f":"IF(#REF!=\"2BR\",#REF!,0)","v":{"$error":"#REF!"}},{"$f":"IF(#REF!=\"3BR\",#REF!,0)","v":{"$error":"#REF!"}},{"$f":"IF(#REF!=\"4BR\",#REF!,0)","v":{"$error":"#REF!"}},{"$f":"IF(#REF!=\"5BR\",#REF!,0)","v":{"$error":"#REF!"}},{"$f":"IF(#REF!=\"6BR\",#REF!,0)","v":{"$error":"#REF!"}},{"$f":"IF(#REF!=\"Bed\",#REF!,0)","v":{"$error":"#REF!"}},null,{"$f":"IF($BP22=TRUE,#REF!,0)","v":0},{"$f":"IF($BQ22=TRUE,#REF!,0)","v":0},{"$f":"IF($BR22=TRUE,#REF!,0)","v":0},{"$f":"IF($BO22=TRUE,#REF!,0)","v":0},{"$f":"IF($BT22=TRUE,#REF!,0)","v":0},{"$f":"IF($BU22=TRUE,#REF!,0)","v":0},{"$f":"IF($BV22=TRUE,#REF!,0)","v":0},{"$f":"IF($BW22=TRUE,#REF!,0)","v":0}]
[null,null,null,null,null,null,null,null,null,null,null,null,null,null,null,null,null,null,null,null,null,null,null,null,null,null,null,null,null,null,null,null,null,null,null,null,null,null,null,null,null,null,null,null,null,null,null,null,null,null,null,null,null,null,null,null,null,null,null,null,null,null,null,null,null,null,null,null,null,null,null,null,null,null,null,null,null,null,null,null,null,null,null,null,null,null,null,null,null,null,null,null,null,null,null,null,null,null,null,null,null,null,null,null,null,null,null,null,null,null,null,{"$f":"IF(#REF!=\"0BR/SRO\",#REF!,0)","v":{"$error":"#REF!"}},{"$f":"IF(#REF!=\"1BR\",#REF!,0)","v":{"$error":"#REF!"}},{"$f":"IF(#REF!=\"2BR\",#REF!,0)","v":{"$error":"#REF!"}},{"$f":"IF(#REF!=\"3BR\",#REF!,0)","v":{"$error":"#REF!"}},{"$f":"IF(#REF!=\"4BR\",#REF!,0)","v":{"$error":"#REF!"}},{"$f":"IF(#REF!=\"5BR\",#REF!,0)","v":{"$error":"#REF!"}},{"$f":"IF(#REF!=\"6BR\",#REF!,0)","v":{"$error":"#REF!"}},{"$f":"IF(#REF!=\"Bed\",#REF!,0)","v":{"$error":"#REF!"}},null,{"$f":"IF($BP23=TRUE,#REF!,0)","v":0},{"$f":"IF($BQ23=TRUE,#REF!,0)","v":0},{"$f":"IF($BR23=TRUE,#REF!,0)","v":0},{"$f":"IF($BO23=TRUE,#REF!,0)","v":0},{"$f":"IF($BT23=TRUE,#REF!,0)","v":0},{"$f":"IF($BU23=TRUE,#REF!,0)","v":0},{"$f":"IF($BV23=TRUE,#REF!,0)","v":0},{"$f":"IF($BW23=TRUE,#REF!,0)","v":0}]
[null,null,null,null,null,null,null,null,null,null,null,null,null,null,null,null,null,null,null,null,null,null,null,null,null,null,null,null,null,null,null,null,null,null,null,null,null,null,null,null,null,null,null,null,null,null,null,null,null,null,null,null,null,null,null,null,null,null,null,null,null,null,null,null,null,null,null,null,null,null,null,null,null,null,null,null,null,null,null,null,null,null,null,null,"Contractor Fee Test",{"$f":"IF(OR('Development Costs'!H24=0,'Development Costs'!H24=\"\"),0,(SUM('Development Costs'!H35:H37))/'Development Costs'!H24)","v":0},null,null,null,null,null,null,null,null,null,null,null,null,null,null,null,null,null,null,null,null,null,null,null,null,null,{"$f":"IF(#REF!=\"0BR/SRO\",#REF!,0)","v":{"$error":"#REF!"}},{"$f":"IF(#REF!=\"1BR\",#REF!,0)","v":{"$error":"#REF!"}},{"$f":"IF(#REF!=\"2BR\",#REF!,0)","v":{"$error":"#REF!"}},{"$f":"IF(#REF!=\"3BR\",#REF!,0)","v":{"$error":"#REF!"}},{"$f":"IF(#REF!=\"4BR\",#REF!,0)","v":{"$error":"#REF!"}},{"$f":"IF(#REF!=\"5BR\",#REF!,0)","v":{"$error":"#REF!"}},{"$f":"IF(#REF!=\"6BR\",#REF!,0)","v":{"$error":"#REF!"}},{"$f":"IF(#REF!=\"Bed\",#REF!,0)","v":{"$error":"#REF!"}},null,{"$f":"IF($BP24=TRUE,#REF!,0)","v":0},{"$f":"IF($BQ24=TRUE,#REF!,0)","v":0},{"$f":"IF($BR24=TRUE,#REF!,0)","v":0},{"$f":"IF($BO24=TRUE,#REF!,0)","v":0},{"$f":"IF($BT24=TRUE,#REF!,0)","v":0},{"$f":"IF($BU24=TRUE,#REF!,0)","v":0},{"$f":"IF($BV24=TRUE,#REF!,0)","v":0},{"$f":"IF($BW24=TRUE,#REF!,0)","v":0}]
[null,null,null,null,null,null,null,null,null,null,null,null,null,null,null,null,null,null,null,null,null,null,null,null,null,null,null,null,null,null,null,null,null,null,null,null,null,null,null,null,null,null,null,null,null,null,null,null,null,null,null,null,null,null,null,null,null,null,null,null,null,null,null,null,null,null,null,null,null,null,null,null,null,null,null,null,null,null,null,null,null,null,null,null,"Identity of Interest Test",{"$f":"IF(OR('Development Costs'!H25=0,'Development Costs'!H25=\"\"),0,(SUM('Development Costs'!H36:H38))/'Development Costs'!H25)","v":0},null,null,null,null,null,null,null,null,null,null,null,null,null,null,null,null,null,null,null,null,null,null,null,null,null,{"$f":"SUM(DH95:DH115)","v":{"$error":"#REF!"}},{"$f":"SUM(DI95:DI115)","v":{"$error":"#REF!"}},{"$error":"#REF!"},{"$error":"#REF!"},{"$error":"#REF!"},{"$error":"#REF!"},{"$error":"#REF!"},{"$error":"#REF!"},null,{"$f":"SUM(DQ95:DQ115)","v":0},0,0,0,0,0,0,0]
[]
[null,null,null,null,null,null,null,null,null,null,null,null,null,null,null,null,null,null,null,null,null,null,null,null,null,null,null,null,null,null,null,null,null,null,null,null,null,null,null,null,null,null,null,null,null,null,null,null,null,null,null,null,null,null,null,null,null,null,null,null,null,null,null,null,null,null,null,null,null,null,null,null,null,null,null,null,null,null,null,null,null,null,null,null,"DevCostsConstrNewRehSiteWrk",null,{"$f":"DevCostsConstrNewRehOnSiteWrk + DevCostsConstrNewRehOffSiteWrk","v":0}]
[null,null,null,null,null,null,null,null,null,null,null,null,null,null,null,null,null,null,null,null,null,null,null,null,null,null,null,null,null,null,null,null,null,null,null,null,null,null,null,null,null,null,null,null,null,null,null,null,null,null,null,null,null,null,null,null,null,null,null,null,null,null,null,null,null,null,null,null,null,null,null,null,null,null,null,null,null,null,null,null,null,null,null,null,"DevCostsConstrNewRehSiteWrk4",null,{"$f":"DevCostsConstrNewRehOnSiteWrk4 + DevCostsConstrNewRehOffSiteWrk4","v":0}]
[null,null,null,null,null,null,null,null,null,null,null,null,null,null,null,null,null,null,null,null,null,null,null,null,null,null,null,null,null,null,null,null,null,null,null,null,null,null,null,null,null,null,null,null,null,null,null,null,null,null,null,null,null,null,null,null,null,null,null,null,null,null,null,null,null,null,null,null,null,null,null,null,null,null,null,null,null,null,null,null,null,null,null,null,"DevCostsConstrNewRehSiteWrk9",null,{"$f":"DevCostsConstrNewRehOnSiteWrk9 + DevCostsConstrNewRehOffSiteWrk9","v":0}]
[]
[null,null,null,null,null,null,null,null,null,null,null,null,null,null,null,null,null,null,null,null,null,null,null,null,null,null,null,null,null,null,null,null,null,null,null,null,null,null,null,null,null,null,null,null,null,null,null,null,null,null,null,null,null,null,null,null,null,null,null,null,null,null,null,null,null,null,null,null,null,null,null,null,null,null,null,null,null,null,null,null,null,null,null,null,"DevCostsConstrEnvr",null,{"$f":"DevCostsConstrEnvrSoil + DevCostsConstrEnvrLead + DevCostsConstrEnvrAsbes","v":0}]
[null,null,null,null,null,null,null,null,null,null,null,null,null,null,null,null,null,null,null,null,null,null,null,null,null,null,null,null,null,null,null,null,null,null,null,null,null,null,null,null,null,null,null,null,null,null,null,null,null,null,null,null,null,null,null,null,null,null,null,null,null,null,null,null,null,null,null,null,null,null,null,null,null,null,null,null,null,null,null,null,null,null,null,null,"DevCostsConstrEnvr4",null,{"$f":"DevCostsConstrEnvrSoil4 + DevCostsConstrEnvrLead4 + DevCostsConstrEnvrAsbes4","v":0}]
[null,null,null,null,null,null,null,null,null,null,null,null,null,null,null,null,null,null,null,null,null,null,null,null,null,null,null,null,null,null,null,null,null,null,null,null,null,null,null,null,null,null,null,null,null,null,null,null,null,null,null,null,null,null,null,null,null,null,null,null,null,null,null,null,null,null,null,null,null,null,null,null,null,null,null,null,null,null,null,null,null,null,null,null,"DevCostsConstrEnvr9",null,{"$f":"DevCostsConstrEnvrSoil9 + DevCostsConstrEnvrLead9 + DevCostsConstrEnvrAsbes9","v":0}]
[]
[null,null,null,null,null,null,null,null,null,null,null,null,null,null,null,null,null,null,null,null,null,null,null,null,null,null,null,null,null,null,null,null,null,null,null,null,null,null,null,null,null,null,null,null,null,null,null,null,null,null,null,null,null,null,null,null,null,null,null,null,null,null,null,null,null,null,null,null,null,null,null,null,null,null,null,null,null,null,null,null,null,null,null,null,"DevCostsProfFeesSurBor",null,{"$f":"DevCostsProfFeesSurveyAmt + DevCostsProfFeesBoringsAmt","v":0}]
[null,null,null,null,null,null,null,null,null,null,null,null,null,null,null,null,null,null,null,null,null,null,null,null,null,null,null,null,null,null,null,null,null,null,null,null,null,null,null,null,null,null,null,null,null,null,null,null,null,null,null,null,null,null,null,null,null,null,null,null,null,null,null,null,null,null,null,null,null,null,null,null,null,null,null,null,null,null,null,null,null,null,null,null,"DevCostsProfFeesSurBor4",null,{"$f":"DevCostsProfFeesSurveyAmt4 + DevCostsProfFeesBoringsAmt4","v":0}]
[null,null,null,null,null,null,null,null,null,null,null,null,null,null,null,null,null,null,null,null,null,null,null,null,null,null,null,null,null,null,null,null,null,null,null,null,null,null,null,null,null,null,null,null,null,null,null,null,null,null,null,null,null,null,null,null,null,null,null,null,null,null,null,null,null,null,null,null,null,null,null,null,null,null,null,null,null,null,null,null,null,null,null,null,"DevCostsProfFeesSurBor9",null,{"$f":"DevCostsProfFeesSurveyAmt9 + DevCostsProfFeesBoringsAmt9","v":0}]
[]
[null,null,null,null,null,null,null,null,null,null,null,null,null,null,null,null,null,null,null,null,null,null,null,null,null,null,null,null,null,null,null,null,null,null,null,null,null,null,null,null,null,null,null,null,null,null,null,null,null,null,null,null,null,null,null,null,null,null,null,null,null,null,null,null,null,null,null,null,null,null,null,null,null,null,null,null,null,null,null,null,null,null,null,null,"DevCostsProfFeesOth2",null,{"$f":"DevCostsProfFeesOther2Amt+DevCostsProfFeesOther3Amt+DevCostsProfFeesOther4Amt","v":0}]
[null,null,null,null,null,null,null,null,null,null,null,null,null,null,null,null,null,null,null,null,null,null,null,null,null,null,null,null,null,null,null,null,null,null,null,null,null,null,null,null,null,null,null,null,null,null,null,null,null,null,null,null,null,null,null,null,null,null,null,null,null,null,null,null,null,null,null,null,null,null,null,null,null,null,null,null,null,null,null,null,null,null,null,null,"DevCostsProfFeesOth24",null,{"$f":"DevCostsProfFeesOther2Amt4+DevCostsProfFeesOther3Amt4+DevCostsProfFeesOther4Amt4+DevCostsProfFeesArchReim4+DevCostsProfFeesOthLocFees4+DevCostsProfFeesOthEgyCons4","v":0}]
[null,null,null,null,null,null,null,null,null,null,null,null,null,null,null,null,null,null,null,null,null,null,null,null,null,null,null,null,null,null,null,null,null,null,null,null,null,null,null,null,null,null,null,null,null,null,null,null,null,null,null,null,null,null,null,null,null,null,null,null,null,null,null,null,null,null,null,null,null,null,null,null,null,null,null,null,null,null,null,null,null,null,null,null,"DevCostsProfFeesOther29",null,{"$f":"DevCostsProfFeesOther2Amt9+DevCostsProfFeesOther3Amt9+DevCostsProfFeesOther4Amt9+DevCostsProfFeesArchReim9+DevCostsProfFeesOthLocFees9+DevCostsProfFeesOthEgyCons9","v":0}]
[]
[null,null,null,null,null,null,null,null,null,null,null,null,null,null,null,null,null,null,null,null,null,null,null,null,null,null,null,null,null,null,null,null,null,null,null,null,null,null,null,null,null,null,null,null,null,null,null,null,null,null,null,null,null,null,null,null,null,null,null,null,null,null,null,null,null,null,null,null,null,null,null,null,null,null,null,null,null,null,null,null,null,null,null,null,"DevCostsDevFeesOtherFees",null,{"$f":"DevCostsDevFeesOtherFeesAmt+DevCostsDevFeesOwnRepAmt","v":0}]
[null,null,null,null,null,null,null,null,null,null,null,null,null,null,null,null,null,null,null,null,null,null,null,null,null,null,null,null,null,null,null,null,null,null,null,null,null,null,null,null,null,null,null,null,null,null,null,null,null,null,null,null,null,null,null,null,null,null,null,null,null,null,null,null,null,null,null,null,null,null,null,null,null,null,null,null,null,null,null,null,null,null,null,null,"DevCostsDevFeesOtherFees4",null,{"$f":"DevCostsDevFeesOtherFeesAmt4+DevCostsDevFeesOwnRepAmt4","v":0}]
[null,null,null,null,null,null,null,null,null,null,null,null,null,null,null,null,null,null,null,null,null,null,null,null,null,null,null,null,null,null,null,null,null,null,null,null,null,null,null,null,null,null,null,null,null,null,null,null,null,null,null,null,null,null,null,null,null,null,null,null,null,null,null,null,null,null,null,null,null,null,null,null,null,null,null,null,null,null,null,null,null,null,null,null,"DevCostsDevFeesOtherFees9",null,{"$f":"DevCostsDevFeesOtherFeesAmt9+DevCostsDevFeesOwnRepAmt9","v":0}]
[]
[null,null,null,null,null,null,null,null,null,null,null,null,null,null,null,null,null,null,null,null,null,null,null,null,null,null,null,null,null,null,null,null,null,null,null,null,null,null,null,null,null,null,null,null,null,null,null,null,null,null,null,null,null,null,null,null,null,null,null,null,null,null,null,null,null,null,null,null,null,null,null,null,null,null,null,null,null,null,null,null,null,null,null,null,"DevCostsSyndFeeOrgFees",null,{"$f":"DevCostsSyndFeesOrgFeesAmt+DevCostsSyndFeesDueDilAmt","v":0}]
[null,null,null,null,null,null,null,null,null,null,null,null,null,null,null,null,null,null,null,null,null,null,null,null,null,null,null,null,null,null,null,null,null,null,null,null,null,null,null,null,null,null,null,null,null,null,null,null,null,null,null,null,null,null,null,null,null,null,null,null,null,null,null,null,null,null,null,null,null,null,null,null,null,null,null,null,null,null,null,null,null,null,null,null,"DevCostsSyndFeeOrgFees4",null,{"$f":"DevCostsSyndFeesOrgFeesAmt4+DevCostsSyndFeesDueDilAmt4","v":0}]
[null,null,null,null,null,null,null,null,null,null,null,null,null,null,null,null,null,null,null,null,null,null,null,null,null,null,null,null,null,null,null,null,null,null,null,null,null,null,null,null,null,null,null,null,null,null,null,null,null,null,null,null,null,null,null,null,null,null,null,null,null,null,null,null,null,null,null,null,null,null,null,null,null,null,null,null,null,null,null,null,null,null,null,null,"DevCostsSyndFeeOrgFees9",null,{"$f":"DevCostsSyndFeesOrgFeesAmt9+DevCostsSyndFeesDueDilAmt9","v":0}]
[]
[null,null,null,null,null,null,null,null,null,null,null,null,null,null,null,null,null,null,null,null,null,null,null,null,null,null,null,null,null,null,null,null,null,null,null,null,null,null,null,null,null,null,null,null,null,null,null,null,null,null,null,null,null,null,null,null,null,null,null,null,null,null,null,null,null,null,null,null,null,null,null,null,null,null,null,null,null,null,null,null,null,null,null,null,"DevCostsFinCostsOther3",null,{"$f":"DevCostsFinCostsOther3Amt+DevCostsFinCostsConBuildRisk+DevCostsFinCostsBridgeLoan+DevCostsFinCostsConOrigFee+DevCostsFinCostsOther1Amt+DevCostsFinCosts1stMortAppFee+DevCostsFinCostsHUDFHAMIP+DevCostsFinCostsHUDFHAExam+DevCostsFinCostsOther3Amt+DevCostsFinCostsConBuildRisk+DevCostsFinCostsBridgeLoan+DevCostsFinCostsConOrigFee+DevCostsFinCostsOther1Amt+DevCostsFinCosts1stMortAppFee+DevCostsFinCostsHUDFHAMIP+DevCostsFinCostsHUDFHAExam+DevCostsFinCostsHUDFHAInsp+DevCostsFinCostsBondCouns+DevCostsFinCostsUWCounsel+DevCostsFinCostsTrustee+DevCostsFinCostsRateAgy+DevCostsFinCostsOtherBond","v":0}]
[null,null,null,null,null,null,null,null,null,null,null,null,null,null,null,null,null,null,null,null,null,null,null,null,null,null,null,null,null,null,null,null,null,null,null,null,null,null,null,null,null,null,null,null,null,null,null,null,null,null,null,null,null,null,null,null,null,null,null,null,null,null,null,null,null,null,null,null,null,null,null,null,null,null,null,null,null,null,null,null,null,null,null,null,"DevCostsFinCostsOther34",null,{"$f":"DevCostsFinCostsOther3Amt4+DevCostsFinCostsConBuildRisk4+DevCostsFinCostsBridgeLoan4+DevCostsFinCostsConOrigFee4+DevCostsFinCostsOther1Amt4+DevCostsFinCosts1stMortAppFee4+DevCostsFinCostsHUDFHAMIP4+DevCostsFinCostsHUDFHAExam4+DevCostsFinCostsHUDFHAInsp4+DevCostsFinCostsBondCouns4+DevCostsFinCostsUWCounsel4+DevCostsFinCostsTrustee4+DevCostsFinCostsRateAgy4+DevCostsFinCostsOtherBond4","v":0}]
[null,null,null,null,null,null,null,null,null,null,null,null,null,null,null,null,null,null,null,null,null,null,null,null,null,null,null,null,null,null,null,null,null,null,null,null,null,null,null,null,null,null,null,null,null,null,null,null,null,null,null,null,null,null,null,null,null,null,null,null,null,null,null,null,null,null,null,null,null,null,null,null,null,null,null,null,null,null,null,null,null,null,null,null,"DevCostsFinCostsOther39",null,{"$f":"DevCostsFinCostsOther3Amt9+DevCostsFinCostsConBuildRisk9+DevCostsFinCostsBridgeLoan9+DevCostsFinCostsConOrigFee9+DevCostsFinCostsOther1Amt9+DevCostsFinCosts1stMortAppFee9+DevCostsFinCostsHUDFHAMIP9+DevCostsFinCostsHUDFHAExam9+DevCostsFinCostsHUDFHAInsp9+DevCostsFinCostsBondCouns9+DevCostsFinCostsUWCounsel9+DevCostsFinCostsTrustee9+DevCostsFinCostsRateAgy9+DevCostsFinCostsOtherBond9","v":0}]
[]
[null,null,null,null,null,null,null,null,null,null,null,null,null,null,null,null,null,null,null,null,null,null,null,null,null,null,null,null,null,null,null,null,null,null,null,null,null,null,null,null,null,null,null,null,null,null,null,null,null,null,null,null,null,null,null,null,null,null,null,null,null,null,null,null,null,null,null,null,null,null,null,null,null,null,null,null,null,null,null,null,null,null,null,null,"DevCostsFinCostsNonMort",null,{"$f":"DevCostsReservNonMort1+DevCostsReservNonMort2+DevCostsReservNonMort3","v":0}]
[null,null,null,null,null,null,null,null,null,null,null,null,null,null,null,null,null,null,null,null,null,null,null,null,null,null,null,null,null,null,null,null,null,null,null,null,null,null,null,null,null,null,null,null,null,null,null,null,null,null,null,null,null,null,null,null,null,null,null,null,null,null,null,null,null,null,null,null,null,null,null,null,null,null,null,null,null,null,null,null,null,null,null,null,"DevCostsFinCostsNonMort4",null,{"$f":"DevCostsReservNonMort14+DevCostsReservNonMort24+DevCostsReservNonMort34","v":0}]
[null,null,null,null,null,null,null,null,null,null,null,null,null,null,null,null,null,null,null,null,null,null,null,null,null,null,null,null,null,null,null,null,null,null,null,null,null,null,null,null,null,null,null,null,null,null,null,null,null,null,null,null,null,null,null,null,null,null,null,null,null,null,null,null,null,null,null,null,null,null,null,null,null,null,null,null,null,null,null,null,null,null,null,null,"DevCostsFinCostsNonMort9",null,{"$f":"DevCostsReservNonMort19+DevCostsReservNonMort29+DevCostsReservNonMort39","v":0}]
[]
[null,null,null,null,null,null,null,null,null,null,null,null,null,null,null,null,null,null,null,null,null,null,null,null,null,null,null,null,null,null,null,null,null,null,null,null,null,null,null,null,null,null,null,null,null,null,null,null,null,null,null,null,null,null,null,null,null,null,null,null,null,null,null,null,null,null,null,null,null,null,null,null,null,null,null,null,null,null,null,null,null,null,null,null,"SourcesAddCostsOtherAmt",null,{"$f":"SourcesAddCostsOther2Amt+SourcesAddCostsOther1Amt","v":0}]
[]
[]
[]
[]
[]
[]
[]
[]
[]
[]
[]
[]
[]
[]
[]
[]
[]
[]
[]
[]
[]
[]
[]
[]
[]
[]
[]
[]
[]
[]
[]
[]
[]
[]
[]
[]
[]
[]
[]
[]
[]
[]
[]
[]
[]
[]
[]
[]
[]
[]
[]
[]
[]
[]
[]
[]
[]
[]
[]
[]
[]
[]
[]
[]
[]
[]
[]
[]
[]
[]
[]
[]
[]
[]
[]
[]
[]
[]
[]
[]
[]
[]
[]
[]
[]
[]
[]
[]
[]
[]
[]
[]
[]
[]
[]
[]
[]
[]
[]
[]
[]
[]
[]
[]
[]
[]
[]
[]
[]
[]
[]
[]
[]
[]
[]
[]
[]
[]
[]
[]
[]
[]
[]
[]
[]
[]
[]
[]
[]
[]
[]
[]
[]
[]
[]
[]
[]
[]
[]
[]
[]
[]
[]
[]
[]
[]
[]
[]
[]
[]
[]
[]
[]
[]
[]
[]
[]
[]
[]
[]
[]
[]
[]
[]
[]
[]
[]
[]
[]
[]
[]
[]
[]
[]
[]
[]
[]
[]
[]
[]
[]
[]
[]
[]
[]
[]
[]
[]
[]
[]
[]
[]
[]
[]
[]
[]
[]
[]
[]
[]
[]
[]
[]
[]
[]
[]
[]
[]
[]
[]
[]
[]
[]
[]
[]
[]
[]
[]
[]
[]
[]
[]
[]
[]
[]
[]
[]
[]
[]
[]
[]
[]
[]
[]
[]
[]
[]
[]
[]
[]
[]
[]
[]
[]
[]
[]
[]
[]
[]
[]
[]
[]
[]
[]
[]
[]
[]
[]
[]
[]
[]
[]
[]
[]
[]
[]
[]
[]
[]
[]
[]
[]
[]
[]
[]
[]
[]
[]
[]
[]
[]
[]
[]
[]
[]
[]
[]
[]
[]
[]
[]
[]
[]
[]
[]
[]
[]
[]
[]
[]
[]
[]
[]
[]
[]
[]
[]
[]
[]
[]
[]
[]
[]
[]
[]
[]
[]
[]
[]
[]
[]
[]
[]
[]
[]
[]
[]
[]
[]
[]
[]
[]
[]
[]
[]
[]
[]
[]
[]
[]
[]
[]
[]
[]
[]
[]
[]
[]
[]
[]
[]
[]
[]
[]
[]
[]
[]
[]
[]
[]
[]
[]
[]
[]
[]
[]
[]
[]
[]
[]
[]
[]
[]
[]
[]
[]
[]
[]
[]
[]
[]
[]
[]
[]
[]
[]
[]
[]
[]
[]
[]
[]
[]
[]
[]
[]
[]
[]
[]
[]
[]
[]
[]
[]
[]
[]
[]
[]
[]
[]
[]
[]
[]
[]
[]
[]
[]
[]
[]
[]
[]
[]
[]
[]
[]
[]
[]
[]
[]
[]
[]
[]
[]
[]
[]
[]
[]
[]
[]
[]
[]
[]
[]
[]
[]
[]
[]
[]
[]
[]
[]
[]
[]
[]
[]
[]
[]
[]
[]
[]
[]
[]
[]
[]
[]
[]
[]
[]
[]
[]
[]
[]
[]
[]
[]
[]
[]
[]
[]
[]
[]
[]
[]
[]
[]
[]
[]
[]
[]
[]
[]
[]
[]
[]
[]
[]
[]
[]
[]
[]
[]
[]
[]
[]
[]
[]
[]
[]
[]
[]
[]
[]
[]
[]
[]
[]
[]
[]
[]
[]
[]
[]
[]
[]
[]
[]
[]
[]
[]
[]
[]
[]
[]
[]
[]
[]
[]
[]
[]
[]
[]
[]
[]
[]
[]
[]
[]
[]
[]
[]
[]
[]
[]
[]
[]
[]
[]
[]
[]
[]
[]
[]
[]
[]
[]
[]
[]
[]
[]
[]
[]
[]
[]
[]
[]
[]
[]
[]
[]
[]
[]
[]
[]
[]
[]
[]
[]
[]
[]
[]
[]
[]
[]
[]
[]
[]
[]
[]
[]
[]
[]
[]
[]
[]
[]
[]
[]
[]
[]
[]
[]
[]
[]
[]
[]
[]
[]
[]
[]
[]
[]
[]
[]
[]
[]
[]
[]
[]
[]
[]
[]
[]
[]
[]
[]
[]
[]
[]
[]
[]
[]
[]
[]
[]
[]
[]
[]
[]
[]
[]
[]
[]
[]
[]
[]
[]
[]
[]
[]
[]
[]
[]
[]
[]
[]
[]
[]
[]
[]
[]
[]
[]
[]
[]
[]
[]
[]
[]
[]
[]
[]
[]
[]
[]
[]
[]
[]
[]
[]
[]
[]
[]
[]
[]
[]
[]
[]
[]
[]
[]
[]
[]
[]
[]
[]
[]
[]
[null,null,null,null,null,null,null,null,null,null,null,null,null,null,null,null,null,null,null,null,null,null,null,null,null,null,null,null,null,null,null,null,null,null,null,null,null,null,null,null,null,null,null,null,null,null,null,null,null,null,null,null,null,null,null,null,null,null,null,null,null,null,null,null,null,null,null,null,null,null,null,null,null,null,null,null,null,null,null,null,null,null,null,null,null,true]

{"sheet":"Tables","index":3,"n_rows":20,"n_cols":23,"rows_kept":20,"cut":false,"hidden":true,"merged":[[0,0,0,6]]}
["BUILDINGS",null,null,null,null,null,null,null,null,null,null,null,null,"DEVELOPMENT TEAM"]
[null,null,null,null,null,null,null,null,null,null,null,null,null,"Role","Name","Contact Person","Address","City-State-Zip","Phone","Cell Phone","Email","Related Entity","% of Ownership"]
[null,null,null,null,null,null,null,null,null,null,null,null,null,"Developer",0,0,0,0,0,0,0,0,0]
[null,null,null,null,null,null,null,null,null,null,null,null,null,"Architect",0,0,0,0,0,0,0,0,0]
[null,null,null,null,null,null,null,null,null,null,null,null,null,"Owner/Mortgagor",0,0,0,0,0,0,0,0,0]
[null,null,null,null,null,null,null,null,null,null,null,null,null,"Management Company",0,0,0,0,0,0,0,0,0]
[null,null,null,null,null,null,null,null,null,null,null,null,null,"General Partner 1",0,0,0,0,0,0,0,0,0]
[null,null,null,null,null,null,null,null,null,null,null,null,null,"Service Provider",0,0,0,0,0,0,0,0,0]
[null,null,null,null,null,null,null,null,null,null,null,null,null,"General Partner 2",0,0,0,0,0,0,0,0,0]
[null,null,null,null,null,null,null,null,null,null,null,null,null,"Tax Credit Syndicator",0,0,0,0,0,0,0,0,0]
[null,null,null,null,null,null,null,null,null,null,null,null,null,"General Partner 3",0,0,0,0,0,0,0,0,0]
[null,null,null,null,null,null,null,null,null,null,null,null,null,"Development Consultant",0,0,0,0,0,0,0,0,0]
[null,null,null,null,null,null,null,null,null,null,null,null,null,"Processing Agent",0,0,0,0,0,0,0,0,0]
[null,null,null,null,null,null,null,null,null,null,null,null,null,"Attorney",0,0,0,0,0,0,0,0,0]
[null,null,null,null,null,null,null,null,null,null,null,null,null,"General Contractor",0,0,0,0,0,0,0,0,0]
[null,null,null,null,null,null,null,null,null,null,null,null,null,"Property Seller/Lessor",0,0,0,0,0,0,0,0,0]
[null,null,null,null,null,null,null,null,null,null,null,null,null,"Appraiser",0,0,0,0,0,0,0,0,0]
[null,null,null,null,null,null,null,null,null,null,null,null,null,"Market Study Firm",0,0,0,0,0,0,0,0,0]
[null,null,null,null,null,null,null,null,null,null,null,null,null,"Non-profit Lessee",0,0,0,0,0,0,0,0,0]
[null,null,null,null,null,null,null,null,null,null,null,null,null,{"$f":"#REF!","v":{"$error":"#REF!"}},0,0,0,0,0,0,{"$f":"#REF!","v":{"$error":"#REF!"}},0,0]

{"sheet":"WorksheetsTabs","index":4,"n_rows":56,"n_cols":67,"rows_kept":56,"cut":false,"hidden":true,"merged":[[79,1,79,3],[73,1,73,3],[74,1,74,3],[75,1,75,3],[76,1,76,3],[77,1,77,3],[78,1,78,3],[72,1,72,3],[61,1,61,3],[62,1,62,3],[63,1,63,3],[64,1,64,3],[65,1,65,3],[66,1,66,3],[67,1,67,3],[68,1,68,3],[69,1,69,3],[70,1,70,3],[71,1,71,3],[60,1,60,3],[49,1,49,3],[50,1,50,3],[51,1,51,3],[52,1,52,3],[53,1,53,3],[54,1,54,3],[55,1,55,3],[56,1,56,3],[57,1,57,3],[58,1,58,3],[59,1,59,3],[48,1,48,3],[37,1,37,3],[38,1,38,3],[39,1,39,3],[40,1,40,3],[41,1,41,3],[42,1,42,3],[43,1,43,3],[44,1,44,3],[45,1,45,3],[46,1,46,3],[47,1,47,3],[0,49,0,55],[0,59,0,62],[0,63,0,66],[34,1,34,3],[35,1,35,3],[0,40,0,43],[0,44,0,47],[36,1,36,3],[0,24,0,27],[0,28,0,31],[0,32,0,35],[0,36,0,39],[0,0,0,3],[0,4,0,7],[0,8,0,11],[0,12,0,15],[0,16,0,19],[0,20,0,23]]}
["All Worksheets",null,null,null,"Minnesota First Mortgage",null,null,null,"Deferred Loan",null,null,null,"Housing Tax Credits",null,null,null,"42 M1 Letter",null,null,null,"Qualified Contract",null,null,null,"Rent Assistance",null,null,null,"Other Rental Assistance",null,null,null,"Section 811 PRA",null,null,null,"RRDL-Project Specific",null,null,null,"RRDL Administrator",null,null,null,"RRDL Borrower",null,null,null,null,"Working Tabs",null,null,null,null,null,null,null,null,null,"Suballocator Credits",null,null,null,"Suballocator Credits"]
["Worksheet","MHFA Only","Order","Print","Worksheet","MHFA Only","Order","Print","Worksheet","MHFA Only","Order","Print","Worksheet","MHFA Only","Order","Print","Worksheet","MHFA Only","Order","Print","Worksheet","MHFA Only","Order","Print","Worksheet","MHFA Only","Order","Print","Worksheet","MHFA Only","Order","Print","Worksheet","MHFA Only","Order","Print","Worksheet","MHFA Only","Order","Print","Worksheet","MHFA Only","Order","Print","Worksheet","MHFA Only","Order","Print",null,"Index","Worksheet","MHFA Only","Order","Print","Image Name","Width","TotalWidth","1st Index",null,"Worksheet","MHFA Only","Order","Print","Worksheet","MHFA Only","Order","Print"]
["Instructions",false,1,false,"Instructions",false,{"$f":"VLOOKUP(E3,AvailableTabsAll,3,FALSE)","v":1},true,"Instructions",true,{"$f":"VLOOKUP(I3,AvailableTabsAll,3,FALSE)","v":1},false,"Instructions",false,{"$f":"VLOOKUP(M3,AvailableTabsAll,3,FALSE)","v":1},false,"Instructions",{"$f":"VLOOKUP(Q3,$A$3:$B$29,2,FALSE)","v":false},{"$f":"VLOOKUP(Q3,AvailableTabsAll,3,FALSE)","v":1},false,"Instructions",{"$f":"VLOOKUP(U3,$A$3:$B$29,2,FALSE)","v":false},{"$f":"VLOOKUP(U3,AvailableTabsAll,3,FALSE)","v":1},false,"Instructions",false,{"$f":"VLOOKUP(Y3,AvailableTabsAll,3,FALSE)","v":1},false,"Instructions",{"$f":"VLOOKUP(AC3,$A$3:$B$29,2,FALSE)","v":false},{"$f":"VLOOKUP(AC3,AvailableTabsAll,3,FALSE)","v":1},false,"Instructions",{"$f":"VLOOKUP(AG3,AvailableTabsAll,2,FALSE)","v":false},{"$f":"VLOOKUP(AG3,AvailableTabsAll,3,FALSE)","v":1},false,"Instructions",{"$f":"VLOOKUP(AK3,AvailableTabsAll,2,FALSE)","v":false},{"$f":"VLOOKUP(AK3,AvailableTabsAll,3,FALSE)","v":1},false,"Instructions",{"$f":"VLOOKUP(AO3,AvailableTabsAll,2,FALSE)","v":false},{"$f":"VLOOKUP(AO3,AvailableTabsAll,3,FALSE)","v":1},false,"Instructions",{"$f":"VLOOKUP(AS3,AvailableTabsAll,2,FALSE)","v":false},{"$f":"VLOOKUP(AS3,AvailableTabsAll,3,FALSE)","v":1},false,null,1,"Instructions",false,1,true,{"$f":"VLOOKUP(AT3,AllTabsImageLookup,2,FALSE)","v":{"$error":"#N/A"}},{"$f":"VLOOKUP(AT3,AllTabsImageLookup,6,FALSE)","v":{"$error":"#N/A"}},{"$f":"tabWidthStartRange","v":{"$error":"#N/A"}},1,null,"Instructions",{"$f":"VLOOKUP(BH3,AvailableTabsAll,2,FALSE)","v":false},{"$f":"VLOOKUP(BH3,AvailableTabsAll,3,FALSE)","v":1},false,"Instructions",{"$f":"VLOOKUP(BL3,AvailableTabsAll,2,FALSE)","v":false},{"$f":"VLOOKUP(BL3,AvailableTabsAll,3,FALSE)","v":1},false]
["Funding Request",false,2,false,"Funding Request",false,2,true,"Funding Request",true,2,false,"Funding Request",false,2,false,"Funding Request",false,2,false,"Project Description",false,6,false,"Summary",false,3,false,"Summary",{"$f":"VLOOKUP(AC4,$A$3:$B$29,2,FALSE)","v":false},3,false,"Summary",false,3,false,"Summary",false,3,false,"Summary",false,3,false,"Signature - Affirm. Action Stmt",{"$f":"VLOOKUP(AS4,AvailableTabsAll,2,FALSE)","v":false},{"$f":"VLOOKUP(AS4,AvailableTabsAll,3,FALSE)","v":4},false,null,2,"Summary",false,3,true,{"$error":"#N/A"},{"$error":"#N/A"},{"$f":"BA3 + AZ4","v":1},null,null,"Funding Request",false,2,false,"Funding Request",false,{"$f":"VLOOKUP(BL4,AvailableTabsAll,3,FALSE)","v":2},false]
["Summary",false,3,false,"Summary",false,3,true,"Summary",true,3,false,"Summary",false,3,false,"Summary",false,3,false,"Property Information",false,7,false,"Project Description",false,6,false,"Signature - Affirm. Action Stmt",{"$f":"VLOOKUP(AC5,$A$3:$B$29,2,FALSE)","v":false},4,false,"Signature - Affirm. Action Stmt",false,4,false,"Signature - Affirm. Action Stmt",false,4,false,"Project Description",false,6,false,"RRDL",{"$f":"VLOOKUP(AS5,AvailableTabsAll,2,FALSE)","v":false},{"$f":"VLOOKUP(AS5,AvailableTabsAll,3,FALSE)","v":20},false,null,3,"Funding Request",false,2,true,{"$error":"#N/A"},{"$error":"#N/A"},3,"Selected Tab",null,"Summary",{"$f":"VLOOKUP(BH5,AvailableTabsAll,2,FALSE)","v":false},{"$f":"VLOOKUP(BH5,AvailableTabsAll,3,FALSE)","v":3},false,"Summary",false,{"$f":"VLOOKUP(BL5,AvailableTabsAll,3,FALSE)","v":3},false]
["Signature - Affirm. Action Stmt",false,4,false,"Signature - Affirm. Action Stmt",false,4,true,"Signature - Affirm. Action Stmt",true,4,false,"Signature - Affirm. Action Stmt",false,4,false,"Signature - Affirm. Action Stmt",false,4,false,"Housing Income",false,8,false,"Property Information",false,7,false,"Project Description",{"$f":"VLOOKUP(AC6,$A$3:$B$29,2,FALSE)","v":false},6,false,"Project Description",false,6,false,"Project Description",{"$f":"VLOOKUP(AK6,AvailableTabsAll,2,FALSE)","v":false},{"$f":"VLOOKUP(AK6,AvailableTabsAll,3,FALSE)","v":6},false,"Property Information",false,7,false,null,null,null,null,null,4,"Signature - Affirm. Action Stmt",false,4,true,{"$error":"#N/A"},{"$error":"#N/A"},2,2,null,"HTC Owner Cert",false,5,false,"Signature - Affirm. Action Stmt",false,3,false]
["HTC Owner Cert",false,5,false,"Project Description",false,6,true,"Project Description",true,6,false,"HTC Owner Cert",false,5,false,"HTC Owner Cert",false,5,false,"Income & Expense",false,9,false,"Housing Income",false,8,false,"Sources",false,13,false,"Property Information",false,7,false,"Property Information",false,7,false,"Housing Income",false,8,false,null,null,null,null,null,5,"HTC Owner Cert",false,5,true,{"$error":"#N/A"},{"$error":"#N/A"},4,null,null,"Project Description",false,6,false,"HTC Owner Cert",false,{"$f":"VLOOKUP(BL7,AvailableTabsAll,3,FALSE)","v":5},false]
["Project Description",false,6,false,"Property Information",false,7,true,"Property Information",true,7,false,"Project Description",false,6,false,"Project Description",false,6,false,"Development Team",false,16,false,"Income & Expense",false,9,false,"Development Team",{"$f":"VLOOKUP(AC8,$A$3:$B$29,2,FALSE)","v":false},16,false,"Housing Income",false,8,false,"Housing Income",false,8,false,"Income & Expense",false,9,false,null,null,null,null,null,6,"Project Description",false,6,true,{"$error":"#N/A"},{"$error":"#N/A"},5,"RightMostTab",null,"Property Information",false,7,false,"Project Description",false,6,false]
["Property Information",false,7,false,"Housing Income",false,8,true,"Housing Income",true,8,false,"Property Information",false,7,false,"Property Information",false,7,false,"Amortization",false,32,false,"Mortgage Calc",false,10,false,null,null,null,null,"Income & Expense",false,9,false,"Income & Expense",false,9,false,"Mortgage Calc",false,10,false,null,null,null,null,null,7,"Property Information",false,7,true,{"$error":"#N/A"},{"$error":"#N/A"},6,false,null,"Housing Income",false,8,false,"Property Information",false,7,false]
["Housing Income",false,8,false,"Income & Expense",false,9,true,"Income & Expense",true,9,false,"Housing Income",false,8,false,"Housing Income",false,8,false,null,null,null,null,"Cash Flow",false,11,false,null,null,null,null,"Sources",false,13,false,"Mortgage Calc",false,10,false,"Cash Flow",false,11,false,null,null,null,null,null,8,"Housing Income",false,8,true,{"$error":"#N/A"},{"$error":"#N/A"},7,null,null,"Income & Expense",false,9,false,"Housing Income",false,8,false]
["Income & Expense",false,9,false,"Mortgage Calc",false,10,true,"Mortgage Calc",true,10,false,"Income & Expense",false,9,false,"Income & Expense",false,9,false,null,null,null,null,"Sources",false,{"$f":"VLOOKUP(Y11,AvailableTabsAll,3,FALSE)","v":13},false,null,null,null,null,"Development Team",false,16,false,"Cash Flow",false,11,false,"Development Costs",false,12,false,null,null,null,null,null,9,"Income & Expense",false,9,true,{"$error":"#N/A"},{"$error":"#N/A"},8,"LeftMostTab",null,"Mortgage Calc",false,10,false,"Income & Expense",false,9,false]
["Mortgage Calc",false,10,false,"Cash Flow",false,11,true,"Cash Flow",true,11,false,"Mortgage Calc",false,10,false,"Mortgage Calc",false,10,false,null,null,null,null,"Development Team",false,{"$f":"VLOOKUP(Y12,AvailableTabsAll,3,FALSE)","v":16},false,null,null,null,null,"RA Calc",false,18,false,"Development Costs",false,12,false,"Sources",false,13,false,null,null,null,null,null,10,"Mortgage Calc",false,10,true,{"$error":"#N/A"},{"$error":"#N/A"},9,false,null,"Cash Flow",false,11,false,"Mortgage Calc",false,10,false]
["Cash Flow",false,11,false,"Development Costs",false,12,true,"Development Costs",true,12,false,"Cash Flow",false,11,false,"Cash Flow",false,11,false,null,null,null,null,null,null,null,null,null,null,null,null,null,null,null,null,"Sources",false,13,false,"Development Team",false,16,false,null,null,null,null,null,11,"Cash Flow",false,11,true,{"$error":"#N/A"},{"$error":"#N/A"},10,null,null,"Development Costs",false,12,false,"Cash Flow",false,11,false]
["Development Costs",false,12,false,"Sources",false,13,true,"Sources",true,13,false,"Development Costs",false,12,false,"Development Costs",false,12,false,null,null,null,null,null,null,null,null,null,null,null,null,null,null,null,null,"Development Team",false,16,false,"Buildings",false,17,false,null,null,null,null,null,12,"Development Costs",false,12,true,{"$error":"#N/A"},{"$error":"#N/A"},11,null,null,"Sources",false,13,false,"Development Costs",false,12,false]
["Sources",false,13,false,"Development Team",false,16,true,"Development Team",true,16,false,"Sources",false,13,false,"Sources",false,13,false,null,null,null,null,null,null,null,null,null,null,null,null,null,null,null,null,"Buildings",{"$f":"VLOOKUP(AK15,AvailableTabsAll,2,FALSE)","v":false},{"$f":"VLOOKUP(AK15,AvailableTabsAll,3,FALSE)","v":17},false,"RRDL",{"$f":"VLOOKUP(AO15,AvailableTabsAll,2,FALSE)","v":false},{"$f":"VLOOKUP(AO15,AvailableTabsAll,3,FALSE)","v":20},false,null,null,null,null,null,13,"Sources",false,13,true,{"$f":"VLOOKUP(AT15,AllTabsImageLookup,2,FALSE)","v":{"$error":"#N/A"}},{"$f":"VLOOKUP(AT15,AllTabsImageLookup,6,FALSE)","v":{"$error":"#N/A"}},12,null,null,"HTC Info",false,14,false,"Sources",false,13,false]
["HTC Info",false,14,false,"Buildings",false,17,true,"Buildings",true,17,false,"HTC Info",false,14,false,"HTC Info",false,14,false,null,null,null,null,null,null,null,null,null,null,null,null,null,null,null,null,"RA Calc",{"$f":"VLOOKUP(AK16,AvailableTabsAll,2,FALSE)","v":false},{"$f":"VLOOKUP(AK16,AvailableTabsAll,3,FALSE)","v":18},false,null,null,null,null,null,null,null,null,null,14,"HTC Info",false,13,true,{"$f":"VLOOKUP(AT16,AllTabsImageLookup,2,FALSE)","v":{"$error":"#N/A"}},{"$f":"VLOOKUP(AT16,AllTabsImageLookup,6,FALSE)","v":{"$error":"#N/A"}},13,null,null,"Determination of Credit",false,15,false,"HTC Info",false,14,false]
["Determination of Credit",false,15,false,"RA Calc",false,18,true,"RA Calc",true,18,false,"Determination of Credit",false,15,false,"Determination of Credit",false,15,false,null,null,null,null,null,null,null,null,null,null,null,null,null,null,null,null,"Amortization",false,{"$f":"VLOOKUP(AK17,AvailableTabsAll,3,FALSE)","v":32},false,null,null,null,null,null,null,null,null,null,15,"Determination of Credit",false,15,true,{"$f":"VLOOKUP(AT16,AllTabsImageLookup,2,FALSE)","v":{"$error":"#N/A"}},{"$f":"VLOOKUP(AT16,AllTabsImageLookup,6,FALSE)","v":{"$error":"#N/A"}},13,null,null,"Development Team",false,16,false,"Determination of Credit",false,15,false]
["Development Team",false,16,false,"Amortization",false,32,false,"Amortization",false,32,false,"Development Team",false,16,false,"Development Team",false,16,false,null,null,null,null,null,null,null,null,null,null,null,null,null,null,null,null,null,null,null,false,null,null,null,null,null,null,null,null,null,16,"Development Team",false,16,true,{"$f":"VLOOKUP(AT17,AllTabsImageLookup,2,FALSE)","v":{"$error":"#N/A"}},{"$f":"VLOOKUP(AT17,AllTabsImageLookup,6,FALSE)","v":{"$error":"#N/A"}},15,null,null,"Buildings",false,17,false,"Development Team",false,16,false]
["Buildings",false,17,false,null,null,null,null,null,null,null,null,"Buildings",false,17,false,"Buildings",false,17,false,null,null,null,null,null,null,null,null,null,null,null,null,null,null,null,null,null,null,null,false,null,null,null,null,null,null,null,null,null,17,"Buildings",false,17,true,{"$f":"VLOOKUP(AT18,AllTabsImageLookup,2,FALSE)","v":{"$error":"#N/A"}},{"$f":"VLOOKUP(AT18,AllTabsImageLookup,6,FALSE)","v":{"$error":"#N/A"}},16,null,null,"RA Calc",false,18,false,"Buildings",false,17,false]
["RA Calc",false,18,false,null,null,null,null,null,null,null,null,"RA Calc",false,18,false,"RA Calc",false,18,false,null,null,null,null,null,null,null,null,null,null,null,null,null,null,null,null,null,null,null,true,null,null,null,null,null,null,null,null,null,null,null,null,null,null,null,null,null,null,null,"Amortization",{"$f":"VLOOKUP(BH20,AvailableTabsAll,2,FALSE)","v":false},{"$f":"VLOOKUP(BH20,AvailableTabsAll,3,FALSE)","v":32},false,"RA Calc",false,18,false]
["RRDL",false,20,false,null,null,null,null,null,null,null,null,"Amortization",false,32,false,"Amortization",false,32,false,null,null,null,null,null,null,null,null,null,null,null,null,null,null,null,null,null,null,null,null,null,null,null,null,null,null,null,null,null,null,null,null,null,null,null,null,null,null,null,null,null,null,null,"Amortization",false,32,false]
["RRDL_Summary",false,21,false]
["RRDL_Project Description",false,22,false]
["RRDL_Property Information",false,23,false]
["RRDL_Housing Income",false,24,false]
["RRDL_Income & Expense",false,25,false]
["RRDL_Mortgage Calc",false,26,false]
["RRDL_Cash Flow",false,27,false]
["RRDL_Development Costs",false,28,false]
["RRDL_Sources",false,29,false]
["RRDL_Development Team",false,30,false]
["RRDL_Buildings",false,31,false]
["Amortization",false,32,false]
[]
["Index","All Tabs Image Names",null,null,"Order","Width"]
[1,"imgInstructionsTabUnSel",null,null,1,66]
[2,"imgAffirmativeActionTabUnSel",null,null,2,95]
[3,"imgHTCOwnerCertTabUnSel",null,null,3,86]
[4,"imgProjectDescriptionTabUnSel",null,null,4,100]
[5,"imgPropertyInformationTabUnSel",null,null,5,108]
[6,"imgHousingIncomeTabUnSel",null,null,6,87]
[7,"imgIncomeExpenseTabUnSel",null,null,7,98]
[8,"imgMortgageCalcTabUnSel",null,null,8,78]
[9,"imgCashFlowTabUnSel",null,null,9,60]
[10,"imgDevCostsTabUnSel",null,null,10,102]
[11,"imgSourcesTabUnSel",null,null,11,49]
[12,"imgHTCInfoTabUnSel",null,null,12,49]
[13,"imgHTCBasisTabUnSel",null,null,13,58]
[14,"imgDeterminationOfCreditTabUnSel",null,null,14,121]
[15,"imgDevelopmentTeamTabUnSel",null,null,15,100]
[16,"imgIdentityOfInterestTabUnSel",null,null,16,95]
[17,"imgBuildingsTabUnSel",null,null,17,54]
[18,"imgPreservationTabUnSel",null,null,18,69]
[19,"imgRRDLTabUnSel",null,null,19,36]
[20,"imgRentAssistTabUnSel",null,null,20,93]
[21,"imgSummaryPageTabUnSel",null,null,21,54]

{"sheet":"SummaryTabControlsValues","index":5,"n_rows":150,"n_cols":32,"rows_kept":150,"cut":false,"hidden":true,"merged":[[27,11,27,15],[28,11,28,15],[29,11,29,15],[30,11,30,15],[20,11,20,15],[21,11,21,15],[22,11,22,15],[23,11,23,15],[26,11,26,15],[31,11,31,15],[33,11,33,16],[73,0,73,3],[18,0,18,8],[0,0,0,4],[1,0,1,4],[10,0,10,4],[11,0,11,4],[17,0,17,8],[1,11,1,25],[42,0,42,4],[43,0,43,4],[65,0,65,3],[66,0,66,3],[15,11,15,16],[19,11,19,16]]}
["INSTRUCTIONS"]
["APPLICATION REQUEST",null,null,null,null,null,null,null,null,null,null,null,null,null,null,null,null,null,null,null,null,null,null,null,null,null,null,null,null,null,"Basis Boost",false]
[false,{"$f":"Summary!D42","v":"Minnesota Housing First Mortgage"}]
[true,{"$f":"Summary!D43","v":"Minnesota Housing Tax Exempt Bonds - Long Term"},null,null,null,null,null,null,null,null,null,"Minnesota Housing First Mortgage",null,null,null,null,null,null,null,null,null,null,{"$f":"Controls1!M4","v":false}]
[true,{"$f":"Summary!D44","v":"Minnesota Housing Tax Exempt Bonds - Short Term"},null,null,null,null,null,null,null,null,null,"Minnesota Housing Tax Exempt Bonds - Long Term",null,null,null,null,null,null,null,null,null,null,{"$f":"Controls1!M5","v":false}]
[false,{"$f":"Summary!D45","v":"Deferred Loan(s)"},null,null,null,null,null,null,null,null,null,"Minnesota Housing Tax Exempt Bonds - Short Term",null,null,null,null,null,null,null,null,null,null,{"$f":"Controls1!M6","v":false}]
[true,{"$f":"Summary!D46","v":0},null,null,null,null,null,null,null,null,null,"Deferred Loan(s) (includes Minnesota Housing, Family Housing Fund, Greater Minnesota Housing Fund, and DEED resources)",null,null,null,null,null,null,null,null,null,null,{"$f":"Controls1!M7","v":false}]
[null,null,null,null,null,null,null,null,null,null,null,"Rental Rehabilitation Deferred Loan - Project Specific (NOTE: Applications for RRDL ineligible for other types of funding)",null,null,null,null,null,null,null,null,null,null,{"$f":"Controls1!M8","v":false}]
[]
[]
["INSTRUCTIONS",null,null,null,null,null,null,null,null,null,null,"Basis Boost",null,null,{"$f":"basisBoost","v":false},null,null,null,null,null,null,null,"SUMMARY & FUNDING REQUEST TABS"]
["Housing Tax Credit Request",null,null,null,null,null,null,null,null,null,null,"Housing Tax Credits - 4%",null,null,{"$f":"Controls1!E12","v":false}]
[true,{"$f":"Summary!$AD41","v":0},null,null,null,null,null,null,null,null,null,"Housing Tax Credits - 9%",null,null,{"$f":"Controls1!E13","v":false},null,null,null,null,null,null,null,"Tax Credit Pool"]
[true,{"$f":"Summary!$AC42","v":"Housing Tax Credits - 4%"},null,null,null,null,null,null,null,null,null,"This is part of dual 4% / 9% application",null,null,{"$f":"Controls1!E14","v":false},null,null,null,null,null,null,null,null,null,null,"Metro",1]
[true,{"$f":"Summary!$AC43","v":"Housing Tax Credits - 9%"},null,null,null,null,null,null,null,null,null,null,null,null,null,null,null,null,null,null,null,null,{"$f":"IF(X15=1,\"Metro\",IF(X15=2,\"Greater MN\",IF(X15=3,\"NA\",\"\")))","v":""},{"$f":"Controls1!G20","v":0},null,"Greater MN",2]
[null,null,null,null,null,null,null,null,null,null,null,"Tax  Credit Pool:",null,null,null,null,null,null,null,null,null,null,null,null,null,"NA",3]
[null,null,null,null,null,null,null,null,null,null,null,{"$f":"'Funding Request'!J14","v":"Metro"},null,null,null,null,{"$f":"IF(X15<>1,FALSE, TRUE)","v":false}]
["HOUSING INCOME",null,null,null,null,null,null,null,null,null,null,{"$f":"'Funding Request'!J15","v":"Greater MN"},null,null,null,null,{"$f":"IF(X15<>2,FALSE, TRUE)","v":false}]
["UNIT / RENT GRID",null,null,null,null,null,null,null,null,null,null,"NA",null,null,null,null,{"$f":"IF(X15<>3,FALSE, TRUE)","v":false},null,null,null,null,null,"Tax Credit Set-Aside"]
["HTC","HOME","LTH","RRDL","Empl Occ","Owner Occ","Rent Asst","Op Subs","RRDL Locked",null,null,"Tax Credit Request Type:"]
[{"$f":"HousIncomeUnitTypeHTC1","v":false},{"$f":"HousIncomeUnitTypeHOME1","v":false},{"$f":"HousIncomeUnitTypeLTH1","v":false},{"$f":"HousIncomeUnitTypeRRDL1","v":false},{"$f":"HousIncomeUnitTypeEmplOcc1","v":false},{"$f":"HousIncomeUnitTypeOwnerOcc1","v":false},{"$f":"HousIncomeUnitTypeRentAssist1","v":false},{"$f":"HousIncomeUnitTypeOpSubs1","v":false},false,null,null,{"$f":"'Funding Request'!D19","v":"First Request"},null,null,null,null,{"$f":"IF(X26<>1, FALSE, TRUE)","v":false},null,null,null,null,null,{"$f":"IF(X21=1,\"NonProfit\",IF(X21=2,\"Rural Development\",IF(X21=3,\"N/A\",\"\")))","v":""},{"$f":"Controls1!G26","v":0},null,"Nonprofit",1]
[{"$f":"HousIncomeUnitTypeHTC2","v":false},{"$f":"HousIncomeUnitTypeHOME2","v":false},{"$f":"HousIncomeUnitTypeLTH2","v":false},{"$f":"HousIncomeUnitTypeRRDL2","v":false},{"$f":"HousIncomeUnitTypeEmplOcc2","v":false},{"$f":"HousIncomeUnitTypeOwnerOcc2","v":false},{"$f":"HousIncomeUnitTypeRentAssist2","v":false},{"$f":"HousIncomeUnitTypeOpSubs2","v":false},null,null,null,{"$f":"'Funding Request'!D20","v":"Supplemental Request"},null,null,null,null,{"$f":"IF(X26<> 2, FALSE, TRUE)","v":false},null,null,null,null,null,null,null,null,"Rural Development",2]
[{"$f":"HousIncomeUnitTypeHTC3","v":false},{"$f":"HousIncomeUnitTypeHOME3","v":false},{"$f":"HousIncomeUnitTypeLTH3","v":false},{"$f":"HousIncomeUnitTypeRRDL3","v":false},{"$f":"HousIncomeUnitTypeEmplOcc3","v":false},{"$f":"HousIncomeUnitTypeOwnerOcc3","v":false},{"$f":"HousIncomeUnitTypeRentAssist3","v":false},{"$f":"HousIncomeUnitTypeOpSubs3","v":false},null,null,null,{"$f":"'Funding Request'!D21","v":"Repeat Request - not selected"},null,null,null,null,{"$f":"IF(X26<>3, FALSE, TRUE)","v":false},null,null,null,null,null,"Tax Credit Request Type",null,null,"N/A",3]
[{"$f":"HousIncomeUnitTypeHTC4","v":false},{"$f":"HousIncomeUnitTypeHOME4","v":false},{"$f":"HousIncomeUnitTypeLTH4","v":false},{"$f":"HousIncomeUnitTypeRRDL4","v":false},{"$f":"HousIncomeUnitTypeEmplOcc4","v":false},{"$f":"HousIncomeUnitTypeOwnerOcc4","v":false},{"$f":"HousIncomeUnitTypeRentAssist4","v":false},{"$f":"HousIncomeUnitTypeOpSubs4","v":false},null,null,null,{"$f":"'Funding Request'!D22","v":"N/A"},null,null,null,null,{"$f":"IF(X26<>4, FALSE,TRUE)","v":false}]
[{"$f":"HousIncomeUnitTypeHTC5","v":false},{"$f":"HousIncomeUnitTypeHOME5","v":false},{"$f":"HousIncomeUnitTypeLTH5","v":false},{"$f":"HousIncomeUnitTypeRRDL5","v":false},{"$f":"HousIncomeUnitTypeEmplOcc5","v":false},{"$f":"HousIncomeUnitTypeOwnerOcc5","v":false},{"$f":"HousIncomeUnitTypeRentAssist5","v":false},{"$f":"HousIncomeUnitTypeOpSubs5","v":false},null,null,null,null,null,null,null,null,null,null,null,null,null,null,null,null,null,"First Request",1]
[{"$f":"HousIncomeUnitTypeHTC6","v":false},{"$f":"HousIncomeUnitTypeHOME6","v":false},{"$f":"HousIncomeUnitTypeLTH6","v":false},{"$f":"HousIncomeUnitTypeRRDL6","v":false},{"$f":"HousIncomeUnitTypeEmplOcc6","v":false},{"$f":"HousIncomeUnitTypeOwnerOcc6","v":false},{"$f":"HousIncomeUnitTypeRentAssist6","v":false},{"$f":"HousIncomeUnitTypeOpSubs6","v":false},null,null,null,"Request Status:",null,null,null,null,null,null,null,null,null,null,{"$f":"IF(X26=1,\"First Request\",IF(X26=2,\"Supplemental Request\",IF(X26=3,\"Repeat Request - not selected\",IF(X26=4,\"N/A\",\"\"))))","v":""},{"$f":"Controls1!G31","v":0},null,"Supplemental Request",2]
[{"$f":"HousIncomeUnitTypeHTC7","v":false},{"$f":"HousIncomeUnitTypeHOME7","v":false},{"$f":"HousIncomeUnitTypeLTH7","v":false},{"$f":"HousIncomeUnitTypeRRDL7","v":false},{"$f":"HousIncomeUnitTypeEmplOcc7","v":false},{"$f":"HousIncomeUnitTypeOwnerOcc7","v":false},{"$f":"HousIncomeUnitTypeRentAssist7","v":false},{"$f":"HousIncomeUnitTypeOpSubs7","v":false},null,null,null,{"$f":"'Funding Request'!M14","v":" Reservation"},null,null,null,null,{"$f":"IF(X33<>1, FALSE, TRUE)","v":false},null,null,null,null,null,null,null,null,"Repeat Request - not selected",3]
[{"$f":"HousIncomeUnitTypeHTC8","v":false},{"$f":"HousIncomeUnitTypeHOME8","v":false},{"$f":"HousIncomeUnitTypeLTH8","v":false},{"$f":"HousIncomeUnitTypeRRDL8","v":false},{"$f":"HousIncomeUnitTypeEmplOcc8","v":false},{"$f":"HousIncomeUnitTypeOwnerOcc8","v":false},{"$f":"HousIncomeUnitTypeRentAssist8","v":false},{"$f":"HousIncomeUnitTypeOpSubs8","v":false},null,null,null,{"$f":"'Funding Request'!M15","v":" Carryover"},null,null,null,null,{"$f":"IF(X33<>2, FALSE, TRUE)","v":false},null,null,null,null,null,null,null,null,"N/A",4]
[{"$f":"HousIncomeUnitTypeHTC9","v":false},{"$f":"HousIncomeUnitTypeHOME9","v":false},{"$f":"HousIncomeUnitTypeLTH9","v":false},{"$f":"HousIncomeUnitTypeRRDL9","v":false},{"$f":"HousIncomeUnitTypeEmplOcc9","v":false},{"$f":"HousIncomeUnitTypeOwnerOcc9","v":false},{"$f":"HousIncomeUnitTypeRentAssist9","v":false},{"$f":"HousIncomeUnitTypeOpSubs9","v":false},null,null,null,{"$f":"'Funding Request'!M16","v":" 8609"},null,null,null,null,{"$f":"IF(X33<>3, FALSE, TRUE)","v":false}]
[{"$f":"HousIncomeUnitTypeHTC10","v":false},{"$f":"HousIncomeUnitTypeHOME10","v":false},{"$f":"HousIncomeUnitTypeLTH10","v":false},{"$f":"HousIncomeUnitTypeRRDL10","v":false},{"$f":"HousIncomeUnitTypeEmplOcc10","v":false},{"$f":"HousIncomeUnitTypeOwnerOcc10","v":false},{"$f":"HousIncomeUnitTypeRentAssist10","v":false},{"$f":"HousIncomeUnitTypeOpSubs10","v":false},null,null,null,{"$f":"'Funding Request'!M17","v":" Qualified Contract"},null,null,null,null,{"$f":"IF(X33<>4, FALSE, TRUE)","v":false}]
[{"$f":"HousIncomeUnitTypeHTC11","v":false},{"$f":"HousIncomeUnitTypeHOME11","v":false},{"$f":"HousIncomeUnitTypeLTH11","v":false},{"$f":"HousIncomeUnitTypeRRDL11","v":false},{"$f":"HousIncomeUnitTypeEmplOcc11","v":false},{"$f":"HousIncomeUnitTypeOwnerOcc11","v":false},{"$f":"HousIncomeUnitTypeRentAssist11","v":false},{"$f":"HousIncomeUnitTypeOpSubs11","v":false},null,null,null,{"$f":"'Funding Request'!M18","v":" 42(m)(1)(D)"},null,null,null,null,{"$f":"IF(X33<>5, FALSE, TRUE)","v":false},null,null,null,null,null,"Request Status"]
[{"$f":"HousIncomeUnitTypeHTC12","v":false},{"$f":"HousIncomeUnitTypeHOME12","v":false},{"$f":"HousIncomeUnitTypeLTH12","v":false},{"$f":"HousIncomeUnitTypeRRDL12","v":false},{"$f":"HousIncomeUnitTypeEmplOcc12","v":false},{"$f":"HousIncomeUnitTypeOwnerOcc12","v":false},{"$f":"HousIncomeUnitTypeRentAssist12","v":false},{"$f":"HousIncomeUnitTypeOpSubs12","v":false},null,null,null,{"$f":"'Funding Request'!M19","v":" N/A"},null,null,null,null,{"$f":"IF(X33<>6, FALSE, TRUE)","v":false},null,null,null,null,null,null,null,null,"Reservation",1]
[{"$f":"HousIncomeUnitTypeHTC13","v":false},{"$f":"HousIncomeUnitTypeHOME13","v":false},{"$f":"HousIncomeUnitTypeLTH13","v":false},{"$f":"HousIncomeUnitTypeRRDL13","v":false},{"$f":"HousIncomeUnitTypeEmplOcc13","v":false},{"$f":"HousIncomeUnitTypeOwnerOcc13","v":false},{"$f":"HousIncomeUnitTypeRentAssist13","v":false},{"$f":"HousIncomeUnitTypeOpSubs13","v":false},null,null,null,null,null,null,null,null,null,null,null,null,null,null,{"$f":"IF(X33=1,\"Reservation\",IF(X33=2,\"Carryover\",IF(X33=3,\"8609\",IF(X33=4,\"Qualified Contract\",IF(X33=5,\"42(m)(1)(D)\",IF(X33=6,\"N/A\",\"\"))))))","v":""},{"$f":"Controls1!G38","v":0},null,"Carryover",2]
[{"$f":"HousIncomeUnitTypeHTC14","v":false},{"$f":"HousIncomeUnitTypeHOME14","v":false},{"$f":"HousIncomeUnitTypeLTH14","v":false},{"$f":"HousIncomeUnitTypeRRDL14","v":false},{"$f":"HousIncomeUnitTypeEmplOcc14","v":false},{"$f":"HousIncomeUnitTypeOwnerOcc14","v":false},{"$f":"HousIncomeUnitTypeRentAssist14","v":false},{"$f":"HousIncomeUnitTypeOpSubs14","v":false},null,null,null,"Tax Credit Set Aside:",null,null,null,null,null,null,null,null,null,null,null,null,null,8609,3]
[{"$f":"HousIncomeUnitTypeHTC15","v":false},{"$f":"HousIncomeUnitTypeHOME15","v":false},{"$f":"HousIncomeUnitTypeLTH15","v":false},{"$f":"HousIncomeUnitTypeRRDL15","v":false},{"$f":"HousIncomeUnitTypeEmplOcc15","v":false},{"$f":"HousIncomeUnitTypeOwnerOcc15","v":false},{"$f":"HousIncomeUnitTypeRentAssist15","v":false},{"$f":"HousIncomeUnitTypeOpSubs15","v":false},null,null,null,{"$f":"'Funding Request'!J19","v":"Nonprofit"},null,null,null,null,{"$f":"IF(X21<>1, FALSE, TRUE)","v":false},null,null,null,null,null,null,null,null,"Qualified Contract",4]
[{"$f":"HousIncomeUnitTypeHTC16","v":false},{"$f":"HousIncomeUnitTypeHOME16","v":false},{"$f":"HousIncomeUnitTypeLTH16","v":false},{"$f":"HousIncomeUnitTypeRRDL16","v":false},{"$f":"HousIncomeUnitTypeEmplOcc16","v":false},{"$f":"HousIncomeUnitTypeOwnerOcc16","v":false},{"$f":"HousIncomeUnitTypeRentAssist16","v":false},{"$f":"HousIncomeUnitTypeOpSubs16","v":false},null,null,null,{"$f":"'Funding Request'!J20","v":"Rural Development"},null,null,null,null,{"$f":"IF(X21<>2, FALSE, TRUE)","v":false},null,null,null,null,null,null,null,null,"42(m)(1)(D)",5]
[{"$f":"HousIncomeUnitTypeHTC17","v":false},{"$f":"HousIncomeUnitTypeHOME17","v":false},{"$f":"HousIncomeUnitTypeLTH17","v":false},false,{"$f":"HousIncomeUnitTypeEmplOcc17","v":false},{"$f":"HousIncomeUnitTypeOwnerOcc17","v":false},{"$f":"HousIncomeUnitTypeRentAssist17","v":false},{"$f":"HousIncomeUnitTypeOpSubs17","v":false},null,null,null,{"$f":"'Funding Request'!J21","v":"N/A"},null,null,null,null,{"$f":"IF(X21<>3, FALSE, TRUE)","v":false},null,null,null,null,null,null,null,null,"NA",6]
[{"$f":"HousIncomeUnitTypeHTC18","v":false},{"$f":"HousIncomeUnitTypeHOME18","v":false},{"$f":"HousIncomeUnitTypeLTH18","v":false},{"$f":"HousIncomeUnitTypeRRDL18","v":false},{"$f":"HousIncomeUnitTypeEmplOcc18","v":false},{"$f":"HousIncomeUnitTypeOwnerOcc18","v":false},{"$f":"HousIncomeUnitTypeRentAssist18","v":false},{"$f":"HousIncomeUnitTypeOpSubs18","v":false}]
[{"$f":"HousIncomeUnitTypeHTC19","v":false},{"$f":"HousIncomeUnitTypeHOME19","v":false},{"$f":"HousIncomeUnitTypeLTH19","v":false},{"$f":"HousIncomeUnitTypeRRDL19","v":false},{"$f":"HousIncomeUnitTypeEmplOcc19","v":false},{"$f":"HousIncomeUnitTypeOwnerOcc19","v":false},{"$f":"HousIncomeUnitTypeRentAssist19","v":false},{"$f":"HousIncomeUnitTypeOpSubs19","v":false}]
[{"$f":"HousIncomeUnitTypeHTC20","v":false},{"$f":"HousIncomeUnitTypeHOME20","v":false},{"$f":"HousIncomeUnitTypeLTH20","v":false},{"$f":"HousIncomeUnitTypeRRDL20","v":false},{"$f":"HousIncomeUnitTypeEmplOcc20","v":false},{"$f":"HousIncomeUnitTypeOwnerOcc20","v":false},{"$f":"HousIncomeUnitTypeRentAssist20","v":false},{"$f":"HousIncomeUnitTypeOpSubs20","v":false}]
[{"$f":"HousIncomeUnitTypeHTC21","v":false},{"$f":"HousIncomeUnitTypeHOME21","v":false},{"$f":"HousIncomeUnitTypeLTH21","v":false},{"$f":"HousIncomeUnitTypeRRDL21","v":false},{"$f":"HousIncomeUnitTypeEmplOcc21","v":false},{"$f":"HousIncomeUnitTypeOwnerOcc21","v":false},{"$f":"HousIncomeUnitTypeRentAssist21","v":false},{"$f":"HousIncomeUnitTypeOpSubs21","v":false}]
[]
["SOURCES"]
["CAPITAL SOURCES"]
["Commited"]
[{"$f":"SourcesPermCap1stMortComm","v":false},"First Mortgage"]
[{"$f":"SourcesPermCapPartCashComm","v":false},"General Partner Cash"]
[{"$f":"SourcesPermCapSyndProcComm","v":false},"Syndication Proceeds"]
[{"$f":"SourcesPermCapStHistProcComm","v":false},"State Historic Proceeds"]
[{"$f":"SourcesPermCapFedHistProcComm","v":false},"Federal Historic Proceeds"]
[{"$f":"SourcesPermCapDefLoanComm","v":false},"Deferred Loan Request"]
[{"$f":"SourcesPermCapTaxExBondsComm","v":false},""]
[{"$f":"SourcesPermCapOther1Comm","v":false},""]
[{"$f":"SourcesPermCapOther2Comm","v":false},""]
[{"$f":"SourcesPermCapOther3Comm","v":false},""]
[{"$f":"SourcesPermCapOther4Comm","v":false},""]
[{"$f":"SourcesPermCapOther5Comm","v":false},""]
[{"$f":"SourcesPermCapOther6Comm","v":false},""]
[{"$f":"SourcesPermCapOther7Comm","v":false},""]
[{"$f":"SourcesPermCapOther8Comm","v":false},""]
[{"$f":"SourcesPermCapOther9Comm","v":false},""]
[{"$f":"SourcesPermCapOther10Comm","v":false},""]
[{"$f":"SourcesPermCapOther11Comm","v":false},""]
[{"$f":"SourcesPermCapGapRemComm","v":false},"Deferred Developer Fee"]
[]
["SOURCES"]
["CONSTRUCTION SOURCES"]
[{"$f":"SourcesConstSrcesName1","v":false},"Contruction Sources 1"]
[{"$f":"SourcesConstSrcesName2","v":false},"Contruction Sources 2"]
[{"$f":"SourcesConstSrcesName3","v":false},"Contruction Sources 3"]
[{"$f":"SourcesConstSrcesName4","v":false},"Contruction Sources 4"]
[{"$f":"SourcesConstSrcesName5","v":false},"Contruction Sources 5"]
[]
["SOURCES"]
["RENTAL ASSIST OR OP SUB FUND"]
[{"$f":"RentAssistSourcType1","v":false},"Subsidy Funding Source 1"]
[{"$f":"RentAssistSourcType2","v":false},"Subsidy Funding Source 2"]
[{"$f":"RentAssistSourcType3","v":false},"Subsidy Funding Source 3"]
[{"$f":"RentAssistSourcType4","v":false},"Subsidy Funding Source 4"]
[]
[]
[]
["DEV COSTS"]
["ACQUISITION or REFINANCE EXISTING DEBT"]
[{"$f":"'Development Costs'!$B$12 & \"1\"","v":"Holding Costs1"},true]
[{"$f":"'Development Costs'!$B$12 & \"2\"","v":"Holding Costs2"},true]
["PROFESSIONAL FEES"]
[{"$f":"'Development Costs'!B50","v":"Architect's Fee - Design"},true]
[{"$f":"'Development Costs'!B51","v":"Architect's Fee - Supervision"},true]
[{"$f":"'Development Costs'!B52","v":"Architect's Reimburseables"},true]
[{"$f":"'Development Costs'!B53","v":"Marketing"},true]
[]
[{"$f":"'Development Costs'!B59","v":"Other Local Fees"},true]
[{"$f":"'Development Costs'!B60","v":"Appraisal Fee"},true]
[{"$f":"'Development Costs'!B61","v":"Energy Audit"},true]
[{"$f":"'Development Costs'!B62","v":"Energy Consultant"},true]
[{"$f":"'Development Costs'!B63","v":"Environmental Assessment"},true]
[{"$f":"'Development Costs'!B64","v":"Cost Certification/Audit"},true]
[{"$f":"'Development Costs'!B65","v":"Market Study"},true]
[{"$f":"'Development Costs'!B66","v":"Tax Credit Fees (% of credits)"},true]
[{"$f":"'Development Costs'!B67","v":"Compliance Fees (1st year)"},true]
[]
[{"$f":"'Development Costs'!B69","v":"Legal Fees"},true]
[{"$f":"'Development Costs'!B70","v":"Relocation Costs"},true]
[{"$f":"'Development Costs'!B71","v":"Other Fees"},true]
[{"$f":"'Development Costs'!B72","v":"Other Fees"},true]
[{"$f":"'Development Costs'!B73","v":"Other Fees"},true]
[{"$f":"'Development Costs'!B74","v":"Other Fees"},true]
[]
["DEVELOPER FEE"]
[{"$f":"'Development Costs'!B77","v":"Developer Fee"},true]
[{"$f":"'Development Costs'!B78","v":"Processing Agent"},true]
[{"$f":"'Development Costs'!B79","v":"Owner's Construction Representative"},true]
[{"$f":"'Development Costs'!B80","v":"Other Consultant Fees"},true]
[{"$f":"'Development Costs'!B81","v":"Other"},true]
["SYNDICATOR/INVESTOR FEES"]
[{"$f":"'Development Costs'!B84","v":"Organization Fees"},true]
[{"$f":"'Development Costs'!B85","v":"Bridge Loan"},true]
[{"$f":"'Development Costs'!B86","v":"Tax Opinion"},true]
[{"$f":"'Development Costs'!B87","v":"Due Diligence Fees"},true]
[{"$f":"'Development Costs'!B88","v":"Other Fees"},true]
["FINANCING COSTS"]
["Construction Costs"]
[{"$f":"'Development Costs'!B93","v":"Construction Interest at:"},true]
[{"$f":"'Development Costs'!B94","v":"Builder's Risk Insurance"},true]
[{"$f":"'Development Costs'!B95","v":"Taxes During Construction"},true]
[{"$f":"'Development Costs'!B96","v":"MN Housing Bridge Loan Origination Fee"},true]
[{"$f":"'Development Costs'!B97","v":"Construction Loan Origination Fee"},true]
[{"$f":"'Development Costs'!B98","v":"MN Housing Inspection Fee"},true]
[{"$f":"'Development Costs'!B99","v":"Other Inspection Fee"},true]
[{"$f":"'Development Costs'!B100","v":"Other"},true]
["Permanent Financing Costs"]
[{"$f":"'Development Costs'!B102","v":"MN Housing 1st Mortgage Application Fee"},true]
[{"$f":"'Development Costs'!B103","v":"MN Housing 1st Mortgage Origination Fee"},true]
[{"$f":"'Development Costs'!B104","v":"HUD/FHA MIP"},true]
[{"$f":"'Development Costs'!B105","v":"HUD/FHA Exam Fee"},true]
[{"$f":"'Development Costs'!B106","v":"HUD/FHA Inspection Fee"},true]
[{"$f":"'Development Costs'!B107","v":"Other Permanent Origination Fee"},true]
[{"$f":"'Development Costs'!B108","v":"Mortgage Insurance Premium"},true]
[{"$f":"'Development Costs'!B109","v":"Bond Issuance Fee"},true]
[{"$f":"'Development Costs'!B110","v":"Bond Counsel"},true]
[{"$f":"'Development Costs'!B111","v":"Underwriter Counsel"},true]
[{"$f":"'Development Costs'!B112","v":"Trustee Fee"},true]
[{"$f":"'Development Costs'!B113","v":"Rating Agency"},true]
[{"$f":"'Development Costs'!B114","v":"Other Bond Fees"},true]
[{"$f":"'Development Costs'!B115","v":"Title and Recording"},true]
[]
[{"$f":"'Development Costs'!B116","v":"Other"},true]
[{"$f":"'Development Costs'!B117","v":"Other"},true]
[{"$f":"'Development Costs'!B118","v":"Other"},true]

{"sheet":"Business Logic","index":6,"n_rows":12,"n_cols":44,"rows_kept":12,"cut":false,"hidden":true,"merged":[]}
["From","Action","To","On?",null,"Prompt","Button","Title",null,"NR","DV List","On/Off?","Sheet",null,"NR","If Entire Range is","Hide",null,"NR",true,false,"NR to Change","From","To",null,"NR","Any Value","Control","Value","Sheet",null,"Version","Range","Value","Control","Property",null,"Version","Codename","Visual",null,"Range","Version (Year)","Value"]
["commSqFt","Copy","commGrossSqFt",true,null,"You cannot choose 'Other Rental Assistance Request for Proposals' in conjunction with other funding types!",16,"Invalid Funding Type Selection",null,"SourcesRentAssistSourceName1","RAOSNameOfSourceLookup",false,"Sources",null,"instructOB2",false,"RAadmin",null,"item9BridgeChanges","RA Administrator","Architect","devTeamLastItem","RAadminName","RAadminTo",null,"bridgeOSitem12",true,"lblHide",true,"Project Description",null,2014,"RequestStatus42m","42 M1 Letter",false,null,null,2014,"shtAffirm","Affirmative Action",null,"preserveFed",2014,"Preservation of Federally Assisted Housing"]
["typeOfBuilding","Copy","RRDL_typeOfBuild",true,null,null,null,null,null,"SourcesRentAssistSourceName1","RAOSNameOfSourceLookupWBridges",true,"Sources",null,"instructOB2",false,"HMIScontact",null,null,null,null,null,null,null,null,null,null,null,null,null,null,2015,"RequestStatus42m","42(m)(1)(D)",false,null,null,2015,"shtAffirm","Signature / Affirm. Action Stmt",null,"preserveFed",2015,"Federally Assisted Housing"]
["noRestUnit1","Copy","RRDL_PropInfRestrUnits1",true,null,null,null,null,null,"SourcesRentAssistSourceName2","RAOSNameOfSourceLookup",false,"Sources",null,"instructOB2",false,"MHIScontact",null,null,null,null,null,null,null,null,null,null,null,null,null,null,2014,"cb4per",false,true,"Visible",null,null,null,null,null,"homeless",2014,"Long Term Homeless"]
["noRestUnit2","Copy","RRDL_PropInfRestrUnits2",true,null,null,null,null,null,"SourcesRentAssistSourceName2","RAOSNameOfSourceLookupWBridges",true,"Sources",null,null,null,null,null,null,null,null,null,null,null,null,null,null,null,null,null,null,2015,"cb9per",false,true,"Visible",null,null,null,null,null,"homeless",2015,"Homeless"]
["noRestUnit3","Copy","RRDL_PropInfRestrUnits3",true,null,null,null,null,null,"SourcesRentAssistSourceName3","RAOSNameOfSourceLookup",false,"Sources",null,null,null,null,null,null,null,null,null,null,null,null,null,null,null,null,null,null,2014,"cb4per",true,true,"Visible",null,null,null,null,null,"housing",2014,"Preservation of Existing Housing Tax Credits"]
["noRestUnit4","Copy","RRDL_PropInfRestrUnits4",true,null,null,null,null,null,"SourcesRentAssistSourceName3","RAOSNameOfSourceLookupWBridges",true,"Sources",null,null,null,null,null,null,null,null,null,null,null,null,null,null,null,null,null,null,2015,"cb9per",true,true,"Visible",null,null,null,null,null,"housing",2015,"Existing Housing Tax Credits"]
["RRDL_CurrEstMktValue","Copy","RRDL_PropInfoLatestAppraisedValue",true,null,null,null,null,null,"SourcesRentAssistSourceName4","RAOSNameOfSourceLookup",false,"Sources",null,null,null,null,null,null,null,null,null,null,null,null,null,null,null,null,null,null,null,null,null,null,null,null,null,null,null,null,"critical",2014,"Critical Need (Critical needs are determined annually.  Refer to RFP Guide.)"]
["currTaxAssVal","Copy","RRDL_PropInfoTaxAssVal",true,null,null,null,null,null,"SourcesRentAssistSourceName4","RAOSNameOfSourceLookupWBridges",true,"Sources",null,null,null,null,null,null,null,null,null,null,null,null,null,null,null,null,null,null,null,null,null,null,null,null,null,null,null,null,"critical",2015,"Rehab not Federally Assisted or Existing Tax Credit"]
["procAgent","Copy","adminName",true]
["RRDL_CurrDebtOrigLoan1","Copy","MortCalcSubDebtPrincipal1",true]
["RRDL_IncExpUnitType1","Copy","RRDL_HousIncUnitGidrUnitType1",true]

{"sheet":"Instructions","index":7,"n_rows":43,"n_cols":10,"rows_kept":43,"cut":false,"hidden":false,"merged":[[34,1,34,4],[35,1,35,4],[35,7,35,8],[36,7,36,8],[37,7,37,8],[34,7,34,8],[34,9,34,10],[35,9,35,10],[36,9,36,10],[37,9,37,10],[29,1,29,15],[33,1,33,4],[33,5,33,6],[33,7,33,8],[33,9,33,10],[33,11,33,12],[36,1,36,4],[37,1,37,4],[34,5,34,6],[35,5,35,6],[36,5,36,6],[37,5,37,6],[15,1,15,15],[0,1,0,15],[2,1,2,15],[4,1,4,15],[14,1,14,15],[6,1,6,15],[7,1,7,15],[9,2,9,3],[9,4,9,15],[10,2,10,3],[10,4,10,15],[11,2,11,3],[11,4,11,15],[12,2,12,3],[12,4,12,15],[26,1,26,15],[27,1,27,15],[17,2,17,3],[18,2,18,3],[20,1,20,15],[21,1,21,15],[23,1,23,15],[24,1,24,15]]}
[null,"MINNESOTA HOUSING MULTIFAMILY WORKBOOK INSTRUCTIONS"]
[null,"Workbook Version: 03/09/2016"]
[null,"The current version of the Workbook must be used when applying to Minnesota Housing for housing tax credits, first mortgages, deferred loans, rental assistance, operating subisdies, and Rental Rehab Deferred Loans (RRDL) - Project Specific."]
[]
[null,"A completed Workbook along with the required documentation and exhibits comprise a complete application package.  Please refer to www.mnhousing.gov for complete instructions on submitting an application."]
[]
[null,"TABS TO COMPLETE"]
[null,"The tabs in this Workbook are color coded to assist applicants in filling out the proper information."]
[]
[null,null,"Blue",null,"All applicants must complete the blue tabs."]
[null,null,"Green",null,"Applicants applying for Housing Tax Credits from Minnesota Housing or a suballocator, or that have already received tax credits, must also complete the green tabs."]
[null,null,"Yellow",null,"Complete this tab if applying for Section 811 on a pipeline basis (do not complete if applying through Consolidated RFP)."]
[null,null,"White",null,"The white tabs are read-only and cannot be filled out by the applicant."]
[]
[null,"DATA ENTRY AND VALIDATION"]
[null,"Light blue cells indicate where information is required from the applicant. In some cases, incomplete data entry will result in other required fields being left unpopulated.  "]
[]
[null,null,null,null,"Light blue cells indicate where information is required from the applicant."]
[null,null,null,null,"White cells indicate standard text or formulas that are locked from editing."]
[]
[null,"CELL COMMENTS/INSTRUCTIONS"]
[null,"Many cells have embedded comments, indicated by a small red triangle in the upper right hand corner.  These comments contain important information related to populating the Workbook and the cell."]
[]
[null,"WARNING MESSAGES"]
[null,"Some cells and sheets have inputs and limits that if not completed, exceeded or not met, will generate an error message or warning in red text.  If a warning pops up in any cell, justification is required."]
[]
[null,"PRINTING"]
[null,"Print functionality is available on the Summary tab.  Click on the Print button in the upper right of the tab.  In the Print window, either click the checkbox for 'Select All' or select one or more tabs you want to print."]
[]
[null,"SUPPORTED OPERATING SYSTEMS, BROWSERS AND APPLICATIONS"]
[]
[null,"Minnesota Housing supports the following combinations of Operating Systems and Excel versions for editing RFP Workbook:"]
[]
[null,"Operating System",null,null,null,"Excel 2010\n(32-bit only)",null,"Excel 2013\n(32-bit only)",null,"Excel 2016\n(32-bit only)"]
[null,"Windows 7",null,null,null,"X",null,"X",null,"X"]
[null,"Windows 8",null,null,null,"X",null,"X",null,"X"]
[null,"Windows 8.1",null,null,null,"X",null,"X",null,"X"]
[null,"Windows 10",null,null,null,"X",null,"X",null,"X"]
[]
[null,"Minnesota Housing supports the following browsers for downloading RFP materials:"]
[null,"Internet Explorer (versions 9-11)"]
[null,"Chrome (current version)"]
[null,"Mozilla Firefox (current version)"]

{"sheet":"Summary","index":8,"n_rows":137,"n_cols":77,"rows_kept":137,"cut":false,"hidden":false,"merged":[[49,21,49,24],[50,21,50,24],[51,21,51,24],[49,9,49,18],[50,9,50,18],[51,9,51,18],[49,19,49,20],[50,19,50,20],[51,19,51,20],[136,12,136,15],[136,16,136,18],[134,42,134,44],[135,1,135,11],[135,12,135,15],[135,16,135,18],[135,19,135,21],[135,34,135,37],[135,38,135,41],[134,1,134,11],[134,12,134,15],[134,16,134,18],[134,19,134,21],[134,34,134,37],[134,38,134,41],[132,42,132,44],[133,1,133,11],[133,12,133,15],[133,16,133,18],[133,19,133,21],[133,34,133,37],[133,38,133,41],[133,42,133,44],[132,1,132,11],[132,12,132,15],[132,16,132,18],[132,19,132,21],[132,34,132,37],[132,38,132,41],[130,42,130,44],[131,1,131,11],[131,12,131,15],[131,16,131,18],[131,19,131,21],[131,34,131,37],[131,38,131,41],[131,42,131,44],[130,1,130,11],[130,12,130,15],[130,16,130,18],[130,19,130,21],[130,34,130,37],[130,38,130,41],[126,1,126,11],[126,12,126,15],[126,16,126,18],[126,19,126,21],[127,1,127,11],[127,12,127,15],[127,16,127,18],[127,19,127,21],[124,1,124,11],[124,12,124,15],[124,16,124,18],[124,19,124,21],[125,1,125,11],[125,12,125,15],[125,16,125,18],[125,19,125,21],[122,1,122,11],[122,12,122,15],[122,16,122,18],[122,19,122,21],[123,1,123,11],[123,12,123,15],[123,16,123,18],[123,19,123,21],[120,1,120,11],[120,12,120,15],[120,16,120,18],[121,1,121,11],[121,12,121,15],[121,16,121,18],[118,41,118,43],[119,1,119,11],[119,12,119,15],[119,16,119,18],[119,34,119,37],[119,38,119,40],[119,41,119,43],[118,1,118,11],[118,12,118,15],[118,16,118,18],[118,19,118,21],[118,34,118,37],[118,38,118,40],[116,41,116,43],[117,1,117,11],[117,12,117,15],[117,16,117,18],[117,19,117,21],[117,34,117,37],[117,38,117,40],[117,41,117,43],[116,1,116,11],[116,12,116,15],[116,16,116,18],[116,19,116,21],[116,34,116,37],[116,38,116,40],[114,41,114,43],[115,1,115,11],[115,12,115,15],[115,16,115,18],[115,19,115,21],[115,34,115,37],[115,38,115,40],[115,41,115,43],[114,1,114,11],[114,12,114,15],[114,16,114,18],[114,19,114,21],[114,34,114,37],[114,38,114,40],[112,41,112,43],[113,1,113,11],[113,12,113,15],[113,16,113,18],[113,19,113,21],[113,34,113,37],[113,38,113,40],[113,41,113,43],[112,1,112,11],[112,12,112,15],[112,16,112,18],[112,19,112,21],[112,34,112,37],[112,38,112,40],[110,41,110,43],[111,1,111,11],[111,12,111,15],[111,16,111,18],[111,19,111,21],[111,34,111,37],[111,38,111,40],[111,41,111,43],[110,1,110,11],[110,12,110,15],[110,16,110,18],[110,19,110,21],[110,34,110,37],[110,38,110,40],[109,1,109,11],[109,12,109,15],[109,16,109,18],[109,19,109,21],[109,34,109,37],[109,38,109,40],[109,41,109,43],[108,1,108,11],[108,12,108,15],[108,16,108,18],[108,19,108,21],[108,34,108,37],[108,38,108,40],[106,66,106,68],[107,1,107,11],[107,12,107,15],[107,16,107,18],[107,19,107,21],[107,34,107,37],[107,38,107,40],[107,41,107,43],[108,41,108,43],[103,63,103,65],[105,56,105,62],[105,63,105,65],[106,1,106,11],[106,12,106,15],[106,16,106,18],[106,19,106,21],[106,34,106,37],[106,38,106,40],[106,41,106,43],[106,59,106,65],[100,40,100,42],[101,1,101,7],[101,8,101,12],[101,20,101,23],[101,30,101,34],[101,40,101,42],[100,1,100,6],[100,8,100,12],[100,20,100,23],[100,26,100,29],[100,30,100,34],[100,37,100,39],[99,1,99,6],[99,8,99,12],[99,20,99,23],[99,26,99,29],[99,30,99,34],[99,37,99,39],[99,40,99,42],[94,42,94,44],[94,63,94,65],[95,4,95,5],[95,9,95,11],[95,12,95,14],[95,32,95,41],[95,42,95,44],[95,63,95,65],[94,1,94,3],[94,4,94,5],[94,6,94,8],[94,9,94,11],[94,12,94,14],[94,15,94,19],[94,20,94,22],[94,32,94,41],[96,63,96,65],[92,42,92,44],[92,63,92,65],[93,1,93,3],[93,4,93,5],[93,6,93,8],[93,9,93,11],[93,12,93,14],[93,15,93,19],[93,20,93,22],[93,32,93,41],[93,42,93,44],[93,63,93,65],[92,1,92,3],[92,4,92,5],[92,6,92,8],[92,9,92,11],[92,12,92,14],[92,15,92,19],[92,20,92,22],[92,32,92,41],[91,1,91,3],[91,4,91,5],[91,6,91,8],[91,9,91,11],[91,12,91,14],[91,15,91,19],[90,1,90,3],[90,4,90,5],[90,6,90,8],[90,9,90,11],[90,12,90,14],[90,15,90,19],[90,20,90,22],[90,63,90,65],[91,20,91,22],[91,63,91,65],[88,55,88,61],[88,62,88,64],[89,1,89,3],[89,4,89,5],[89,6,89,8],[89,9,89,11],[89,12,89,14],[89,15,89,19],[89,20,89,22],[89,32,89,41],[89,42,89,44],[89,62,89,64],[88,1,88,3],[88,4,88,5],[88,6,88,8],[88,9,88,11],[88,12,88,14],[88,15,88,19],[88,20,88,22],[88,32,88,41],[88,42,88,44],[87,1,87,3],[87,4,87,5],[87,6,87,8],[87,9,87,11],[87,12,87,14],[87,15,87,19],[87,20,87,22],[87,32,87,41],[87,42,87,44],[85,20,85,22],[85,32,85,41],[85,42,85,44],[86,1,86,3],[86,4,86,5],[86,6,86,8],[86,9,86,11],[86,12,86,14],[86,15,86,19],[86,20,86,22],[85,1,85,3],[85,4,85,5],[85,6,85,8],[85,9,85,11],[85,12,85,14],[85,15,85,19],[86,32,86,41],[86,42,86,44],[84,1,84,3],[84,4,84,5],[84,6,84,8],[84,9,84,11],[84,12,84,14],[84,15,84,19],[84,20,84,22],[84,32,84,41],[84,42,84,44],[83,1,83,3],[83,4,83,5],[83,6,83,8],[83,9,83,11],[83,12,83,14],[83,15,83,19],[83,20,83,22],[83,32,83,41],[83,42,83,44],[81,20,81,22],[81,32,81,41],[81,42,81,44],[82,1,82,3],[82,4,82,5],[82,6,82,8],[82,9,82,11],[82,12,82,14],[82,15,82,19],[82,20,82,22],[81,1,81,3],[81,4,81,5],[81,6,81,8],[81,9,81,11],[81,12,81,14],[81,15,81,19],[82,32,82,41],[82,42,82,44],[80,1,80,3],[80,4,80,5],[80,6,80,8],[80,9,80,11],[80,12,80,14],[80,15,80,19],[80,20,80,22],[80,32,80,41],[80,42,80,44],[78,53,78,63],[78,64,78,67],[78,68,78,71],[78,72,78,75],[79,1,79,3],[79,4,79,5],[79,6,79,8],[79,9,79,11],[79,12,79,14],[79,15,79,19],[79,72,79,75],[79,20,79,22],[79,32,79,41],[79,42,79,44],[79,53,79,63],[79,64,79,67],[79,68,79,71],[78,1,78,3],[78,4,78,5],[78,6,78,8],[78,9,78,11],[78,12,78,14],[78,15,78,19],[78,20,78,22],[78,32,78,41],[78,42,78,44],[76,53,76,63],[76,64,76,67],[76,68,76,71],[76,72,76,75],[77,1,77,3],[77,4,77,5],[77,6,77,8],[77,9,77,11],[77,12,77,14],[77,15,77,19],[77,72,77,75],[77,20,77,22],[77,32,77,41],[77,42,77,44],[77,53,77,63],[77,64,77,67],[77,68,77,71],[76,1,76,3],[76,4,76,5],[76,6,76,8],[76,9,76,11],[76,12,76,14],[76,15,76,19],[76,20,76,22],[76,32,76,41],[76,42,76,44],[74,53,74,63],[74,64,74,67],[74,68,74,71],[74,72,74,75],[75,1,75,3],[75,4,75,5],[75,6,75,8],[75,9,75,11],[75,12,75,14],[75,15,75,19],[75,72,75,75],[75,20,75,22],[75,32,75,41],[75,42,75,44],[75,53,75,63],[75,64,75,67],[75,68,75,71],[74,1,74,3],[74,4,74,5],[74,6,74,8],[74,9,74,11],[74,12,74,14],[74,15,74,19],[74,20,74,22],[74,32,74,41],[74,42,74,44],[70,72,72,75],[71,32,71,41],[71,42,71,44],[72,32,72,41],[72,42,72,44],[73,32,73,41],[73,42,73,44],[73,53,73,63],[73,64,73,67],[73,68,73,71],[70,32,70,41],[70,42,70,44],[70,53,72,63],[70,64,72,67],[70,68,72,71],[73,72,73,75],[64,32,64,36],[64,40,64,42],[67,32,67,44],[69,1,73,3],[69,4,73,5],[69,6,73,8],[69,9,73,11],[69,12,73,14],[69,15,73,19],[69,20,73,22],[69,23,69,30],[69,32,69,41],[69,42,69,44],[70,23,73,23],[70,24,73,24],[70,25,73,25],[70,26,73,26],[70,27,73,27],[70,28,73,28],[70,29,73,29],[70,30,73,30],[62,1,62,7],[62,8,62,10],[62,13,62,19],[62,20,62,22],[63,1,63,7],[63,8,63,10],[63,13,63,19],[63,20,63,22],[60,1,60,7],[60,8,60,10],[60,13,60,19],[60,20,60,22],[61,1,61,7],[61,8,61,10],[61,13,61,19],[61,20,61,22],[59,1,59,7],[59,8,59,10],[59,13,59,19],[59,20,59,22],[56,1,56,7],[56,8,56,10],[56,13,56,19],[56,20,56,22],[57,1,57,7],[57,8,57,10],[57,13,57,19],[57,20,57,22],[53,1,53,22],[55,1,55,7],[55,8,55,10],[55,13,55,19],[55,20,55,22],[51,1,51,8],[58,1,58,7],[58,8,58,10],[58,13,58,19],[58,20,58,22],[15,8,15,24],[15,27,15,29],[15,30,15,42],[16,1,16,7],[16,8,16,24],[16,27,16,29],[16,30,16,42],[22,1,22,24],[23,1,23,3],[23,4,23,24],[17,1,17,7],[17,8,17,24],[17,27,17,29],[17,30,17,42],[18,1,18,7],[18,8,18,24],[18,27,18,29],[18,30,18,42],[23,27,23,29],[20,8,20,24],[19,1,19,7],[0,1,1,44],[3,22,3,30],[3,32,3,35],[3,36,3,40],[4,8,4,20],[4,32,4,35],[4,36,4,40],[9,8,9,20],[9,22,9,30],[9,32,9,35],[9,36,9,40],[7,8,7,20],[7,22,7,30],[7,32,7,35],[7,36,7,40],[8,8,8,20],[5,8,5,20],[5,22,5,30],[5,32,5,35],[5,36,5,40],[6,8,6,20],[6,22,6,30],[6,32,6,35],[6,36,6,40],[10,32,10,35],[10,36,10,40],[8,22,8,30],[8,32,8,35],[8,36,8,40],[31,1,31,3],[32,1,32,3],[24,4,24,24],[25,4,25,24],[26,4,26,24],[12,1,12,24],[12,27,12,42],[13,27,13,29],[13,30,13,42],[14,1,14,7],[14,8,14,24],[14,27,14,29],[14,30,14,42],[19,27,19,29],[19,30,19,42],[19,8,19,24],[13,1,13,7],[13,8,13,24],[15,1,15,7],[62,32,62,36],[63,32,63,36],[62,40,62,42],[63,40,63,42],[38,1,38,24],[40,3,40,18],[40,19,40,23],[45,19,45,23],[41,3,41,17],[41,19,41,23],[42,3,42,17],[42,19,42,23],[43,3,43,17],[43,19,43,23],[45,8,45,17],[48,1,48,8],[48,9,48,18],[48,19,48,20],[48,21,48,24],[44,35,44,39],[49,1,49,8],[44,8,44,17],[44,19,44,23],[50,1,50,8],[35,27,35,29],[33,1,33,3],[34,1,34,3],[24,27,24,29],[25,27,25,29],[26,27,26,29],[27,27,27,29],[28,27,28,29],[29,27,29,29],[30,27,30,29],[31,27,31,29],[32,27,32,29],[33,27,33,29],[34,27,34,29],[24,1,24,3],[25,1,25,3],[26,1,26,3],[27,1,27,3],[28,1,28,3],[29,1,29,3],[30,1,30,3]]}
[null,"SUMMARY PAGE",null,null,null,null,null,null,null,null,null,null,null,null,null,null,null,null,null,null,null,null,null,null,null,null,null,null,null,null,null,null,null,null,null,null,null,null,null,null,null,null,null,null,null,null,null,null,null,null,null,null,null,null,null,null,null,null,null,null,null,null,null,null,null,null,null,null,null,null,null,null,null,null,null,null,"•"]
[]
[]
[null,null,null,null,null,null,null,null,null,null,null,null,null,null,null,null,null,null,null,null,null,null,"ACTIVITY TYPE",null,null,null,null,null,null,null,null,null,"Version Date",null,null,null,{"$f":"IF(ISBLANK(ProjDescAppDate),\"\",ProjDescAppDate )","v":""}]
[null,"Development Name",null,null,null,null,null,null,{"$f":"IF(ISBLANK(ProjDescDevelopmentName),\"\",ProjDescDevelopmentName)","v":""},null,null,null,null,null,null,null,null,null,null,null,null,null,null,null,null,null,null,null,null,null,null,null,"Dev #",null,null,null,{"$f":"IF(ISBLANK(ProjDescDNum),\"\",ProjDescDNum)","v":""}]
[null,"Primary Address",null,null,null,null,null,null,{"$f":"IF(ISBLANK(ProjDescPrimaryAddress),\"\",ProjDescPrimaryAddress)","v":""},null,null,null,null,null,null,null,null,null,null,null,null,null,{"$f":"ProjDescActType1","v":""},null,null,null,null,null,null,null,null,null,"Project #",null,null,null,{"$f":"IF(ISBLANK(ProjectDescProjectNum),\"\",ProjectDescProjectNum)","v":""}]
[null,"City",null,null,null,null,null,null,{"$f":"IF(ISBLANK('Project Description'!E13),\"\",'Project Description'!E13)","v":""},null,null,null,null,null,null,null,null,null,null,null,null,null,{"$f":"ProjDescActType2","v":""},null,null,null,null,null,null,null,null,null,"HTC #",null,null,null,{"$f":"IF(ISBLANK(ProjectDescHTCNum),\"\",ProjectDescHTCNum)","v":""}]
[null,"Zip Code",null,null,null,null,null,null,{"$f":"IF(ISBLANK(ProjDescZipCode),\"\",ProjDescZipCode)","v":""},null,null,null,null,null,null,null,null,null,null,null,null,null,{"$f":"ProjDescActType3","v":""},null,null,null,null,null,null,null,null,null,"HDO",null,null,null,{"$f":"IF(ISBLANK('Project Description'!M5),\"\",'Project Description'!M5)","v":""}]
[null,"County",null,null,null,null,null,null,{"$f":"IF(ISBLANK('Project Description'!E15),\"\",'Project Description'!E15)","v":""},null,null,null,null,null,null,null,null,null,null,null,null,null,{"$f":"ProjDescActType4","v":""},null,null,null,null,null,null,null,null,null,"HMO",null,null,null,{"$f":"IF(ISBLANK('Project Description'!M6),\"\",'Project Description'!M6)","v":""}]
[null,"Year Built",null,null,null,null,null,null,{"$f":"IF(ISBLANK('Project Description'!N11),\"\",'Project Description'!N11)","v":""},null,null,null,null,null,null,null,null,null,null,null,null,null,{"$f":"ProjDescActType5","v":""},null,null,null,null,null,null,null,null,null,"Architect",null,null,null,{"$f":"IF(ISBLANK('Project Description'!M7),\"\",'Project Description'!M7)","v":""}]
[null,null,null,null,null,null,null,null,null,null,null,null,null,null,null,null,null,null,null,null,null,null,null,null,null,null,null,null,null,null,null,null,"SHO",null,null,null,{"$f":"IF(ISBLANK('Project Description'!M8),\"\",'Project Description'!M8)","v":""}]
[]
[null,"DEVELOPMENT TEAM",null,null,null,null,null,null,null,null,null,null,null,null,null,null,null,null,null,null,null,null,null,null,null,null,null,"STRATEGIC PRIORITIES"]
[null,"Developer",null,null,null,null,null,null,{"$f":"IF(ISBLANK('Development Team'!B18),\"\",'Development Team'!B18)","v":""},null,null,null,null,null,null,null,null,null,null,null,null,null,null,null,null,null,null,"# Units",null,null,"Strategic Priority"]
[null,"Owner",null,null,null,null,null,null,{"$f":"IF(ISBLANK('Development Team'!B28),\"\",'Development Team'!B28)","v":""},null,null,null,null,null,null,null,null,null,null,null,null,null,null,null,null,null,null,{"$f":"IF(ISBLANK(fedAssist),0,fedAssist)","v":0},null,null,{"$f":"preserveFed","v":"Federally Assisted Housing"}]
[null,"Management Co",null,null,null,null,null,null,{"$f":"IF(ISBLANK('Development Team'!L28),\"\",'Development Team'!L28)","v":""},null,null,null,null,null,null,null,null,null,null,null,null,null,null,null,null,null,null,{"$f":"IF(ISBLANK(homelessUnits),0,homelessUnits)","v":0},null,null,{"$f":"homeless","v":"Homeless"}]
[null,"Service Provider",null,null,null,null,null,null,{"$f":"IF(ISBLANK('Development Team'!L38),\"\",'Development Team'!L38)","v":""},null,null,null,null,null,null,null,null,null,null,null,null,null,null,null,null,null,null,{"$f":"IF(ISBLANK(newUnits),0,newUnits)","v":0},null,null,{"$f":"newUnitsText","v":"New Affordable Housing"}]
[null,"Architect",null,null,null,null,null,null,{"$f":"IF(ISBLANK('Development Team'!L18),\"\",'Development Team'!L18)","v":""},null,null,null,null,null,null,null,null,null,null,null,null,null,null,null,null,null,null,{"$f":"IF(ISBLANK(housingUnits),0,housingUnits)","v":0},null,null,{"$f":"housing","v":"Existing Housing Tax Credits"}]
[null,"General Contractor",null,null,null,null,null,null,{"$f":"IF(ISBLANK('Development Team'!L58),\"\",'Development Team'!L58)","v":""},null,null,null,null,null,null,null,null,null,null,null,null,null,null,null,null,null,null,{"$f":"IF(ISBLANK(foreclosureUnits),0,foreclosureUnits)","v":0},null,null,{"$f":"foreclosureText","v":"Foreclosure"}]
[null,"Processing Agent",null,null,null,null,null,null,{"$f":"IF(ISBLANK('Development Team'!B68),\"\",'Development Team'!B68)","v":""},null,null,null,null,null,null,null,null,null,null,null,null,null,null,null,null,null,null,{"$f":"IF(ISBLANK(grpStrat),0,grpStrat)","v":0},null,null,{"$f":"critical","v":"Rehab not Federally Assisted or Existing Tax Credit"}]
[]
[]
[null,"TARGET HOUSEHOLDS"]
[null,"# Units",null,null,"Target",null,null,null,null,null,null,null,null,null,null,null,null,null,null,null,null,null,null,null,null,null,null,"# Units",null,null,"Target"]
[null,{"$f":"IF(ISBLANK('Project Description'!B42),0,'Project Description'!B42)","v":0},null,null,"General Occupancy"]
[null,{"$f":"IF(ISBLANK('Project Description'!B43),0,'Project Description'!B43)","v":0},null,null,"Families",null,null,null,null,null,null,null,null,null,null,null,null,null,null,null,null,null,null,null,null,null,null,{"$f":"IF(ISBLANK('Project Description'!I43),0,'Project Description'!I43)","v":0},null,null,"Homeless (not LTH)"]
[null,{"$f":"IF(ISBLANK('Project Description'!B44),0,'Project Description'!B44)","v":0},null,null,"Single Head of Households with Minor Children",null,null,null,null,null,null,null,null,null,null,null,null,null,null,null,null,null,null,null,null,null,null,{"$f":"IF(ISBLANK('Project Description'!I44),0,'Project Description'!I44)","v":0},null,null,"LTH Family"]
[null,{"$f":"IF(ISBLANK('Project Description'!B45),0,'Project Description'!B45)","v":0},null,null,"Individuals and Households of Color",null,null,null,null,null,null,null,null,null,null,null,null,null,null,null,null,null,null,null,null,null,null,{"$f":"IF(ISBLANK('Project Description'!I45),0,'Project Description'!I45)","v":0},null,null,"LTH Single Adults"]
[null,{"$f":"IF(ISBLANK('Project Description'!B46),0,'Project Description'!B46)","v":0},null,null,"Youth",null,null,null,null,null,null,null,null,null,null,null,null,null,null,null,null,null,null,null,null,null,null,{"$f":"IF(ISBLANK('Project Description'!I46),0,'Project Description'!I46)","v":0},null,null,"LTH Unaccompanied Youth"]
[null,{"$f":"IF(ISBLANK('Project Description'!B47),0,'Project Description'!B47)","v":0},null,null,"Single Men",null,null,null,null,null,null,null,null,null,null,null,null,null,null,null,null,null,null,null,null,null,null,{"$f":"IF(ISBLANK('Project Description'!I47),0,'Project Description'!I47)","v":0},null,null,"At Risk LTH (HIB)"]
[null,{"$f":"IF(ISBLANK('Project Description'!B48),0,'Project Description'!B48)","v":0},null,null,"Single Women",null,null,null,null,null,null,null,null,null,null,null,null,null,null,null,null,null,null,null,null,null,null,{"$f":"IF(ISBLANK('Project Description'!I48),0,'Project Description'!I48)","v":0},null,null,"Drug Dependent"]
[null,{"$f":"IF(ISBLANK('Project Description'!B49),0,'Project Description'!B49)","v":0},null,null,"Elderly",null,null,null,null,null,null,null,null,null,null,null,null,null,null,null,null,null,null,null,null,null,null,{"$f":"IF(ISBLANK('Project Description'!I49),0,'Project Description'!I49)","v":0},null,null,"Permanent Physical Disabilities"]
[null,{"$f":"IF(ISBLANK('Project Description'!B50),0,'Project Description'!B50)","v":0},null,null,"Disabled Individuals",null,null,null,null,null,null,null,null,null,null,null,null,null,null,null,null,null,null,null,null,null,null,{"$f":"IF(ISBLANK('Project Description'!I50),0,'Project Description'!I50)","v":0},null,null,"Developmental Disability"]
[null,{"$f":"IF(ISBLANK('Project Description'!B51),0,'Project Description'!B51)","v":0},null,null,"Persons with HIV/AIDS",null,null,null,null,null,null,null,null,null,null,null,null,null,null,null,null,null,null,null,null,null,null,{"$f":"IF(ISBLANK('Project Description'!I51),0,'Project Description'!I51)","v":0},null,null,"Brain Injury"]
[null,{"$f":"IF(ISBLANK('Project Description'!B52),0,'Project Description'!B52)","v":0},null,null,"Other:",null,null,null,null,null,null,null,null,null,null,null,null,null,null,null,null,null,null,null,null,null,null,{"$f":"IF(ISBLANK('Project Description'!I52),0,'Project Description'!I52)","v":0},null,null,"Serious Mental Illness"]
[null,null,null,null,null,null,null,null,null,null,null,null,null,null,null,null,null,null,null,null,null,null,null,null,null,null,null,{"$f":"IF(ISBLANK('Project Description'!I53),0,'Project Description'!I53)","v":0},null,null,"Serious and Persistent Mental Illness"]
[]
[]
[null,"First Mortgage / Deferred Loan Request                       \n",null,null,null,null,null,null,null,null,null,null,null,null,null,null,null,null,null,null,null,null,null,null,null,null,null,"Housing Tax Credit Request"]
[]
[null,null,null,"TYPE",null,null,null,null,null,null,null,null,null,null,null,null,null,null,null,"AMOUNT",null,null,null,null,null,null,null,null,"Type of Tax Credits requested from Minnesota Housing:"]
[null,null,null,"Minnesota Housing First Mortgage",null,null,null,null,null,null,null,null,null,null,null,null,null,null,null,{"$f":"IF(Controls1!M4 = TRUE, Sources!G15, 0)","v":0},null,null,null,null,null,null,null,null,"Housing Tax Credits - 4%"]
[null,null,null,"Minnesota Housing Tax Exempt Bonds - Long Term",null,null,null,null,null,null,null,null,null,null,null,null,null,null,null,null,null,null,null,null,null,null,null,null,"Housing Tax Credits - 9%"]
[null,null,null,"Minnesota Housing Tax Exempt Bonds - Short Term",null,null,null,null,null,null,null,null,null,null,null,null,null,null,null,null,null,null,null,null,null,null,null,null,"Dual Application"]
[null,null,null,"Deferred Loan(s)",null,null,null,null,null,null,null,null,null,null,null,null,null,null,null,{"$f":"IF(ISBLANK(Sources!G20),0,Sources!G20)","v":0},null,null,null,null,null,null,null,null,"HTC Request Amount:",null,null,null,null,null,null,{"$f":"MaxCreditRequested","v":0}]
[null,null,null,null,null,null,null,null,null,null,null,null,null,null,null,null,null,null,null,{"$f":"IF(InstructDefLoanRRDL=FALSE,\"\",Sources!G21)","v":""},null,null,null,null,null,null,null,null,null,null,null,null,null,null,null,null,null,null,null,"Request Status",null,null,null,null,null,null,null,null,null,"`"]
[null,null,null,null,null,null,null,null,null,null,null,null,null,null,null,null,null,null,null,null,null,null,null,null,null,null,null,null,null,null,null,null,null,null,null,null,null,null,null,"Reservation"]
[null,null,null,null,null,null,null,null,null,null,null,null,null,null,null,null,null,null,null,null,null,null,null,null,null,null,null,null,null,null,null,null,null,null,null,null,null,null,null,"Carryover"]
[null,"Subsidy Funding Request",null,null,null,null,null,null,null,"Name of Source",null,null,null,null,null,null,null,null,null,"# Units",null,"Amount",null,null,null,null,null,null,"Tax Credit Pool",null,null,null,null,null,null,null,null,null,null,"8609"]
[null,"Rental Assistance",null,null,null,null,null,null,null,null,null,null,null,null,null,null,null,null,null,null,null,null,null,null,null,null,null,null,"Metro",null,null,null,null,null,null,null,null,null,null,"Qualified Contact"]
[null,"Rental Assistance",null,null,null,null,null,null,null,null,null,null,null,null,null,null,null,null,null,null,null,null,null,null,null,null,null,null,"Greater MN",null,null,null,null,null,null,null,null,null,null,"42 M1 Letter"]
[null,"Operating Subsidy"]
[null,null,null,null,null,null,null,null,null,null,null,null,null,null,null,null,null,null,null,null,null,null,null,null,null,null,null,null,"Tax Credit Request Type",null,null,null,null,null,null,null,null,null,null,"Tax Credit Set-Aside"]
[null,"UNIT SUMMARIES",null,null,null,null,null,null,null,null,null,null,null,null,null,null,null,null,null,null,null,null,null,null,null,null,null,null,"First Request",null,null,null,null,null,null,null,null,null,null,"Non Profit"]
[null,null,null,null,null,null,null,null,null,null,null,null,null,null,null,null,null,null,null,null,null,null,null,null,null,null,null,null,"Supplemental",null,null,null,null,null,null,null,null,null,null,"Rural Development"]
[null,"Unit Type",null,null,null,null,null,null,"# Units",null,null,null,null,"Program Type",null,null,null,null,null,null,"# Units",null,null,null,null,null,null,null,"Repeat Request - not selected"]
[null,"0BR/SRO",null,null,null,null,null,null,{"$f":"SummUnitSum0BR","v":0},null,null,null,null,"HTC",null,null,null,null,null,null,{"$f":"Controls!BP72","v":0}]
[null,"1BR",null,null,null,null,null,null,{"$f":"SummUnitSum1BR","v":0},null,null,null,null,"HOME",null,null,null,null,null,null,{"$f":"Controls!BQ72","v":0}]
[null,"2BR",null,null,null,null,null,null,{"$f":"SummUnitSum2BR","v":0},null,null,null,null,"LTH",null,null,null,null,null,null,{"$f":"Controls!BR72","v":0},null,null,null,null,null,null,null,"Application to suballocator",null,null,null,null,null,null,null,null,null,{"$f":"'Funding Request'!L24","v":0}]
[null,"3BR",null,null,null,null,null,null,{"$f":"SummUnitSum3BR","v":0},null,null,null,null,"Market Rate",null,null,null,null,null,null,{"$f":"Controls!BO72","v":0},null,null,null,null,null,null,null,"Bond issuer if not MHFA",null,null,null,null,null,null,null,null,null,{"$f":"'Funding Request'!L25","v":0}]
[null,"4BR",null,null,null,null,null,null,{"$f":"SummUnitSum4BR","v":0},null,null,null,null,"Employee Occupied",null,null,null,null,null,null,{"$f":"Controls!BT72","v":0}]
[null,"5BR",null,null,null,null,null,null,{"$f":"SummUnitSum5BR","v":0},null,null,null,null,"Owner Occupied",null,null,null,null,null,null,{"$f":"Controls!BU72","v":0},null,null,null,null,null,null,null,"Previously Awarded Tax Credits:"]
[null,"6BR",null,null,null,null,null,null,{"$f":"SummUnitSum6BR","v":0},null,null,null,null,"Rent Assistance",null,null,null,null,null,null,{"$f":"Controls!BV72","v":0},null,null,null,null,null,null,null,null,"Allocator",null,null,{"$f":"'Funding Request'!E28","v":0},null,null,null,null,null,"Amount",null,{"$f":"'Funding Request'!L28","v":0}]
[null,"TOTAL UNITS",null,null,null,null,null,null,{"$f":"SUM(I57:K63)","v":0},null,null,null,null,"Operating Subsidy",null,null,null,null,null,null,{"$f":"Controls!BW72","v":0},null,null,null,null,null,null,null,null,"Allocator",null,null,{"$f":"'Funding Request'!E29","v":0},null,null,null,null,null,"Amount",null,{"$f":"'Funding Request'!L29","v":0}]
[null,null,null,null,null,null,null,null,null,null,null,null,null,null,null,null,null,null,null,null,null,null,null,null,null,null,null,null,null,"Allocator",null,null,{"$f":"'Funding Request'!E30","v":0},null,null,null,null,null,"Amount",null,{"$f":"'Funding Request'!L30","v":0}]
[]
[]
[null,"RENT GRID",null,null,null,null,null,null,null,null,null,null,null,null,null,null,null,null,null,null,null,null,null,null,null,null,null,null,null,null,null,null,"INCOME & EXPENSE"]
[]
[null,"Unit Type",null,null,"# of Units",null,"Approx Sq Ft",null,null,"Monthly Contract Rent",null,null,"Monthly Gross Rent",null,null,"Rent Limit",null,null,null,null,"Income Limit",null,null,"Program Type",null,null,null,null,null,null,null,null,"Income",null,null,null,null,null,null,null,null,null,"Amount"]
[null,null,null,null,null,null,null,null,null,null,null,null,null,null,null,null,null,null,null,null,null,null,null,"HTC","HOME","LTH",null,"Emp Occ","Own Occ","Rent Asst","Op Subs",null,"Housing Income",null,null,null,null,null,null,null,null,null,{"$f":"IF(ISBLANK('Housing Income'!G41),0,'Housing Income'!G41)","v":0}]
[null,null,null,null,null,null,null,null,null,null,null,null,null,null,null,null,null,null,null,null,null,null,null,null,null,null,null,null,null,null,null,null,"Covered Parking",null,null,null,null,null,null,null,null,null,{"$f":"IF(ISBLANK('Income & Expense'!H7),0,'Income & Expense'!F7*'Income & Expense'!H7 *12)","v":0}]
[null,null,null,null,null,null,null,null,null,null,null,null,null,null,null,null,null,null,null,null,null,null,null,null,null,null,null,null,null,null,null,null,"Surface Parking",null,null,null,null,null,null,null,null,null,{"$f":"IF(ISBLANK('Income & Expense'!H8),0,'Income & Expense'!F8*'Income & Expense'!H8 *12)","v":0}]
[null,null,null,null,null,null,null,null,null,null,null,null,null,null,null,null,null,null,null,null,null,null,null,null,null,null,null,null,null,null,null,null,"Commercial",null,null,null,null,null,null,null,null,null,{"$f":"IF(ISBLANK('Income & Expense'!J9),0,'Income & Expense'!J9)","v":0}]
[null,{"$f":"IF(ISBLANK('Housing Income'!B19),\"\",'Housing Income'!B19)","v":""},null,null,{"$f":"IF(ISBLANK($B75),0,'Housing Income'!D19)","v":0},null,{"$f":"IF(ISBLANK($B75),\"\",'Housing Income'!E19)","v":0},null,null,{"$f":"IF(ISBLANK($B75),0,'Housing Income'!F19)","v":0},null,null,{"$f":"IF(ISBLANK($B75),0,'Housing Income'!I19)","v":0},null,null,{"$f":"IF(ISBLANK($B75),0,'Housing Income'!J19)","v":0},null,null,null,null,{"$f":"IF(ISBLANK($B75),0,'Housing Income'!K19)","v":0}]
[null,{"$f":"IF(ISBLANK('Housing Income'!B20),\"\",'Housing Income'!B20)","v":""},null,null,{"$f":"IF(ISBLANK($B76),0,'Housing Income'!D20)","v":0},null,{"$f":"IF(ISBLANK($B76),\"\",'Housing Income'!E20)","v":0},null,null,{"$f":"IF(ISBLANK($B76),0,'Housing Income'!F20)","v":0},null,null,{"$f":"IF(ISBLANK($B76),0,'Housing Income'!I20)","v":0},null,null,{"$f":"IF(ISBLANK($B76),0,'Housing Income'!J20)","v":0},null,null,null,null,{"$f":"IF(ISBLANK($B76),0,'Housing Income'!K20)","v":0},null,null,null,null,null,null,null,null,null,null,null,"Gross Potential Rent",null,null,null,null,null,null,null,null,null,{"$f":"'Income & Expense'!J10","v":0}]
[null,{"$f":"IF(ISBLANK('Housing Income'!B21),\"\",'Housing Income'!B21)","v":""},null,null,{"$f":"IF(ISBLANK($B77),0,'Housing Income'!D21)","v":0},null,{"$f":"IF(ISBLANK($B77),\"\",'Housing Income'!E21)","v":0},null,null,{"$f":"IF(ISBLANK($B77),0,'Housing Income'!F21)","v":0},null,null,{"$f":"IF(ISBLANK($B77),0,'Housing Income'!I21)","v":0},null,null,{"$f":"IF(ISBLANK($B77),0,'Housing Income'!J21)","v":0},null,null,null,null,{"$f":"IF(ISBLANK($B77),0,'Housing Income'!K21)","v":0},null,null,null,null,null,null,null,null,null,null,null,"Total Other Income",null,null,null,null,null,null,null,null,null,{"$f":"'Income & Expense'!J18","v":0}]
[null,{"$f":"IF(ISBLANK('Housing Income'!B22),\"\",'Housing Income'!B22)","v":""},null,null,{"$f":"IF(ISBLANK($B78),0,'Housing Income'!D22)","v":0},null,{"$f":"IF(ISBLANK($B78),\"\",'Housing Income'!E22)","v":0},null,null,{"$f":"IF(ISBLANK($B78),0,'Housing Income'!F22)","v":0},null,null,{"$f":"IF(ISBLANK($B78),0,'Housing Income'!I22)","v":0},null,null,{"$f":"IF(ISBLANK($B78),0,'Housing Income'!J22)","v":0},null,null,null,null,{"$f":"IF(ISBLANK($B78),0,'Housing Income'!K22)","v":0},null,null,null,null,null,null,null,null,null,null,null,"Total Rental Loss",null,null,null,null,null,null,null,null,null,{"$f":"'Income & Expense'!J25","v":0}]
[null,{"$f":"IF(ISBLANK('Housing Income'!B23),\"\",'Housing Income'!B23)","v":""},null,null,{"$f":"IF(ISBLANK($B79),0,'Housing Income'!D23)","v":0},null,{"$f":"IF(ISBLANK($B79),\"\",'Housing Income'!E23)","v":0},null,null,{"$f":"IF(ISBLANK($B79),0,'Housing Income'!F23)","v":0},null,null,{"$f":"IF(ISBLANK($B79),0,'Housing Income'!I23)","v":0},null,null,{"$f":"IF(ISBLANK($B79),0,'Housing Income'!J23)","v":0},null,null,null,null,{"$f":"IF(ISBLANK($B79),0,'Housing Income'!K23)","v":0},null,null,null,null,null,null,null,null,null,null,null,"Net Rental Income",null,null,null,null,null,null,null,null,null,{"$f":"'Income & Expense'!J27","v":0}]
[null,{"$f":"IF(ISBLANK('Housing Income'!B24),\"\",'Housing Income'!B24)","v":""},null,null,{"$f":"IF(ISBLANK($B80),0,'Housing Income'!D24)","v":0},null,{"$f":"IF(ISBLANK($B80),\"\",'Housing Income'!E24)","v":0},null,null,{"$f":"IF(ISBLANK($B80),0,'Housing Income'!F24)","v":0},null,null,{"$f":"IF(ISBLANK($B80),0,'Housing Income'!I24)","v":0},null,null,{"$f":"IF(ISBLANK($B80),0,'Housing Income'!J24)","v":0},null,null,null,null,{"$f":"IF(ISBLANK($B80),0,'Housing Income'!K24)","v":0},null,null,null,null,null,null,null,null,null,null,null,"Expense",null,null,null,null,null,null,null,null,null,"Amount"]
[null,{"$f":"IF(ISBLANK('Housing Income'!B25),\"\",'Housing Income'!B25)","v":""},null,null,{"$f":"IF(ISBLANK($B81),0,'Housing Income'!D25)","v":0},null,{"$f":"IF(ISBLANK($B81),\"\",'Housing Income'!E25)","v":0},null,null,{"$f":"IF(ISBLANK($B81),0,'Housing Income'!F25)","v":0},null,null,{"$f":"IF(ISBLANK($B81),0,'Housing Income'!I25)","v":0},null,null,{"$f":"IF(ISBLANK($B81),0,'Housing Income'!J25)","v":0},null,null,null,null,{"$f":"IF(ISBLANK($B81),0,'Housing Income'!K25)","v":0},null,null,null,null,null,null,null,null,null,null,null,"Administrative",null,null,null,null,null,null,null,null,null,{"$f":"'Income & Expense'!J41","v":0}]
[null,{"$f":"IF(ISBLANK('Housing Income'!B26),\"\",'Housing Income'!B26)","v":""},null,null,{"$f":"IF(ISBLANK($B82),0,'Housing Income'!D26)","v":0},null,{"$f":"IF(ISBLANK($B82),\"\",'Housing Income'!E26)","v":0},null,null,{"$f":"IF(ISBLANK($B82),0,'Housing Income'!F26)","v":0},null,null,{"$f":"IF(ISBLANK($B82),0,'Housing Income'!I26)","v":0},null,null,{"$f":"IF(ISBLANK($B82),0,'Housing Income'!J26)","v":0},null,null,null,null,{"$f":"IF(ISBLANK($B82),0,'Housing Income'!K26)","v":0},null,null,null,null,null,null,null,null,null,null,null,"Maintenance",null,null,null,null,null,null,null,null,null,{"$f":"'Income & Expense'!J55","v":0}]
[null,{"$f":"IF(ISBLANK('Housing Income'!B27),\"\",'Housing Income'!B27)","v":""},null,null,{"$f":"IF(ISBLANK($B83),0,'Housing Income'!D27)","v":0},null,{"$f":"IF(ISBLANK($B83),\"\",'Housing Income'!E27)","v":0},null,null,{"$f":"IF(ISBLANK($B83),0,'Housing Income'!F27)","v":0},null,null,{"$f":"IF(ISBLANK($B83),0,'Housing Income'!I27)","v":0},null,null,{"$f":"IF(ISBLANK($B83),0,'Housing Income'!J27)","v":0},null,null,null,null,{"$f":"IF(ISBLANK($B83),0,'Housing Income'!K27)","v":0},null,null,null,null,null,null,null,null,null,null,null,"Utilities",null,null,null,null,null,null,null,null,null,{"$f":"'Income & Expense'!J60","v":0}]
[null,{"$f":"IF(ISBLANK('Housing Income'!B28),\"\",'Housing Income'!B28)","v":""},null,null,{"$f":"IF(ISBLANK($B84),0,'Housing Income'!D28)","v":0},null,{"$f":"IF(ISBLANK($B84),\"\",'Housing Income'!E28)","v":0},null,null,{"$f":"IF(ISBLANK($B84),0,'Housing Income'!F28)","v":0},null,null,{"$f":"IF(ISBLANK($B84),0,'Housing Income'!I28)","v":0},null,null,{"$f":"IF(ISBLANK($B84),0,'Housing Income'!J28)","v":0},null,null,null,null,{"$f":"IF(ISBLANK($B84),0,'Housing Income'!K28)","v":0},null,null,null,null,null,null,null,null,null,null,null,"Unique Operating Expenses",null,null,null,null,null,null,null,null,null,{"$f":"IF('Income & Expense'!J62=0,0,'Income & Expense'!J62)","v":0}]
[null,{"$f":"IF(ISBLANK('Housing Income'!B29),\"\",'Housing Income'!B29)","v":""},null,null,{"$f":"IF(ISBLANK($B85),0,'Housing Income'!D29)","v":0},null,{"$f":"IF(ISBLANK($B85),\"\",'Housing Income'!E29)","v":0},null,null,{"$f":"IF(ISBLANK($B85),0,'Housing Income'!F29)","v":0},null,null,{"$f":"IF(ISBLANK($B85),0,'Housing Income'!I29)","v":0},null,null,{"$f":"IF(ISBLANK($B85),0,'Housing Income'!J29)","v":0},null,null,null,null,{"$f":"IF(ISBLANK($B85),0,'Housing Income'!K29)","v":0},null,null,null,null,null,null,null,null,null,null,null,"Insurance",null,null,null,null,null,null,null,null,null,{"$f":"'Income & Expense'!J64","v":0}]
[null,{"$f":"IF(ISBLANK('Housing Income'!B30),\"\",'Housing Income'!B30)","v":""},null,null,{"$f":"IF(ISBLANK($B86),0,'Housing Income'!D30)","v":0},null,{"$f":"IF(ISBLANK($B86),\"\",'Housing Income'!E30)","v":0},null,null,{"$f":"IF(ISBLANK($B86),0,'Housing Income'!F30)","v":0},null,null,{"$f":"IF(ISBLANK($B86),0,'Housing Income'!I30)","v":0},null,null,{"$f":"IF(ISBLANK($B86),0,'Housing Income'!J30)","v":0},null,null,null,null,{"$f":"IF(ISBLANK($B86),0,'Housing Income'!K30)","v":0},null,null,null,null,null,null,null,null,null,null,null,"Total M & O",null,null,null,null,null,null,null,null,null,{"$f":"'Income & Expense'!J66","v":0}]
[null,{"$f":"IF(ISBLANK('Housing Income'!B31),\"\",'Housing Income'!B31)","v":""},null,null,{"$f":"IF(ISBLANK($B87),0,'Housing Income'!D31)","v":0},null,{"$f":"IF(ISBLANK($B87),\"\",'Housing Income'!E31)","v":0},null,null,{"$f":"IF(ISBLANK($B87),0,'Housing Income'!F31)","v":0},null,null,{"$f":"IF(ISBLANK($B87),0,'Housing Income'!I31)","v":0},null,null,{"$f":"IF(ISBLANK($B87),0,'Housing Income'!J31)","v":0},null,null,null,null,{"$f":"IF(ISBLANK($B87),0,'Housing Income'!K31)","v":0},null,null,null,null,null,null,null,null,null,null,null,"Reserves & Escrows",null,null,null,null,null,null,null,null,null,{"$f":"'Income & Expense'!J71","v":0}]
[null,{"$f":"IF(ISBLANK('Housing Income'!B32),\"\",'Housing Income'!B32)","v":""},null,null,{"$f":"IF(ISBLANK($B88),0,'Housing Income'!D32)","v":0},null,{"$f":"IF(ISBLANK($B88),\"\",'Housing Income'!E32)","v":0},null,null,{"$f":"IF(ISBLANK($B88),0,'Housing Income'!F32)","v":0},null,null,{"$f":"IF(ISBLANK($B88),0,'Housing Income'!I32)","v":0},null,null,{"$f":"IF(ISBLANK($B88),0,'Housing Income'!J32)","v":0},null,null,null,null,{"$f":"IF(ISBLANK($B88),0,'Housing Income'!K32)","v":0},null,null,null,null,null,null,null,null,null,null,null,"Effective Gross Expense",null,null,null,null,null,null,null,null,null,{"$f":"'Income & Expense'!J73","v":0}]
[null,{"$f":"IF(ISBLANK('Housing Income'!B33),\"\",'Housing Income'!B33)","v":""},null,null,{"$f":"IF(ISBLANK($B89),0,'Housing Income'!D33)","v":0},null,{"$f":"IF(ISBLANK($B89),\"\",'Housing Income'!E33)","v":0},null,null,{"$f":"IF(ISBLANK($B89),0,'Housing Income'!F33)","v":0},null,null,{"$f":"IF(ISBLANK($B89),0,'Housing Income'!I33)","v":0},null,null,{"$f":"IF(ISBLANK($B89),0,'Housing Income'!J33)","v":0},null,null,null,null,{"$f":"IF(ISBLANK($B89),0,'Housing Income'!K33)","v":0},null,null,null,null,null,null,null,null,null,null,null,"Net Operating Income",null,null,null,null,null,null,null,null,null,"Amount"]
[null,{"$f":"IF(ISBLANK('Housing Income'!B34),\"\",'Housing Income'!B34)","v":""},null,null,{"$f":"IF(ISBLANK($B90),0,'Housing Income'!D34)","v":0},null,{"$f":"IF(ISBLANK($B90),\"\",'Housing Income'!E34)","v":0},null,null,{"$f":"IF(ISBLANK($B90),0,'Housing Income'!F34)","v":0},null,null,{"$f":"IF(ISBLANK($B90),0,'Housing Income'!I34)","v":0},null,null,{"$f":"IF(ISBLANK($B90),0,'Housing Income'!J34)","v":0},null,null,null,null,{"$f":"IF(ISBLANK($B90),0,'Housing Income'!K34)","v":0},null,null,null,null,null,null,null,null,null,null,null,"NOI",null,null,null,null,null,null,null,null,null,{"$f":"IncExpNetOperatingIncome","v":0}]
[null,{"$f":"IF(ISBLANK('Housing Income'!B35),\"\",'Housing Income'!B35)","v":""},null,null,{"$f":"IF(ISBLANK($B91),0,'Housing Income'!D35)","v":0},null,{"$f":"IF(ISBLANK($B91),\"\",'Housing Income'!E35)","v":0},null,null,{"$f":"IF(ISBLANK($B91),0,'Housing Income'!F35)","v":0},null,null,{"$f":"IF(ISBLANK($B91),0,'Housing Income'!I35)","v":0},null,null,{"$f":"IF(ISBLANK($B91),0,'Housing Income'!J35)","v":0},null,null,null,null,{"$f":"IF(ISBLANK($B91),0,'Housing Income'!K35)","v":0}]
[null,{"$f":"IF(ISBLANK('Housing Income'!B36),\"\",'Housing Income'!B36)","v":""},null,null,{"$f":"IF(ISBLANK($B92),0,'Housing Income'!D36)","v":0},null,{"$f":"IF(ISBLANK($B92),\"\",'Housing Income'!E36)","v":0},null,null,{"$f":"IF(ISBLANK($B92),0,'Housing Income'!F36)","v":0},null,null,{"$f":"IF(ISBLANK($B92),0,'Housing Income'!I36)","v":0},null,null,{"$f":"IF(ISBLANK($B92),0,'Housing Income'!J36)","v":0},null,null,null,null,{"$f":"IF(ISBLANK($B92),0,'Housing Income'!K36)","v":0},null,null,null,null,null,null,null,null,null,null,null,"EXPENSE SUMMARY"]
[null,{"$f":"IF(ISBLANK('Housing Income'!B37),\"\",'Housing Income'!B37)","v":""},null,null,{"$f":"IF(ISBLANK($B93),0,'Housing Income'!D37)","v":0},null,{"$f":"IF(ISBLANK($B93),\"\",'Housing Income'!E37)","v":0},null,null,{"$f":"IF(ISBLANK($B93),0,'Housing Income'!F37)","v":0},null,null,{"$f":"IF(ISBLANK($B93),0,'Housing Income'!I37)","v":0},null,null,{"$f":"IF(ISBLANK($B93),0,'Housing Income'!J37)","v":0},null,null,null,null,{"$f":"IF(ISBLANK($B93),0,'Housing Income'!K37)","v":0},null,null,null,null,null,null,null,null,null,null,null,"Total expense per Unit($)",null,null,null,null,null,null,null,null,null,{"$f":"IF(HousIncTotalUnits=0,0,IncExpEffGrossExpense/HousIncTotalUnits)","v":0}]
[null,{"$f":"IF(ISBLANK('Housing Income'!B38),\"\",'Housing Income'!B38)","v":""},null,null,{"$f":"IF(ISBLANK($B94),0,'Housing Income'!D38)","v":0},null,{"$f":"IF(ISBLANK($B94),\"\",'Housing Income'!E38)","v":0},null,null,{"$f":"IF(ISBLANK($B94),0,'Housing Income'!F38)","v":0},null,null,{"$f":"IF(ISBLANK($B94),0,'Housing Income'!I38)","v":0},null,null,{"$f":"IF(ISBLANK($B94),0,'Housing Income'!J38)","v":0},null,null,null,null,{"$f":"IF(ISBLANK($B94),0,'Housing Income'!K38)","v":0},null,null,null,null,null,null,null,null,null,null,null,"Total expense per Unit(% of Revenue)",null,null,null,null,null,null,null,null,null,{"$f":"IF(OR(IncExpNetRentIncPerTotRev=\"\",IncExpNetRentIncPerTotRev=0),0,IF(IncExpEffGrossExpense=\"\",0,IncExpEffGrossExpense/IncExpNetRentIncPerTotRev))","v":0}]
[null,{"$f":"IF(ISBLANK('Housing Income'!B39),\"\",'Housing Income'!B39)","v":""},null,null,{"$f":"IF(ISBLANK($B95),0,'Housing Income'!D39)","v":0},null,{"$f":"IF(ISBLANK($B95),0,'Housing Income'!E39)","v":0},null,null,{"$f":"IF(ISBLANK($B95),0,'Housing Income'!F39)","v":0},null,null,{"$f":"IF(ISBLANK($B95),0,'Housing Income'!I39)","v":0},null,null,{"$f":"IF(ISBLANK($B95),0,'Housing Income'!J39)","v":0},null,null,null,null,{"$f":"IF(ISBLANK($B95),0,'Housing Income'!K39)","v":0},null,null,null,null,null,null,null,null,null,null,null,"M & O Per Room",null,null,null,null,null,null,null,null,null,{"$f":"IF(HousIncTotalRooms=0,0, TotalMandO/HousIncTotalRooms)","v":0}]
[null,"TOTALS",null,null,{"$f":"'Housing Income'!D41","v":0},null,null,null,null,{"$f":"'Housing Income'!G41","v":0},null,null,null,null,null,null,null,null,null,null,null,null,null,null,null,null,null,null,null,null,null,null,"M & O/Unit/Year",null,null,null,null,null,null,null,null,null,{"$f":"IF(HousIncTotalUnits=0,0,(IncExpTotMgmtAndOperating)/HousIncTotalUnits)","v":0}]
[]
[null,"UNDERWRITING ASSUMPTIONS"]
[]
[null,"Residential Vacancy",null,null,null,null,null,null,{"$f":"IncExpRentLossRentVacancy","v":7.0000000000000007E-2},null,null,null,null,null,null,"Income Inflator",null,null,null,null,{"$f":"CashFlowIncomeInflator","v":0.02},null,null,null,null,null,"DCR Year 1",null,null,null,{"$f":"CashFlowdebtservYe1","v":0},null,null,null,null,null,null,"Loan Rate",null,null,{"$f":"MortCalcActMortIntRate","v":0}]
[null,"Parking Vacancy",null,null,null,null,null,null,{"$f":"IncExpRentLossParkingVacancy","v":0.1},null,null,null,null,null,null,"Expense Inflator",null,null,null,null,{"$f":"CashFlowExpenseInflator","v":0.03},null,null,null,null,null,"DCR Year 15",null,null,null,{"$f":"CashFlowdebtservYe15","v":0},null,null,null,null,null,null,"MIP",null,null,{"$f":"MortCalcActMortMIP","v":0}]
[null,"Commercial Vacancy",null,null,null,null,null,null,{"$f":"IncExpRentLossCommVacancy","v":0.1},null,null,null,null,null,null,"Cap Rate",null,null,null,null,{"$f":"CashFlowCapRate","v":7.0000000000000007E-2}]
[]
[null,"SOURCES AND USES"]
[]
[null,"Permanent Capital Funding Sources",null,null,null,null,null,null,null,null,null,null,null,null,null,null,null,null,null,null,null,null,null,"Uses"]
[null,"Source",null,null,null,null,null,null,null,null,null,null,"Amount",null,null,null,"Per Unit",null,null,"Committed",null,null,null,"Description",null,null,null,null,null,null,null,null,null,null,"Amount",null,null,null,"Per Unit",null,null,"% of Total"]
[null,{"$f":"IF(Sources!B15=0,\"\",Sources!B15)","v":"First Mortgage"},null,null,null,null,null,null,null,null,null,null,{"$f":"IF(ISBLANK(Sources!G15),0,Sources!G15)","v":0},null,null,null,{"$f":"IF(ISBLANK(Sources!H15),0,Sources!H15)","v":0},null,null,null,null,null,null,"Acquisition or Refinance",null,null,null,null,null,null,null,null,null,null,{"$f":"'Development Costs'!H14","v":0},null,null,null,{"$f":"'Development Costs'!I14","v":0},null,null,{"$f":"IF(AI$120=0,0,AI108/AI$120)","v":0}]
[null,{"$f":"IF(Sources!B16=0,\"\",Sources!B16)","v":"General Partner Cash"},null,null,null,null,null,null,null,null,null,null,{"$f":"IF(ISBLANK(Sources!G16),0,Sources!G16)","v":0},null,null,null,{"$f":"IF(ISBLANK(Sources!H16),0,Sources!H16)","v":0},null,null,null,null,null,null,"New Construction",null,null,null,null,null,null,null,null,null,null,{"$f":"'Development Costs'!H24","v":0},null,null,null,{"$f":"'Development Costs'!I24","v":0},null,null,0]
[null,{"$f":"IF(Sources!B17=0,\"\",Sources!B17)","v":"Syndication Proceeds"},null,null,null,null,null,null,null,null,null,null,{"$f":"IF(ISBLANK(Sources!G17),0,Sources!G17)","v":0},null,null,null,{"$f":"IF(ISBLANK(Sources!H17),0,Sources!H17)","v":0},null,null,null,null,null,null,"Rehabilitation",null,null,null,null,null,null,null,null,null,null,{"$f":"'Development Costs'!H33","v":0},null,null,null,{"$f":"'Development Costs'!I33","v":0},null,null,0]
[null,{"$f":"IF(Sources!B18=0,\"\",Sources!B18)","v":"State Historic Proceeds"},null,null,null,null,null,null,null,null,null,null,{"$f":"IF(ISBLANK(Sources!G18),0,Sources!G18)","v":0},null,null,null,{"$f":"IF(ISBLANK(Sources!H18),0,Sources!H18)","v":0},null,null,null,null,null,null,"Contractor Fees",null,null,null,null,null,null,null,null,null,null,{"$f":"SUM('Development Costs'!H35:H37)","v":0},null,null,null,{"$f":"SUM('Development Costs'!I35:I37)","v":0},null,null,0]
[null,{"$f":"IF(Sources!B19=0,\"\",Sources!B19)","v":"Federal Historic Proceeds"},null,null,null,null,null,null,null,null,null,null,{"$f":"IF(ISBLANK(Sources!G19),0,Sources!G19)","v":0},null,null,null,{"$f":"IF(ISBLANK(Sources!H19),0,Sources!H19)","v":0},null,null,null,null,null,null,"Contingency",null,null,null,null,null,null,null,null,null,null,{"$f":"'Development Costs'!H39","v":0},null,null,null,{"$f":"+'Development Costs'!I39","v":0},null,null,0]
[null,{"$f":"IF(Sources!B20=0,\"\",Sources!B20)","v":"Deferred Loan Request"},null,null,null,null,null,null,null,null,null,null,{"$f":"IF(ISBLANK(Sources!G20),0,Sources!G20)","v":0},null,null,null,{"$f":"IF(ISBLANK(Sources!H20),0,Sources!H20)","v":0},null,null,null,null,null,null,"Environmental Abatement",null,null,null,null,null,null,null,null,null,null,{"$f":"'Development Costs'!H47","v":0},null,null,null,{"$f":"'Development Costs'!I47","v":0},null,null,0]
[null,{"$f":"IF(Sources!B21=0,\"\",Sources!B21)","v":""},null,null,null,null,null,null,null,null,null,null,{"$f":"IF(ISBLANK(Sources!G21),0,Sources!G21)","v":0},null,null,null,{"$f":"IF(ISBLANK(Sources!H21),0,Sources!H21)","v":0},null,null,null,null,null,null,"Professional Fees",null,null,null,null,null,null,null,null,null,null,{"$f":"'Development Costs'!H75","v":0},null,null,null,{"$f":"'Development Costs'!I75","v":0},null,null,0]
[null,{"$f":"IF(Sources!B22=0,\"\",Sources!B22)","v":""},null,null,null,null,null,null,null,null,null,null,{"$f":"IF(ISBLANK(Sources!G22),0,Sources!G22)","v":0},null,null,null,{"$f":"IF(ISBLANK(Sources!H22),0,Sources!H22)","v":0},null,null,null,null,null,null,"Developer Fees",null,null,null,null,null,null,null,null,null,null,{"$f":"'Development Costs'!H82","v":0},null,null,null,{"$f":"'Development Costs'!I82","v":0},null,null,0]
[null,{"$f":"IF(Sources!B23=0,\"\",Sources!B23)","v":""},null,null,null,null,null,null,null,null,null,null,{"$f":"IF(ISBLANK(Sources!G23),0,Sources!G23)","v":0},null,null,null,{"$f":"IF(ISBLANK(Sources!H23),0,Sources!H23)","v":0},null,null,null,null,null,null,"Syndicator Fees",null,null,null,null,null,null,null,null,null,null,{"$f":"'Development Costs'!H89","v":0},null,null,null,{"$f":"'Development Costs'!I89","v":0},null,null,0]
[null,{"$f":"IF(Sources!B24=0,\"\",Sources!B24)","v":""},null,null,null,null,null,null,null,null,null,null,{"$f":"IF(ISBLANK(Sources!G24),0,Sources!G24)","v":0},null,null,null,{"$f":"IF(ISBLANK(Sources!H24),0,Sources!H24)","v":0},null,null,null,null,null,null,"Financing Costs",null,null,null,null,null,null,null,null,null,null,{"$f":"'Development Costs'!H119","v":0},null,null,null,{"$f":"'Development Costs'!I119","v":0},null,null,0]
[null,{"$f":"IF(Sources!B25=0,\"\",Sources!B25)","v":""},null,null,null,null,null,null,null,null,null,null,{"$f":"IF(ISBLANK(Sources!G25),0,Sources!G25)","v":0},null,null,null,{"$f":"IF(ISBLANK(Sources!H25),0,Sources!H25)","v":0},null,null,null,null,null,null,"TOTAL MORTGAGEABLE",null,null,null,null,null,null,null,null,null,null,{"$f":"'Development Costs'!H120","v":0},null,null,null,{"$f":"'Development Costs'!I120","v":0},null,null,0]
[null,{"$f":"IF(Sources!B26=0,\"\",Sources!B26)","v":""},null,null,null,null,null,null,null,null,null,null,{"$f":"IF(ISBLANK(Sources!G26),0,Sources!G26)","v":0},null,null,null,{"$f":"IF(ISBLANK(Sources!H26),0,Sources!H26)","v":0},null,null,null,null,null,null,"Reserves and Non-Mortgageable",null,null,null,null,null,null,null,null,null,null,{"$f":"'Development Costs'!H127","v":0},null,null,null,{"$f":"'Development Costs'!I127","v":0},null,null,0]
[null,{"$f":"IF(Sources!B27=0,\"\",Sources!B27)","v":""},null,null,null,null,null,null,null,null,null,null,{"$f":"IF(ISBLANK(Sources!G27),0,Sources!G27)","v":0},null,null,null,{"$f":"IF(ISBLANK(Sources!H27),0,Sources!H27)","v":0},null,null,null,null,null,null,"TOTAL DEVELOPMENT COST",null,null,null,null,null,null,null,null,null,null,{"$f":"'Development Costs'!H129","v":0},null,null,null,{"$f":"'Development Costs'!I129","v":0},null,null,0]
[null,{"$f":"IF(Sources!B28=0,\"\",Sources!B28)","v":""},null,null,null,null,null,null,null,null,null,null,{"$f":"IF(ISBLANK(Sources!G28),0,Sources!G28)","v":0},null,null,null,{"$f":"IF(ISBLANK(Sources!H28),0,Sources!H28)","v":0}]
[null,{"$f":"IF(Sources!B29=0,\"\",Sources!B29)","v":""},null,null,null,null,null,null,null,null,null,null,{"$f":"IF(ISBLANK(Sources!G29),0,Sources!G29)","v":0},null,null,null,{"$f":"IF(ISBLANK(Sources!H29),0,Sources!H29)","v":0}]
[null,{"$f":"IF(Sources!B30=0,\"\",Sources!B30)","v":""},null,null,null,null,null,null,null,null,null,null,{"$f":"IF(ISBLANK(Sources!G30),0,Sources!G30)","v":0},null,null,null,{"$f":"IF(ISBLANK(Sources!H30),0,Sources!H30)","v":0}]
[null,{"$f":"IF(Sources!B31=0,\"\",Sources!B31)","v":""},null,null,null,null,null,null,null,null,null,null,{"$f":"IF(ISBLANK(Sources!G31),0,Sources!G31)","v":0},null,null,null,{"$f":"IF(ISBLANK(Sources!H31),0,Sources!H31)","v":0}]
[null,{"$f":"IF(Sources!B32=0,\"\",Sources!B32)","v":""},null,null,null,null,null,null,null,null,null,null,{"$f":"IF(ISBLANK(Sources!G32),0,Sources!G32)","v":0},null,null,null,{"$f":"IF(ISBLANK(Sources!H32),0,Sources!H32)","v":0}]
[null,{"$f":"IF(Sources!B33=0,\"\",Sources!B33)","v":"Deferred Developer Fee"},null,null,null,null,null,null,null,null,null,null,{"$f":"IF(ISBLANK(Sources!G33),0,Sources!G33)","v":0},null,null,null,{"$f":"IF(ISBLANK(Sources!H33),0,Sources!H33)","v":0}]
[null,"TOTAL PERMANENT FINANCING",null,null,null,null,null,null,null,null,null,null,{"$f":"Sources!G34","v":0},null,null,null,{"$f":"Sources!H34","v":0}]
[null,{"$f":"IF(Sources!B35=0,\"\",Sources!B35)","v":"FUNDING GAP REMAINING"},null,null,null,null,null,null,null,null,null,null,{"$f":"Sources!G35","v":0},null,null,null,{"$f":"Sources!H35","v":0}]
[]
[null,"Construction Sources",null,null,null,null,null,null,null,null,null,null,null,null,null,null,null,null,null,null,null,null,null,"Subsidy Funding Sources"]
[null,"Source",null,null,null,null,null,null,null,null,null,null,"Amount",null,null,null,"Per Unit",null,null,"Committed",null,null,null,"Name of Source",null,null,null,null,null,null,null,null,null,null,"Amount",null,null,null,"# Unit",null,null,null,"Committed"]
[null,{"$f":"IF(Sources!B6=\"\",\"\",Sources!B6)","v":""},null,null,null,null,null,null,null,null,null,null,{"$f":"IF(ISBLANK(Sources!G6),0,Sources!G6)","v":0},null,null,null,{"$f":"IF(Sources!H6=0,0,Sources!H6)","v":0},null,null,null,null,null,null,{"$f":"IF(Sources!E39=\"\",\"\",Sources!E39)","v":""},null,null,null,null,null,null,null,null,null,null,{"$f":"IF(ISBLANK(Sources!K39),0,Sources!K39)","v":0},null,null,null,{"$f":"IF(ISBLANK(Sources!J39),0,Sources!J39)","v":0}]
[null,{"$f":"IF(Sources!B7=\"\",\"\",Sources!B7)","v":""},null,null,null,null,null,null,null,null,null,null,{"$f":"IF(ISBLANK(Sources!G7),0,Sources!G7)","v":0},null,null,null,{"$f":"IF(Sources!H7=0,0,Sources!H7)","v":0},null,null,null,null,null,null,{"$f":"IF(Sources!E40=\"\",\"\",Sources!E40)","v":""},null,null,null,null,null,null,null,null,null,null,{"$f":"IF(ISBLANK(Sources!K40),0,Sources!K40)","v":0},null,null,null,{"$f":"IF(ISBLANK(Sources!J40),0,Sources!J40)","v":0}]
[null,{"$f":"IF(Sources!B8=\"\",\"\",Sources!B8)","v":""},null,null,null,null,null,null,null,null,null,null,{"$f":"IF(ISBLANK(Sources!G8),0,Sources!G8)","v":0},null,null,null,{"$f":"IF(Sources!H8=0,0,Sources!H8)","v":0},null,null,null,null,null,null,{"$f":"IF(Sources!E41=\"\",\"\",Sources!E41)","v":""},null,null,null,null,null,null,null,null,null,null,{"$f":"IF(ISBLANK(Sources!K41),0,Sources!K41)","v":0},null,null,null,{"$f":"IF(ISBLANK(Sources!J41),0,Sources!J41)","v":0}]
[null,{"$f":"IF(Sources!B9=\"\",\"\",Sources!B9)","v":""},null,null,null,null,null,null,null,null,null,null,{"$f":"IF(ISBLANK(Sources!G9),0,Sources!G9)","v":0},null,null,null,{"$f":"IF(Sources!H9=0,0,Sources!H9)","v":0},null,null,null,null,null,null,{"$f":"IF(Sources!E42=\"\",\"\",Sources!E42)","v":""},null,null,null,null,null,null,null,null,null,null,{"$f":"IF(ISBLANK(Sources!K42),0,Sources!K42)","v":0},null,null,null,{"$f":"IF(ISBLANK(Sources!J42),0,Sources!J42)","v":0}]
[null,{"$f":"IF(Sources!B10=\"\",\"\",Sources!B10)","v":""},null,null,null,null,null,null,null,null,null,null,{"$f":"IF(ISBLANK(Sources!G10),0,Sources!G10)","v":0},null,null,null,{"$f":"IF(Sources!H10=0,0,Sources!H10)","v":0},null,null,null,null,null,null,"TOTAL OF SUBSIDY FUNDING",null,null,null,null,null,null,null,null,null,null,{"$f":"IF(ISBLANK(Sources!K43),0,Sources!K43)","v":0},null,null,null,{"$f":"IF(ISBLANK(Sources!J43),0,Sources!J43)","v":0}]
[null,"TOTAL OF CONSTRUCTION FINANCING",null,null,null,null,null,null,null,null,null,null,{"$f":"IF(ISBLANK(Sources!G11),\"\",Sources!G11)","v":0},null,null,null,{"$f":"IF(Sources!H11=\"\",\"\",Sources!H11)","v":0}]

{"sheet":"Funding Request","index":9,"n_rows":52,"n_cols":15,"rows_kept":52,"cut":false,"hidden":false,"merged":[[59,2,59,3],[27,4,27,8],[27,11,27,12],[28,4,28,8],[28,11,28,12],[29,4,29,8],[29,11,29,12],[32,1,32,15],[38,1,38,15],[47,1,47,15],[51,5,51,9],[44,5,44,9],[17,14,17,15],[19,3,19,6],[37,5,37,9],[20,3,20,6],[23,11,23,13],[24,11,24,15],[5,3,5,15],[0,1,0,15],[1,1,1,15],[3,1,3,15],[18,3,18,6],[6,3,6,15],[7,3,7,15],[8,3,8,15],[9,3,9,15],[11,1,11,15],[12,11,12,13],[12,14,12,15],[13,14,13,15],[14,14,14,15],[15,14,15,15],[16,14,16,15]]}
[null,"FUNDING REQUEST"]
[null,"Indicate the type(s) of funding you are requesting by placing a checkmark next to the desired funding type(s).  "]
[]
[null,"FIRST MORTGAGE / DEFERRED LOAN REQUEST"]
[]
[null,null,null,"Minnesota Housing First Mortgage"]
[null,null,null,"Minnesota Housing Tax Exempt Bonds - Long Term"]
[null,null,null,"Minnesota Housing Tax Exempt Bonds - Short Term"]
[null,null,null,"Deferred Loan(s) (includes Minnesota Housing, Family Housing Fund, Greater Minnesota Housing Fund, and DEED resources)"]
[]
[null,null,{"$f":"IF(InstructRRDLAndOthersWarning= TRUE, \"Cannot apply for RRDL in addition to other types of funding\", IF(RRDL1typecheck > 1, \"You may only select one Rental Rehabilitation Loan Type\", \"\"))","v":""}]
[null,"HOUSING TAX CREDIT REQUEST"]
[null,"Type of Tax Credits requested from Minnesota Housing:",null,null,null,null,null,null,"Tax Credit Pool",null,null,"Request Status:",null,null,"Issuance Date:"]
[null,null,null,"Housing Tax Credits - 4%",null,null,null,null,null,"Metro",null,null," Reservation"]
[null,null,null,"Housing Tax Credits - 9%",null,null,null,null,null,"Greater MN",null,null," Carryover"]
[null,null,null,"This is part of dual 4% / 9% application",null,null,null,null,null,"N/A",null,null," 8609"]
[null,null,null,null,null,null,null,null,null,null,null,null," Qualified Contract"]
[null,"Tax Credit Request Type:",null,null,null,null,null,null,"Tax Credit Set-Aside",null,null,null," 42(m)(1)(D)"]
[null,null,null,"First Request",null,null,null,null,null,"Nonprofit",null,null," N/A"]
[null,null,null,"Supplemental Request",null,null,null,null,null,"Rural Development"]
[null,null,null,"Repeat Request - not selected",null,null,null,null,null,"N/A"]
[null,null,null,"N/A"]
[]
[null,"Are you applying to a Suballocator for Tax Credits?  Select Suballocator:"]
[null,"If bond project, who is issuing bonds if not Minnesota Housing?"]
[]
[null,"Previously Awarded Tax Credits:"]
[null,null,"Allocator",null,null,null,null,null,null,null,"Amount"]
[null,null,"Allocator",null,null,null,null,null,null,null,"Amount"]
[null,null,"Allocator",null,null,null,null,null,null,null,"Amount"]
[]
[null,"RENTAL ASSISTANCE REQUEST"]
[null,"The following types of Rental Assistance are available through the Multifamily Consolidated RFP.  In order to be considered for project based vouchers you must make a selection below.   Be sure to complete the 'Proposed Rental Assistance and/or Operating Subsidy Funding' section on the Sources tab where you will indicate the source of assistance, term, number of units and amount of subsidy requested."]
[null,null,null,"Metro HRA Project Based Vouchers"]
[null,null,null,"St. Paul PHA Project Based Vouchers"]
[null,null,null,"N/A"]
[null,null,null,"Section 811 Project Based Rental Assistance (811 PRA)"]
[null,null,null,"Other"]
[null,"Other Rental Assistance Request for Proposals:  Refer to Request for Proposals information on Minnesota Housing’s website.  Be sure to complete the ‘Proposed Rental Assistance and/or Operating Subsidy’ section on the Sources tab where you will indicate the source of assistance, number of units, and amount of subsidy requested. "]
[null,null,null,"Housing Opportunities for Persons with AIDS (HOPWA)"]
[null,null,null,"Housing Trust Fund (HTF) Rental Assistance"]
[null,null,null,"Section 811 Project Based Rental Assistance (811 PRA)"]
[null,null,null,"Bridges"]
[null,null,null,"N/A"]
[null,null,null,"Other"]
[]
[null,"OPERATING SUBSIDY REQUEST"]
[null,"Refer to Request for Proposals information on Minnesota Housing's Website.  Be sure to complete the 'Proposed Rental Assistance and/or Operating Subsidy' section on the sources tab where you will indicate the operating subsidy funding use type, number of units and amount of subsidy requested."]
[]
[null,null,null,"Operating Subsidy"]
[null,null,null,"N/A"]
[null,null,null,"Other"]

{"sheet":"Signature - Affirm. Action Stmt","index":10,"n_rows":29,"n_cols":8,"rows_kept":29,"cut":false,"hidden":false,"merged":[[0,1,1,12],[17,1,18,12],[22,2,22,5],[22,7,22,9]]}
[null,"AFFIRMATIVE ACTION STATEMENT"]
[]
[]
[null,"The Minnesota Human Rights Act states that any person or organization having 40 or more employees in the last 12 months in the"]
[null,"State of Minnesota and involved in any transaction of $100,000 or more with state agency must have Affirmative Action Plan"]
[null,"approved by the State Department of Human Rights.  Therefore,  no applications for $100,000 or more will be accepted unless they"]
[null,"include either:"]
[]
[null,null,"A.","A Certificate of Compliance from the State Department of Human Rights (For information call 651-296-5663)"]
[null,null,null,"(for organizations with 40 or more employees); or"]
[]
[null,null,"B.","A notarized statement stating that the applying organization has had less than 40 employees in the State"]
[null,null,null,"of Minnesota in the last 12 months."]
[]
[null,null,"C.","Provide information on how you intend to make opportunities available for women-owned or minority-"]
[null,null,null,"owned business enterprises."]
[]
[null,"AUTHORIZED SIGNATURE"]
[]
[null,"This application is submitted by the undersigned with the full knowledge and consent of the governing body and is accurate in all"]
[null,"details, to the undersigned's best knowledge."]
[]
[]
[null,null,"Signature",null,null,null,null,"Date"]
[]
[null,"The Minnesota Housing Finance Agency does not discriminate on the basis of race, color, national origin, sex, religion, age, or"]
[null,"disability in employment or the provision of services."]
[]
[null,null,null,null,"Equal Opportunity Housing and Equal Opportunity Employment"]

{"sheet":"HTC Owner Cert","index":11,"n_rows":58,"n_cols":3,"rows_kept":58,"cut":false,"hidden":false,"merged":[[25,4,25,7],[27,4,27,7],[11,1,11,12],[12,1,12,12],[15,1,15,12],[19,3,19,7],[21,3,21,7],[23,3,23,7],[9,1,9,10],[0,1,1,12],[2,1,2,12],[4,1,4,12],[6,1,6,10],[8,1,8,12]]}
[null,"TAX CREDIT STATEMENT AND CERTIFICATION OF APPLICANT/OWNER"]
[]
[null,"Individually, or as the general partner(s) or officers of the applicant entity (“Owner”), I (We) are familiar with the provisions of 42 U.S.C § 42 and its regulations (Section 42), as may be subsequently revised or amended, regarding Low-Income Housing Tax Credits (LIHTC). To the best of our knowledge and belief, the Owner has fully complied, or will fully comply, with all of the federal requirements which are prerequisite to the issuance of LIHTC by Minnesota Housing Finance Agency (Minnesota Housing). We understand that we must comply with the provisions of Section 42 and the relevant rules and regulations of the United States Internal Revenue Service regarding LIHTC. We also understand that we must comply with Minnesota Statutes chapter 462A, the Minnesota Housing LIHTC Qualified Allocation Plan and the Minnesota Housing LIHTC Program Procedural Manual.  "]
[]
[null,"I (We) hereby make application to Minnesota Housing for allocation of LIHTC.  The undersigned hereby acknowledge(s) that the making of an allocation by Minnesota Housing does not warrant that the project is deemed qualified to receive such allocation.  I (We) agree that neither Minnesota Housing nor any of its directors, officers, employees, or agents will be held responsible or liable for any representations made to the undersigned or its investors relating to the LIHTC.  I (We) assume the risk of all damages, losses, costs, and expenses related thereto and agree to indemnify and save harmless Minnesota Housing or any of its directors, officers, employees and agents against any and all claims, suits, losses, damages, costs and expenses of any kind and of any nature that Minnesota Housing may hereinafter suffer, incur, or pay arising out of its decision concerning the application for LIHTC or the use of the information provided concerning the LIHTC application."]
[]
[null,"I (We) also understand and agree that:"]
[]
[null,"(1) The information requested on this application and any attachments hereto are being collected to determine eligibility of the project under Section 42, the Minnesota Housing LIHTC Qualified Allocation Plan, and the Minnesota Housing LIHTC Program Procedural Manual.    "]
[null,"(2) Minnesota Housing may request additional information in order to evaluate this application."]
[null,"(3) An applicant who fails to complete all information requested will not be eligible for a reservation of HTC.  "]
[null,"(4) Certain provisions of Section 42 and regulations thereunder and Minnesota Statute Chapter 462A may change and as a result of said change may require the submission of additional documentation to Minnesota Housing."]
[null,"(5) Information requested in this application is public data which is accessible to the public pursuant to the Minnesota Government Data Practices Act  (Minnesota Statutes, Chapter 13)."]
[null,"(6)  This certification constitutes a material representation that Minnesota Housing is relying on in making its decision. "]
[]
[null,"I (We) hereby certify that the information contained in this application is true, correct and complete.  I (We) understand that any misrepresentations and/or fraudulent information made in this application may result in the rejection of the application or revocation of  the reservation or allocation of LIHTC by Minnesota Housing and may bar me (us) and related parties from future program participation, and the reporting of such misrepresentation and/or fraudulent information to the IRS."]
[]
[null,null,"Signature of General Partner "]
[]
[null,null,"by:   "]
[]
[null,null,"of:   "]
[]
[null,null,"its: "]
[]
[null,null,"Print name "]
[null,null,"of signatory,   "]
[null,null,"Date"]
[]
[null,null,"      The foregoing instrument was acknowledged before me this _______ day of ___________ , 20____,"]
[]
[null,null,"by _________________________________________ , the"]
[null,null,"                         (name)                                                                                     (title)"]
[null,null,"of ____________________________________ a ___________________________________ ."]
[null,null,"                  (Name of corporation) "]
[null,null,"Notary Public"]
[]
[null,null,"Signature of Nonprofit Partner (if applicable)"]
[]
[null,null,"by:   "]
[]
[null,null,"of:   "]
[]
[null,null,"its: "]
[]
[null,null,"Print name "]
[null,null,"of signatory,   "]
[null,null,"Date"]
[]
[null,null,"ss"]
[]
[null,null,"The foregoing instrument was acknowledged before me this ________ day of __________, 20_____,"]
[]
[null,null,"by _______________________________________, the _______________________________"]
[null,null,"                         (name)                                                                                            (title)"]
[null,null,"of _______________________________  a ________________________________________ ."]
[null,null,"                  (Name of corporation) "]
[null,null,"Notary Public"]

{"sheet":"Project Description","index":12,"n_rows":53,"n_cols":13,"rows_kept":53,"cut":false,"hidden":false,"merged":[[51,4,51,6],[45,2,45,7],[44,9,44,12],[48,2,48,7],[49,2,49,7],[50,2,50,7],[41,2,41,7],[41,9,41,12],[42,2,42,7],[42,9,42,12],[47,2,47,7],[47,9,47,12],[43,2,43,7],[43,9,43,12],[44,2,44,7],[45,9,45,12],[46,2,46,7],[46,9,46,12],[30,2,30,7],[30,9,30,14],[32,1,32,14],[33,2,33,6],[34,2,34,6],[35,2,35,6],[36,2,36,6],[37,2,37,6],[39,1,39,14],[40,2,40,7],[40,9,40,14],[29,2,29,7],[29,9,29,14],[21,2,21,7],[21,9,21,14],[22,2,22,7],[22,9,22,14],[23,2,23,7],[23,10,23,14],[24,2,24,7],[24,10,24,14],[26,1,26,14],[28,2,28,7],[28,9,28,14],[20,2,20,7],[20,9,20,14],[11,4,11,11],[12,4,12,8],[13,11,14,14],[13,4,13,8],[14,4,14,7],[15,12,15,13],[15,4,15,7],[16,4,16,7],[18,1,18,14],[19,2,19,7],[19,9,19,14],[10,4,10,11],[0,1,1,14],[2,1,2,14],[4,9,4,10],[4,13,4,14],[5,1,5,3],[5,4,5,6],[5,9,5,10],[5,13,5,14],[6,9,6,10],[6,13,6,14],[7,9,7,10],[7,13,7,14],[8,13,8,14],[3,8,3,12],[8,9,8,12]]}
[null,"PROJECT DESCRIPTION"]
[]
[null,"DEVELOPMENT LOCATION"]
[null,null,null,null,null,null,null,null,"MINNESOTA HOUSING USE ONLY:"]
[null,null,null,null,null,null,null,null,"Version Date",null,null,"HDO"]
[null,"Application Date",null,null,null,null,null,null,"D#",null,null,"HMO"]
[null,null,null,null,null,null,null,null,"Project #",null,null,"Architect"]
[null,null,null,null,null,null,null,null,"HTC #",null,null,"SHO"]
[null,null,null,null,null,null,null,null,"Version "]
[]
[null,"Development Name",null,null,null,null,null,null,null,null,null,null,"Year Built"]
[null,"Primary Address"]
[null,"City"]
[null,"Zip Code",null,null,null,null,null,null,null,null,null,"Enter Primary Address above. Enter aditional buildings on Buildings tab."]
[null,"County"]
[null,"Latitude",null,null,{"$f":"IF(OR(ISBLANK(E12), ISBLANK(ProjectDescCity)),\"\",lat_lon(E12,ProjectDescCity,\"MN\",\"USA\",E14,\"Lat\"))","v":""},null,null,null,"  Provide Latitude if no current address.",null,null,null,"Check if Multiple Buildings"]
[null,"Longitude",null,null,{"$f":"IF(OR(ISBLANK(E12), ISBLANK(ProjectDescCity)),\"\",lat_lon(E12,ProjectDescCity,\"MN\",\"USA\",E14,\"Lon\"))","v":""},null,null,null,"  Provide Longitude if no current address."]
[]
[null,"ACTIVITY TYPE (Check all that apply)"]
[null,null,"Acquisition",null,null,null,null,null,null,"New Construction"]
[null,null,"Refinance",null,null,null,null,null,null,"Conversion/Adaptive Re-use"]
[null,null,"Rehabilitation",null,null,null,null,null,null,"Stabilization"]
[null,null,"Historic Pres/Renovation",null,null,null,null,null,null,"Scattered Site Development"]
[null,null,"Demolition",null,null,null,null,null,null,"Other:"]
[null,null,"Rental Subsidy",null,null,null,null,null,null,"Other:"]
[]
[null,"MINNESOTA HOUSING STRATEGIC PRIORITIES (Enter the  number of units of each applicable Strategic Priority)"]
[null,"# Units",null,null,null,null,null,null,"# Units"]
[null,null,"Federally Assisted Housing",null,null,null,null,null,null,"Existing Housing Tax Credits"]
[null,null,"Homeless",null,null,null,null,null,null,"Foreclosure"]
[null,null,"New Affordable Housing",null,null,null,null,null,null,"Rehab not Federally Assisted or Existing Tax Credit"]
[]
[null,"PROPOSED HOUSING TYPE (Enter the number of units of each applicable housing type.)"]
[null,"# Units","Housing Type"]
[null,null,"Permanent Rental"]
[null,null,"Permanent Supportive Housing"]
[null,null,"Emergency Shelter"]
[null,null,"Transitional (up to 24 months)"]
[]
[null,"TARGET HOUSEHOLDS (Enter the number of units of each applicable population type being applied for.)"]
[null,"# Units","Population",null,null,null,null,null,"# Units","Population"]
[null,null,"General Occupancy"]
[null,null,"Families",null,null,null,null,null,null,"Homeless (not LTH)"]
[null,null,"Single Head of Households with Minor Children",null,null,null,null,null,null,"LTH Family"]
[null,null,"Individuals and Households of Color",null,null,null,null,null,null,"LTH Single Adults"]
[null,null,"Youth",null,null,null,null,null,null,"LTH Unaccompanied Youth"]
[null,null,"Single Men",null,null,null,null,null,null,"At Risk LTH (HIB)"]
[null,null,"Single Women",null,null,null,null,null,null,"Drug Dependent"]
[null,null,"Elderly",null,null,null,null,null,null,"Permanent Physical Disabilities"]
[null,null,"Disabled Individuals",null,null,null,null,null,null,"Developmental Disability"]
[null,null,"Persons with HIV/AIDS",null,null,null,null,null,null,"Brain Injury"]
[null,null,"Other:",null,null,null,null,null,null,"Serious Mental Illness"]
[null,null,null,null,null,null,null,null,null,"Serious and Persistent Mental Illness"]

{"sheet":"Property Information","index":13,"n_rows":66,"n_cols":15,"rows_kept":66,"cut":false,"hidden":false,"merged":[[68,1,68,3],[68,7,68,8],[69,1,69,3],[69,7,69,8],[70,1,70,3],[70,7,70,8],[65,1,65,3],[65,7,65,8],[66,1,66,3],[66,7,66,8],[67,1,67,3],[67,7,67,8],[60,1,60,3],[60,6,60,11],[61,1,61,3],[61,6,61,11],[62,1,62,3],[62,6,62,11],[54,1,54,3],[55,1,55,3],[58,1,58,3],[58,6,58,11],[59,1,59,3],[59,6,59,11],[53,1,53,3],[42,7,42,8],[43,7,43,8],[43,13,43,14],[44,7,44,8],[44,13,44,14],[47,1,47,3],[48,1,48,3],[49,1,49,3],[50,1,50,3],[51,1,51,3],[52,1,52,3],[39,1,39,3],[30,1,30,3],[31,1,31,3],[31,4,31,5],[32,1,32,3],[32,4,32,5],[33,1,33,3],[34,1,34,3],[35,1,35,3],[36,1,36,3],[37,1,37,3],[38,1,38,3],[28,1,28,3],[14,6,14,7],[14,11,14,12],[18,1,18,3],[19,1,19,3],[20,1,20,3],[21,1,21,3],[22,1,22,3],[23,1,23,3],[25,1,25,3],[26,1,26,3],[27,1,27,3],[12,2,12,4],[12,6,12,9],[12,11,12,12],[13,2,13,4],[13,6,13,9],[13,11,13,12],[11,2,11,4],[11,6,11,9],[11,11,11,12],[0,1,1,12],[4,9,4,10],[10,2,10,4],[10,6,10,9],[10,11,10,12]]}
[null,"PROPERTY INFORMATION"]
[]
[null,"SITE DESCRIPTION"]
[null,"Acres",null,null,null,null,"Project located in:",null,null,"Census Tract Number"]
[null,"Total Site Area Sq. Footage",null,null,{"$f":"IF(ISBLANK(E4), 0, E4*43560)","v":0},null,"Qualified Census Tract"]
[null,"Density (units/acre)",null,null,{"$f":"IF(OR(ISBLANK(E4), E4=0), 0,H24/ E4)","v":0},null,"Difficult Development Area",null,null,"If scattered site enter # for primary bldg"]
[null,null,null,null,null,null,"State Designated Basis Boost",null,null,{"$f":"IF(AND(PropInfoSiteDescDesBasisBoos = TRUE,OR(InstrDefLoanTaxExLngTrm=TRUE, InstrDefLoanTaxExShtTrm = TRUE, HTCInfoTaxExemtBondYes = TRUE)),\"Cannot get State Designated Basis Boost if obtaining Tax Exempt Bond financing.\",\"\")","v":""}]
[]
[null,"Unusual Site Features (Check all that apply and complete Form \"Applicant Certification of Environmental Issues.\")"]
[]
[null,null,"Within 1000 ft of railroad",null,null,null,"Towers (Power, TV, microwave)",null,null,null,null,"Creek, lake, etc."]
[null,null,"Within 3000 ft of airport",null,null,null,"Industrial/environmental hazard (REC & HREC)",null,null,null,null,"High water table"]
[null,null,"Within 5 miles of civil airport",null,null,null,"Rock formations",null,null,null,null,"Poor drainage"]
[null,null,"Within 15 miles of military airport",null,null,null,"Steep ravines or grades",null,null,null,null,"Unstable soil"]
[null,null,"High-tension wires",null,null,null,"Floodplain",null,null,null,null,"Fill"]
[]
[null,"BUILDING DESCRIPTION"]
[]
[null,"Housing Space",null,null,"Type of Building","Number of Residential Buildings","Number of Stories","Number of Units","Gross Sq Feet"]
[]
[]
[]
[]
[null,"TOTALS",null,null,null,{"$f":"SUM(F20:F23)","v":0},{"$f":"SUM(G20:G23)","v":0},{"$f":"SUM(H20:H23)","v":0},{"$f":"SUM(I20:I23)","v":0}]
[]
[null,"Parking",null,null,"Type","Number of Parking Spaces","Number Parking Spaces / Unit","Gross Sq Ft"]
[null,"Covered Parking",null,null,null,null,{"$f":"IF(OR($H$24=0, ISBLANK($H$24), F27=0, ISBLANK(F27)), 0, F27/$H$24)","v":0}]
[null,"Surface Parking",null,null,null,null,{"$f":"IF(OR($H$24=0, ISBLANK($H$24), F28=0, ISBLANK(F28)), 0, F28/$H$24)","v":0}]
[null,"TOTALS",null,null,null,{"$f":"SUM(F27:F28)","v":0},{"$f":"SUM(G27:G28)","v":0},{"$f":"IF(ISBLANK(H27), 0, H27)","v":0}]
[]
[null,"Non-Housing Space",null,null,"Describe",null,"Gross Sq Ft"]
[null,"Administration/Programmatic"]
[null,"Commercial"]
[null,"Storage Lockers"]
[null,"Club House"]
[null,"Swimming Pool"]
[null,"Community Service Facility"]
[null,"Office"]
[null,"Other"]
[null,"TOTAL Non-Hsg Gross Sq Ft",null,null,null,null,{"$f":"SUM(G32:G39)","v":0}]
[]
[null,"DEVELOPMENTS INVOLVING ACQUISITION"]
[null,"Will the property be acquired from a related party?"]
[null,"Has the property been acquired from a related party?",null,null,null,null,null,null,null,null,"If yes, Date:",null,"Sale price:"]
[null,"Has the property been acquired from an unrelated party in the last three years?",null,null,null,null,null,null,null,null,"If yes, Date:",null,"Sale price:"]
[]
[null,"Existing Indebtedness on the Property/Building"]
[null,"Name of Lender(s) of Existing Loans, Subsidies and Grants (secured and unsecured)",null,null,"Original Loan Amount","Interest Rate","Term (Yrs)","Unpaid Balance","Date of Unpaid Balance","Date of Maturity","Number of Restricted Units","Restricted to Special Popula-tions?","Loan Will be Paid Off in this Transaction?","Income Limits (%)","Rent Limits (%)"]
[]
[]
[]
[]
[]
[]
[]
[null,"TOTAL",null,null,{"$f":"SUM(E49:E55)","v":0},null,null,{"$f":"SUM(H49:H55)","v":0}]
[]
[null,"Existing Federal Subsidies"]
[null,"Federal Subsidy",null,null,"# of Units","Exp. Date","Are the existing federally assisted units at risk of loss?"]
[]
[]
[]
[]
[]
[null,"Existing State and Local Subsidies"]
[null,"State or Local Subsidy",null,null,"Subsidy Type","# of Units","Exp. Date","Describe if Other"]

{"sheet":"Housing Income","index":14,"n_rows":48,"n_cols":29,"rows_kept":48,"cut":false,"hidden":false,"merged":[[46,2,46,5],[13,6,13,7],[13,8,13,10],[16,10,16,11],[16,12,16,19],[39,4,40,5],[40,1,40,2],[43,2,43,5],[44,2,44,5],[45,2,45,5],[0,1,1,22],[16,22,17,22],[7,1,7,2],[3,1,3,2],[4,1,4,2],[5,1,5,2],[6,1,6,2],[16,20,17,20],[16,21,17,21],[17,10,17,11],[8,1,8,2],[9,1,9,2],[10,1,10,2],[11,1,11,2],[12,1,12,3],[13,2,13,5]]}
[null,"HOUSING INCOME"]
[]
[null,"TENANT PAID UTILITY ALLOWANCE"]
[null,"Utility",null,"Utility Type","0BR/SRO","1BR","2BR","3BR","4BR","5BR","6BR"]
[null,"Heating"]
[null,"Cooking"]
[null,"Water Heating"]
[null,"Electric"]
[null,"A/C"]
[null,"Water/Sewer"]
[null,"Service Fee"]
[null,"Other"]
[null,"Total Tenant Paid:",null,null,{"$f":"SUM(E5:E12)","v":0},0,0,0,0,0,0]
[null,"Source:",null,null,null,null,"Effective Date:"]
[]
[null,"UNIT / RENT GRID"]
[null,null,null,null,null,null,null,null,null,null,null,null,"Program Type",null,null,null,null,null,null,null,"Rooms Per Unit","Total Rooms","Source of Rental Assistance or Operating Subsidy"]
[null,"Unit Type","# of Bath-rooms","# of Units","Unit\nSq Ft","Monthly Contract Rent","Total Annual Contract Rent","Tenant Paid Utilities","Monthly Gross Rent","Rent Limit","Income Limit",null,"LIHTC","HOME","LTH",null,"Empl Occ","Owner Occ","Rent Asst","Op Subs"]
[null,null,null,null,null,null,{"$f":"IF(ISBLANK(D19),0,F19*D19*12)","v":0},{"$f":"IF(ISERROR(VLOOKUP(B19,Controls!BH$22:BI$28, 2, FALSE)),0, VLOOKUP(B19,Controls!BH$22:BI$28, 2, FALSE))","v":0},{"$f":"F19+H19","v":0},null,null,null,null,null,null,null,null,null,null,null,{"$f":"HousIncUnitGridRmsPerUnit1","v":""},{"$f":"IF(OR(ISBLANK(U19),ISBLANK(D19)), 0, U19*D19)","v":0},null,null,null,null,null,null,{"$f":"IF(ISERROR(VLOOKUP(W19,Controls!CC$22:CD$28, 2, FALSE)),\"\", VLOOKUP(W19,Controls!CC$22:CD$28, 2, FALSE))","v":""}]
[null,null,null,null,null,null,0,{"$f":"IF(ISERROR(VLOOKUP(B20,Controls!BH$22:BI$28, 2, FALSE)),0, VLOOKUP(B20,Controls!BH$22:BI$28, 2, FALSE))","v":0},{"$f":"F20+H20","v":0},null,null,null,null,null,null,null,null,null,null,null,{"$f":"HousIncUnitGridRmsPerUnit2","v":""},0,null,null,null,null,null,null,{"$f":"IF(ISERROR(VLOOKUP(W20,Controls!CC$22:CD$28, 2, FALSE)),\"\", VLOOKUP(W20,Controls!CC$22:CD$28, 2, FALSE))","v":""}]
[null,null,null,null,null,null,0,{"$f":"IF(ISERROR(VLOOKUP(B21,Controls!BH$22:BI$28, 2, FALSE)),0, VLOOKUP(B21,Controls!BH$22:BI$28, 2, FALSE))","v":0},0,null,null,null,null,null,null,null,null,null,null,null,{"$f":"HousIncUnitGridRmsPerUnit3","v":""},0,null,null,null,null,null,null,{"$f":"IF(ISERROR(VLOOKUP(W21,Controls!CC$22:CD$28, 2, FALSE)),\"\", VLOOKUP(W21,Controls!CC$22:CD$28, 2, FALSE))","v":""}]
[null,null,null,null,null,null,0,{"$f":"IF(ISERROR(VLOOKUP(B22,Controls!BH$22:BI$28, 2, FALSE)),0, VLOOKUP(B22,Controls!BH$22:BI$28, 2, FALSE))","v":0},0,null,null,null,null,null,null,null,null,null,null,null,{"$f":"HousIncUnitGridRmsPerUnit4","v":""},0,null,null,null,null,null,null,{"$f":"IF(ISERROR(VLOOKUP(W22,Controls!CC$22:CD$28, 2, FALSE)),\"\", VLOOKUP(W22,Controls!CC$22:CD$28, 2, FALSE))","v":""}]
[null,null,null,null,null,null,0,{"$f":"IF(ISERROR(VLOOKUP(B23,Controls!BH$22:BI$28, 2, FALSE)),0, VLOOKUP(B23,Controls!BH$22:BI$28, 2, FALSE))","v":0},0,null,null,null,null,null,null,null,null,null,null,null,{"$f":"HousIncUnitGridRmsPerUnit5","v":""},0,null,null,null,null,null,null,{"$f":"IF(ISERROR(VLOOKUP(W23,Controls!CC$22:CD$28, 2, FALSE)),\"\", VLOOKUP(W23,Controls!CC$22:CD$28, 2, FALSE))","v":""}]
[null,null,null,null,null,null,0,{"$f":"IF(ISERROR(VLOOKUP(B24,Controls!BH$22:BI$28, 2, FALSE)),0, VLOOKUP(B24,Controls!BH$22:BI$28, 2, FALSE))","v":0},0,null,null,null,null,null,null,null,null,null,null,null,{"$f":"HousIncUnitGridRmsPerUnit6","v":""},0,null,null,null,null,null,null,{"$f":"IF(ISERROR(VLOOKUP(W24,Controls!CC$22:CD$28, 2, FALSE)),\"\", VLOOKUP(W24,Controls!CC$22:CD$28, 2, FALSE))","v":""}]
[null,null,null,null,null,null,0,{"$f":"IF(ISERROR(VLOOKUP(B25,Controls!BH$22:BI$28, 2, FALSE)),0, VLOOKUP(B25,Controls!BH$22:BI$28, 2, FALSE))","v":0},0,null,null,null,null,null,null,null,null,null,null,null,{"$f":"HousIncUnitGridRmsPerUnit7","v":""},0,null,null,null,null,null,null,{"$f":"IF(ISERROR(VLOOKUP(W25,Controls!CC$22:CD$28, 2, FALSE)),\"\", VLOOKUP(W25,Controls!CC$22:CD$28, 2, FALSE))","v":""}]
[null,null,null,null,null,null,0,{"$f":"IF(ISERROR(VLOOKUP(B26,Controls!BH$22:BI$28, 2, FALSE)),0, VLOOKUP(B26,Controls!BH$22:BI$28, 2, FALSE))","v":0},0,null,null,null,null,null,null,null,null,null,null,null,{"$f":"HousIncUnitGridRmsPerUnit8","v":""},0,null,null,null,null,null,null,{"$f":"IF(ISERROR(VLOOKUP(W26,Controls!CC$22:CD$28, 2, FALSE)),\"\", VLOOKUP(W26,Controls!CC$22:CD$28, 2, FALSE))","v":""}]
[null,null,null,null,null,null,0,{"$f":"IF(ISERROR(VLOOKUP(B27,Controls!BH$22:BI$28, 2, FALSE)),0, VLOOKUP(B27,Controls!BH$22:BI$28, 2, FALSE))","v":0},0,null,null,null,null,null,null,null,null,null,null,null,{"$f":"HousIncUnitGridRmsPerUnit9","v":""},0,null,null,null,null,null,null,{"$f":"IF(ISERROR(VLOOKUP(W27,Controls!CC$22:CD$28, 2, FALSE)),\"\", VLOOKUP(W27,Controls!CC$22:CD$28, 2, FALSE))","v":""}]
[null,null,null,null,null,null,0,{"$f":"IF(ISERROR(VLOOKUP(B28,Controls!BH$22:BI$28, 2, FALSE)),0, VLOOKUP(B28,Controls!BH$22:BI$28, 2, FALSE))","v":0},0,null,null,null,null,null,null,null,null,null,null,null,{"$f":"HousIncUnitGridRmsPerUnit10","v":""},0,null,null,null,null,null,null,{"$f":"IF(ISERROR(VLOOKUP(W28,Controls!CC$22:CD$28, 2, FALSE)),\"\", VLOOKUP(W28,Controls!CC$22:CD$28, 2, FALSE))","v":""}]
[null,null,null,null,null,null,0,{"$f":"IF(ISERROR(VLOOKUP(B29,Controls!BH$22:BI$28, 2, FALSE)),0, VLOOKUP(B29,Controls!BH$22:BI$28, 2, FALSE))","v":0},0,null,null,null,null,null,null,null,null,null,null,null,{"$f":"HousIncUnitGridRmsPerUnit11","v":""},0,null,null,null,null,null,null,{"$f":"IF(ISERROR(VLOOKUP(W29,Controls!CC$22:CD$28, 2, FALSE)),\"\", VLOOKUP(W29,Controls!CC$22:CD$28, 2, FALSE))","v":""}]
[null,null,null,null,null,null,0,{"$f":"IF(ISERROR(VLOOKUP(B30,Controls!BH$22:BI$28, 2, FALSE)),0, VLOOKUP(B30,Controls!BH$22:BI$28, 2, FALSE))","v":0},0,null,null,null,null,null,null,null,null,null,null,null,{"$f":"HousIncUnitGridRmsPerUnit12","v":""},0,null,null,null,null,null,null,{"$f":"IF(ISERROR(VLOOKUP(W30,Controls!CC$22:CD$28, 2, FALSE)),\"\", VLOOKUP(W30,Controls!CC$22:CD$28, 2, FALSE))","v":""}]
[null,null,null,null,null,null,0,{"$f":"IF(ISERROR(VLOOKUP(B31,Controls!BH$22:BI$28, 2, FALSE)),0, VLOOKUP(B31,Controls!BH$22:BI$28, 2, FALSE))","v":0},0,null,null,null,null,null,null,null,null,null,null,null,{"$f":"HousIncUnitGridRmsPerUnit13","v":""},0,null,null,null,null,null,null,{"$f":"IF(ISERROR(VLOOKUP(W31,Controls!CC$22:CD$28, 2, FALSE)),\"\", VLOOKUP(W31,Controls!CC$22:CD$28, 2, FALSE))","v":""}]
[null,null,null,null,null,null,0,{"$f":"IF(ISERROR(VLOOKUP(B32,Controls!BH$22:BI$28, 2, FALSE)),0, VLOOKUP(B32,Controls!BH$22:BI$28, 2, FALSE))","v":0},0,null,null,null,null,null,null,null,null,null,null,null,{"$f":"HousIncUnitGridRmsPerUnit14","v":""},0,null,null,null,null,null,null,{"$f":"IF(ISERROR(VLOOKUP(W32,Controls!CC$22:CD$28, 2, FALSE)),\"\", VLOOKUP(W32,Controls!CC$22:CD$28, 2, FALSE))","v":""}]
[null,null,null,null,null,null,0,{"$f":"IF(ISERROR(VLOOKUP(B33,Controls!BH$22:BI$28, 2, FALSE)),0, VLOOKUP(B33,Controls!BH$22:BI$28, 2, FALSE))","v":0},0,null,null,null,null,null,null,null,null,null,null,null,{"$f":"HousIncUnitGridRmsPerUnit15","v":""},0,null,null,null,null,null,null,{"$f":"IF(ISERROR(VLOOKUP(W33,Controls!CC$22:CD$28, 2, FALSE)),\"\", VLOOKUP(W33,Controls!CC$22:CD$28, 2, FALSE))","v":""}]
[null,null,null,null,null,null,0,{"$f":"IF(ISERROR(VLOOKUP(B34,Controls!BH$22:BI$28, 2, FALSE)),0, VLOOKUP(B34,Controls!BH$22:BI$28, 2, FALSE))","v":0},0,null,null,null,null,null,null,null,null,null,null,null,{"$f":"HousIncUnitGridRmsPerUnit16","v":""},0,null,null,null,null,null,null,{"$f":"IF(ISERROR(VLOOKUP(W34,Controls!CC$22:CD$28, 2, FALSE)),\"\", VLOOKUP(W34,Controls!CC$22:CD$28, 2, FALSE))","v":""}]
[null,null,null,null,null,null,0,{"$f":"IF(ISERROR(VLOOKUP(B35,Controls!BH$22:BI$28, 2, FALSE)),0, VLOOKUP(B35,Controls!BH$22:BI$28, 2, FALSE))","v":0},0,null,null,null,null,null,null,null,null,null,null,null,{"$f":"HousIncUnitGridRmsPerUnit17","v":""},0,null,null,null,null,null,null,{"$f":"IF(ISERROR(VLOOKUP(W35,Controls!CC$22:CD$28, 2, FALSE)),\"\", VLOOKUP(W35,Controls!CC$22:CD$28, 2, FALSE))","v":""}]
[null,null,null,null,null,null,0,{"$f":"IF(ISERROR(VLOOKUP(B36,Controls!BH$22:BI$28, 2, FALSE)),0, VLOOKUP(B36,Controls!BH$22:BI$28, 2, FALSE))","v":0},0,null,null,null,null,null,null,null,null,null,null,null,{"$f":"HousIncUnitGridRmsPerUnit18","v":""},0,null,null,null,null,null,null,{"$f":"IF(ISERROR(VLOOKUP(W36,Controls!CC$22:CD$28, 2, FALSE)),\"\", VLOOKUP(W36,Controls!CC$22:CD$28, 2, FALSE))","v":""}]
[null,null,null,null,null,null,0,{"$f":"IF(ISERROR(VLOOKUP(B37,Controls!BH$22:BI$28, 2, FALSE)),0, VLOOKUP(B37,Controls!BH$22:BI$28, 2, FALSE))","v":0},0,null,null,null,null,null,null,null,null,null,null,null,{"$f":"HousIncUnitGridRmsPerUnit19","v":""},0,null,null,null,null,null,null,{"$f":"IF(ISERROR(VLOOKUP(W37,Controls!CC$22:CD$28, 2, FALSE)),\"\", VLOOKUP(W37,Controls!CC$22:CD$28, 2, FALSE))","v":""}]
[null,null,null,null,null,null,0,{"$f":"IF(ISERROR(VLOOKUP(B38,Controls!BH$22:BI$28, 2, FALSE)),0, VLOOKUP(B38,Controls!BH$22:BI$28, 2, FALSE))","v":0},0,null,null,null,null,null,null,null,null,null,null,null,{"$f":"HousIncUnitGridRmsPerUnit20","v":""},0,null,null,null,null,null,null,{"$f":"IF(ISERROR(VLOOKUP(W38,Controls!CC$22:CD$28, 2, FALSE)),\"\", VLOOKUP(W38,Controls!CC$22:CD$28, 2, FALSE))","v":""}]
[null,null,null,null,null,null,0,{"$f":"IF(ISERROR(VLOOKUP(B39,Controls!BH$22:BI$28, 2, FALSE)),0, VLOOKUP(B39,Controls!BH$22:BI$28, 2, FALSE))","v":0},0,null,null,null,null,null,null,null,null,null,null,null,{"$f":"HousIncUnitGridRmsPerUnit21","v":""},0,null,null,null,null,null,null,{"$f":"IF(ISERROR(VLOOKUP(W39,Controls!CC$22:CD$28, 2, FALSE)),\"\", VLOOKUP(W39,Controls!CC$22:CD$28, 2, FALSE))","v":""}]
[null,null,null,null,"Rental Hsg\nPotential"]
[null,"Total Units",null,{"$f":"SUM(HousIncNumUnitsRange)","v":0},null,null,{"$f":"SUM(HousIncTotContrRent)","v":0},null,null,null,null,null,null,null,null,null,null,null,null,null,"Total Rooms",{"$f":"ROUNDUP(SUM(V19:V39),0)","v":0}]
[]
[null,"Rent Limit/Income Limit Key:"]
[null,"Option","Equals"]
[null,"30/30 MM","30% of 30% Metro Median"]
[null,"ALW","Affordable to the Local Workforce"]
[null,"80>S/AMI","80% of the greater of SMI or AMI"]
[null,{"$f":"IF(HousIncTotalUnits <>PropInfoNumUnits, \"Total Units does not match Property Information Total Units\", \"\")","v":""}]

{"sheet":"Income & Expense","index":15,"n_rows":80,"n_cols":13,"rows_kept":80,"cut":false,"hidden":false,"merged":[[79,12,79,14],[76,3,76,6],[76,12,76,14],[77,3,77,6],[77,12,77,14],[78,3,78,6],[78,12,78,14],[74,12,74,14],[64,1,64,14],[65,12,65,14],[66,1,66,14],[67,12,67,14],[68,1,68,3],[68,12,68,14],[69,12,69,14],[70,12,70,14],[71,1,71,14],[72,12,72,14],[73,1,73,14],[63,12,63,14],[53,12,53,14],[54,12,54,14],[55,1,55,14],[56,12,56,14],[57,12,57,14],[58,12,58,14],[59,12,59,14],[60,1,60,14],[61,1,61,7],[61,12,61,14],[62,1,62,14],[52,1,52,5],[52,12,52,14],[41,1,41,14],[42,12,42,14],[43,12,43,14],[44,12,44,14],[45,12,45,14],[46,12,46,14],[47,12,47,14],[48,12,48,14],[49,12,49,14],[50,12,50,14],[51,12,51,14],[40,12,40,14],[31,12,31,14],[32,1,32,3],[32,12,32,14],[33,12,33,14],[34,12,34,14],[35,12,35,14],[36,12,36,14],[37,12,37,14],[38,12,38,14],[39,1,39,5],[39,12,39,14],[25,1,25,14],[26,12,26,14],[28,1,28,14],[29,1,29,8],[30,1,30,3],[30,4,30,14],[22,3,22,7],[22,12,22,14],[23,3,23,7],[23,12,23,14],[24,1,24,7],[24,12,24,14],[21,12,21,14],[12,12,12,14],[13,3,13,7],[13,12,13,14],[14,3,14,7],[14,12,14,14],[15,12,15,14],[16,12,16,14],[17,12,17,14],[18,1,18,14],[19,12,19,14],[20,12,20,14],[11,12,11,14],[0,1,1,14],[2,12,2,14],[3,1,3,14],[4,12,4,14],[5,12,5,14],[6,12,6,14],[7,12,7,14],[8,4,8,7],[8,12,8,14],[9,12,9,14],[10,1,10,14]]}
[null,"INCOME"]
[]
[null,null,null,null,null,null,null,null,null,"Total","Per Unit","Per Room","Comments"]
[null,"GROSS POTENTIAL RENT"]
[null,"Rental Housing Potential",null,null,null,null,null,null,null,{"$f":" IF('Housing Income'!G41 = 0, 0, 'Housing Income'!G41)","v":0},{"$f":"IF(OR(HousIncTotalUnits=0,ISBLANK(HousIncTotalUnits)),0,IF(ISBLANK(J5),0,J5/HousIncTotalUnits))","v":0},{"$f":"IF(OR(HousIncTotalRooms = 0, ISBLANK(HousIncTotalRooms),J5=0), 0, J5/HousIncTotalRooms)","v":0}]
[null,"Parking / Garage Rent Potential"]
[null,null,"Covered Parking",null,"# of spaces",{"$f":"PropInfoCoveredParkNumSpaces","v":0},"Mo Fee",null,null,{"$f":"IF(OR(ISBLANK(F7), F7=0, ISBLANK(H7), H7=0),0,F7*H7*12)","v":0},{"$f":"IF(OR(HousIncTotalUnits = 0,ISBLANK(HousIncTotalUnits),ISBLANK(J7)), 0, J7/HousIncTotalUnits)","v":0},{"$f":"IF(OR(HousIncTotalRooms=0,ISBLANK(HousIncTotalRooms),ISBLANK(J7)),0,J7/HousIncTotalRooms)","v":0}]
[null,null,"Surface Parking",null,"# of spaces",{"$f":"PropInfoSurfaceParkNumSpaces","v":0},"Mo Fee",null,null,{"$f":"IF(OR(ISBLANK(F8), F8=0, ISBLANK(H8), H8=0),0,F8*H8*12)","v":0},{"$f":"IF(OR(HousIncTotalUnits = 0,ISBLANK(HousIncTotalUnits),ISBLANK(J8)), 0, J8/HousIncTotalUnits)","v":0},{"$f":"IF(OR(HousIncTotalRooms=0,ISBLANK(HousIncTotalRooms),ISBLANK(J8)),0,J8/HousIncTotalRooms)","v":0}]
[null,"Commercial Rent Potential ",null,null,null,null,null,null,null,null,{"$f":"IF(OR(HousIncTotalUnits = 0,ISBLANK(HousIncTotalUnits),ISBLANK(J9)), 0, J9/HousIncTotalUnits)","v":0},{"$f":"IF(OR(HousIncTotalRooms=0,ISBLANK(HousIncTotalRooms),ISBLANK(J9)),0,J9/HousIncTotalRooms)","v":0}]
[null,"Gross Potential Rent",null,null,null,null,null,null,null,{"$f":"IF(IncExpGrPotRentTotal = 0, 0, IncExpGrPotRentTotal)","v":0},{"$f":"SUM(K5:K9)","v":0},{"$f":"IF(IncExpGrPotRentRoomTotal=0,0,IncExpGrPotRentRoomTotal)","v":0}]
[null,"OTHER INCOME FROM OPERATIONS (excluding TIF)"]
[null,"Tenant Fees",null,null,null,null,null,null,null,null,{"$f":"IF(OR(HousIncTotalUnits = 0,HousIncTotalUnits = 0,ISBLANK(J12)), 0, J12/HousIncTotalUnits)","v":0},{"$f":"IF(OR(HousIncTotalRooms = 0, ISBLANK(HousIncTotalRooms), ISBLANK(J12)),0, J12/HousIncTotalRooms)","v":0}]
[null,"Laundry Equipment",null,null,null,null,null,null,null,null,{"$f":"IF(OR(HousIncTotalUnits = 0,HousIncTotalUnits = 0,ISBLANK(J13)), 0, J13/HousIncTotalUnits)","v":0},0]
[null,"Other  ",null,null,null,null,null,null,null,null,{"$f":"IF(OR(HousIncTotalUnits = 0,HousIncTotalUnits = 0,ISBLANK(J14)), 0, J14/HousIncTotalUnits)","v":0},0]
[null,"Other ",null,null,null,null,null,null,null,null,{"$f":"IF(OR(HousIncTotalUnits = 0,HousIncTotalUnits = 0,ISBLANK(J15)), 0, J15/HousIncTotalUnits)","v":0},0]
[null,"Forfeited Security Deposits",null,null,null,null,null,null,null,null,{"$f":"IF(OR(HousIncTotalUnits = 0,HousIncTotalUnits = 0,ISBLANK(J16)), 0, J16/HousIncTotalUnits)","v":0},0]
[null,"Interest Income",null,null,null,null,null,null,null,null,{"$f":"IF(OR(HousIncTotalUnits = 0,HousIncTotalUnits = 0,ISBLANK(J17)), 0, J17/HousIncTotalUnits)","v":0},0]
[null,"Total Other Income",null,null,null,null,null,null,null,{"$f":"IF(SUM(J12:J17)=0,0,SUM(J12:J17))","v":0},{"$f":"IF(OR(HousIncTotalUnits = 0,HousIncTotalUnits = 0,ISBLANK(J18)), 0, J18/HousIncTotalUnits)","v":0},0]
[null,"RENTAL LOSS"]
[null,"Rental Housing Vacancy ",null,null,null,null,"Vacancy Rate",7.0000000000000007E-2,null,{"$f":"IF(ISBLANK(IncExpRentLossRentVacancy),0,IF((IncExpRentHousPot + IncExpTotOtherInc) * H20=0,0,(IncExpRentHousPot + IncExpTotOtherInc) * H20))","v":0},{"$f":"IF(OR(HousIncTotalUnits = 0,HousIncTotalUnits = 0,ISBLANK(J20)), 0, J20/HousIncTotalUnits)","v":0},{"$f":"IF(OR(HousIncTotalRooms = 0, ISBLANK(HousIncTotalRooms), ISBLANK(J20)), 0, J20/HousIncTotalRooms)","v":0}]
[null,"Parking / Garage Vacancy",null,null,null,null,"Vacancy Rate",0.1,null,{"$f":"IF(IncExpParkVac=0,0,IncExpParkVac)","v":0},{"$f":"IF(OR(HousIncTotalUnits = 0,HousIncTotalUnits = 0,ISBLANK(J21)), 0, J21/HousIncTotalUnits)","v":0},0]
[null,"Commerical Vacancy",null,null,null,null,"Vacancy Rate",0.1,null,{"$f":"IF(OR( ISBLANK(J9), ISBLANK(H22)), 0, J9*H22)","v":0},{"$f":"IF(OR(HousIncTotalUnits = 0,HousIncTotalUnits = 0,ISBLANK(J22)), 0, J22/HousIncTotalUnits)","v":0},0]
[null,"Other",null,null,null,null,null,null,null,null,{"$f":"IF(OR(HousIncTotalUnits = 0,HousIncTotalUnits = 0,ISBLANK(J23)), 0, J23/HousIncTotalUnits)","v":0},0]
[null,"Other ",null,null,null,null,null,null,null,null,{"$f":"IF(OR(HousIncTotalUnits = 0,HousIncTotalUnits = 0,ISBLANK(J24)), 0, J24/HousIncTotalUnits)","v":0},0]
[null,"Total Rental Loss",null,null,null,null,null,null,null,{"$f":"IF(SUM(J20:J24)=0,0,SUM(J20:J24))","v":0},{"$f":"IF(OR(HousIncTotalUnits = 0,HousIncTotalUnits = 0,ISBLANK(J25)), 0, J25/HousIncTotalUnits)","v":0},0]
[null,"NET RENTAL INCOME"]
[null,"Net Rental Income / Total Revenue",null,null,null,null,null,null,null,{"$f":"IF(IncExpNetRentIncRev=0,0,IncExpNetRentIncRev)","v":0},{"$f":"IF(OR(HousIncTotalUnits = 0, ISBLANK(HousIncTotalUnits)), 0, IF(ISBLANK(J27),0,J27/HousIncTotalUnits))","v":0},{"$f":"IF(OR(HousIncTotalRooms = 0, ISBLANK(HousIncTotalRooms)), 0,J27/ HousIncTotalRooms)","v":0}]
[]
[null,"MANAGEMENT & OPERATING EXPENSES (M&O)"]
[null,null,null,null,null,null,null,null,null,"Total","Per Unit","Per Room","Comments"]
[null,"ADMINISTRATIVE"]
[null,"Advertising and Marketing",null,null,null,null,null,null,null,null,{"$f":"IF(OR(HousIncTotalUnits = 0,ISBLANK(HousIncTotalUnits),ISBLANK(J32), J32=0), 0, J32/HousIncTotalUnits)","v":0},{"$f":"IF(OR(HousIncTotalRooms = 0, ISBLANK(HousIncTotalRooms), ISBLANK(J32), J32=0), 0, J32/HousIncTotalRooms)","v":0}]
[null,"Property Management Fee",null,null,null,null,"% Revenue","$/Unit/Mo",null,{"$f":"IF(AND(H34<>\"\", H34 >0), H34*HousIncTotalUnits*12, IF(AND(H35<>\"\", H35>0),H35*HousIncTotalUnits*12,0))","v":0},{"$f":"IF(OR(HousIncTotalUnits = 0,ISBLANK(HousIncTotalUnits),ISBLANK(J33), J33=0), 0, J33/HousIncTotalUnits)","v":0},0]
[null,null,"Percent of Total Revenue (OR)",null,null,null,null,{"$f":"IF(OR(G34=\"\", G34=0, J27=\"\",J27=0), 0, J27*G34/HousIncTotalUnits/12)","v":0},null,null,null,0]
[null,null,"Per Unit Per Month",null,null,null,{"$f":"IF(OR(J27=\"\", J27=0, J33=\"\", J33=0),0,IF(OR(H35=\"\", H35=0), \"\", J33/J27))","v":0},null,null,null,null,0]
[null,"Professional Fees (Specify in Comments)",null,null,null,null,null,null,null,null,{"$f":"IF(OR(HousIncTotalUnits = 0,HousIncTotalUnits = 0,ISBLANK(J36), J36=0), 0, J36/HousIncTotalUnits)","v":0},0]
[null,"Applicant Screening/Collection Expense",null,null,null,null,null,null,null,null,{"$f":"IF(OR(HousIncTotalUnits = 0,HousIncTotalUnits = 0,ISBLANK(J37), J37=0), 0, J37/HousIncTotalUnits)","v":0},0]
[null,"Site Office Expense (Specify in Comments)",null,null,null,null,null,null,null,null,{"$f":"IF(OR(HousIncTotalUnits = 0,HousIncTotalUnits = 0,ISBLANK(J38), J38=0), 0, J38/HousIncTotalUnits)","v":0},0]
[null,"On-Site Management Payroll (Specify in Comments)",null,null,null,null,null,null,null,null,{"$f":"IF(OR(HousIncTotalUnits = 0,HousIncTotalUnits = 0,ISBLANK(J39), J39=0), 0, J39/HousIncTotalUnits)","v":0},0]
[null,"Other Administration (Specify in Comments)",null,null,null,null,null,null,null,null,{"$f":"IF(OR(HousIncTotalUnits = 0,HousIncTotalUnits = 0,ISBLANK(J40), J40=0), 0, J40/HousIncTotalUnits)","v":0},0]
[null,"Administrative Subtotal",null,null,null,null,null,null,null,{"$f":"IF(SUM(J32:J40)=0,0,SUM(J32:J40))","v":0},{"$f":"IF(SUM(K32:K40)=0,0,SUM(K32:K40))","v":0},{"$f":"IF(SUM(L32:L40)=0,0,SUM(L32:L40))","v":0}]
[null,"MAINTENANCE"]
[null,"Elevator Maintenance/Contract",null,null,null,null,null,null,null,null,{"$f":"IF(OR(HousIncTotalUnits = 0,ISBLANK(HousIncTotalUnits),ISBLANK(J43), J43=0), 0, J43/HousIncTotalUnits)","v":0},{"$f":"IF(OR(HousIncTotalRooms = 0, ISBLANK(HousIncTotalRooms), ISBLANK(J43), J43=0), 0, J43/HousIncTotalRooms)","v":0}]
[null,"Security",null,null,null,null,null,null,null,null,{"$f":"IF(OR(HousIncTotalUnits = 0,ISBLANK(HousIncTotalUnits),ISBLANK(J44), J44=0), 0, J44/HousIncTotalUnits)","v":0},0]
[null,"Rubbish Removal",null,null,null,null,null,null,null,null,{"$f":"IF(OR(HousIncTotalUnits = 0,ISBLANK(HousIncTotalUnits),ISBLANK(J45), J45=0), 0, J45/HousIncTotalUnits)","v":0},0]
[null,"Other Contract Services (Includes Exterminating)",null,null,null,null,null,null,null,null,{"$f":"IF(OR(HousIncTotalUnits = 0,ISBLANK(HousIncTotalUnits),ISBLANK(J46), J46=0), 0, J46/HousIncTotalUnits)","v":0},0]
[null,"Maintenance/Janitor Supplies",null,null,null,null,null,null,null,null,{"$f":"IF(OR(HousIncTotalUnits = 0,ISBLANK(HousIncTotalUnits),ISBLANK(J47), J47=0), 0, J47/HousIncTotalUnits)","v":0},0]
[null,"Grounds Maintenance",null,null,null,null,null,null,null,null,{"$f":"IF(OR(HousIncTotalUnits = 0,ISBLANK(HousIncTotalUnits),ISBLANK(J48), J48=0), 0, J48/HousIncTotalUnits)","v":0},0]
[null,"Snow Removal",null,null,null,null,null,null,null,null,{"$f":"IF(OR(HousIncTotalUnits = 0,ISBLANK(HousIncTotalUnits),ISBLANK(J49), J49=0), 0, J49/HousIncTotalUnits)","v":0},0]
[null,"Heat & A/C Repair Services",null,null,null,null,null,null,null,null,{"$f":"IF(OR(HousIncTotalUnits = 0,ISBLANK(HousIncTotalUnits),ISBLANK(J50), J50=0), 0, J50/HousIncTotalUnits)","v":0},0]
[null,"General Repair Services",null,null,null,null,null,null,null,null,{"$f":"IF(OR(HousIncTotalUnits = 0,ISBLANK(HousIncTotalUnits),ISBLANK(J51), J51=0), 0, J51/HousIncTotalUnits)","v":0},0]
[null,"Painting/Decorating Materials",null,null,null,null,null,null,null,null,{"$f":"IF(OR(HousIncTotalUnits = 0,ISBLANK(HousIncTotalUnits),ISBLANK(J52), J52=0), 0, J52/HousIncTotalUnits)","v":0},0]
[null,"Maintenance/Janitor Payroll (Specify in Comments)",null,null,null,null,null,null,null,null,{"$f":"IF(OR(HousIncTotalUnits = 0,ISBLANK(HousIncTotalUnits),ISBLANK(J53), J53=0), 0, J53/HousIncTotalUnits)","v":0},0]
[null,"Other Maintenance and Operating (Specify in Comments)",null,null,null,null,null,null,null,null,{"$f":"IF(OR(HousIncTotalUnits = 0,ISBLANK(HousIncTotalUnits),ISBLANK(J54), J54=0), 0, J54/HousIncTotalUnits)","v":0},0]
[null,"Maintenance Subtotal",null,null,null,null,null,null,null,{"$f":"IF(SUM(J43:J54)=0,0,SUM(J43:J54))","v":0},{"$f":"IF(OR(HousIncTotalUnits = 0,ISBLANK(HousIncTotalUnits),ISBLANK(J55), J55=0), 0, J55/HousIncTotalUnits)","v":0},0]
[null,"UTILITIES"]
[null,"Electricity",null,null,null,null,null,null,null,null,{"$f":"IF(OR(HousIncTotalUnits = 0,ISBLANK(HousIncTotalUnits),ISBLANK(J57), J57=0), 0, J57/HousIncTotalUnits)","v":0},{"$f":"IF(OR(HousIncTotalRooms = 0, ISBLANK(HousIncTotalRooms), J57=0, J57=0), 0, J57/HousIncTotalRooms)","v":0}]
[null,"Water & Sewer",null,null,null,null,null,null,null,null,{"$f":"IF(OR(HousIncTotalUnits = 0,ISBLANK(HousIncTotalUnits),ISBLANK(J58), J58=0), 0, J58/HousIncTotalUnits)","v":0},{"$f":"IF(OR(HousIncTotalRooms = 0, ISBLANK(HousIncTotalRooms), J58=0, J58=0), 0, J58/HousIncTotalRooms)","v":0}]
[null,"Gas and Oil",null,null,null,null,null,null,null,null,{"$f":"IF(OR(HousIncTotalUnits = 0,ISBLANK(HousIncTotalUnits),ISBLANK(J59), J59=0), 0, J59/HousIncTotalUnits)","v":0},{"$f":"IF(OR(HousIncTotalRooms = 0, ISBLANK(HousIncTotalRooms), J59=0, J59=0), 0, J59/HousIncTotalRooms)","v":0}]
[null,"Utilities Subtotal",null,null,null,null,null,null,null,{"$f":"IF(SUM(J57:J59)=0,0,SUM(J57:J59))","v":0},{"$f":"IF(OR(HousIncTotalUnits = 0,ISBLANK(HousIncTotalUnits),ISBLANK(J60), J60=0), 0, J60/HousIncTotalUnits)","v":0},{"$f":"IF(SUM(L57:L59)=0,0,SUM(L57:L59))","v":0}]
[null,"SUPPORTIVE HOUSING"]
[null,"Unique Operating Expenses (For supportive Housing) (Specify in comments)",null,null,null,null,null,null,null,null,{"$f":"IF(OR(HousIncTotalUnits = 0,ISBLANK(HousIncTotalUnits),ISBLANK(J62), J62=0), 0, J62/HousIncTotalUnits)","v":0},{"$f":"IF(OR(HousIncTotalRooms = 0, ISBLANK(HousIncTotalRooms), J62=0, J62=0), 0, J62/HousIncTotalRooms)","v":0}]
[null,"INSURANCE"]
[null,"Property and Liability Insurance Expense",null,null,null,null,null,null,null,null,{"$f":"IF(OR(HousIncTotalUnits = 0,ISBLANK(HousIncTotalUnits),ISBLANK(J64), J64=0), 0, J64/HousIncTotalUnits)","v":0},{"$f":"IF(OR(HousIncTotalRooms = 0, ISBLANK(HousIncTotalRooms), ISBLANK(J64), J64=0), 0, J64/HousIncTotalRooms)","v":0}]
[null,"TOTAL MANAGEMENT AND OPERATING"]
[null,"Total Management and Operating",null,null,null,null,null,null,null,{"$f":"IF(TotalMandO=0,0,TotalMandO)","v":0},{"$f":"IF(OR(ISBLANK(J66),J66=0,HousIncTotalUnits = 0, ISBLANK(HousIncTotalUnits)), 0, J66/HousIncTotalUnits)","v":0},{"$f":"IF(OR(ISBLANK(J66), J66=0, HousIncTotalRooms = 0, ISBLANK(HousIncTotalRooms),J66=0), 0, J66/HousIncTotalRooms)","v":0}]
[null,"REAL ESTATE TAXES AND RESERVES"]
[null,"Real Estate Taxes",null,null,null,null,null,null,null,null,{"$f":"IF(OR(HousIncTotalUnits = 0,ISBLANK(HousIncTotalUnits),ISBLANK(J68), J68=0), 0, J68/HousIncTotalUnits)","v":0},{"$f":"IF(OR(HousIncTotalRooms = 0, ISBLANK(HousIncTotalRooms), J68=\"\", J69=0), 0, J68/HousIncTotalRooms)","v":0}]
[null,"Replacement Reserve",null,null,null,null,null,null,null,{"$f":"IF(OR(ISBLANK(K69),K69=0,K69*HousIncTotalUnits=0,ISBLANK(HousIncTotalUnits)),0,K69*HousIncTotalUnits)","v":0},null,{"$f":"IF(OR(HousIncTotalRooms = 0, ISBLANK(HousIncTotalRooms), J69=\"\", J69=0), 0, J69/HousIncTotalRooms)","v":0}]
[null,"Miscellaneous Reserves",null,null,null,null,null,null,null,null,{"$f":"IF(OR(HousIncTotalUnits = 0,ISBLANK(HousIncTotalUnits),ISBLANK(J70), J70=0), 0, J70/HousIncTotalUnits)","v":0},{"$f":"IF(OR(HousIncTotalRooms = 0, ISBLANK(HousIncTotalRooms), J70=\"\",J70=0), 0, J70/HousIncTotalRooms)","v":0}]
[null,"Reserves & Escrows Subtotal",null,null,null,null,null,null,null,{"$f":"IF(IncExpResEscExpTot=0,0,IncExpResEscExpTot)","v":0},{"$f":"IF(IncExpResEscUnitTot=0,0,IncExpResEscUnitTot)","v":0},{"$f":"IF(IncExpResEscRoomTot=0,0,IncExpResEscRoomTot)","v":0}]
[null,"EFFECTIVE GROSS EXPENSE"]
[null,"Effective Gross Expense",null,null,null,null,null,null,null,{"$f":"IF(TotalMandOTot+IncExpResEscExpTot=0,0,TotalMandOTot+IncExpResEscExpTot)","v":0},{"$f":"IF(ISERROR(UnitNetRentalIncome+UnitTotMandO+UnitTotEscrowReserves),0,UnitTotMandO+UnitTotEscrowReserves)","v":0},{"$f":"IF(ISERROR(RoomNetRentalIncome+RoomTotMandO+RoomTotEscrowReserves),\"\",RoomTotMandO+RoomTotEscrowReserves)","v":0}]
[null,"NET OPERATING INCOME"]
[null,"Net Operating Income",null,null,null,null,null,null,null,{"$f":"IF(OR(J27=\"\", J73=\"\"),0, ROUND(J27-J73, 0))","v":0},{"$f":"IF(OR(HousIncTotalUnits = 0, ISBLANK(HousIncTotalUnits),J75=\"\", J75=0), 0, J75/HousIncTotalUnits)","v":0},{"$f":"IF(OR(HousIncTotalRooms = 0, ISBLANK(HousIncTotalRooms),J75=\"\",J75=0), 0, J75/HousIncTotalRooms)","v":0}]
[null,"TEMPORARY INCOME (i.e., TIF, IRP, etc)",null,null,null,null,null,"# Years"]
[null,"Specify",null,null,null,null,null,null,null,null,{"$f":"IF(OR(HousIncTotalUnits = 0,ISBLANK(HousIncTotalUnits),ISBLANK(J77), J77=0), 0, J77/HousIncTotalUnits)","v":0},{"$f":"IF(OR(HousIncTotalRooms = 0, ISBLANK(HousIncTotalRooms), ISBLANK(J77),J77=0), 0, J77/HousIncTotalRooms)","v":0}]
[null,"Specify",null,null,null,null,null,null,null,null,{"$f":"IF(OR(HousIncTotalUnits = 0,ISBLANK(HousIncTotalUnits),ISBLANK(J78), J78=0), 0, J78/HousIncTotalUnits)","v":0},{"$f":"IF(OR(HousIncTotalRooms = 0, ISBLANK(HousIncTotalRooms), ISBLANK(J78),J78=0), 0, J78/HousIncTotalRooms)","v":0}]
[null,"Specify",null,null,null,null,null,null,null,null,{"$f":"IF(OR(HousIncTotalUnits = 0,ISBLANK(HousIncTotalUnits),ISBLANK(J79), J79=0), 0, J79/HousIncTotalUnits)","v":0},{"$f":"IF(OR(HousIncTotalRooms = 0, ISBLANK(HousIncTotalRooms), ISBLANK(J79),J79=0), 0, J79/HousIncTotalRooms)","v":0}]
[null,"Total Temporary Income",null,null,null,null,null,null,null,{"$f":"IF(SUM(J77:J79)=0,0,SUM(J77:J79))","v":0},{"$f":"IF(SUM(K77:K79)=0,0,SUM(K77:K79))","v":0},{"$f":"IF(SUM(L77:L79)=0,0,SUM(L77:L79))","v":0}]

{"sheet":"Mortgage Calc","index":16,"n_rows":52,"n_cols":11,"rows_kept":52,"cut":false,"hidden":false,"merged":[[14,1,14,3],[15,1,15,3],[21,1,21,10],[32,1,32,10],[8,9,9,9],[8,10,9,10],[10,1,10,3],[11,1,11,3],[12,1,12,3],[13,1,13,3],[8,4,9,4],[8,5,9,5],[8,6,9,6],[8,7,9,7],[8,8,9,8],[0,1,1,10],[2,1,2,10],[3,5,3,7],[5,1,5,3],[7,1,7,10]]}
[null,"MORTGAGE CALCULATION"]
[]
[null,"INCOME AVAILABLE FOR DEBT SERVICE"]
[null,null,null,null,null,"Change on the Cash Flow tab:",null,null,null,"Year 1","Year 15"]
[null,"Net Operating income",null,null,null,null,"Income Inflator",{"$f":"'Cash Flow'!G8","v":0.02},null,{"$f":"'Income & Expense'!J75","v":0},{"$f":"'Cash Flow'!AA38","v":0}]
[null,"Temporary Income (excluding TIF)",null,null,null,null,"Expense Inflator",{"$f":"'Cash Flow'!G9","v":0.03}]
[null,"Income Available for Debt Service",null,null,null,null,null,null,null,{"$f":"SUM(J5:J6)","v":0},{"$f":"SUM(K5:K6)","v":0}]
[null,"SUBORDINATED DEBT PAYMENTS"]
[null,null,null,null,"Check if MN Hsg","Principal","Rate","Term (Years)","Amort (Years)","Debt Service\nYear 1","Debt Service\nYear 15"]
[null,"Lender/Loan"]
[null,null,null,null,null,null,null,null,null,null,{"$f":"'Cash Flow'!AA45","v":0}]
[null,null,null,null,null,null,null,null,null,null,{"$f":"'Cash Flow'!AA46","v":0}]
[null,null,null,null,null,null,null,null,null,null,{"$f":"'Cash Flow'!AA47","v":0}]
[null,null,null,null,null,null,null,null,null,null,{"$f":"'Cash Flow'!AA48","v":0}]
[null,null,null,null,null,null,null,null,null,null,{"$f":"'Cash Flow'!AA49","v":0}]
[null,null,null,null,null,null,null,null,null,null,{"$f":"'Cash Flow'!AA50","v":0}]
[null,"Total Subordinated Debt Payments",null,null,null,null,null,null,null,{"$f":"SUM(J11:J16)","v":0},{"$f":"SUM(K11:K16)","v":0}]
[null,"Income Available after Subordinated Debt",null,null,null,null,null,null,null,{"$f":"J7-J17","v":0},{"$f":"SUM(K7-K17)","v":0}]
[null,"Minimum Debt Coverage Ratio"]
[null,"Net Income Available for Debt Service",null,null,null,null,null,null,null,{"$f":"IF(J19=0,0,J18/J19)","v":0},{"$f":"IF(K19=0,0,K18/K19)","v":0}]
[]
[null,"FIRST MORTGAGE CALCULATION"]
[null,"Lowest Income Available for Debt Service",null,null,null,null,null,null,null,null,{"$f":"MIN(J20,K20)","v":0}]
[null,"Term (Years)"]
[null,"Amortization (Years)"]
[null,"Interest Rate"]
[null,"MIP"]
[null,"Debt Service Constant (including MIP)",null,null,null,null,null,null,null,null,{"$f":"IF(OR(ISBLANK(MortCalcIntRate), ISBLANK(MortCalcMIP), ISBLANK(MortCalcAmort)),0,PMT((MortCalcIntRate)/12,MortCalcAmort*12,-1)*12+MortCalcMIP)","v":0}]
[null,"Maximum Calculated Mortgage",null,null,null,null,null,null,null,null,{"$f":"IF(K28=0,0,K23/K28)","v":0}]
[null,"Maximum NOI Supported Mortgage (rounded)",null,null,null,null,null,null,null,null,{"$f":"ROUNDDOWN(K29,-3)","v":0}]
[null,"Actual Mortgage if not Maximum Supported"]
[]
[null,"TIF MORTGAGE CALCULATION"]
[null,"Annual TIF Payment"]
[null,"Minimum Debt Coverage Ratio"]
[null,"Available TIF for Debt Service",null,null,null,null,null,null,null,null,{"$f":"IF(K35=0,0,K34/K35)","v":0}]
[null,"Amortization (Years)"]
[null,"Total Permanent Note Rate:"]
[null,"Mortgage Insurance Premium:"]
[null,"Debt Service Constant (including MIP)",null,null,null,null,null,null,null,null,{"$f":"IF(OR(K38=0,K37=0),0,(PMT(K38/12,K37*12,-1)*12)+K39)","v":0}]
[null,"Maximum Calculated TIF Mortgage",null,null,null,null,null,null,null,null,{"$f":"IF(K40=0,0,K36/K40)","v":0}]
[null,"Maximum TIF Supported Mortgage (rounded)",null,null,null,null,null,null,null,null,{"$f":"ROUNDDOWN(K41,-3)","v":0}]
[null,"Actual TIF Mortgage if not Maximum Supported"]
[null,"Combined Total Mortgage Based on Debt Coverage",null,null,null,null,null,null,null,null,{"$f":"K30+K42","v":0}]
[]
[null,"ACTUAL MORTGAGE"]
[null,"Principal",null,null,null,null,"Check if MN Housing",null,null,null,{"$f":"K44","v":0}]
[null,"Amortization (Years)",null,null,null,null,null,null,null,null,{"$f":"MortCalcAmort","v":0}]
[null,"Interest Rate",null,null,null,null,null,null,null,null,{"$f":"MortCalcIntRate","v":0}]
[null,"MIP",null,null,null,null,null,null,null,null,{"$f":"MortCalcMIP","v":0}]
[null,"Debt Service",null,null,null,null,null,null,null,null,{"$f":"IF(OR(K49+K50<=0, K48=0),0,PMT((K49+K50)/12,K48*12,-K47)*12)","v":0}]
[null,"First Year DCR - All Amortizing Debt",null,null,null,null,null,null,null,null,{"$f":"IF(J17+K51 =0,0, (J7+K34)/(J17+K51))","v":0}]

{"sheet":"Cash Flow","index":17,"n_rows":90,"n_cols":27,"rows_kept":90,"cut":false,"hidden":false,"merged":[[71,1,71,3],[60,1,60,5],[61,1,61,5],[62,1,62,5],[63,1,63,5],[64,1,64,5],[65,1,65,5],[66,1,66,5],[67,1,67,5],[68,1,68,5],[69,1,69,5],[70,1,70,5],[59,1,59,5],[48,1,48,5],[49,1,49,5],[50,2,50,7],[51,2,51,7],[52,1,52,4],[53,1,53,4],[54,1,54,4],[55,1,55,3],[55,4,55,6],[56,1,56,4],[57,1,57,4],[47,1,47,5],[23,2,23,4],[24,2,24,4],[27,1,27,5],[39,1,39,4],[40,1,40,5],[41,1,41,5],[42,1,42,5],[43,1,43,5],[44,1,44,5],[45,1,45,5],[46,1,46,5],[18,2,18,4],[0,1,1,26],[10,1,10,5],[16,2,16,4],[17,2,17,4]]}
[null,"CASH FLOW"]
[]
[null,"Development Name",null,null,{"$f":"IF('Project Description'!E11:O11=\"\",\"\",'Project Description'!E11:O11)","v":""}]
[null,null,null,null,null,null,null,null,"Floor Plan","# Units","Rent",null,"Floor Plan","# Units","Rent",null,"Floor Plan","# Units","Rent",null,"Floor Plan","# Units","Rent",null,"Floor Plan","# Units","Rent"]
[null,"Total Units",null,null,null,null,{"$f":"'Housing Income'!D41","v":0},null,{"$f":"'Housing Income'!B19","v":0},{"$f":"'Housing Income'!D19","v":0},{"$f":"'Housing Income'!F19","v":0},null,{"$f":"'Housing Income'!B23","v":0},{"$f":"'Housing Income'!D23","v":0},{"$f":"'Housing Income'!F23","v":0},null,{"$f":"'Housing Income'!B27","v":0},{"$f":"'Housing Income'!D27","v":0},{"$f":"'Housing Income'!F27","v":0},null,{"$f":"'Housing Income'!B31","v":0},{"$f":"'Housing Income'!D31","v":0},{"$f":"'Housing Income'!F31","v":0},null,{"$f":"'Housing Income'!B35","v":0},{"$f":"'Housing Income'!D35","v":0},{"$f":"'Housing Income'!F35","v":0}]
[null,"Cap Rate",null,null,null,null,7.0000000000000007E-2,null,{"$f":"'Housing Income'!B20","v":0},{"$f":"'Housing Income'!D20","v":0},{"$f":"'Housing Income'!F20","v":0},null,{"$f":"'Housing Income'!B24","v":0},{"$f":"'Housing Income'!D24","v":0},{"$f":"'Housing Income'!F24","v":0},null,{"$f":"'Housing Income'!B28","v":0},{"$f":"'Housing Income'!D28","v":0},{"$f":"'Housing Income'!F28","v":0},null,{"$f":"'Housing Income'!B32","v":0},{"$f":"'Housing Income'!D32","v":0},{"$f":"'Housing Income'!F32","v":0},null,{"$f":"'Housing Income'!B36","v":0},{"$f":"'Housing Income'!D36","v":0},{"$f":"'Housing Income'!F36","v":0}]
[null,"Vacancy Rate / Credit Allowance",null,null,null,null,{"$f":"'Income & Expense'!H20","v":7.0000000000000007E-2},null,{"$f":"'Housing Income'!B21","v":0},{"$f":"'Housing Income'!D21","v":0},{"$f":"'Housing Income'!F21","v":0},null,{"$f":"'Housing Income'!B25","v":0},{"$f":"'Housing Income'!D25","v":0},{"$f":"'Housing Income'!F25","v":0},null,{"$f":"'Housing Income'!B29","v":0},{"$f":"'Housing Income'!D29","v":0},{"$f":"'Housing Income'!F29","v":0},null,{"$f":"'Housing Income'!B33","v":0},{"$f":"'Housing Income'!D33","v":0},{"$f":"'Housing Income'!F33","v":0},null,{"$f":"'Housing Income'!B37","v":0},{"$f":"'Housing Income'!D37","v":0},{"$f":"'Housing Income'!F37","v":0}]
[null,"Income Inflator",null,null,null,null,0.02,null,{"$f":"'Housing Income'!B22","v":0},{"$f":"'Housing Income'!D22","v":0},{"$f":"'Housing Income'!F22","v":0},null,{"$f":"'Housing Income'!B26","v":0},{"$f":"'Housing Income'!D26","v":0},{"$f":"'Housing Income'!F26","v":0},null,{"$f":"'Housing Income'!B30","v":0},{"$f":"'Housing Income'!D30","v":0},{"$f":"'Housing Income'!F30","v":0},null,{"$f":"'Housing Income'!B34","v":0},{"$f":"'Housing Income'!D34","v":0},{"$f":"'Housing Income'!F34","v":0},null,{"$f":"'Housing Income'!B38","v":0},{"$f":"'Housing Income'!D38","v":0},{"$f":"'Housing Income'!F38","v":0}]
[null,"Expense Inflator",null,null,null,null,0.03,null,null,null,null,null,null,null,null,null,null,null,null,null,null,null,null,null,{"$f":"'Housing Income'!B39","v":0},{"$f":"'Housing Income'!D39","v":0},{"$f":"'Housing Income'!F39","v":0}]
[]
[null,"INCOME",null,null,null,null,"Initial Inflator","Future Inflator","Begin in Year","Actuals Two Years Ago","Actuals One Year Ago","Actuals Current Year","Year 1","Year 2","Year 3","Year 4","Year 5","Year 6","Year 7","Year 8","Year 9","Year 10","Year 11","Year 12","Year 13","Year 14","Year 15"]
[null,"Rental Income",null,null,null,null,{"$f":"$G$8","v":0.02},null,null,null,null,null,{"$f":"RRDL_HousIncRentHsgPot","v":0},{"$f":"IF(ISBLANK($I12)=FALSE,IF(VALUE(RIGHT(N$11,LEN(N$11)-FIND(\" \",N$11,1)))>=$I12,M12*(1+$H12),M12*(1+$G12)),M12*(1+$G12))","v":0},0,0,0,0,0,0,0,0,0,0,0,0,0]
[null,"Parking Income",null,null,null,null,{"$f":"$G$8","v":0.02},null,null,null,null,null,{"$f":"IF(AND(ISBLANK(incExpCoveredParking),ISBLANK(IncExpSurfaceParking)),0,IF(AND(ISBLANK(incExpCoveredParking)=FALSE,ISBLANK(IncExpSurfaceParking)),incExpCoveredParking,IF(AND(ISBLANK(incExpCoveredParking),ISBLANK(IncExpSurfaceParking)=FALSE),IncExpSurfaceParking,IF(AND(ISBLANK(incExpCoveredParking)=FALSE,ISBLANK(IncExpSurfaceParking)=FALSE),incExpCoveredParking + IncExpSurfaceParking))))","v":0},{"$f":"IF(ISBLANK($I13)=FALSE,IF(VALUE(RIGHT(N$11,LEN(N$11)-FIND(\" \",N$11,1)))>=$I13,M13*(1+$H13),M13*(1+$G13)),M13*(1+$G13))","v":0},0,0,0,0,{"$f":"IF(ISBLANK($I13)=FALSE,IF(VALUE(RIGHT(S$11,LEN(S$11)-FIND(\" \",S$11,1)))>=$I13,R13*(1+$H13),R13*(1+$G13)),R13*(1+$G13))","v":0},0,0,0,0,0,0,0,0]
[null,"Commercial Income",null,null,null,null,{"$f":"$G$8","v":0.02},null,null,null,null,null,{"$f":"IF(ISBLANK('Income & Expense'!J9),0,'Income & Expense'!J9)","v":0},0,0,0,0,0,{"$f":"IF(ISBLANK($I14)=FALSE,IF(VALUE(RIGHT(S$11,LEN(S$11)-FIND(\" \",S$11,1)))>=$I14,R14*(1+$H14),R14*(1+$G14)),R14*(1+$G14))","v":0},0,0,0,0,0,0,0,0]
[null,"Gross Potential Rent",null,null,null,null,null,null,null,{"$f":"SUM(J12:J14)","v":0},{"$f":"SUM(K12:K14)","v":0},{"$f":"SUM(L12:L14)","v":0},{"$f":"SUM(M12:M14)","v":0},0,0,0,0,0,0,0,0,0,0,0,0,0,0]
[null,"Other Income from Operations (incl Laundry)",null,null,null,null,{"$f":"$G$8","v":0.02},null,null,null,null,null,{"$f":"IF('Income & Expense'!J18=\"\",0,'Income & Expense'!J18)","v":0},{"$f":"IF($I16<>\"\",IF(VALUE(RIGHT(N$11,LEN(N$11)-FIND(\" \",N$11,1)))>=$I16,M16*(1+$H16),M16*(1+$G16)),M16*(1+$G16))","v":0},0,0,0,0,0,0,0,0,0,0,0,0,0]
[null,"  Other "]
[null,"  Other"]
[null,"  Other"]
[null,"Total Other Income",null,null,null,null,null,null,null,{"$f":"SUM(J16:J19)","v":0},{"$f":"SUM(K16:K19)","v":0},{"$f":"SUM(L16:L19)","v":0},{"$f":"SUM(M16:M19)","v":0},{"$f":"SUM(N16:N19)","v":0},{"$f":"SUM(O16:O19)","v":0},0,0,0,0,0,0,0,0,0,0,0,0]
[null,"Rental Vacancy",null,null,{"$f":"'Income & Expense'!H20","v":7.0000000000000007E-2},null,{"$f":"$G$8","v":0.02},null,null,null,null,null,{"$f":"(M12+M20)*$E$21","v":0},{"$f":"(N12+N20)*$E$21","v":0},0,0,0,0,0,0,0,0,0,0,0,0,0]
[null,"Parking Vacancy",null,null,{"$f":"'Income & Expense'!H21","v":0.1},null,{"$f":"$G$8","v":0.02},null,null,null,null,null,{"$f":"M13*$E$22","v":0},{"$f":"N13*$E$22","v":0},0,0,0,0,0,0,0,0,0,0,0,0,0]
[null,"Commercial Vacancy",null,null,{"$f":"'Income & Expense'!H22","v":0.1},null,{"$f":"$G$8","v":0.02},null,null,null,null,null,{"$f":"M14*$E$23","v":0},{"$f":"N14*$E$23","v":0},0,0,0,0,0,0,0,0,0,0,0,0,0]
[null,"Other",{"$f":"IF('Income & Expense'!D23=\"\",0,'Income & Expense'!D23)","v":0},null,null,null,{"$f":"$G$8","v":0.02},null,null,null,null,null,{"$f":"IF(ISBLANK('Income & Expense'!J23)=TRUE,0,'Income & Expense'!J23)","v":0},{"$f":"IF(ISBLANK($I24)=FALSE,IF(VALUE(RIGHT(N$11,LEN(N$11)-FIND(\" \",N$11,1)))>=$I24,M24*(1+$H24),M24*(1+$G24)),M24*(1+$G24))","v":0},{"$f":"IF(ISBLANK($I24)=FALSE,IF(VALUE(RIGHT(O$11,LEN(O$11)-FIND(\" \",O$11,1)))>=$I24,N24*(1+$H24),N24*(1+$G24)),N24*(1+$G24))","v":0},{"$f":"IF(ISBLANK($I24)=FALSE,IF(VALUE(RIGHT(P$11,LEN(P$11)-FIND(\" \",P$11,1)))>=$I24,O24*(1+$H24),O24*(1+$G24)),O24*(1+$G24))","v":0},0,0,0,0,0,0,0,0,0,0,0]
[null,"Other",{"$f":"IF('Income & Expense'!D24=\"\",0,'Income & Expense'!D24)","v":0},null,null,null,{"$f":"$G$8","v":0.02},null,null,null,null,null,{"$f":"IF(ISBLANK('Income & Expense'!J24)=TRUE,0,'Income & Expense'!J24)","v":0},{"$f":"IF(ISBLANK($I25)=FALSE,IF(VALUE(RIGHT(N$11,LEN(N$11)-FIND(\" \",N$11,1)))>=$I25,M25*(1+$H25),M25*(1+$G25)),M25*(1+$G25))","v":0},{"$f":"IF(ISBLANK($I25)=FALSE,IF(VALUE(RIGHT(O$11,LEN(O$11)-FIND(\" \",O$11,1)))>=$I25,N25*(1+$H25),N25*(1+$G25)),N25*(1+$G25))","v":0},{"$f":"IF(ISBLANK($I25)=FALSE,IF(VALUE(RIGHT(P$11,LEN(P$11)-FIND(\" \",P$11,1)))>=$I25,O25*(1+$H25),O25*(1+$G25)),O25*(1+$G25))","v":0},0,0,0,0,0,0,0,0,0,0,0]
[null,"Total Rental Loss",null,null,null,null,null,null,null,{"$f":"SUM(J21:J25)","v":0},{"$f":"SUM(K21:K25)","v":0},{"$f":"SUM(L21:L25)","v":0},{"$f":"SUM(M21:M25)","v":0},{"$f":"SUM(N21:N25)","v":0},{"$f":"SUM(O21:O25)","v":0},0,0,0,0,0,0,0,0,0,0,0,0]
[null,"Net Rental Income",null,null,null,null,null,null,null,{"$f":"(J15+J20)-J26","v":0},{"$f":"(K15+K20)-K26","v":0},{"$f":"(L15+L20)-L26","v":0},{"$f":"(M15+M20)-M26","v":0},{"$f":"(N15+N20)-N26","v":0},{"$f":"(O15+O20)-O26","v":0},0,0,0,0,0,0,0,0,0,0,0,0]
[null,"EXPENSES"]
[null,"Property Management Fee",null,null,{"$f":"IF(M27=0,0,M29/M27)","v":0},null,{"$f":"$G$8","v":0.02},null,null,null,null,null,{"$f":"IF(ISBLANK('Income & Expense'!J33),0,'Income & Expense'!J33)","v":0},{"$f":"IF(ISBLANK($I29)=FALSE,IF(VALUE(RIGHT(N$11,LEN(N$11)-FIND(\" \",N$11,1)))>=$I29,M29*(1+$H29),M29*(1+$G29)),M29*(1+$G29))","v":0},{"$f":"IF(ISBLANK($I29)=FALSE,IF(VALUE(RIGHT(O$11,LEN(O$11)-FIND(\" \",O$11,1)))>=$I29,N29*(1+$H29),N29*(1+$G29)),N29*(1+$G29))","v":0},0,0,0,0,0,0,0,0,0,0,0,0]
[null,"Administrative Expenses (less Prop Mgmt Fee)",null,null,null,null,{"$f":"$G$9","v":0.03},null,null,null,null,null,{"$f":"IF(AND('Income & Expense'!J41=\"\",'Income & Expense'!J33<>\"\"),0-'Income & Expense'!J33,IF(AND('Income & Expense'!J33=\"\",'Income & Expense'!J41<>\"\"), 'Income & Expense'!J41 - 0, IF(AND('Income & Expense'!J41=\"\",'Income & Expense'!J33=\"\"),0,'Income & Expense'!J41-'Income & Expense'!J33)))","v":0},{"$f":"IF(ISBLANK($I30)=FALSE,IF(VALUE(RIGHT(N$11,LEN(N$11)-FIND(\" \",N$11,1)))>=$I30,M30*(1+$H30),M30*(1+$G30)),M30*(1+$G30))","v":0},0,0,0,0,0,0,0,0,0,0,0,0,0]
[null,"Maintenance Expenses",null,null,null,null,0.03,null,null,null,null,null,{"$f":"IF('Income & Expense'!J55=\"\",0,'Income & Expense'!J55)","v":0},0,0,0,0,0,0,0,0,0,0,0,0,0,0]
[null,"Utilities",null,null,null,null,0.03,null,null,null,null,null,{"$f":"IF('Income & Expense'!J60=\"\",0,'Income & Expense'!J60)","v":0},0,0,0,0,0,0,0,0,0,0,0,0,0,0]
[null,"Unique Operating Expenses",null,null,null,null,0.03,null,null,null,null,null,{"$f":"IF('Income & Expense'!J62=\"\",0,'Income & Expense'!J62)","v":0},0,0,0,0,0,0,0,0,0,0,0,0,0,0]
[null,"Insurance",null,"M&O/DU/Mo:",{"$f":"IF(G5=0,0,(SUM(M29:M34)/G5))/12","v":0},null,{"$f":"G9","v":0.03},null,null,null,null,null,{"$f":"IF('Income & Expense'!J64=\"\",0,'Income & Expense'!J64)","v":0},0,0,0,0,0,0,0,0,0,0,0,0,0,0]
[null,"Real Estate Taxes",null,null,null,null,0.03,null,null,null,null,null,{"$f":"IF('Income & Expense'!J68=\"\",0,'Income & Expense'!J68)","v":0},0,0,0,0,0,0,0,0,0,0,0,0,0,0]
[null,"Reserves",null,"Reserves/Unit:",{"$f":"IF(G5=0, 0, M36/G5)","v":0},null,0,null,null,null,null,null,{"$f":"IF(AND('Income & Expense'!J69=\"\", 'Income & Expense'!J70=\"\"),0,IF(AND('Income & Expense'!J69=\"\", 'Income & Expense'!J70<>\"\"),'Income & Expense'!J70, IF(AND('Income & Expense'!J69<>\"\",'Income & Expense'!J70=\"\"), 'Income & Expense'!J69, IF(AND('Income & Expense'!J69<>\"\", 'Income & Expense'!J70<>\"\"), 'Income & Expense'!J69+'Income & Expense'!J70))))","v":0},0,0,0,0,0,0,0,0,0,0,0,0,0,0]
[null,"Effective Gross Expense",null,null,{"$f":"IF(M27=0,0,M37/M27)","v":0},null,null,null,null,{"$f":"SUM(J29:J36)","v":0},{"$f":"SUM(K29:K36)","v":0},{"$f":"SUM(L29:L36)","v":0},{"$f":"SUM(M29:M36)","v":0},{"$f":"SUM(N29:N36)","v":0},{"$f":"SUM(O29:O36)","v":0},0,0,0,0,0,0,0,0,0,0,0,0]
[null,"Net Operating Income",null,null,null,null,null,null,null,{"$f":"J27-J37","v":0},{"$f":"K27-K37","v":0},{"$f":"L27-L37","v":0},{"$f":"M27-M37","v":0},{"$f":"N27-N37","v":0},{"$f":"O27-O37","v":0},0,0,0,0,0,0,0,0,0,0,0,0]
[null,"Temporary Income",null,null,null,null,null,null,null,{"$f":"IF('Income & Expense'!G80=\"\",0,'Income & Expense'!G80)","v":0},{"$f":"IF('Income & Expense'!H80=\"\",0,'Income & Expense'!H80)","v":0},{"$f":"IF('Income & Expense'!I80=\"\",0,'Income & Expense'!I80)","v":0},{"$f":"IF('Income & Expense'!J80=\"\",0,'Income & Expense'!J80)","v":0},{"$f":"+$M$39","v":0},{"$f":"+$M$39","v":0},0,0,0,0,0,0,0,0,0,0,0,0]
[null,"Total Income for Debt Service",null,null,null,null,null,null,null,{"$f":"J38+J39","v":0},{"$f":"K38+K39","v":0},{"$f":"L38+L39","v":0},{"$f":"M38+M39","v":0},{"$f":"N38+N39","v":0},{"$f":"O38+O39","v":0},0,0,0,0,0,0,0,0,0,0,0,0]
[null,"DEBT SERVICE"]
[null,{"$f":"IF(Controls1!M4,\"MN Housing 1st Mortgage\", \"First Mortgage\")","v":"First Mortgage"},null,null,null,null,null,null,null,null,null,null,{"$f":"SUM(Amortization!B17:B28)","v":0},{"$f":"$M42","v":0},{"$f":"$M42","v":0},0,0,0,0,0,0,0,0,0,0,0,0]
[null,"TIF Supported Mortgage",null,null,null,null,null,null,null,null,null,null,{"$f":"SUM(Amortization!P17:P28)","v":0},{"$f":"M43","v":0},{"$f":"N43","v":0},0,0,0,0,0,0,0,0,0,0,0,0]
[null,"MIP",null,null,null,null,null,null,null,null,null,null,{"$f":"IF(ISERR(ROUND(Amortization!AB17,)),0,ROUND(Amortization!AB17,))","v":0},{"$f":"IF(ISERR(OFFSET(Amortization!$AB$29,(COLUMN('Cash Flow'!N43)-COLUMN('Cash Flow'!$N$43))*12,0)),0,OFFSET(Amortization!$AB$29,(COLUMN('Cash Flow'!N43)-COLUMN('Cash Flow'!$N$43))*12,0))","v":0},{"$f":"IF(ISERR(OFFSET(Amortization!$AB$29,(COLUMN('Cash Flow'!O43)-COLUMN('Cash Flow'!$N$43))*12,0)),0,OFFSET(Amortization!$AB$29,(COLUMN('Cash Flow'!O43)-COLUMN('Cash Flow'!$N$43))*12,0))","v":0},{"$f":"IF(ISERR(OFFSET(Amortization!$AB$29,(COLUMN('Cash Flow'!P43)-COLUMN('Cash Flow'!$N$43))*12,0)),0,OFFSET(Amortization!$AB$29,(COLUMN('Cash Flow'!P43)-COLUMN('Cash Flow'!$N$43))*12,0))","v":0},{"$f":"IF(ISERR(OFFSET(Amortization!$AB$29,(COLUMN('Cash Flow'!Q43)-COLUMN('Cash Flow'!$N$43))*12,0)),0,OFFSET(Amortization!$AB$29,(COLUMN('Cash Flow'!Q43)-COLUMN('Cash Flow'!$N$43))*12,0))","v":0},{"$f":"IF(ISERR(OFFSET(Amortization!$AB$29,(COLUMN('Cash Flow'!R43)-COLUMN('Cash Flow'!$N$43))*12,0)),0,OFFSET(Amortization!$AB$29,(COLUMN('Cash Flow'!R43)-COLUMN('Cash Flow'!$N$43))*12,0))","v":0},{"$f":"IF(ISERR(OFFSET(Amortization!$AB$29,(COLUMN('Cash Flow'!S43)-COLUMN('Cash Flow'!$N$43))*12,0)),0,OFFSET(Amortization!$AB$29,(COLUMN('Cash Flow'!S43)-COLUMN('Cash Flow'!$N$43))*12,0))","v":0},{"$f":"IF(ISERR(OFFSET(Amortization!$AB$29,(COLUMN('Cash Flow'!T43)-COLUMN('Cash Flow'!$N$43))*12,0)),0,OFFSET(Amortization!$AB$29,(COLUMN('Cash Flow'!T43)-COLUMN('Cash Flow'!$N$43))*12,0))","v":0},{"$f":"IF(ISERR(OFFSET(Amortization!$AB$29,(COLUMN('Cash Flow'!U43)-COLUMN('Cash Flow'!$N$43))*12,0)),0,OFFSET(Amortization!$AB$29,(COLUMN('Cash Flow'!U43)-COLUMN('Cash Flow'!$N$43))*12,0))","v":0},{"$f":"IF(ISERR(OFFSET(Amortization!$AB$29,(COLUMN('Cash Flow'!V43)-COLUMN('Cash Flow'!$N$43))*12,0)),0,OFFSET(Amortization!$AB$29,(COLUMN('Cash Flow'!V43)-COLUMN('Cash Flow'!$N$43))*12,0))","v":0},{"$f":"IF(ISERR(OFFSET(Amortization!$AB$29,(COLUMN('Cash Flow'!W43)-COLUMN('Cash Flow'!$N$43))*12,0)),0,OFFSET(Amortization!$AB$29,(COLUMN('Cash Flow'!W43)-COLUMN('Cash Flow'!$N$43))*12,0))","v":0},{"$f":"IF(ISERR(OFFSET(Amortization!$AB$29,(COLUMN('Cash Flow'!X43)-COLUMN('Cash Flow'!$N$43))*12,0)),0,OFFSET(Amortization!$AB$29,(COLUMN('Cash Flow'!X43)-COLUMN('Cash Flow'!$N$43))*12,0))","v":0},{"$f":"IF(ISERR(OFFSET(Amortization!$AB$29,(COLUMN('Cash Flow'!Y43)-COLUMN('Cash Flow'!$N$43))*12,0)),0,OFFSET(Amortization!$AB$29,(COLUMN('Cash Flow'!Y43)-COLUMN('Cash Flow'!$N$43))*12,0))","v":0},{"$f":"IF(ISERR(OFFSET(Amortization!$AB$29,(COLUMN('Cash Flow'!Z43)-COLUMN('Cash Flow'!$N$43))*12,0)),0,OFFSET(Amortization!$AB$29,(COLUMN('Cash Flow'!Z43)-COLUMN('Cash Flow'!$N$43))*12,0))","v":0},{"$f":"IF(ISERR(OFFSET(Amortization!$AB$29,(COLUMN('Cash Flow'!AA43)-COLUMN('Cash Flow'!$N$43))*12,0)),0,OFFSET(Amortization!$AB$29,(COLUMN('Cash Flow'!AA43)-COLUMN('Cash Flow'!$N$43))*12,0))","v":0}]
[null,{"$f":"IF('Mortgage Calc'!B11=\"\",\"\", 'Mortgage Calc'!B11)","v":""},null,null,null,null,null,null,null,null,null,null,{"$f":"IF('Mortgage Calc'!J11=\"\",0,'Mortgage Calc'!J11)","v":0},{"$f":"IF('Mortgage Calc'!$I11>=VALUE(RIGHT(N$11,LEN(N$11)-5)),'Mortgage Calc'!$J11,0)","v":0},{"$f":"IF('Mortgage Calc'!$I11>=VALUE(RIGHT(O$11,LEN(O$11)-5)),'Mortgage Calc'!$J11,0)","v":0},{"$f":"IF('Mortgage Calc'!$I11>=VALUE(RIGHT(P$11,LEN(P$11)-5)),'Mortgage Calc'!$J11,0)","v":0},{"$f":"IF('Mortgage Calc'!$I11>=VALUE(RIGHT(Q$11,LEN(Q$11)-5)),'Mortgage Calc'!$J11,0)","v":0},{"$f":"IF('Mortgage Calc'!$I11>=VALUE(RIGHT(R$11,LEN(R$11)-5)),'Mortgage Calc'!$J11,0)","v":0},{"$f":"IF('Mortgage Calc'!$I11>=VALUE(RIGHT(S$11,LEN(S$11)-5)),'Mortgage Calc'!$J11,0)","v":0},{"$f":"IF('Mortgage Calc'!$I11>=VALUE(RIGHT(T$11,LEN(T$11)-5)),'Mortgage Calc'!$J11,0)","v":0},{"$f":"IF('Mortgage Calc'!$I11>=VALUE(RIGHT(U$11,LEN(U$11)-5)),'Mortgage Calc'!$J11,0)","v":0},{"$f":"IF('Mortgage Calc'!$I11>=VALUE(RIGHT(V$11,LEN(V$11)-5)),'Mortgage Calc'!$J11,0)","v":0},{"$f":"IF('Mortgage Calc'!$I11>=VALUE(RIGHT(W$11,LEN(W$11)-5)),'Mortgage Calc'!$J11,0)","v":0},{"$f":"IF('Mortgage Calc'!$I11>=VALUE(RIGHT(X$11,LEN(X$11)-5)),'Mortgage Calc'!$J11,0)","v":0},{"$f":"IF('Mortgage Calc'!$I11>=VALUE(RIGHT(Y$11,LEN(Y$11)-5)),'Mortgage Calc'!$J11,0)","v":0},{"$f":"IF('Mortgage Calc'!$I11>=VALUE(RIGHT(Z$11,LEN(Z$11)-5)),'Mortgage Calc'!$J11,0)","v":0},{"$f":"IF('Mortgage Calc'!$I11>=VALUE(RIGHT(AA$11,LEN(AA$11)-5)),'Mortgage Calc'!$J11,0)","v":0}]
[null,{"$f":"IF('Mortgage Calc'!B12=\"\",\"\", 'Mortgage Calc'!B12)","v":""},null,null,null,null,null,null,null,null,null,null,{"$f":"IF('Mortgage Calc'!J12=\"\",0,'Mortgage Calc'!J12)","v":0},{"$f":"IF('Mortgage Calc'!$I12>=VALUE(RIGHT(N$11,LEN(N$11)-5)),'Mortgage Calc'!$J12,0)","v":0},{"$f":"IF('Mortgage Calc'!$I12>=VALUE(RIGHT(O$11,LEN(O$11)-5)),'Mortgage Calc'!$J12,0)","v":0},{"$f":"IF('Mortgage Calc'!$I12>=VALUE(RIGHT(P$11,LEN(P$11)-5)),'Mortgage Calc'!$J12,0)","v":0},{"$f":"IF('Mortgage Calc'!$I12>=VALUE(RIGHT(Q$11,LEN(Q$11)-5)),'Mortgage Calc'!$J12,0)","v":0},{"$f":"IF('Mortgage Calc'!$I12>=VALUE(RIGHT(R$11,LEN(R$11)-5)),'Mortgage Calc'!$J12,0)","v":0},{"$f":"IF('Mortgage Calc'!$I12>=VALUE(RIGHT(S$11,LEN(S$11)-5)),'Mortgage Calc'!$J12,0)","v":0},{"$f":"IF('Mortgage Calc'!$I12>=VALUE(RIGHT(T$11,LEN(T$11)-5)),'Mortgage Calc'!$J12,0)","v":0},{"$f":"IF('Mortgage Calc'!$I12>=VALUE(RIGHT(U$11,LEN(U$11)-5)),'Mortgage Calc'!$J12,0)","v":0},{"$f":"IF('Mortgage Calc'!$I12>=VALUE(RIGHT(V$11,LEN(V$11)-5)),'Mortgage Calc'!$J12,0)","v":0},{"$f":"IF('Mortgage Calc'!$I12>=VALUE(RIGHT(W$11,LEN(W$11)-5)),'Mortgage Calc'!$J12,0)","v":0},{"$f":"IF('Mortgage Calc'!$I12>=VALUE(RIGHT(X$11,LEN(X$11)-5)),'Mortgage Calc'!$J12,0)","v":0},{"$f":"IF('Mortgage Calc'!$I12>=VALUE(RIGHT(Y$11,LEN(Y$11)-5)),'Mortgage Calc'!$J12,0)","v":0},{"$f":"IF('Mortgage Calc'!$I12>=VALUE(RIGHT(Z$11,LEN(Z$11)-5)),'Mortgage Calc'!$J12,0)","v":0},{"$f":"IF('Mortgage Calc'!$I12>=VALUE(RIGHT(AA$11,LEN(AA$11)-5)),'Mortgage Calc'!$J12,0)","v":0}]
[null,{"$f":"IF('Mortgage Calc'!B13=\"\",\"\", 'Mortgage Calc'!B13)","v":""},null,null,null,null,null,null,null,null,null,null,{"$f":"IF('Mortgage Calc'!J13=\"\",0,'Mortgage Calc'!J13)","v":0},{"$f":"IF('Mortgage Calc'!$I13>=VALUE(RIGHT(N$11,LEN(N$11)-5)),'Mortgage Calc'!$J13,0)","v":0},{"$f":"IF('Mortgage Calc'!$I13>=VALUE(RIGHT(O$11,LEN(O$11)-5)),'Mortgage Calc'!$J13,0)","v":0},{"$f":"IF('Mortgage Calc'!$I13>=VALUE(RIGHT(P$11,LEN(P$11)-5)),'Mortgage Calc'!$J13,0)","v":0},{"$f":"IF('Mortgage Calc'!$I13>=VALUE(RIGHT(Q$11,LEN(Q$11)-5)),'Mortgage Calc'!$J13,0)","v":0},{"$f":"IF('Mortgage Calc'!$I13>=VALUE(RIGHT(R$11,LEN(R$11)-5)),'Mortgage Calc'!$J13,0)","v":0},{"$f":"IF('Mortgage Calc'!$I13>=VALUE(RIGHT(S$11,LEN(S$11)-5)),'Mortgage Calc'!$J13,0)","v":0},{"$f":"IF('Mortgage Calc'!$I13>=VALUE(RIGHT(T$11,LEN(T$11)-5)),'Mortgage Calc'!$J13,0)","v":0},{"$f":"IF('Mortgage Calc'!$I13>=VALUE(RIGHT(U$11,LEN(U$11)-5)),'Mortgage Calc'!$J13,0)","v":0},{"$f":"IF('Mortgage Calc'!$I13>=VALUE(RIGHT(V$11,LEN(V$11)-5)),'Mortgage Calc'!$J13,0)","v":0},{"$f":"IF('Mortgage Calc'!$I13>=VALUE(RIGHT(W$11,LEN(W$11)-5)),'Mortgage Calc'!$J13,0)","v":0},{"$f":"IF('Mortgage Calc'!$I13>=VALUE(RIGHT(X$11,LEN(X$11)-5)),'Mortgage Calc'!$J13,0)","v":0},{"$f":"IF('Mortgage Calc'!$I13>=VALUE(RIGHT(Y$11,LEN(Y$11)-5)),'Mortgage Calc'!$J13,0)","v":0},{"$f":"IF('Mortgage Calc'!$I13>=VALUE(RIGHT(Z$11,LEN(Z$11)-5)),'Mortgage Calc'!$J13,0)","v":0},{"$f":"IF('Mortgage Calc'!$I13>=VALUE(RIGHT(AA$11,LEN(AA$11)-5)),'Mortgage Calc'!$J13,0)","v":0}]
[null,{"$f":"IF('Mortgage Calc'!B14=\"\",\"\", 'Mortgage Calc'!B14)","v":""},null,null,null,null,null,null,null,null,null,null,{"$f":"IF('Mortgage Calc'!J14=\"\",0,'Mortgage Calc'!J14)","v":0},{"$f":"IF('Mortgage Calc'!$I14>=VALUE(RIGHT(N$11,LEN(N$11)-5)),'Mortgage Calc'!$J14,0)","v":0},{"$f":"IF('Mortgage Calc'!$I14>=VALUE(RIGHT(O$11,LEN(O$11)-5)),'Mortgage Calc'!$J14,0)","v":0},{"$f":"IF('Mortgage Calc'!$I14>=VALUE(RIGHT(P$11,LEN(P$11)-5)),'Mortgage Calc'!$J14,0)","v":0},{"$f":"IF('Mortgage Calc'!$I14>=VALUE(RIGHT(Q$11,LEN(Q$11)-5)),'Mortgage Calc'!$J14,0)","v":0},{"$f":"IF('Mortgage Calc'!$I14>=VALUE(RIGHT(R$11,LEN(R$11)-5)),'Mortgage Calc'!$J14,0)","v":0},{"$f":"IF('Mortgage Calc'!$I14>=VALUE(RIGHT(S$11,LEN(S$11)-5)),'Mortgage Calc'!$J14,0)","v":0},{"$f":"IF('Mortgage Calc'!$I14>=VALUE(RIGHT(T$11,LEN(T$11)-5)),'Mortgage Calc'!$J14,0)","v":0},{"$f":"IF('Mortgage Calc'!$I14>=VALUE(RIGHT(U$11,LEN(U$11)-5)),'Mortgage Calc'!$J14,0)","v":0},{"$f":"IF('Mortgage Calc'!$I14>=VALUE(RIGHT(V$11,LEN(V$11)-5)),'Mortgage Calc'!$J14,0)","v":0},{"$f":"IF('Mortgage Calc'!$I14>=VALUE(RIGHT(W$11,LEN(W$11)-5)),'Mortgage Calc'!$J14,0)","v":0},{"$f":"IF('Mortgage Calc'!$I14>=VALUE(RIGHT(X$11,LEN(X$11)-5)),'Mortgage Calc'!$J14,0)","v":0},{"$f":"IF('Mortgage Calc'!$I14>=VALUE(RIGHT(Y$11,LEN(Y$11)-5)),'Mortgage Calc'!$J14,0)","v":0},{"$f":"IF('Mortgage Calc'!$I14>=VALUE(RIGHT(Z$11,LEN(Z$11)-5)),'Mortgage Calc'!$J14,0)","v":0},{"$f":"IF('Mortgage Calc'!$I14>=VALUE(RIGHT(AA$11,LEN(AA$11)-5)),'Mortgage Calc'!$J14,0)","v":0}]
[null,{"$f":"IF('Mortgage Calc'!B15=\"\",\"\", 'Mortgage Calc'!B15)","v":""},null,null,null,null,null,null,null,null,null,null,{"$f":"IF('Mortgage Calc'!J15=\"\",0,'Mortgage Calc'!J15)","v":0},{"$f":"IF('Mortgage Calc'!$I15>=VALUE(RIGHT(N$11,LEN(N$11)-5)),'Mortgage Calc'!$J15,0)","v":0},{"$f":"IF('Mortgage Calc'!$I15>=VALUE(RIGHT(O$11,LEN(O$11)-5)),'Mortgage Calc'!$J15,0)","v":0},{"$f":"IF('Mortgage Calc'!$I15>=VALUE(RIGHT(P$11,LEN(P$11)-5)),'Mortgage Calc'!$J15,0)","v":0},{"$f":"IF('Mortgage Calc'!$I15>=VALUE(RIGHT(Q$11,LEN(Q$11)-5)),'Mortgage Calc'!$J15,0)","v":0},{"$f":"IF('Mortgage Calc'!$I15>=VALUE(RIGHT(R$11,LEN(R$11)-5)),'Mortgage Calc'!$J15,0)","v":0},{"$f":"IF('Mortgage Calc'!$I15>=VALUE(RIGHT(S$11,LEN(S$11)-5)),'Mortgage Calc'!$J15,0)","v":0},{"$f":"IF('Mortgage Calc'!$I15>=VALUE(RIGHT(T$11,LEN(T$11)-5)),'Mortgage Calc'!$J15,0)","v":0},{"$f":"IF('Mortgage Calc'!$I15>=VALUE(RIGHT(U$11,LEN(U$11)-5)),'Mortgage Calc'!$J15,0)","v":0},{"$f":"IF('Mortgage Calc'!$I15>=VALUE(RIGHT(V$11,LEN(V$11)-5)),'Mortgage Calc'!$J15,0)","v":0},{"$f":"IF('Mortgage Calc'!$I15>=VALUE(RIGHT(W$11,LEN(W$11)-5)),'Mortgage Calc'!$J15,0)","v":0},{"$f":"IF('Mortgage Calc'!$I15>=VALUE(RIGHT(X$11,LEN(X$11)-5)),'Mortgage Calc'!$J15,0)","v":0},{"$f":"IF('Mortgage Calc'!$I15>=VALUE(RIGHT(Y$11,LEN(Y$11)-5)),'Mortgage Calc'!$J15,0)","v":0},{"$f":"IF('Mortgage Calc'!$I15>=VALUE(RIGHT(Z$11,LEN(Z$11)-5)),'Mortgage Calc'!$J15,0)","v":0},{"$f":"IF('Mortgage Calc'!$I15>=VALUE(RIGHT(AA$11,LEN(AA$11)-5)),'Mortgage Calc'!$J15,0)","v":0}]
[null,{"$f":"IF('Mortgage Calc'!B16=\"\",\"\", 'Mortgage Calc'!B16)","v":""},null,null,null,null,null,null,null,null,null,null,{"$f":"IF('Mortgage Calc'!J16=\"\",0,'Mortgage Calc'!J16)","v":0},{"$f":"IF('Mortgage Calc'!$I16>=VALUE(RIGHT(N$11,LEN(N$11)-5)),'Mortgage Calc'!$J16,0)","v":0},{"$f":"IF('Mortgage Calc'!$I16>=VALUE(RIGHT(O$11,LEN(O$11)-5)),'Mortgage Calc'!$J16,0)","v":0},{"$f":"IF('Mortgage Calc'!$I16>=VALUE(RIGHT(P$11,LEN(P$11)-5)),'Mortgage Calc'!$J16,0)","v":0},{"$f":"IF('Mortgage Calc'!$I16>=VALUE(RIGHT(Q$11,LEN(Q$11)-5)),'Mortgage Calc'!$J16,0)","v":0},{"$f":"IF('Mortgage Calc'!$I16>=VALUE(RIGHT(R$11,LEN(R$11)-5)),'Mortgage Calc'!$J16,0)","v":0},{"$f":"IF('Mortgage Calc'!$I16>=VALUE(RIGHT(S$11,LEN(S$11)-5)),'Mortgage Calc'!$J16,0)","v":0},{"$f":"IF('Mortgage Calc'!$I16>=VALUE(RIGHT(T$11,LEN(T$11)-5)),'Mortgage Calc'!$J16,0)","v":0},{"$f":"IF('Mortgage Calc'!$I16>=VALUE(RIGHT(U$11,LEN(U$11)-5)),'Mortgage Calc'!$J16,0)","v":0},{"$f":"IF('Mortgage Calc'!$I16>=VALUE(RIGHT(V$11,LEN(V$11)-5)),'Mortgage Calc'!$J16,0)","v":0},{"$f":"IF('Mortgage Calc'!$I16>=VALUE(RIGHT(W$11,LEN(W$11)-5)),'Mortgage Calc'!$J16,0)","v":0},{"$f":"IF('Mortgage Calc'!$I16>=VALUE(RIGHT(X$11,LEN(X$11)-5)),'Mortgage Calc'!$J16,0)","v":0},{"$f":"IF('Mortgage Calc'!$I16>=VALUE(RIGHT(Y$11,LEN(Y$11)-5)),'Mortgage Calc'!$J16,0)","v":0},{"$f":"IF('Mortgage Calc'!$I16>=VALUE(RIGHT(Z$11,LEN(Z$11)-5)),'Mortgage Calc'!$J16,0)","v":0},{"$f":"IF('Mortgage Calc'!$I16>=VALUE(RIGHT(AA$11,LEN(AA$11)-5)),'Mortgage Calc'!$J16,0)","v":0}]
[null,"Other"]
[null,"Other"]
[null,"Total Debt Service",null,null,null,null,null,null,null,{"$f":"SUM(J42:J52)","v":0},{"$f":"SUM(K42:K52)","v":0},{"$f":"SUM(L42:L52)","v":0},{"$f":"SUM(M42:M52)","v":0},{"$f":"SUM(N42:N52)","v":0},0,0,0,0,0,0,0,0,0,0,0,0,0]
[null,"Total Debt Service Coverage",null,null,null,null,null,null,null,{"$f":"IF(J53=0,0,J40/J53)","v":0},{"$f":"IF(K53=0,0,K40/K53)","v":0},{"$f":"IF(L53=0,0,L40/L53)","v":0},{"$f":"IF(M53=0,0,M40/M53)","v":0},{"$f":"IF(N53=0,0,N40/N53)","v":0},{"$f":"IF(O53=0,0,O40/O53)","v":0},0,0,0,0,0,0,0,0,0,0,0,0]
[null,"Cash Flow",null,null,null,null,null,null,null,{"$f":"J40-J53","v":0},{"$f":"K40-K53","v":0},{"$f":"L40-L53","v":0},{"$f":"M40-M53","v":0},{"$f":"N40-N53","v":0},{"$f":"O40-O53","v":0},0,0,0,0,0,0,0,0,0,0,0,0]
[null,"Funds from Debt Services Reserve",null,null,"Enter this amt in Dev Costs, Reserves",null,null,{"$f":"SUM(M56:AA56)","v":0},null,{"$f":"IF(J55<0,ABS(J55), 0)","v":0},{"$f":"IF(K55<0,ABS(K55), 0)","v":0},{"$f":"IF(L55<0,ABS(L55), 0)","v":0},{"$f":"IF(M55<0,ABS(M55), 0)","v":0},{"$f":"IF(N55<0,ABS(N55), 0)","v":0},{"$f":"IF(O55<0,ABS(O55), 0)","v":0},0,0,0,0,0,0,0,0,0,0,0,0]
[null,"Adjusted Cash Flow",null,null,null,null,null,null,null,{"$f":"J55+J56","v":0},{"$f":"K55+K56","v":0},{"$f":"L55+L56","v":0},{"$f":"M55+M56","v":0},{"$f":"N55+N56","v":0},{"$f":"O55+O56","v":0},0,0,0,0,0,0,0,0,0,0,0,0]
[null,"Adjusted Debt Service Coverage",null,null,null,null,null,null,null,{"$f":"IF(J53>0,(J40+J56)/J53,0)","v":0},{"$f":"IF(K53>0,(K40+K56)/K53,0)","v":0},{"$f":"IF(L53>0,(L40+L56)/L53,0)","v":0},{"$f":"IF(M53>0,(M40+M56)/M53,0)","v":0},{"$f":"IF(N53>0,(N40+N56)/N53,0)","v":0},0,0,0,0,0,0,0,0,0,0,0,0,0]
[]
[null,"Expenses to be paid from Available Cash:",null,null,null,null,"Amount","Rate"]
[]
[]
[]
[null,"Deferred Developer Fee",null,null,null,null,{"$f":"SourcesSourcesDefDevFeeAmt","v":0},0,null,null,null,null,{"$f":"MAX(0,MIN(M57-M61-M62-M63,M79+M80))","v":0},{"$f":"MAX(0,MIN(N57-N61-N62-N63,N79+N80))","v":0},0,0,0,0,0,0,0,0,0,0,0,0,0]
[]
[]
[]
[]
[]
[null,null,null,null,null,null,"Deferred Loans","Rate"]
[null,"Minnesota Housing Cash Flow Note",null,null,null,null,null,null,null,null,null,null,{"$f":"IF(M55-SUM(M61:M70)>50000,MIN((M87+M88),(M55-SUM(M61:M70)-50000)*20%),0)","v":0},{"$f":"IF(N55-SUM(N61:N70)>50000,MIN((N87+N88),(N55-SUM(N61:N70)-50000)*20%),0)","v":0},0,0,0,0,0,0,0,0,0,0,0,0,0]
[null,"Net Cash Flow",null,null,null,null,null,null,null,{"$f":"J57-(SUM(J61:J71))","v":0},{"$f":"K57-(SUM(K61:K71))","v":0},{"$f":"L57-(SUM(L61:L71))","v":0},{"$f":"M57-(SUM(M61:M71))","v":0},{"$f":"N57-(SUM(N61:N71))","v":0},{"$f":"O57-(SUM(O61:O71))","v":0},0,0,0,0,0,0,0,0,0,0,0,0]
[]
[]
[]
[]
[]
[null,null,null,null,"Deferred Developer Fee Payments"]
[null,null,null,null,"Beginning Balance",null,null,null,null,null,null,null,{"$f":"G64","v":0},{"$f":"M82","v":0},{"$f":"N82","v":0},0,0,0,0,0,0,0,0,0,0,0,0]
[null,null,null,null,"Interest",null,null,null,null,null,null,{"$f":"H64","v":0},{"$f":"M79*$L$80","v":0},{"$f":"N79*$L$80","v":0},0,0,0,0,0,0,0,0,0,0,0,0,0]
[null,null,null,null,"Payment",null,null,null,null,null,null,null,{"$f":"-M64","v":0},{"$f":"-N64","v":0},0,0,0,0,0,0,0,0,0,0,0,0,0]
[null,null,null,null,"Ending Balance",null,null,null,null,null,null,null,{"$f":"SUM(M79:M81)","v":0},{"$f":"SUM(N79:N81)","v":0},0,0,0,0,0,0,0,0,0,0,0,0,0]
[]
[]
[]
[null,null,null,null,"Cash Flow Loans"]
[null,null,null,null,"Beginning Balance",null,null,null,null,null,null,null,{"$f":"G71","v":0},{"$f":"M90","v":0},{"$f":"N90","v":0},0,0,0,0,0,0,0,0,0,0,0,0]
[null,null,null,null,"Interest",null,null,null,null,null,null,{"$f":"H71","v":0},{"$f":"M87*$L$88","v":0},{"$f":"N87*$L$88","v":0},0,0,0,0,0,0,0,0,0,0,0,0,0]
[null,null,null,null,"Payment",null,null,null,null,null,null,null,{"$f":"-M71","v":0},{"$f":"-N71","v":0},0,0,0,0,0,0,0,0,0,0,0,0,0]
[null,null,null,null,"Ending Balance",null,null,null,null,null,null,null,{"$f":"SUM(M87:M89)","v":0},{"$f":"SUM(N87:N89)","v":0},0,0,0,0,0,0,0,0,0,0,0,0,0]

{"sheet":"Development Costs","index":18,"n_rows":136,"n_cols":20,"rows_kept":136,"cut":false,"hidden":false,"merged":[[133,8,133,10],[121,1,121,2],[121,4,121,5],[122,1,122,2],[122,4,122,5],[123,1,123,2],[123,4,123,5],[124,1,124,2],[124,4,124,5],[125,1,125,2],[125,4,125,5],[132,8,132,10],[117,1,117,2],[117,3,117,5],[71,3,71,5],[72,3,72,5],[73,3,73,5],[80,3,80,5],[87,3,87,5],[99,1,99,2],[99,3,99,5],[108,1,108,3],[115,1,115,2],[115,3,115,5],[116,1,116,2],[116,3,116,5],[70,3,70,5],[0,1,1,13],[7,1,7,5],[9,3,9,5],[10,3,10,5],[11,3,11,5],[12,3,12,5],[21,3,21,5],[22,3,22,5],[30,3,30,5],[31,3,31,5],[58,3,58,5]]}
[null,"DEVELOPMENT COSTS"]
[]
[null,null,null,null,null,null,null,"Total Costs","Per Unit","4%\nCredit Basis","9%\nCredit Basis","Historic\nCredits Basis","Inter-med. Costs","Comments"]
[null,"ACQUISITION or REFINANCE EXISTING DEBT"]
[null,"Land",null,null,null,null,null,null,{"$f":"IF(OR('Housing Income'!D$41= 0,ISBLANK(H5)), 0, H5/'Housing Income'!D$41)","v":0}]
[null,"Existing Structures",null,null,null,null,null,null,{"$f":"IF(OR('Housing Income'!D$41= 0,ISBLANK(H6)), 0, H6/'Housing Income'!D$41)","v":0}]
[null,"Demolition",null,null,null,null,null,null,{"$f":"IF(OR('Housing Income'!D$41= 0,ISBLANK(H7)), 0, H7/'Housing Income'!D$41)","v":0}]
[null,"Acquisition/Refinance Subtotal",null,null,null,null,null,{"$f":"SUM(H5:H7)","v":0},{"$f":"IF(OR('Housing Income'!D$41= 0,ISBLANK(H8)), 0, H8/'Housing Income'!D$41)","v":0},{"$f":"SUM(J6:J7)","v":0},{"$f":"SUM(K6:K7)","v":0},{"$f":"SUM(L6:L7)","v":0}]
[null,"Special Assessments",null,null,null,null,null,null,{"$f":"IF(OR('Housing Income'!D$41= 0,ISBLANK(H9)), 0, H9/'Housing Income'!D$41)","v":0}]
[null,"Other",null,null,null,null,null,null,{"$f":"IF(OR('Housing Income'!D$41= 0,ISBLANK(H10)), 0, H10/'Housing Income'!D$41)","v":0}]
[null,"Other",null,null,null,null,null,null,{"$f":"IF(OR('Housing Income'!D$41= 0,ISBLANK(H11)), 0, H11/'Housing Income'!D$41)","v":0}]
[null,"Holding Costs",null,null,null,null,null,null,{"$f":"IF(OR('Housing Income'!D$41= 0,ISBLANK(H12)), 0, H12/'Housing Income'!D$41)","v":0}]
[null,"Holding Costs",null,null,null,null,null,null,{"$f":"IF(OR('Housing Income'!D$41= 0,ISBLANK(H13)), 0, H13/'Housing Income'!D$41)","v":0}]
[null,"Acquisition/Refinance Total",null,null,null,null,null,{"$f":"SUM(H8:H13)","v":0},{"$f":"SUM(I8:I13)","v":0},{"$f":"SUM(J8:J13)","v":0},{"$f":"SUM(K8:K13)","v":0},{"$f":"SUM(L8:L13)","v":0}]
[null,"CONSTRUCTION"]
[null,"New Construction"]
[null,"Residential",null,null,null,null,null,null,{"$f":"IF(OR('Housing Income'!D$41= 0,ISBLANK(H17)), 0, H17/'Housing Income'!D$41)","v":0}]
[null,"Garages",null,null,"$ per stall:",{"$f":"IF(OR('Property Information'!F27=\"\", 'Property Information'!F27=0),0,H18/'Property Information'!F27)","v":0},null,null,{"$f":"IF(OR('Housing Income'!D$41= 0,ISBLANK(H18)), 0, H18/'Housing Income'!D$41)","v":0}]
[null,"Accessory Structures",null,null,null,null,null,null,{"$f":"IF(OR('Housing Income'!D$41= 0,ISBLANK(H19)), 0, H19/'Housing Income'!D$41)","v":0}]
[null,"On Site Work",null,null,null,null,null,null,{"$f":"IF(OR('Housing Income'!D$41= 0,ISBLANK(H20)), 0, H20/'Housing Income'!D$41)","v":0}]
[null,"Off Site Work",null,null,null,null,null,null,{"$f":"IF(OR('Housing Income'!D$41= 0,ISBLANK(H21)), 0, H21/'Housing Income'!D$41)","v":0}]
[null,"Other",null,null,null,null,null,null,{"$f":"IF(OR('Housing Income'!D$41= 0,ISBLANK(H22)), 0, H22/'Housing Income'!D$41)","v":0}]
[null,"Other",null,null,null,null,null,null,{"$f":"IF(OR('Housing Income'!D$41= 0,ISBLANK(H23)), 0, H23/'Housing Income'!D$41)","v":0}]
[null,"New Construction Subtotal",null,null,null,null,null,{"$f":"SUM(H17:H23)","v":0},{"$f":"SUM(I17:I23)","v":0},{"$f":"SUM(J17:J23)","v":0},{"$f":"SUM(K17:K23)","v":0},{"$f":"SUM(L17:L23)","v":0}]
[null,"Rehabilitation"]
[null,"Residential",null,null,null,null,null,null,{"$f":"IF(OR('Housing Income'!D$41= 0,ISBLANK(H26)), 0, H26/'Housing Income'!D$41)","v":0}]
[null,"Garages",null,null,"$ per stall",{"$f":"IF(OR('Property Information'!F27=\"\", 'Property Information'!F27=0),0,H27/'Property Information'!F27)","v":0},null,null,{"$f":"IF(OR('Housing Income'!D$41= 0,ISBLANK(H27)), 0, H27/'Housing Income'!D$41)","v":0}]
[null,"Accessory Structures",null,null,null,null,null,null,{"$f":"IF(OR('Housing Income'!D$41= 0,ISBLANK(H28)), 0, H28/'Housing Income'!D$41)","v":0}]
[null,"On Site Work",null,null,null,null,null,null,{"$f":"IF(OR('Housing Income'!D$41= 0,ISBLANK(H29)), 0, H29/'Housing Income'!D$41)","v":0}]
[null,"Off Site Work",null,null,null,null,null,null,{"$f":"IF(OR('Housing Income'!D$41= 0,ISBLANK(H30)), 0, H30/'Housing Income'!D$41)","v":0}]
[null,"Other",null,null,null,null,null,null,{"$f":"IF(OR('Housing Income'!D$41= 0,ISBLANK(H31)), 0, H31/'Housing Income'!D$41)","v":0}]
[null,"Other",null,null,null,null,null,null,{"$f":"IF(OR('Housing Income'!D$41= 0,ISBLANK(H32)), 0, H32/'Housing Income'!D$41)","v":0}]
[null,"Rehabilitation Subtotal",null,null,null,null,null,{"$f":"SUM(H26:H32)","v":0},{"$f":"SUM(I26:I32)","v":0},{"$f":"SUM(J26:J32)","v":0},{"$f":"SUM(K26:K32)","v":0},{"$f":"SUM(L26:L32)","v":0}]
[null,"New and Rehabilitation Subtotal",null,null,null,null,null,{"$f":"H24+H33","v":0},{"$f":"I24+I33","v":0},{"$f":"J24+J33","v":0},{"$f":"K24+K33","v":0},{"$f":"L24+L33","v":0}]
[null,"General Requirements",null,null,{"$f":"IF(DevCostsConstrGenReq > 0.06, \"Above Std.\",\"\")","v":""},{"$f":"IF(OR(H$34=\"\",H$34=0, H35=\"\", H35=0),0, H35/H$34)","v":0},null,null,{"$f":"IF(OR('Housing Income'!D$41= 0,ISBLANK(H35)), 0, H35/'Housing Income'!D$41)","v":0}]
[null,"Contractor's Overhead",null,null,{"$f":"IF(DevCostsConstrContrOH>0.02, \"Above Std.\",\"\")","v":""},{"$f":"IF(OR(H$34=\"\",H$34=0, H36=\"\", H36=0),0, H36/H$34)","v":0},null,null,{"$f":"IF(OR('Housing Income'!D$41= 0,ISBLANK(H36)), 0, H36/'Housing Income'!D$41)","v":0}]
[null,"Contractor's Profit",null,null,{"$f":"IF(DevCostsConstrContrProf>0.06, \"Above Std.\",\"\")","v":""},{"$f":"IF(OR(H$34=\"\",H$34=0, H37=\"\", H37=0),0, H37/H$34)","v":0},null,null,{"$f":"IF(OR('Housing Income'!D$41= 0,ISBLANK(H37)), 0, H37/'Housing Income'!D$41)","v":0}]
[null,"Construction Contract Amount",null,null,null,{"$f":"IF(SUM(F35:F37)>0.14,\"Over Limit\",\"\")","v":""},null,{"$f":"SUM(H34:H37)","v":0},{"$f":"IF(OR('Housing Income'!D$41= 0,ISBLANK(H38)), 0, H38/'Housing Income'!D$41)","v":0},{"$f":"SUM(J34:J37)","v":0},{"$f":"SUM(K34:K37)","v":0},{"$f":"SUM(L34:L37)","v":0}]
[null,"Construction Contingency",null,null,null,{"$f":"IF(H38=0,0,H39/H38)","v":0},null,null,{"$f":"IF(OR('Housing Income'!D$41= 0,ISBLANK(H39)), 0, H39/'Housing Income'!D$41)","v":0}]
[null,"Total Construction Costs",null,null,null,null,null,{"$f":"H38+H39","v":0},{"$f":"I38+I39","v":0},{"$f":"J38+J39","v":0},{"$f":"K38+K39","v":0},{"$f":"L38+L39","v":0}]
[null,"ENVIRONMENTAL ABATEMENT"]
[null,"Soil Abatement",null,null,null,null,null,null,{"$f":"IF(OR('Housing Income'!D$41= 0,ISBLANK(H42)), 0, H42/'Housing Income'!D$41)","v":0}]
[null,"Lead Abatement",null,null,null,null,null,null,{"$f":"IF(OR('Housing Income'!D$41= 0,ISBLANK(H43)), 0, H43/'Housing Income'!D$41)","v":0}]
[null,"Asbestos Abatement",null,null,null,null,null,null,{"$f":"IF(OR('Housing Income'!D$41= 0,ISBLANK(H44)), 0, H44/'Housing Income'!D$41)","v":0}]
[null,"Other",null,null,null,null,null,null,{"$f":"IF(OR('Housing Income'!D$41= 0,ISBLANK(H45)), 0, H45/'Housing Income'!D$41)","v":0}]
[null,"Abatement Contingency (Agency determined)",null,null,null,null,null,null,{"$f":"IF(OR('Housing Income'!D$41= 0,ISBLANK(H46)), 0, H46/'Housing Income'!D$41)","v":0}]
[null,"Abatement Total",null,null,null,null,null,{"$f":"SUM(H42:H46)","v":0},{"$f":"SUM(I42:I46)","v":0},{"$f":"SUM(J42:J46)","v":0},{"$f":"SUM(K42:K46)","v":0},{"$f":"SUM(L42:L46)","v":0}]
[null,"PROFESSIONAL FEES"]
[null,"Architect's Fee Total",null,{"$f":"IF((H38-H56-H57)=0,0,F49/(H38-H56-H57))","v":0}]
[null,"Architect's Fee - Design",null,null,null,null,null,{"$f":"ROUNDUP(F49*0.75,0)","v":0},{"$f":"IF(OR('Housing Income'!D$41= 0,ISBLANK(H50)), 0, H50/'Housing Income'!D$41)","v":0}]
[null,"Architect's Fee - Supervision",null,null,null,null,null,{"$f":"ROUNDDOWN(F49*0.25, 0)","v":0},{"$f":"IF(OR('Housing Income'!D$41= 0,ISBLANK(H51)), 0, H51/'Housing Income'!D$41)","v":0}]
[null,"Architect's Reimburseables",null,null,null,null,null,null,{"$f":"IF(OR('Housing Income'!D$41= 0,ISBLANK(H52)), 0, H52/'Housing Income'!D$41)","v":0}]
[null,"Marketing",null,null,null,null,null,null,{"$f":"IF(OR('Housing Income'!D$41= 0,ISBLANK(H53)), 0, H53/'Housing Income'!D$41)","v":0}]
[null,"Surveys",null,null,null,null,null,null,{"$f":"IF(OR('Housing Income'!D$41= 0,ISBLANK(H54)), 0, H54/'Housing Income'!D$41)","v":0}]
[null,"Soil Borings",null,null,null,null,null,null,{"$f":"IF(OR('Housing Income'!D$41= 0,ISBLANK(H55)), 0, H55/'Housing Income'!D$41)","v":0}]
[null,"Payment & Performance Bond Premium",null,null,null,null,null,null,{"$f":"IF(OR('Housing Income'!D$41= 0,ISBLANK(H56)), 0, H56/'Housing Income'!D$41)","v":0}]
[null,"Building Permit(s)",null,null,null,null,null,null,{"$f":"IF(OR('Housing Income'!D$41= 0,ISBLANK(H57)), 0, H57/'Housing Income'!D$41)","v":0}]
[null,"Sewer-Water Access Charge",null,null,null,null,null,null,{"$f":"IF(OR('Housing Income'!D$41= 0,ISBLANK(H58)), 0, H58/'Housing Income'!D$41)","v":0}]
[null,"Other Local Fees",null,null,null,null,null,null,{"$f":"IF(OR('Housing Income'!D$41= 0,ISBLANK(H59)), 0, H59/'Housing Income'!D$41)","v":0}]
[null,"Appraisal Fee",null,null,null,null,null,null,{"$f":"IF(OR('Housing Income'!D$41= 0,ISBLANK(H60)), 0, H60/'Housing Income'!D$41)","v":0}]
[null,"Energy Audit",null,null,null,null,null,null,{"$f":"IF(OR('Housing Income'!D$41= 0,ISBLANK(H61)), 0, H61/'Housing Income'!D$41)","v":0}]
[null,"Energy Consultant",null,null,null,null,null,null,{"$f":"IF(OR('Housing Income'!D$41= 0,ISBLANK(H62)), 0, H62/'Housing Income'!D$41)","v":0}]
[null,"Environmental Assessment",null,null,null,null,null,null,{"$f":"IF(OR('Housing Income'!D$41= 0,ISBLANK(H63)), 0, H63/'Housing Income'!D$41)","v":0}]
[null,"Cost Certification/Audit",null,null,null,null,null,null,{"$f":"IF(OR('Housing Income'!D$41= 0,ISBLANK(H64)), 0, H64/'Housing Income'!D$41)","v":0}]
[null,"Market Study",null,null,null,null,null,null,{"$f":"IF(OR('Housing Income'!D$41= 0,ISBLANK(H65)), 0, H65/'Housing Income'!D$41)","v":0}]
[null,"Tax Credit Fees (% of credits)",null,null,null,null,null,null,{"$f":"IF(OR('Housing Income'!D$41= 0,ISBLANK(H66)), 0, H66/'Housing Income'!D$41)","v":0}]
[null,"Compliance Fees (1st year)",null,null,null,null,null,null,{"$f":"IF(OR('Housing Income'!D$41= 0,ISBLANK(H67)), 0, H67/'Housing Income'!D$41)","v":0}]
[null,"Furnishings and Equipment",null,null,null,null,null,null,{"$f":"IF(OR('Housing Income'!D$41= 0,ISBLANK(H68)), 0, H68/'Housing Income'!D$41)","v":0}]
[null,"Legal Fees",null,null,null,null,null,null,{"$f":"IF(OR('Housing Income'!D$41= 0,ISBLANK(H69)), 0, H69/'Housing Income'!D$41)","v":0}]
[null,"Relocation Costs",null,null,null,null,null,null,{"$f":"IF(OR('Housing Income'!D$41= 0,ISBLANK(H70)), 0, H70/'Housing Income'!D$41)","v":0}]
[null,"Other Fees",null,null,null,null,null,null,{"$f":"IF(OR('Housing Income'!D$41= 0,ISBLANK(H71)), 0, H71/'Housing Income'!D$41)","v":0}]
[null,"Other Fees",null,null,null,null,null,null,{"$f":"IF(OR('Housing Income'!D$41= 0,ISBLANK(H72)), 0, H72/'Housing Income'!D$41)","v":0}]
[null,"Other Fees",null,null,null,null,null,null,{"$f":"IF(OR('Housing Income'!D$41= 0,ISBLANK(H73)), 0, H73/'Housing Income'!D$41)","v":0}]
[null,"Other Fees",null,null,null,null,null,null,{"$f":"IF(OR('Housing Income'!D$41= 0,ISBLANK(H74)), 0, H74/'Housing Income'!D$41)","v":0}]
[null,"Professional Fees Total",null,null,null,null,null,{"$f":"SUM(H49:H74)","v":0},{"$f":"SUM(I49:I74)","v":0},{"$f":"SUM(J49:J74)","v":0},{"$f":"SUM(K49:K74)","v":0},{"$f":"SUM(L49:L74)","v":0}]
[null,"DEVELOPER FEE"]
[null,"Developer Fee",null,null,null,null,null,null,{"$f":"IF(OR('Housing Income'!D$41= 0,ISBLANK(H77)), 0, H77/'Housing Income'!D$41)","v":0}]
[null,"Processing Agent",null,null,null,null,null,null,{"$f":"IF(OR('Housing Income'!D$41= 0,ISBLANK(H78)), 0, H78/'Housing Income'!D$41)","v":0}]
[null,"Owner's Construction Representative",null,null,null,null,null,null,{"$f":"IF(OR('Housing Income'!D$41= 0,ISBLANK(H79)), 0, H79/'Housing Income'!D$41)","v":0}]
[null,"Other Consultant Fees",null,null,null,null,null,null,{"$f":"IF(OR('Housing Income'!D$41= 0,ISBLANK(H80)), 0, H80/'Housing Income'!D$41)","v":0}]
[null,"Other",null,null,null,null,null,null,{"$f":"IF(OR('Housing Income'!D$41= 0,ISBLANK(H81)), 0, H81/'Housing Income'!D$41)","v":0},null,null,null,null,null,null,{"$f":"IF(OR(E82=\"over limit\",D82=\"over limit\"),\"Max Developer Fee\",\"\")","v":""}]
[null,"Developer Fee Total",null,{"$f":"IF(AND(DevTeamDevGenContrEnt=\"Yes\",DeveloperFeeTotal+DevCostsConstrContrProfValue+DevCostsConstrGenReqValue+DevCostsConstrContrOHValue>(TotalDevelopmentCosts-DeveloperFeeTotal)*0.2),\"Over Limit\",\"\")","v":""},{"$f":"IF(ISERR(IF(F82>(IF(HousIncTotalUnits>50,50,HousIncTotalUnits)*0.15 + IF(HousIncTotalUnits>50,(HousIncTotalUnits-50)*0.08,0))/HousIncTotalUnits,\"Over Limit\",\"\")),\"\",IF(F82>(IF(HousIncTotalUnits>50,50,HousIncTotalUnits)*0.15 + IF(HousIncTotalUnits>50,(HousIncTotalUnits-50)*0.08,0))/HousIncTotalUnits,\"Over Limit\",\"\"))","v":""},{"$f":"IF(OR(H129=\"\", H82=\"\",H129-H82=0),0,H82/(H129-H82))","v":0},null,{"$f":"SUM(H77:H81)","v":0},{"$f":"SUM(I77:I81)","v":0},{"$f":"SUM(J77:J81)","v":0},{"$f":"SUM(K77:K81)","v":0},{"$f":"SUM(L77:L81)","v":0},null,null,null,{"$f":"IF(E82=\"over limit\",IF(HousIncTotalUnits>50,((50*0.15)+((HousIncTotalUnits-50)*0.08))/HousIncTotalUnits,15%),\"\")","v":""},{"$f":"IF(E82=\"over limit\",ROUNDDOWN((TotalDevelopmentCosts-DeveloperFeeTotal)*P82,),)","v":0}]
[null,"SYNDICATOR/INVESTOR FEES",null,null,null,null,null,null,null,null,null,null,null,null,null,{"$f":"IF(D82=\"over limit\",Q83/(TotalDevelopmentCosts-DeveloperFeeTotal),\"\")","v":""},{"$f":"IF(D82=\"over limit\",(TotalDevelopmentCosts-DeveloperFeeTotal)*20%-(DevCostsConstrGenReqValue+DevCostsConstrContrOHValue+DevCostsConstrContrProfValue),)","v":0},{"$f":"IF(Q83>0,\"identity of interest\",\"\")","v":""}]
[null,"Organization Fees",null,null,null,null,null,null,{"$f":"IF(OR('Housing Income'!D$41= 0,ISBLANK(H84)), 0, H84/'Housing Income'!D$41)","v":0}]
[null,"Bridge Loan",null,null,null,null,null,null,{"$f":"IF(OR('Housing Income'!D$41= 0,ISBLANK(H85)), 0, H85/'Housing Income'!D$41)","v":0},null,null,null,null,null,null,null,null,null,null,"`"]
[null,"Tax Opinion",null,null,null,null,null,null,{"$f":"IF(OR('Housing Income'!D$41= 0,ISBLANK(H86)), 0, H86/'Housing Income'!D$41)","v":0}]
[null,"Due Diligence Fees",null,null,null,null,null,null,{"$f":"IF(OR('Housing Income'!D$41= 0,ISBLANK(H87)), 0, H87/'Housing Income'!D$41)","v":0}]
[null,"Other Fees",null,null,null,null,null,null,{"$f":"IF(OR('Housing Income'!D$41= 0,ISBLANK(H88)), 0, H88/'Housing Income'!D$41)","v":0}]
[null,"Syndicator/Investor Fees Total",null,null,null,null,null,{"$f":"SUM(H84:H88)","v":0},{"$f":"SUM(I84:I88)","v":0},{"$f":"SUM(J84:J88)","v":0},{"$f":"SUM(K84:K88)","v":0},{"$f":"SUM(L84:L88)","v":0}]
[null,"FINANCING COSTS"]
[null,"Construction Period Costs"]
[null,"Hazard and Liability Insurance",null,null,null,null,null,null,{"$f":"IF(OR('Housing Income'!D$41= 0,ISBLANK(H92)), 0, H92/'Housing Income'!D$41)","v":0}]
[null,"Construction Interest at:",null,null,null,null,null,null,{"$f":"IF(OR('Housing Income'!D$41= 0,ISBLANK(H93)), 0, H93/'Housing Income'!D$41)","v":0}]
[null,"Builder's Risk Insurance",null,null,null,null,null,null,{"$f":"IF(OR('Housing Income'!D$41= 0,ISBLANK(H94)), 0, H94/'Housing Income'!D$41)","v":0}]
[null,"Taxes During Construction",null,null,null,null,null,null,{"$f":"IF(OR('Housing Income'!D$41= 0,ISBLANK(H95)), 0, H95/'Housing Income'!D$41)","v":0}]
[null,"MN Housing Bridge Loan Origination Fee",null,null,null,null,null,null,{"$f":"IF(OR('Housing Income'!D$41= 0,ISBLANK(H96)), 0, H96/'Housing Income'!D$41)","v":0}]
[null,"Construction Loan Origination Fee",null,null,null,null,null,null,{"$f":"IF(OR('Housing Income'!D$41= 0,ISBLANK(H97)), 0, H97/'Housing Income'!D$41)","v":0}]
[null,"MN Housing Inspection Fee",null,null,null,null,null,null,{"$f":"IF(OR('Housing Income'!D$41= 0,ISBLANK(H98)), 0, H98/'Housing Income'!D$41)","v":0}]
[null,"Other Inspection Fee",null,null,null,null,null,null,{"$f":"IF(OR('Housing Income'!D$41= 0,ISBLANK(H99)), 0, H99/'Housing Income'!D$41)","v":0}]
[null,"Other",null,null,null,null,null,null,{"$f":"IF(OR('Housing Income'!D$41= 0,ISBLANK(H100)), 0, H100/'Housing Income'!D$41)","v":0}]
[null,"Permanent Financing Costs"]
[null,"MN Housing 1st Mortgage Application Fee",null,null,null,null,null,{"$f":"IF(Controls1!M4=TRUE,250,0)","v":0},{"$f":"IF(OR('Housing Income'!D$41= 0,ISBLANK(H102)), 0, H102/'Housing Income'!D$41)","v":0}]
[null,"MN Housing 1st Mortgage Origination Fee",null,null,null,null,null,{"$f":"IF(Controls1!M4=TRUE,IF(IF(Sources1stMortAmount >5000000,(5000000*0.02)+(Sources1stMortAmount -5000000)*0.01,Sources1stMortAmount *0.02)<25000,25000,IF(Sources1stMortAmount >5000000,(5000000*0.02)+(Sources1stMortAmount -5000000)*0.01,Sources1stMortAmount *0.02)),0)","v":0},{"$f":"IF(OR('Housing Income'!D$41= 0,ISBLANK(H103)), 0, H103/'Housing Income'!D$41)","v":0}]
[null,"HUD/FHA MIP",null,null,null,null,null,null,{"$f":"IF(OR('Housing Income'!D$41= 0,ISBLANK(H104)), 0, H104/'Housing Income'!D$41)","v":0}]
[null,"HUD/FHA Exam Fee",null,null,null,null,null,null,{"$f":"IF(OR('Housing Income'!D$41= 0,ISBLANK(H105)), 0, H105/'Housing Income'!D$41)","v":0}]
[null,"HUD/FHA Inspection Fee",null,null,null,null,null,null,{"$f":"IF(OR('Housing Income'!D$41= 0,ISBLANK(H106)), 0, H106/'Housing Income'!D$41)","v":0}]
[null,"Other Permanent Origination Fee",null,null,null,null,null,null,{"$f":"IF(OR('Housing Income'!D$41= 0,ISBLANK(H107)), 0, H107/'Housing Income'!D$41)","v":0},null,null,null,null,null,null,null," "]
[null,"Mortgage Insurance Premium",null,null,null,null,null,{"$f":"ROUND(IF(ISBLANK('Mortgage Calc'!K31),'Mortgage Calc'!K30*MortCalcMIP,'Mortgage Calc'!K31*MortCalcMIP)+IF(ISBLANK('Mortgage Calc'!K43),'Mortgage Calc'!K42*MtgInsPremium,'Mortgage Calc'!K43*MtgInsPremium),)","v":0},{"$f":"IF(OR('Housing Income'!D$41= 0,ISBLANK(H108)), 0, H108/'Housing Income'!D$41)","v":0}]
[null,"Bond Issuance Fee",null,null,null,null,null,null,{"$f":"IF(OR('Housing Income'!D$41= 0,ISBLANK(H109)), 0, H109/'Housing Income'!D$41)","v":0}]
[null,"Bond Counsel",null,null,null,null,null,null,{"$f":"IF(OR('Housing Income'!D$41= 0,ISBLANK(H110)), 0, H110/'Housing Income'!D$41)","v":0}]
[null,"Underwriter Counsel",null,null,null,null,null,null,{"$f":"IF(OR('Housing Income'!D$41= 0,ISBLANK(H111)), 0, H111/'Housing Income'!D$41)","v":0}]
[null,"Trustee Fee",null,null,null,null,null,null,{"$f":"IF(OR('Housing Income'!D$41= 0,ISBLANK(H112)), 0, H112/'Housing Income'!D$41)","v":0}]
[null,"Rating Agency",null,null,null,null,null,null,{"$f":"IF(OR('Housing Income'!D$41= 0,ISBLANK(H113)), 0, H113/'Housing Income'!D$41)","v":0}]
[null,"Other Bond Fees",null,null,null,null,null,null,{"$f":"IF(OR('Housing Income'!D$41= 0,ISBLANK(H114)), 0, H114/'Housing Income'!D$41)","v":0}]
[null,"Title and Recording",null,null,null,null,null,null,{"$f":"IF(OR('Housing Income'!D$41= 0,ISBLANK(H115)), 0, H115/'Housing Income'!D$41)","v":0}]
[null,"Other",null,null,null,null,null,null,{"$f":"IF(OR('Housing Income'!D$41= 0,ISBLANK(H116)), 0, H116/'Housing Income'!D$41)","v":0}]
[null,"Other",null,null,null,null,null,null,{"$f":"IF(OR('Housing Income'!D$41= 0,ISBLANK(H117)), 0, H117/'Housing Income'!D$41)","v":0}]
[null,"Other",null,null,null,null,null,null,{"$f":"IF(OR('Housing Income'!D$41= 0,ISBLANK(H118)), 0, H118/'Housing Income'!D$41)","v":0}]
[null,"Financing Costs Total",null,null,null,null,null,{"$f":"SUM(H92:H118)","v":0},{"$f":"SUM(I92:I118)","v":0},{"$f":"SUM(J92:J118)","v":0},{"$f":"SUM(K92:K118)","v":0},{"$f":"SUM(L92:L118)","v":0}]
[null,"TOTAL MORTGAGEABLE COSTS",null,null,null,null,null,{"$f":"H14+H40+H47+H75+H82+H89+H119","v":0},{"$f":"I14+I40+I47+I75+I82+I89+I119","v":0},{"$f":"J14+J40+J47+J75+J82+J89+J119","v":0},{"$f":"K14+K40+K47+K75+K82+K89+K119","v":0},{"$f":"L14+L40+L47+L75+L82+L89+L119","v":0}]
[null,"RESERVES AND NON-MORTGAGEABLE COSTS"]
[null,null,null,null,null,null,null,null,{"$f":"IF(OR('Housing Income'!D$41= 0,ISBLANK(H122)), 0, H122/'Housing Income'!D$41)","v":0}]
[null,null,null,null,null,null,null,null,{"$f":"IF(OR('Housing Income'!D$41= 0,ISBLANK(H123)), 0, H123/'Housing Income'!D$41)","v":0}]
[null,null,null,null,null,null,null,null,{"$f":"IF(OR('Housing Income'!D$41= 0,ISBLANK(H124)), 0, H124/'Housing Income'!D$41)","v":0}]
[null,null,null,null,null,null,null,null,{"$f":"IF(OR('Housing Income'!D$41= 0,ISBLANK(H125)), 0, H125/'Housing Income'!D$41)","v":0}]
[null,null,null,null,null,null,null,null,{"$f":"IF(OR('Housing Income'!D$41= 0,ISBLANK(H126)), 0, H126/'Housing Income'!D$41)","v":0}]
[null,"Non-Mortgageable Costs Total",null,null,null,null,null,{"$f":"SUM(H122:H126)","v":0},{"$f":"SUM(I122:I126)","v":0},{"$f":"SUM(J122:J126)","v":0},{"$f":"SUM(K122:K126)","v":0},{"$f":"SUM(L122:L126)","v":0}]
[null,"TOTAL DEVELOPMENT COST"]
[null,"Total Development Costs",null,null,null,null,null,{"$f":"H120+H127","v":0},{"$f":"SUM(I120+I127)","v":0}]
[null,"Total Basis for Tax Credits",null,null,null,null,null,null,null,{"$f":"SUM(J120+J127)","v":0},{"$f":"SUM(K120+K127)","v":0},{"$f":"SUM(L120+L127)","v":0}]
[null,"Total Intermediary Costs",null,null,"% of total",{"$f":"IF(H129=0,0,H131/H129)","v":0},null,{"$f":"TotalIntermedCosts","v":0}]
[null,"RRDL Total Soft Cost - Owner's Match",null,null,null,null,null,{"$f":"IF(InstructDefLoanRRDL=TRUE,(H75+H119)*0.05,0)","v":0}]
[null,"RRDL Eligible Construction Costs",null,null,null,null,null,{"$f":"TotalDevelopmentCosts-DeveloperFeeTotal-TotalSoftCost","v":0},"Other RRDL Ineligible Costs Description"]
[null,"Total Other RRDL Ineligible Costs (Describe)"]
[null,"Final RRDL Eligible Construction Costs",null,null,null,null,null,{"$f":"H133-H134","v":0}]
[null,"Maximum RRDL Assitance Based on # RRDL Units",null,null,null,null,null,{"$f":"IF(TotalRRDLWithRRDL_LimitUnits > 2, TotalRRDLWithRRDL_LimitUnits * 25000, RRDL_HousIncTotalUnits * 35000)","v":{"$error":"#NAME?"}}]

{"sheet":"Sources","index":19,"n_rows":116,"n_cols":23,"rows_kept":116,"cut":false,"hidden":false,"merged":[[109,1,109,2],[109,4,109,5],[109,10,109,15],[110,1,110,2],[110,4,110,5],[110,10,110,15],[107,1,107,2],[107,4,107,5],[107,10,107,15],[108,1,108,2],[108,4,108,5],[108,10,108,15],[113,1,113,2],[113,4,113,5],[113,10,113,15],[114,1,114,2],[114,4,114,5],[115,1,115,2],[115,4,115,5],[111,1,111,2],[111,4,111,5],[111,10,111,15],[112,1,112,2],[112,4,112,5],[112,10,112,15],[105,1,105,2],[105,4,105,5],[105,10,105,15],[106,1,106,2],[106,4,106,5],[106,10,106,15],[103,1,103,2],[103,4,103,5],[103,10,103,15],[104,1,104,2],[104,4,104,5],[104,10,104,15],[99,1,99,2],[99,4,99,5],[99,10,99,15],[100,1,100,2],[100,4,100,5],[102,1,102,2],[102,4,102,5],[95,1,95,2],[95,4,95,5],[95,10,95,15],[98,1,98,2],[98,4,98,5],[98,10,98,15],[96,1,96,2],[97,1,97,2],[96,4,96,5],[97,4,97,5],[93,1,93,2],[93,4,93,5],[93,10,93,15],[94,1,94,2],[94,4,94,5],[94,10,94,15],[91,1,91,2],[91,4,91,5],[91,10,91,15],[92,1,92,2],[92,4,92,5],[92,10,92,15],[89,1,89,2],[89,4,89,5],[89,10,89,15],[90,1,90,2],[90,4,90,5],[90,10,90,15],[87,1,87,2],[87,4,87,5],[87,10,87,15],[88,1,88,2],[88,4,88,5],[88,10,88,15],[85,1,85,2],[85,4,85,5],[85,10,85,15],[86,1,86,2],[86,4,86,5],[86,10,86,15],[83,1,83,2],[83,4,83,5],[83,10,83,15],[84,1,84,2],[84,4,84,5],[84,10,84,15],[81,1,81,2],[81,4,81,5],[81,10,81,15],[82,1,82,2],[82,4,82,5],[82,10,82,15],[79,1,79,2],[79,4,79,5],[79,10,79,15],[80,1,80,2],[80,4,80,5],[80,10,80,15],[77,1,77,2],[77,4,77,5],[77,10,77,15],[78,1,78,2],[78,4,78,5],[75,1,75,2],[75,4,75,5],[75,10,75,15],[76,1,76,2],[76,4,76,5],[76,10,76,15],[73,1,73,2],[73,4,73,5],[73,10,73,15],[74,1,74,2],[74,4,74,5],[74,10,74,15],[70,1,70,2],[70,4,70,5],[71,1,71,2],[71,4,71,5],[72,1,72,2],[72,4,72,5],[63,3,63,8],[64,3,64,8],[65,3,65,8],[66,3,66,8],[67,4,67,9],[69,1,69,15],[56,1,56,6],[57,1,57,6],[58,1,58,6],[59,1,59,6],[60,1,60,6],[62,1,62,15],[47,1,47,3],[50,2,50,8],[51,2,51,8],[53,1,53,15],[54,1,54,6],[55,1,55,6],[41,1,41,3],[41,4,41,6],[41,11,41,13],[42,11,42,13],[44,1,44,15],[46,1,46,3],[39,1,39,3],[39,4,39,6],[39,11,39,13],[40,1,40,3],[40,4,40,6],[40,11,40,13],[34,1,34,3],[36,1,36,15],[37,1,37,3],[37,4,37,6],[37,11,37,13],[38,1,38,3],[38,4,38,6],[38,11,38,13],[30,1,30,3],[30,11,30,15],[31,1,31,3],[31,11,31,15],[32,1,32,3],[32,11,32,15],[27,1,27,3],[27,11,27,15],[28,1,28,3],[28,11,28,15],[29,1,29,3],[29,11,29,15],[24,1,24,3],[24,11,24,15],[25,1,25,3],[25,11,25,15],[26,1,26,3],[26,11,26,15],[21,1,21,3],[21,11,21,15],[22,1,22,3],[22,11,22,15],[23,1,23,3],[23,11,23,15],[18,1,18,3],[18,11,18,15],[19,1,19,3],[19,11,19,15],[20,1,20,3],[20,11,20,15],[15,1,15,3],[15,11,15,15],[16,1,16,3],[16,11,16,15],[17,1,17,3],[17,11,17,15],[13,1,13,3],[13,11,13,15],[14,1,14,3],[14,11,14,15],[6,1,6,3],[6,9,6,15],[7,1,7,3],[7,9,7,15],[8,1,8,3],[8,9,8,15],[0,1,1,15],[3,1,3,15],[4,1,4,3],[4,9,4,15],[5,1,5,3],[5,9,5,15],[9,1,9,3],[9,9,9,15],[12,1,12,15]]}
[null,"SOURCES",null,null,null,null,null,null,null,null,null,null,null,null,null,null,null,null,null,null,null,null,"Yes"]
[null,null,null,null,null,null,null,null,null,null,null,null,null,null,null,null,null,null,null,null,null,null,"No"]
[null,"Total Development Cost from Development Costs tab:",null,null,null,null,{"$f":"TotalDevelopmentCosts","v":0}]
[null,"CONSTRUCTION SOURCES"]
[null,"Name of Source",null,null,"Term","Rate","Amount","Per Unit","Committed","Notes"]
[null,null,null,null,null,null,null,{"$f":"IF('Housing Income'!D$41 = 0, 0, G6/'Housing Income'!D$41)","v":0}]
[null,null,null,null,null,null,null,{"$f":"IF('Housing Income'!D$41 = 0, 0, G7/'Housing Income'!D$41)","v":0}]
[null,null,null,null,null,null,null,{"$f":"IF('Housing Income'!D$41 = 0, 0, G8/'Housing Income'!D$41)","v":0}]
[null,null,null,null,null,null,null,{"$f":"IF('Housing Income'!D$41 = 0, 0, G9/'Housing Income'!D$41)","v":0}]
[null,null,null,null,null,null,null,{"$f":"IF('Housing Income'!D$41 = 0, 0, G10/'Housing Income'!D$41)","v":0}]
[null,"Total Construction Financing",null,null,null,null,{"$f":"SUM(G6:G10)","v":0},{"$f":"SUM(H6:H10)","v":0}]
[]
[null,"PERMANENT CAPITAL SOURCES OF FUNDING"]
[null,"Name of Source",null,null,"Term","Rate","Amount","Per Unit","Committed","Include in HTC Gap","End Loan","Notes\n(Enter info about status and estimated timing of funding)"]
[null,{"$f":"IF(Controls1!M4=TRUE,\"MN Housing First Mortgage\",\"First Mortgage\")","v":"First Mortgage"},null,null,{"$f":"MortCalcTerm","v":0},{"$f":"MortCalcActMortIntRate","v":0},{"$f":"IF(ISBLANK('Mortgage Calc'!K31),'Mortgage Calc'!K30,'Mortgage Calc'!K31)+IF(ISBLANK('Mortgage Calc'!K43),'Mortgage Calc'!K42,'Mortgage Calc'!K43)","v":0},{"$f":"IF(HousIncTotalUnits = 0, 0, G15/HousIncTotalUnits)","v":0}]
[null,"General Partner Cash",null,null,null,null,null,{"$f":"IF(HousIncTotalUnits = 0, 0, G16/HousIncTotalUnits)","v":0}]
[null,"Syndication Proceeds",null,null,null,null,null,{"$f":"IF(HousIncTotalUnits = 0, 0, G17/HousIncTotalUnits)","v":0}]
[null,"State Historic Proceeds",null,null,null,null,null,{"$f":"IF(HousIncTotalUnits = 0, 0, G18/HousIncTotalUnits)","v":0}]
[null,"Federal Historic Proceeds",null,null,null,null,null,{"$f":"IF(HousIncTotalUnits = 0, 0, G19/HousIncTotalUnits)","v":0}]
[null,"Deferred Loan Request",null,null,null,null,null,{"$f":"IF(HousIncTotalUnits = 0, 0, G20/HousIncTotalUnits)","v":0}]
[null,null,null,null,null,null,null,{"$f":"IF(OR(ISBLANK(G21),HousIncTotalUnits = 0), 0, G21/HousIncTotalUnits)","v":0}]
[null,null,null,null,null,null,null,{"$f":"IF(OR(ISBLANK(G22),HousIncTotalUnits = 0), 0, G22/HousIncTotalUnits)","v":0}]
[null,null,null,null,null,null,null,{"$f":"IF(OR(ISBLANK(G23),HousIncTotalUnits = 0), 0, G23/HousIncTotalUnits)","v":0}]
[null,null,null,null,null,null,null,{"$f":"IF(OR(ISBLANK(G24),HousIncTotalUnits = 0), 0, G24/HousIncTotalUnits)","v":0}]
[null,null,null,null,null,null,null,{"$f":"IF(OR(ISBLANK(G25),HousIncTotalUnits = 0), 0, G25/HousIncTotalUnits)","v":0}]
[null,null,null,null,null,null,null,{"$f":"IF(OR(ISBLANK(G26),HousIncTotalUnits = 0), 0, G26/HousIncTotalUnits)","v":0}]
[null,null,null,null,null,null,null,{"$f":"IF(OR(ISBLANK(G27),HousIncTotalUnits = 0), 0, G27/HousIncTotalUnits)","v":0}]
[null,null,null,null,null,null,null,{"$f":"IF(OR(ISBLANK(G28),HousIncTotalUnits = 0), 0, G28/HousIncTotalUnits)","v":0}]
[null,null,null,null,null,null,null,{"$f":"IF(HousIncTotalUnits = 0, 0, G29/HousIncTotalUnits)","v":0}]
[null,null,null,null,null,null,null,{"$f":"IF(HousIncTotalUnits = 0, 0, G30/HousIncTotalUnits)","v":0}]
[null,null,null,null,null,null,null,{"$f":"IF(HousIncTotalUnits = 0, 0, G31/HousIncTotalUnits)","v":0}]
[null,null,null,null,null,null,null,{"$f":"IF(HousIncTotalUnits = 0, 0, G32/HousIncTotalUnits)","v":0}]
[null,"Deferred Developer Fee",null,null,null,null,null,{"$f":"IF(HousIncTotalUnits = 0, 0, G33/HousIncTotalUnits)","v":0}]
[null,"Total Permanent Financing",null,null,null,null,{"$f":"SUM(G15:G33)","v":0},{"$f":"SUM(H15:H33)","v":0}]
[null,"FUNDING GAP REMAINING",null,null,null,null,{"$f":"G3-G34","v":0},{"$f":"IF(HousIncTotalUnits=0,0,G35/HousIncTotalUnits)","v":0}]
[]
[null,"PROPOSED RENTAL ASSISTANCE OR OPERATING SUBSIDY FUNDING"]
[null,"Type of Source",null,null,"Name of Source",null,null,"OS Funding Use","Term","# of Units","Annual Amount","Per Unit",null,null,"Committed"]
[null,null,null,null,null,null,null,null,null,null,null,{"$f":"IF(J39 = 0, 0, K39/J39)","v":0}]
[null,null,null,null,null,null,null,null,null,null,null,{"$f":"IF(J40 = 0, 0, K40/J40)","v":0}]
[null,null,null,null,null,null,null,null,null,null,null,{"$f":"IF(J41 = 0, 0, K41/J41)","v":0}]
[null,null,null,null,null,null,null,null,null,null,null,{"$f":"IF(J42 = 0, 0, K42/J42)","v":0}]
[null,"Total Proposed Rental Assistance or Operating Subsidy Funding",null,null,null,null,null,null,null,{"$f":"SUM(J39:J42)","v":0},{"$f":"SUM(K39:K42)","v":0},{"$f":"SUM(L39:L42)","v":0}]
[]
[null,"ADDITIONAL COSTS NOT INCLUDED IN TOTAL DEVELOPMENT COST"]
[null,"Minnesota Housing 1st Mortgage Escrow Requirements",null,null,null,null,null,null,null,"Amount"]
[null,"Operating Deficit Escrow",null,null,null,null,null,null,null,{"$f":"IF(MortCalc1stMortMNHsg = TRUE, G15*0.03, 0)","v":0}]
[null,"Rent Up Escrow",null,null,null,null,null,null,{"$f":" IF(J48=IF(AND(OR(H15>0,Controls!CT4 = TRUE),MortCalc1stMortMNHsg = TRUE), (G15-'Mortgage Calc'!#REF!)*0.03,0),\"\",\"Manual Amt\")","v":""},{"$f":"IF(AND(OR(H15>0,Controls!CT4 = TRUE),MortCalc1stMortMNHsg = TRUE), G15*0.03,0)","v":0}]
[null,"Insurance Escrow"]
[null,"Tax Escrow"]
[null,"Other"]
[null,"Other"]
[]
[null,"FEDERAL/LOCAL/PHILANTHROPIC CONTRIBUTIONS (Must be completed for inclusion in HTC Scoring for Federal/Local/Philanthropic Contributions. Refer to HTC Scoring.)"]
[null,"Contribution",null,null,null,null,null,"Total Amount","Per Unit Amount","Committed"]
[null,null,null,null,null,null,null,null,{"$f":"IF('Housing Income'!D$41=0,0,H56/'Housing Income'!D$41)","v":0}]
[null,null,null,null,null,null,null,null,{"$f":"IF('Housing Income'!D$41=0,0,H57/'Housing Income'!D$41)","v":0}]
[null,null,null,null,null,null,null,null,{"$f":"IF('Housing Income'!D$41=0,0,H58/'Housing Income'!D$41)","v":0}]
[null,null,null,null,null,null,null,null,{"$f":"IF('Housing Income'!D$41=0,0,H59/'Housing Income'!D$41)","v":0}]
[null,null,null,null,null,null,null,null,{"$f":"IF('Housing Income'!D$41=0,0,H60/'Housing Income'!D$41)","v":0}]
[null,null,null,null,null,null,null,null,{"$f":"IF('Housing Income'!D$41=0,0,H61/'Housing Income'!D$41)","v":0}]
[]
[null,"MAXIMUM ALLOWABLE RETURN ON EQUITY"]
[null,null,"Yes/No","Developments with syndication proceeds",null,null,null,null,null,{"$f":"IF(B64=\"Yes\",(SourcesSyndAmount + SourcesGenPartCashAmount)*0.15,0)","v":0}]
[null,null,"Yes/No","Developments with no syndication proceeds",null,null,null,null,null,{"$f":"IF(B65=\"Yes\",('Development Costs'!H120 - DeveloperFeeTotal)*0.015,0)","v":0}]
[null,null,"Yes/No","Developments with de minimus amount of syndication proceeds",null,null,null,null,null,{"$f":"IF(B66=\"Yes\",IF(SourcesSyndAmount < 'Development Costs'!H120*0.01,('Development Costs'!H120 - DeveloperFeeTotal)*0.015,(SourcesSyndAmount + SourcesGenPartCashAmount)*0.015),0)","v":0}]
[null,null,"Yes/No","Manual Entry"]
[null,null,null,"Explain:"]
[]
[null,"FLOW OF FUNDS"]
[]
[null,"Name of Source",null,"Amount","Closing",null,"During Const","End of Const","Stabilization","Cash Flow","Comment"]
[null,"CONSTRUCTION SOURCES"]
[null,{"$f":"IF(D74>0,B6,\"\")","v":""},null,{"$f":"IF(G6>0,G6,0)","v":0}]
[null,{"$f":"IF(D75>0,B7,\"\")","v":""},null,{"$f":"IF(G7>0,G7,0)","v":0}]
[null,{"$f":"IF(D76>0,B8,\"\")","v":""},null,{"$f":"IF(G8>0,G8,0)","v":0}]
[null,{"$f":"IF(D77>0,B9,\"\")","v":""},null,{"$f":"IF(G9>0,G9,0)","v":0}]
[null,{"$f":"IF(D78>0,B10,\"\")","v":""},null,{"$f":"IF(G10>0,G10,0)","v":0}]
[null,"PERMANENT SOURCES",null,"Amount","Closing",null,"During Const","End of Const","Stabilization","Cash Flow","Comment"]
[null,{"$f":"IF(Sources1stMortAmount>0,SourcesNameOfSourceMHFA,\"\")","v":""},null,{"$f":"IF(Sources1stMortAmount>0,Sources1stMortAmount,0)","v":0}]
[null,{"$f":"IF($G16>0,$B16,\"\")","v":""},null,{"$f":"IF($G16>0,$G16,0)","v":0}]
[null,{"$f":"IF($G17>0,$B17,\"\")","v":""},null,0]
[null,{"$f":"IF($G18>0,$B18,\"\")","v":""},null,0]
[null,{"$f":"IF($G19>0,$B19,\"\")","v":""},null,0]
[null,{"$f":"IF($G20>0,$B20,\"\")","v":""},null,0]
[null,{"$f":"IF($G21>0,$B21,\"\")","v":""},null,0]
[null,"",null,0]
[null,"",null,0]
[null,"",null,0]
[null,"",null,0]
[null,"",null,0]
[null,"",null,0]
[null,"",null,0]
[null,"",null,0]
[null,"",null,0]
[null,"",null,0]
[null,"",null,0]
[null,"",null,0]
[null,"Total Construction Sources",null,{"$f":"SUM(D74:D78)","v":0},{"$f":"SUM(E74:F78)","v":0},null,{"$f":"SUM(G74:G78)","v":0},{"$f":"SUM(H74:H78)","v":0},{"$f":"SUM(I74:I78)","v":0},{"$f":"SUM(J74:J78)","v":0}]
[null,"Total Perm Sources",null,{"$f":"SUM(D80:D98)","v":0},{"$f":"SUM(E80:F98)","v":0},null,{"$f":"SUM(G80:G98)","v":0},{"$f":"SUM(H80:H98)","v":0},{"$f":"SUM(I80:I98)","v":0},{"$f":"SUM(J80:J98)","v":0}]
[null,"Total All Sources",null,{"$f":"D99+D100","v":0},{"$f":"E99+E100","v":0},null,{"$f":"G99+G100","v":0},{"$f":"H99+H100","v":0},{"$f":"I99+I100","v":0},{"$f":"J99+J100","v":0}]
[]
[null,"USES",null,"Amount","Closing",null,"During Const","End of Const","Stabilization","Cash Flow","Comment"]
[null,"Acquistion",null,{"$f":"'Development Costs'!H14","v":0}]
[null,"New Construction",null,{"$f":"'Development Costs'!H24","v":0}]
[null,"Rehab",null,{"$f":"'Development Costs'!H33","v":0}]
[null,"Contractor Fees",null,{"$f":"SUM('Development Costs'!H35:H37)","v":0}]
[null,"Contingency",null,{"$f":"DevCostsConstrNewRehContrCont","v":0}]
[null,"Environmental Abatement",null,{"$f":"'Development Costs'!H47","v":0}]
[null,"Professional Fees (Soft Costs)",null,{"$f":"'Development Costs'!H75","v":0}]
[null,"Developer Fee",null,{"$f":"DeveloperFeeTotal","v":0}]
[null,"Syndication Fees",null,{"$f":"'Development Costs'!H89","v":0}]
[null,"Financing Fees",null,{"$f":"'Development Costs'!H119","v":0}]
[null,"Reserves",null,{"$f":"'Development Costs'!H127","v":0}]
[null,"Total Uses",null,{"$f":"SUM(D104:D114)","v":0},{"$f":"SUM(E104:F114)","v":0},null,{"$f":"SUM(G104:G114)","v":0},{"$f":"SUM(H104:H114)","v":0},{"$f":"SUM(I104:I114)","v":0},{"$f":"SUM(J104:J114)","v":0}]
[null,"Difference",null,null,{"$f":"+E101-E115","v":0},null,{"$f":"+G101-G115","v":0},{"$f":"+H101-H115","v":0},{"$f":"+I101-I115","v":0},{"$f":"+J101-J115","v":0}]

{"sheet":"HTC Info","index":20,"n_rows":86,"n_cols":12,"rows_kept":86,"cut":false,"hidden":false,"merged":[[87,25,87,30],[87,31,87,36],[87,37,87,40],[87,1,87,4],[87,5,87,7],[87,8,87,12],[87,13,87,17],[87,18,87,24],[81,8,81,9],[63,1,63,4],[64,1,64,4],[65,1,65,4],[66,1,66,4],[67,1,67,4],[68,1,68,4],[72,2,82,2],[62,1,62,4],[51,1,51,4],[52,1,52,4],[53,1,53,4],[54,1,54,4],[55,1,55,4],[56,1,56,4],[57,1,57,4],[58,1,58,4],[59,1,59,4],[60,1,60,4],[61,1,61,4],[50,1,50,4],[36,5,36,6],[36,7,37,11],[38,5,38,6],[39,5,39,6],[40,5,40,8],[41,5,41,6],[44,10,44,11],[45,10,45,11],[46,10,46,11],[47,3,47,4],[47,10,47,11],[29,3,29,6],[29,8,29,11],[0,1,1,11],[22,2,22,5],[26,4,26,5],[28,3,28,6],[28,8,28,11]]}
[null,"HOUSING TAX CREDIT INFORMATION"]
[]
[null,"Credit Type (Check all that apply)"]
[null,null,"Newly constructed and not federally subsidized"]
[null,null,"Newly constructed and federally subsidized"]
[null,null,"Rehabilitation expenditures not federally subsidized"]
[null,null,"Rehabilitation expenditures federally subsidized"]
[null,null,"Existing Building"]
[null,null,"Allocation subject to non profit set aside under sec. 42(h)(5)"]
[]
[null,"Minimum Set-Aside  (At this time the Owner \"irrevocably\" elects one of the minimum set-aside requirements stated by Section 42 of the Internal Revenue Code)"]
[null,null,"20% of the units serving households at 50% of the area median"]
[null,null,"40% of the units serving households at 60% of the area median"]
[null,null,"N/A"]
[null,"TENANT FACILITIES / AMENITIES"]
[null,"Common Space - Non Unit",null,null,null,null,"Sq Ft","Fee","Included in Basis?"]
[null,"Parking / Garages",null,null,null,null,{"$f":"'Property Information'!H29","v":0}]
[null,"Storage Lockers",null,null,null,null,{"$f":"'Property Information'!G34","v":0}]
[null,"Club House",null,null,null,null,{"$f":"'Property Information'!G35","v":0}]
[null,"Swimming Pool",null,null,null,null,{"$f":"'Property Information'!G36","v":0}]
[null,"Community Service Facility",null,null,null,null,{"$f":"'Property Information'!G37","v":0}]
[null,"Office",null,null,null,null,{"$f":"'Property Information'!G38","v":0}]
[null,"Other",null,null,null,null,{"$f":"'Property Information'!G39","v":0}]
[]
[null,"OTHER BASIS CONSIDERATIONS"]
[null,"Will any of the project financing be treated as or considered to be a Federal Grant or Tax-Exempt obligation"]
[null,"     (Code Sec. 103)?"]
[null,"If yes, provide the following information:"]
[null,"Source of Funds:"]
[null,"Amount:"]
[null,null,null,"Select one of the following:",null,null,null,null,"Select one of the following:"]
[null,null,null,null,"N/A",null,null,null,null,"N/A"]
[null,null,null,null,"4% credit",null,null,null,null,"4% credit"]
[null,null,null,null,"Subtract from basis",null,null,null,null,"Subtract from basis"]
[]
[null,"TAX EXEMPT BOND FINANCING"]
[null,"Are tax exempt bonds to be issued?",null,null,null,null,null,{"$f":"IF(AND(HTCInfoTaxExemtBondYes=TRUE, PropInfoSiteDescDesBasisBoos=TRUE), \"State Designated Basis Boost is not eligible if Tax Exempt Bonds to be issued. Please unselect SDBB on Property Info tab.\",\"\")","v":""}]
[null,"If yes, complete the following:"]
[null,"Total Aggregate Basis"]
[null,"Total Tax Exempt Bonds"]
[null,"Name of Bond Issuer"]
[null,"Date of allocation of bond volume cap"]
[]
[null,"ACQUISITION/REHABILITATION"]
[null,"Total Rehabilitation Expense",null,null,null,null,null,null,null,null,{"$f":"'Development Costs'!H33","v":0}]
[null,"Lowest average rehabilitation attributable qualified basis per low income unit/building"]
[null,"Average rehabilitation expense per low income unit per project",null,null,null,null,null,null,null,null,{"$f":"IF(HousiningIncomeTotHTCUnits=0,0,K45/HousiningIncomeTotHTCUnits)","v":0}]
[null,"Adjusted basis",null,null,null,"x 20% =",null,null,null,null,{"$f":"D48*0.2","v":0}]
[]
[null,"BUILDING GRID",null,null,null,"Column 2","Column 3","Column 4","Column 5","Column 6","Column 7","Column 8"]
[null,"Address of Building (list all buildings separately)",null,null,null,"Date of Substantial Rehab by Seller","Date of Acquisition by Seller","Date of Original Certificate of Occupancy","Actual / Proposed Date of Rehab by Applicant","Number of Years Between Placed in Service (later of column 2, 3 or 4) and Rehab","Is 10 year rule violated for this project?","Average rehabilitation attributable qualified basis per low income unit for this buidling"]
[null,{"$f":" IF(ISBLANK(BuildingsBuilding1Address), \"\",BuildingsBuilding1Address)","v":""},null,null,null,null,null,null,null,{"$f":"IF(OR(ISBLANK(I52), I52=0),0,DATEDIF(MAX(F52:H52),I52,\"y\"))","v":0},{"$f":"IF(OR(J52=\"\", J52=0),0,IF(J52>=10, \"No\",\"Yes\"))","v":0}]
[null,{"$f":" IF(ISBLANK(BuildingsBuilding2Address), \"\",BuildingsBuilding2Address)","v":""},null,null,null,null,null,null,null,0,0]
[null,{"$f":" IF(ISBLANK(BuildingsBuilding3Address), \"\",BuildingsBuilding3Address)","v":""},null,null,null,null,null,null,null,0,0]
[null,{"$f":" IF(ISBLANK(BuildingsBuilding4Address), \"\",BuildingsBuilding4Address)","v":""},null,null,null,null,null,null,null,0,0]
[null,{"$f":" IF(ISBLANK(BuildingsBuilding5Address), \"\",BuildingsBuilding5Address)","v":""},null,null,null,null,null,null,null,0,0]
[null,{"$f":" IF(ISBLANK(BuildingsBuilding6Address), \"\",BuildingsBuilding6Address)","v":""},null,null,null,null,null,null,null,0,0]
[null,{"$f":" IF(ISBLANK(BuildingsBuilding7Address), \"\",BuildingsBuilding7Address)","v":""},null,null,null,null,null,null,null,0,0]
[null,{"$f":" IF(ISBLANK(BuildingsBuilding8Address), \"\",BuildingsBuilding8Address)","v":""},null,null,null,null,null,null,null,0,0]
[null,{"$f":" IF(ISBLANK(BuildingsBuilding9Address), \"\",BuildingsBuilding9Address)","v":""},null,null,null,null,null,null,null,0,0]
[null,{"$f":" IF(ISBLANK(BuildingsBuilding10Address), \"\",BuildingsBuilding10Address)","v":""},null,null,null,null,null,null,null,0,0]
[null,{"$f":" IF(ISBLANK(BuildingsBuilding11Address), \"\",BuildingsBuilding11Address)","v":""},null,null,null,null,null,null,null,0,0]
[null,{"$f":" IF(ISBLANK(BuildingsBuilding12Address), \"\",BuildingsBuilding12Address)","v":""},null,null,null,null,null,null,null,0,0]
[null,{"$f":" IF(ISBLANK(BuildingsBuilding13Address), \"\",BuildingsBuilding13Address)","v":""},null,null,null,null,null,null,null,0,0]
[null,{"$f":" IF(ISBLANK(BuildingsBuilding14Address), \"\",BuildingsBuilding14Address)","v":""},null,null,null,null,null,null,null,0,0]
[null,{"$f":" IF(ISBLANK(BuildingsBuilding15Address), \"\",BuildingsBuilding15Address)","v":""},null,null,null,null,null,null,null,0,0]
[null,{"$f":" IF(ISBLANK(BuildingsBuilding16Address), \"\",BuildingsBuilding16Address)","v":""},null,null,null,null,null,null,null,0,0]
[null,{"$f":" IF(ISBLANK(BuildingsBuilding17Address), \"\",BuildingsBuilding17Address)","v":""},null,null,null,null,null,null,null,0,0]
[null,{"$f":" IF(ISBLANK(BuildingsBuilding18Address), \"\",BuildingsBuilding18Address)","v":""},null,null,null,null,null,null,null,0,0]
[null,"Total Buildings",null,null,{"$f":"COUNTA(B52:B69)-COUNTBLANK(B52:B69)","v":0}]
[]
[null,"If less than 10 years since last placed in service, is the project eligible for:"]
[]
[null,null,null,"Exemption under 42(d)(2)(D)",null,null,"Exemptions for certain transfers, including but not limited to buildings placed in"]
[null,null,null,null,null,null,"service by government  or nonprofit, or buildings acquired through foreclosure."]
[]
[null,null,null,"Exemption under 42(d)(6)(A)",null,null,"Exemption for state- or federally-assisted building."]
[]
[null,null,null,"Waiver under 42(d)(6)(B)",null,null,"Waiver for buildings acquired from insured depository instuitions in default."]
[null,null,null,null,null,null,"     If eligible for waiver, what is actual or proposed  waiver date?"]
[null,null,null,"N/A"]
[null,"If eligible for waiver under 42(d)(6)(B), what is the actual or proposed waiver date?"]
[]
[]
[]
[null,null,null,"Please refer to IRS section 42 for complete details about eligibility under these rules."]

{"sheet":"Determination of Credit","index":21,"n_rows":113,"n_cols":10,"rows_kept":113,"cut":false,"hidden":false,"merged":[[112,8,112,9],[106,4,106,5],[107,4,107,5],[108,4,108,5],[109,4,109,5],[110,4,110,5],[111,4,111,5],[105,4,105,5],[92,4,92,5],[93,4,93,5],[94,4,94,5],[95,4,95,5],[96,4,96,5],[97,4,97,5],[98,4,98,5],[101,1,101,7],[102,4,102,5],[103,4,103,5],[104,4,104,5],[56,1,56,6],[57,1,57,6],[91,4,91,5],[59,1,59,6],[60,1,60,6],[61,1,61,6],[62,1,62,6],[84,1,84,9],[86,3,86,4],[88,1,88,7],[89,4,89,5],[90,4,90,5],[73,9,75,9],[75,4,75,5],[58,1,58,6],[47,1,47,6],[48,1,48,6],[49,1,49,6],[50,1,50,6],[51,1,51,6],[53,1,53,6],[54,1,54,6],[55,1,55,6],[32,1,32,2],[0,1,1,9],[2,1,2,9],[8,7,8,8],[12,1,12,9],[22,1,22,9],[52,1,52,6],[39,7,39,8],[41,1,41,9],[43,1,43,6],[44,1,44,6],[45,1,45,6],[46,1,46,6]]}
[null,"DETERMINATION OF CREDIT"]
[]
[null,"PROJECT APPLICABLE FRACTION"]
[null,"Type of Residential Rental Units",null,null,null,null,null,"# of Units","Sq Ft"]
[null,"HTC Low Income Units",null,null,null,null,null,{"$f":"TotalHTCUnits","v":0},{"$f":"TotalHTCSqFt","v":0}]
[null,"Market Rate Units / Non-HTC Units",null,null,null,null,null,{"$f":"DetOfCrMktRateUnits","v":0},{"$f":"DetOfCrMktRateSqFt","v":0}]
[null,"TOTAL # HTC LOW INCOME + MARKET RATE",null,null,null,null,null,{"$f":"SUM(H5:H6)","v":0},{"$f":"SUM(I5:I6)","v":0}]
[null,"Unit and Area Fractions",null,null,null,null,null,{"$f":"IF(H7=0,0,H5/H7)","v":0},{"$f":"IF(I7=0,0,I5/I7)","v":0}]
[null,"APPLICABLE FRACTION (Lesser of Unit or Area Fraction)",null,null,null,null,null,{"$f":"MIN(H8:I8)","v":0}]
[null,"Employee / Common Space Units",null,null,null,null,null,{"$f":"DetCredCommSpUnits","v":0},{"$f":"DetCrCommSpSqFt","v":0}]
[null,"Total # and Sq Ft of Units",null,null,null,null,null,{"$f":"H5+H6+H10","v":0},{"$f":"I5+I6+I10","v":0}]
[]
[null,"HISTORIC CREDITS"]
[null,null,null,null,null,null,null,"State","Federal"]
[null,"Qualified Rehabilitation Expenditures",null,null,null,null,null,{"$f":"'Development Costs'!L130","v":0},{"$f":"'Development Costs'!L130","v":0}]
[null,"Applicable Percentage",null,null,null,null,null,0.2,0.2]
[null,"Historic Tax Credits",null,null,null,null,null,{"$f":"H15*H16","v":0},{"$f":"I15*I16","v":0}]
[null,"Investor Ownership Percentage"]
[null,"Investor Tax Credits",null,null,null,null,null,{"$f":"IF(OR(ISBLANK(H17), ISBLANK(H18)), 0, H17*H18)","v":0},{"$f":"IF(OR(ISBLANK(I17), ISBLANK(I18)),0,I17*I18)","v":0}]
[null,"Equity Factor"]
[null,"Historic Credit Syndication Proceeds",null,null,null,null,null,{"$f":"H19*H20","v":0},{"$f":"I19*I20","v":0}]
[]
[null,"TAX CREDIT BASIS CALCULATION"]
[null,null,null,null,null,null,null,0.04,0.09,"Total"]
[null,"TOTAL BASIS",null,null,null,null,null,{"$f":"'Development Costs'!J130","v":0},{"$f":"'Development Costs'!K130","v":0},{"$f":"H25+I25","v":0}]
[null,"Less federal grant(s) used to finance qualifying development costs",null,null,null,null,null,null,null,{"$f":"H26+I26","v":0}]
[null,"Less amount of nonqualifying nonrecourse financing",null,null,null,null,null,null,null,0]
[null,"Less nonqualifying excess portion of higher quality units",null,null,null,null,null,null,null,0]
[null,"Less Historic Tax Credit (Residential Portion Only)",null,null,null,null,null,null,null,0]
[null,"Less Rebates",null,null,null,null,null,null,null,0]
[null,null,null,null,"Portion not elig for High Cost Adj:"]
[null,"TOTAL ELIGIBLE BASIS",null,null,0.04,0.09,null,{"$f":"H25-SUM(H26:H30)","v":0},{"$f":"I25-SUM(I26:I30)","v":0},0]
[null,"High Cost Adjustment",null,null,null,null,null,{"$f":"IF(OR(PropInfoSiteDescQualCenTr=TRUE, PropInfoSiteDescDiffDevArea=TRUE, basisBoost=TRUE), (H32-E33)*0.3, 0)","v":0},{"$f":"IF(OR(PropInfoSiteDescQualCenTr=TRUE, PropInfoSiteDescDiffDevArea=TRUE, basisBoost=TRUE), (I32-F33)*0.3, 0)","v":0},0]
[null,"Total Eligible Basis Adjusted for the High Cost",null,null,null,null,null,{"$f":"H32+H33","v":0},{"$f":"I32+I33","v":0},0]
[null,"Applicable Fraction",null,null,null,null,null,{"$f":"H9","v":0},{"$f":"H9","v":0}]
[]
[null,"TOTAL QUALIFIED BASIS",null,null,null,null,null,{"$f":"H34*H35","v":0},{"$f":"I34*I35","v":0},0]
[null,"Applicable Percentage"]
[null,"TAX CREDIT POTENTIAL FOR PROJECT",null,null,null,null,null,{"$f":"H37*H38","v":0},{"$f":"I37*I38","v":0}]
[null,"ANNUAL TAX CREDITS FROM BASIS CALCULATION",null,null,null,null,null,{"$f":"ROUND(SUM(H39+I39),0)","v":0}]
[]
[null,"TAX CREDIT EQUITY GAP CALCULATION"]
[null,"Applicable Sources will populate from the Capital Sources of Funding Grid"]
[null,"Source",null,null,null,null,null,"Amount"]
[null,{"$f":"IF(SourcesPermCap1stMortHTCGap=TRUE,Sources!B15,\"\")","v":""},null,null,null,null,null,{"$f":"IF(SourcesPermCap1stMortHTCGap=TRUE,Sources!G15,0)","v":0}]
[]
[]
[null,{"$f":"IF(SourcesPermCapStHistProcHTCGap=TRUE,Sources!B18,\"\")","v":""},null,null,null,null,null,{"$f":"IF(SourcesPermCapStHistProcHTCGap=TRUE,Sources!G18,0)","v":0}]
[null,{"$f":"IF(SourcesPermCapFedHistProcHTCGap=TRUE,Sources!B19,\"\")","v":""},null,null,null,null,null,{"$f":"IF(SourcesPermCapFedHistProcHTCGap=TRUE,Sources!G19,0)","v":0}]
[null,{"$f":"IF(SourcesPermCapDefLoanHTCGap=TRUE,Sources!B20,\"\")","v":""},null,null,null,null,null,{"$f":"IF(SourcesPermCapDefLoanHTCGap=TRUE,Sources!G20,0)","v":0}]
[null,{"$f":"IF(SourcesPermCapOther0HTCGap = TRUE, Sources!B21,\"\")","v":""},null,null,null,null,null,{"$f":"IF(SourcesPermCapOther0HTCGap = TRUE,  Sources!G21,0)","v":0}]
[null,{"$f":"IF(SourcesPermCapOther1HTCGap=TRUE,Sources!B22,\"\")","v":""},null,null,null,null,null,{"$f":"IF(SourcesPermCapOther1HTCGap=TRUE,Sources!G22,0)","v":0}]
[null,{"$f":"IF(SourcesPermCapOther2HTCGap=TRUE,Sources!B23,\"\")","v":""},null,null,null,null,null,{"$f":"IF(SourcesPermCapOther2HTCGap=TRUE,Sources!G23,0)","v":0}]
[null,{"$f":"IF(SourcesPermCapOther3HTCGap=TRUE,Sources!B24,\"\")","v":""},null,null,null,null,null,{"$f":"IF(SourcesPermCapOther3HTCGap=TRUE,Sources!G24,0)","v":0}]
[null,{"$f":"IF(SourcesPermCapOther4HTCGap=TRUE,Sources!B25,\"\")","v":""},null,null,null,null,null,{"$f":"IF(SourcesPermCapOther4HTCGap=TRUE,Sources!G25,0)","v":0}]
[null,{"$f":"IF(SourcesPermCapOther5HTCGap=TRUE,Sources!B26,\"\")","v":""},null,null,null,null,null,{"$f":"IF(SourcesPermCapOther5HTCGap=TRUE,Sources!G26,0)","v":0}]
[null,{"$f":"IF(SourcesPermCapOther6HTCGap=TRUE,Sources!B27,\"\")","v":""},null,null,null,null,null,{"$f":"IF(SourcesPermCapOther6HTCGap=TRUE,Sources!G27,0)","v":0}]
[null,{"$f":"IF(SourcesPermCapOther7HTCGap=TRUE,Sources!B28,\"\")","v":""},null,null,null,null,null,{"$f":"IF(SourcesPermCapOther7HTCGap=TRUE,Sources!G28,0)","v":0}]
[null,{"$f":"IF(SourcesPermCapOther8HTCGap=TRUE,Sources!B29,\"\")","v":""},null,null,null,null,null,{"$f":"IF(SourcesPermCapOther8HTCGap=TRUE,Sources!G29,0)","v":0}]
[null,{"$f":"IF(SourcesPermCapOther9HTCGap=TRUE,Sources!B30,\"\")","v":""},null,null,null,null,null,{"$f":"IF(SourcesPermCapOther9HTCGap=TRUE,Sources!G30,0)","v":0}]
[null,{"$f":"IF(SourcesPermCapOther10HTCGap=TRUE,Sources!B31,\"\")","v":""},null,null,null,null,null,{"$f":"IF(SourcesPermCapOther10HTCGap=TRUE,Sources!G31,0)","v":0}]
[null,{"$f":"IF(SourcesPermCapOther11HTCGap=TRUE,Sources!B32,\"\")","v":""},null,null,null,null,null,{"$f":"IF(SourcesPermCapOther11HTCGap=TRUE,Sources!G32,0)","v":0}]
[null,{"$f":"IF(SourcesPermCapOther12HTCGap=TRUE,Sources!B33,\"\")","v":""},null,null,null,null,null,{"$f":"IF(SourcesPermCapOther12HTCGap=TRUE,Sources!G33,0)","v":0}]
[null,"Total Sources of Funds from above",null,null,null,null,null,{"$f":"SUM(H45:H63)","v":0}]
[null,"Total Development Costs",null,null,null,null,null,{"$f":"'Development Costs'!H129","v":0}]
[null,"Funding Gap",null,null,null,null,null,{"$f":"(H64-H65)*-1","v":0}]
[null,"Equity Factor/Syndication Rate"]
[null,"10 Year Credit Gap",null,null,null,null,null,{"$f":"IF(H67=0,0,H66/H67)","v":0}]
[null,"Annual Credit Gap",null,null,null,null,null,{"$f":"H68/10","v":0}]
[null,"Annual Basis Credit",null,null,null,null,null,{"$f":"H40","v":0}]
[]
[null,"Maximum Tax Credit Allowed",null,null,null,null,null,{"$f":"MIN(H69,H70)","v":0}]
[null,"MN Housing Approved Maximum Tax Credit",null,null,null,null,null,{"$f":"IF(DetOfCredLimitWaivReq=TRUE,H72,MIN(H72,1000000))","v":0}]
[null,"Credit Amount Previously Allocated and/or Reserved",null,null,null,null,null,null,null,"Requesting waiver of limit per development"]
[null,"Maximum Credit Requested at this time",null,null,null,null,null,{"$f":"IF(ISBLANK(H77),H73-H74,H77)","v":0}]
[null,"Total Calculated Credit Allocation",null,null,null,null,null,{"$f":"H74+H75","v":0}]
[null,"Manual Credits Requested at this time"]
[]
[null,"Ten Year Gross Tax Credits",null,null,null,null,null,{"$f":"H76*10","v":0}]
[null,"Equity Factor",null,null,null,null,null,{"$f":"H67","v":0}]
[null,"Investor Ownership Percentage"]
[null,"Gross Syndication Proceeds",null,{"$f":"IF(AND(H82>0,ROUND(H82,0)<>ROUND(Sources!G17,0), ManualSyndicationProceeds = \"\"), \"Amt does not match Sources Gross Syndication Proceeds\",\"\")","v":""},null,null,null,{"$f":"H79*H80*H81","v":0}]
[null,"Manual Syndication Proceeds"]
[]
[null,"TAX CREDIT SYNDICATION"]
[null,"If individual, attach a description explaining how the tax benefits will be used."]
[null,null,"Type of Offering:"]
[]
[null,"Housing Tax Credits\nHousing Tax Credits"]
[null,"Pay-In Amount","% of Pro- ceeds","Anticipated Date of Pay-In","Describe Milestones",null,"Required Reserve Amounts","Developer Fee Amount"]
[null,null,{"$f":"IF(OR(ISBLANK(B91), B91=0),0,IF(ManualSyndicationProceeds>0,B91/ManualSyndicationProceeds,IF(GrossSyndicationProceeds>0,B91/GrossSyndicationProceeds,0)))","v":0}]
[null,null,0]
[null,null,0]
[null,null,0]
[null,null,0]
[null,null,0]
[null,null,0]
[null,null,0]
[null,null,0]
[null,{"$f":"SUM(B91:B99)","v":0},0,null,null,null,{"$f":"SUM(G91:G99)","v":0},{"$f":"SUM(H91:H99)","v":0}]
[]
[null,"Historic Tax Credits"]
[null,"Pay-In Amount","% of Pro- ceeds","Anticipated Date of Pay-In","Describe Milestones",null,"Required Reserve Amounts","Developer Fee Amount"]
[null,null,{"$f":"IF(OR(ISBLANK(B104), B104=0),0,IF(SUM($H$21:$I$21)>0,B104/SUM($H$21:$I$21),0))","v":0}]
[null,null,0]
[null,null,0]
[null,null,0]
[null,null,0]
[null,null,0]
[null,null,0]
[null,null,0]
[null,null,0]
[null,{"$f":"SUM(B104:B112)","v":0},{"$f":"SUM(C104:C112)","v":0},null,null,null,{"$f":"SUM(G104:G112)","v":0},{"$f":"SUM(H104:H112)","v":0}]

{"sheet":"Development Team","index":22,"n_rows":119,"n_cols":24,"rows_kept":119,"cut":false,"hidden":false,"merged":[[116,1,116,2],[116,3,116,5],[116,6,116,8],[117,1,117,8],[118,1,118,5],[118,6,118,7],[111,1,111,8],[112,1,112,8],[113,1,113,8],[114,1,114,8],[115,2,115,4],[115,5,115,8],[108,1,108,8],[108,11,108,18],[109,1,109,5],[109,6,109,7],[109,11,109,15],[109,16,109,17],[107,1,107,2],[107,3,107,5],[107,6,107,8],[107,11,107,12],[107,13,107,15],[107,16,107,18],[105,1,105,8],[105,11,105,18],[106,2,106,4],[106,5,106,8],[106,12,106,14],[106,15,106,18],[102,1,102,8],[102,11,102,18],[103,1,103,8],[103,11,103,18],[104,1,104,8],[104,11,104,18],[82,1,82,8],[82,11,82,18],[83,1,83,5],[83,6,83,7],[83,11,83,15],[83,16,83,17],[81,1,81,2],[81,3,81,5],[81,6,81,8],[81,11,81,12],[81,13,81,15],[81,16,81,18],[79,1,79,8],[79,11,79,18],[80,2,80,4],[80,5,80,8],[80,12,80,14],[80,15,80,18],[76,1,76,8],[76,11,76,18],[77,1,77,8],[77,11,77,18],[78,1,78,8],[78,11,78,18],[73,1,73,8],[73,11,73,18],[74,1,74,5],[74,6,74,7],[74,11,74,15],[74,16,74,17],[72,1,72,2],[72,3,72,5],[72,6,72,8],[72,11,72,12],[72,13,72,15],[72,16,72,18],[69,1,69,8],[69,11,69,18],[70,1,70,8],[70,11,70,18],[71,2,71,4],[71,5,71,8],[71,12,71,14],[71,15,71,18],[64,1,64,4],[64,6,64,7],[67,1,67,8],[67,11,67,18],[68,1,68,8],[68,11,68,18],[63,1,63,8],[63,11,63,18],[64,11,64,15],[64,16,64,17],[62,1,62,2],[62,3,62,5],[62,6,62,8],[62,11,62,12],[62,13,62,15],[62,16,62,18],[59,1,59,8],[59,11,59,18],[60,1,60,8],[60,11,60,18],[61,2,61,4],[61,5,61,8],[61,12,61,14],[61,15,61,18],[54,1,54,4],[54,6,54,7],[57,1,57,8],[57,11,57,18],[58,1,58,8],[58,11,58,18],[53,1,53,8],[53,11,53,18],[54,11,54,15],[54,16,54,17],[52,1,52,2],[52,3,52,5],[52,6,52,8],[52,11,52,12],[52,13,52,15],[52,16,52,18],[49,1,49,8],[49,11,49,18],[50,1,50,8],[50,11,50,18],[51,2,51,4],[51,5,51,8],[51,12,51,14],[51,15,51,18],[44,1,44,4],[44,6,44,7],[47,1,47,8],[47,11,47,18],[48,1,48,8],[48,11,48,18],[43,1,43,8],[43,11,43,18],[44,11,44,15],[44,16,44,17],[42,1,42,2],[42,3,42,5],[42,6,42,8],[42,11,42,12],[42,13,42,15],[42,16,42,18],[39,1,39,8],[39,11,39,18],[40,1,40,8],[40,11,40,18],[41,2,41,4],[41,5,41,8],[41,12,41,14],[41,15,41,18],[35,1,35,4],[35,6,35,7],[37,1,37,8],[37,11,37,18],[38,1,38,8],[38,11,38,18],[33,1,33,8],[33,11,33,18],[34,1,34,5],[34,6,34,7],[34,11,34,15],[34,16,34,17],[32,1,32,2],[32,3,32,5],[32,6,32,8],[32,11,32,12],[32,13,32,15],[32,16,32,18],[30,1,30,8],[30,11,30,18],[31,2,31,4],[31,5,31,8],[31,12,31,14],[31,15,31,18],[27,1,27,8],[27,11,27,18],[28,1,28,8],[28,11,28,18],[29,1,29,8],[29,11,29,18],[23,1,23,8],[23,11,23,18],[24,1,24,5],[24,6,24,7],[24,11,24,15],[24,16,24,17],[22,1,22,2],[22,3,22,5],[22,6,22,8],[22,11,22,12],[22,13,22,15],[22,16,22,18],[19,1,19,8],[19,11,19,18],[20,1,20,8],[20,11,20,18],[21,2,21,4],[21,5,21,8],[21,12,21,14],[21,15,21,18],[15,1,15,11],[15,12,15,18],[17,1,17,8],[17,11,17,18],[18,1,18,8],[18,11,18,18],[12,1,12,11],[12,12,12,18],[13,1,13,11],[13,12,13,18],[14,1,14,7],[14,9,14,11],[14,12,14,18],[9,12,9,18],[10,12,10,18],[11,1,11,7],[11,9,11,11],[11,12,11,18],[9,1,9,11],[6,1,6,7],[6,12,6,18],[7,1,7,11],[7,12,7,18],[8,1,8,11],[8,12,8,18],[0,0,1,18],[3,12,3,18],[4,12,4,18],[5,1,5,11],[5,12,5,18],[3,1,3,11],[4,1,4,11]]}
["DEVELOPMENT TEAM"]
[]
[]
["Project Sponsor /\nParent Company",null,null,null,null,null,null,null,null,null,null,null,"Guarantors: Please list each below"]
[]
["Address"]
["City",null,null,null,null,null,null,null,"State",null,"Zip Code"]
["Federal Tax ID #"]
[]
["Executive Director/CEO/President"]
[]
["Phone",null,null,null,null,null,null,null,"Fax"]
["Email"]
["Contact Person and Title"]
["Phone",null,null,null,null,null,null,null,"Fax"]
["Email"]
[]
["Developer",null,null,null,null,null,null,null,null,null,"Architect"]
["Contact Person",null,null,null,null,null,null,null,null,null,"Contact Person"]
["Address",null,null,null,null,null,null,null,null,null,"Address"]
["City",null,null,null,null,null,null,null,null,null,"City"]
["State",null,"Zip Code",null,null,null,null,null,null,null,"State",null,"Zip Code"]
["Phone",null,null,"Cell Phone",null,null,null,null,null,null,"Phone",null,null,"Cell Phone"]
["Email",null,null,null,null,null,null,null,null,null,"Email"]
[]
[null,null,null,null,null,null,null,null,null,null,null,null,null,null,null,null,null,null,null,null,null,null,null,"`"]
[]
["Owner/Mortgagor",null,null,null,null,null,null,null,null,null,"Management Company"]
["Contact Person",null,null,null,null,null,null,null,null,null,"Contact Person"]
["Address",null,null,null,null,null,null,null,null,null,"Address"]
["City",null,null,null,null,null,null,null,null,null,"City"]
["State",null,"Zip Code",null,null,null,null,null,null,null,"State",null,"Zip Code"]
["Phone",null,null,"Cell Phone",null,null,null,null,null,null,"Phone",null,null,"Cell Phone"]
["Email",null,null,null,null,null,null,null,null,null,"Email"]
[]
[]
[null,"Nonprofit General Partner"]
["General Partner 1",null,null,null,null,null,null,null,null,null,"Service Provider"]
["Contact Person",null,null,null,null,null,null,null,null,null,"Contact Person"]
["Address",null,null,null,null,null,null,null,null,null,"Address"]
["City",null,null,null,null,null,null,null,null,null,"City"]
["State",null,"Zip Code",null,null,null,null,null,null,null,"State",null,"Zip Code"]
["Phone",null,null,"Cell Phone",null,null,null,null,null,null,"Phone",null,null,"Cell Phone"]
["Email",null,null,null,null,null,null,null,null,null,"Email"]
[null,"% of ownership"]
[]
[]
["General Partner 2",null,null,null,null,null,null,null,null,null,"Tax Credit Syndicator"]
["Contact Person",null,null,null,null,null,null,null,null,null,"Contact Person"]
["Address",null,null,null,null,null,null,null,null,null,"Address"]
["City",null,null,null,null,null,null,null,null,null,"City"]
["State",null,"Zip Code",null,null,null,null,null,null,null,"State",null,"Zip Code"]
["Phone",null,null,"Cell Phone",null,null,null,null,null,null,"Phone",null,null,"Cell Phone"]
["Email",null,null,null,null,null,null,null,null,null,"Email"]
[null,"% of ownership"]
[]
[]
["General Partner 3",null,null,null,null,null,null,null,null,null,"General Contractor"]
["Contact Person",null,null,null,null,null,null,null,null,null,"Contact Person"]
["Address",null,null,null,null,null,null,null,null,null,"Address"]
["City",null,null,null,null,null,null,null,null,null,"City"]
["State",null,"Zip Code",null,null,null,null,null,null,null,"State",null,"Zip Code"]
["Phone",null,null,"Cell Phone",null,null,null,null,null,null,"Phone",null,null,"Cell Phone"]
["Email",null,null,null,null,null,null,null,null,null,"Email"]
[null,"% of ownership",null,null,null,null,null,null,null,null,null,"Is there an identity of interest with either Owner or Developer?"]
[]
[]
["Processing Agent",null,null,null,null,null,null,null,null,null,"Attorney",null,null,null,null,null,null,null,null,null,null," "]
["Contact Person",null,null,null,null,null,null,null,null,null,"Contact Person"]
["Address",null,null,null,null,null,null,null,null,null,"Address"]
["City",null,null,null,null,null,null,null,null,null,"City"]
["State",null,"Zip Code",null,null,null,null,null,null,null,"State",null,"Zip Code"]
["Phone",null,null,"Cell Phone",null,null,null,null,null,null,"Phone",null,null,"Cell Phone"]
["Email",null,null,null,null,null,null,null,null,null,"Email"]
[]
[]
["Construction/Bridge Lender",null,null,null,null,null,null,null,null,null,"Title Company"]
["Contact Person",null,null,null,null,null,null,null,null,null,"Contact Person"]
["Address",null,null,null,null,null,null,null,null,null,"Address"]
["City",null,null,null,null,null,null,null,null,null,"City"]
["State",null,"Zip Code",null,null,null,null,null,null,null,"State",null,"Zip Code"]
["Phone",null,null,"Cell Phone",null,null,null,null,null,null,"Phone",null,null,"Cell Phone"]
["Email",null,null,null,null,null,null,null,null,null,"Email"]
[]
[]
[]
[]
[]
[]
[]
[]
[]
[]
[]
[]
[]
[]
[]
[]
[]
[]
[]
["RA Administrator",null,null,null,null,null,null,null,null,null,"HMIS Contact"]
["Contact Person",null,null,null,null,null,null,null,null,null,"Contact Person"]
["Address",null,null,null,null,null,null,null,null,null,"Address"]
["City",null,null,null,null,null,null,null,null,null,"City",""]
["State",null,"Zip Code",null,null,null,null,null,null,null,"State",null,"Zip Code"]
["Phone",null,null,"Cell Phone",null,null,null,null,null,null,"Phone",null,null,"Cell Phone"]
["Email",null,null,null,null,null,null,null,null,null,"Email"]
[null,"Is Project Sponsor a Related Entity?",null,null,null,null,null,null,null,null,null,"Is Project Sponsor a Related Entity?"]
[]
["MHIS Contact"]
["Contact Person"]
["Address"]
["City"]
["State",null,"Zip Code"]
["Phone",null,null,"Cell Phone"]
["Email"]
[null,"Is Project Sponsor a Related Entity?"]

{"sheet":"Buildings","index":23,"n_rows":23,"n_cols":18,"rows_kept":23,"cut":false,"hidden":false,"merged":[[22,2,22,4],[22,5,22,7],[22,9,22,11],[20,2,20,4],[20,5,20,7],[20,9,20,11],[21,2,21,4],[21,5,21,7],[21,9,21,11],[18,2,18,4],[18,5,18,7],[18,9,18,11],[19,2,19,4],[19,5,19,7],[19,9,19,11],[16,2,16,4],[16,5,16,7],[16,9,16,11],[17,2,17,4],[17,5,17,7],[17,9,17,11],[14,2,14,4],[14,5,14,7],[14,9,14,11],[15,2,15,4],[15,5,15,7],[15,9,15,11],[12,2,12,4],[12,5,12,7],[12,9,12,11],[13,2,13,4],[13,5,13,7],[13,9,13,11],[10,2,10,4],[10,5,10,7],[10,9,10,11],[11,2,11,4],[11,5,11,7],[11,9,11,11],[8,2,8,4],[8,5,8,7],[8,9,8,11],[9,2,9,4],[9,5,9,7],[9,9,9,11],[6,2,6,4],[6,5,6,7],[6,9,6,11],[7,2,7,4],[7,5,7,7],[7,9,7,11],[5,2,5,4],[5,5,5,7],[5,9,5,11],[0,1,1,17],[3,1,3,6],[4,2,4,4],[4,5,4,7],[4,9,4,11]]}
[null,"BUILDINGS"]
[]
[null,"If more than 18 buildings in property, provide the information on a separate sheet."]
[null,"Complete the following information for all buildings in the Project.",null,null,null,null,null,"Enter Primary Address on Project Description Tab."]
[null,"Building\nNumber","Address",null,null,"City",null,null,"Zip","County",null,null,"Latitude","Longitude","Number\nof Units","Year\nBuilt","Construction\nType","Occupied?"]
[null,"Primary",{"$f":"IF(ISBLANK(ProjDescPrimaryAddress),\"\",ProjDescPrimaryAddress)","v":""},null,null,{"$f":"IF(ISBLANK('Project Description'!E13),\"\",'Project Description'!E13)","v":""},null,null,{"$f":"IF(ISBLANK(ProjDescZipCode),\"\",ProjDescZipCode)","v":""},{"$f":"IF(ISBLANK('Project Description'!E15),\"\",'Project Description'!E15)","v":""},null,null,{"$f":"ProjDescLatitude","v":""},{"$f":"ProjDescLongitude","v":""},null,{"$f":"IF(ISBLANK('Project Description'!N11),\"\",'Project Description'!N11)","v":""}]
[null,2,null,null,null,null,null,null,null,null,null,null,{"$f":"IF(OR(ISBLANK(BuildingsBuilding2Address),ISBLANK(BuildingsBuilding2City),ISBLANK(BuildingsBuilding2Zip)),\"\",lat_lon(BuildingsBuilding2Address,BuildingsBuilding2City,\"MN\",\"USA\",BuildingsBuilding2Zip,\"Lat\"))","v":""},{"$f":"IF(OR(ISBLANK(BuildingsBuilding2Address),ISBLANK(BuildingsBuilding2City),ISBLANK(BuildingsBuilding2Zip)),\"\",lat_lon(BuildingsBuilding2Address,BuildingsBuilding2City,\"MN\",\"USA\",BuildingsBuilding2Zip,\"Lon\"))","v":""}]
[null,3,null,null,null,null,null,null,null,null,null,null,{"$f":"IF(OR(ISBLANK(BuildingsBuilding3Address),ISBLANK(BuildingsBuilding3City),ISBLANK(BuildingsBuilding3Zip)),\"\",lat_lon(BuildingsBuilding3Address,BuildingsBuilding3City,\"MN\",\"USA\",BuildingsBuilding3Zip,\"Lat\"))","v":""},{"$f":"IF(OR(ISBLANK(BuildingsBuilding3Address),ISBLANK(BuildingsBuilding3City),ISBLANK(BuildingsBuilding3Zip)),\"\",lat_lon(BuildingsBuilding3Address,BuildingsBuilding3City,\"MN\",\"USA\",BuildingsBuilding3Zip,\"Lon\"))","v":""}]
[null,4,null,null,null,null,null,null,null,null,null,null,{"$f":"IF(OR(ISBLANK(BuildingsBuilding4Address),ISBLANK(BuildingsBuilding4City),ISBLANK(BuildingsBuilding4Zip)),\"\",lat_lon(BuildingsBuilding3Address,BuildingsBuilding4City,\"MN\",\"USA\",BuildingsBuilding4Zip,\"Lat\"))","v":""},{"$f":"IF(OR(ISBLANK(BuildingsBuilding4Address),ISBLANK(BuildingsBuilding4City),ISBLANK(BuildingsBuilding4Zip)),\"\",lat_lon(BuildingsBuilding4Address,BuildingsBuilding4City,\"MN\",\"USA\",BuildingsBuilding4Zip,\"Lon\"))","v":""}]
[null,5,null,null,null,null,null,null,null,null,null,null,{"$f":"IF(OR(ISBLANK(BuildingsBuilding5Address),ISBLANK(BuildingsBuilding5City),ISBLANK(BuildingsBuilding5Zip)),\"\",lat_lon(BuildingsBuilding5Address,BuildingsBuilding5City,\"MN\",\"USA\",BuildingsBuilding5Zip,\"Lat\"))","v":""},{"$f":"IF(OR(ISBLANK(BuildingsBuilding5Address),ISBLANK(BuildingsBuilding5City),ISBLANK(BuildingsBuilding5Zip)),\"\",lat_lon(BuildingsBuilding5Address,BuildingsBuilding5City,\"MN\",\"USA\",BuildingsBuilding5Zip,\"Lon\"))","v":""}]
[null,6,null,null,null,null,null,null,null,null,null,null,{"$f":"IF(OR(ISBLANK(BuildingsBuilding6Address),ISBLANK(BuildingsBuilding6City),ISBLANK(BuildingsBuilding6Zip)),\"\",lat_lon(BuildingsBuilding6Address,BuildingsBuilding6City,\"MN\",\"USA\",BuildingsBuilding6Zip,\"Lat\"))","v":""},{"$f":"IF(OR(ISBLANK(BuildingsBuilding6Address),ISBLANK(BuildingsBuilding6City),ISBLANK(BuildingsBuilding6Zip)),\"\",lat_lon(BuildingsBuilding6Address,BuildingsBuilding6City,\"MN\",\"USA\",BuildingsBuilding6Zip,\"Lon\"))","v":""}]
[null,7,null,null,null,null,null,null,null,null,null,null,{"$f":"IF(OR(ISBLANK(BuildingsBuilding7Address),ISBLANK(BuildingsBuilding7City),ISBLANK(BuildingsBuilding7Zip)),\"\",lat_lon(BuildingsBuilding7Address,BuildingsBuilding7City,\"MN\",\"USA\",BuildingsBuilding7Zip,\"Lat\"))","v":""},{"$f":"IF(OR(ISBLANK(BuildingsBuilding7Address),ISBLANK(BuildingsBuilding7City),ISBLANK(BuildingsBuilding7Zip)),\"\",lat_lon(BuildingsBuilding7Address,BuildingsBuilding7City,\"MN\",\"USA\",BuildingsBuilding7Zip,\"Lon\"))","v":""}]
[null,8,null,null,null,null,null,null,null,null,null,null,{"$f":"IF(OR(ISBLANK(BuildingsBuilding8Address),ISBLANK(BuildingsBuilding8City),ISBLANK(BuildingsBuilding8Zip)),\"\",lat_lon(BuildingsBuilding8Address,BuildingsBuilding8City,\"MN\",\"USA\",BuildingsBuilding8Zip,\"Lat\"))","v":""},{"$f":"IF(OR(ISBLANK(BuildingsBuilding8Address),ISBLANK(BuildingsBuilding8City),ISBLANK(BuildingsBuilding8Zip)),\"\",lat_lon(BuildingsBuilding8Address,BuildingsBuilding8City,\"MN\",\"USA\",BuildingsBuilding8Zip,\"Lon\"))","v":""}]
[null,9,null,null,null,null,null,null,null,null,null,null,{"$f":"IF(OR(ISBLANK(BuildingsBuilding9Address),ISBLANK(BuildingsBuilding9City),ISBLANK(BuildingsBuilding9Zip)),\"\",lat_lon(BuildingsBuilding9Address,BuildingsBuilding9City,\"MN\",\"USA\",BuildingsBuilding9Zip,\"Lat\"))","v":""},{"$f":"IF(OR(ISBLANK(BuildingsBuilding9Address),ISBLANK(BuildingsBuilding9City),ISBLANK(BuildingsBuilding9Zip)),\"\",lat_lon(BuildingsBuilding9Address,BuildingsBuilding9City,\"MN\",\"USA\",BuildingsBuilding9Zip,\"Lon\"))","v":""}]
[null,10,null,null,null,null,null,null,null,null,null,null,{"$f":"IF(OR(ISBLANK(BuildingsBuilding10Address),ISBLANK(BuildingsBuilding10City),ISBLANK(BuildingsBuilding10Zip)),\"\",lat_lon(BuildingsBuilding10Address,BuildingsBuilding10City,\"MN\",\"USA\",BuildingsBuilding10Zip,\"Lat\"))","v":""},{"$f":"IF(OR(ISBLANK(BuildingsBuilding10Address),ISBLANK(BuildingsBuilding10City),ISBLANK(BuildingsBuilding10Zip)),\"\",lat_lon(BuildingsBuilding10Address,BuildingsBuilding10City,\"MN\",\"USA\",BuildingsBuilding10Zip,\"Lon\"))","v":""}]
[null,11,null,null,null,null,null,null,null,null,null,null,{"$f":"IF(OR(ISBLANK(BuildingsBuilding11Address),ISBLANK(BuildingsBuilding11City),ISBLANK(BuildingsBuilding11Zip)),\"\",lat_lon(BuildingsBuilding11Address,BuildingsBuilding11City,\"MN\",\"USA\",BuildingsBuilding11Zip,\"Lat\"))","v":""},{"$f":"IF(OR(ISBLANK(BuildingsBuilding11Address),ISBLANK(BuildingsBuilding11City),ISBLANK(BuildingsBuilding11Zip)),\"\",lat_lon(BuildingsBuilding11Address,BuildingsBuilding11City,\"MN\",\"USA\",BuildingsBuilding11Zip,\"Lon\"))","v":""}]
[null,12,null,null,null,null,null,null,null,null,null,null,{"$f":"IF(OR(ISBLANK(BuildingsBuilding12Address),ISBLANK(BuildingsBuilding12City),ISBLANK(BuildingsBuilding12Zip)),\"\",lat_lon(BuildingsBuilding12Address,BuildingsBuilding12City,\"MN\",\"USA\",BuildingsBuilding12Zip,\"Lat\"))","v":""},{"$f":"IF(OR(ISBLANK(BuildingsBuilding12Address),ISBLANK(BuildingsBuilding12City),ISBLANK(BuildingsBuilding12Zip)),\"\",lat_lon(BuildingsBuilding12Address,BuildingsBuilding12City,\"MN\",\"USA\",BuildingsBuilding12Zip,\"Lon\"))","v":""}]
[null,13,null,null,null,null,null,null,null,null,null,null,{"$f":"IF(OR(ISBLANK(BuildingsBuilding13Address),ISBLANK(BuildingsBuilding13City),ISBLANK(BuildingsBuilding13Zip)),\"\",lat_lon(BuildingsBuilding13Address,BuildingsBuilding13City,\"MN\",\"USA\",BuildingsBuilding13Zip,\"Lat\"))","v":""},{"$f":"IF(OR(ISBLANK(BuildingsBuilding13Address),ISBLANK(BuildingsBuilding13City),ISBLANK(BuildingsBuilding13Zip)),\"\",lat_lon(BuildingsBuilding13Address,BuildingsBuilding13City,\"MN\",\"USA\",BuildingsBuilding13Zip,\"Lon\"))","v":""}]
[null,14,null,null,null,null,null,null,null,null,null,null,{"$f":"IF(OR(ISBLANK(BuildingsBuilding14Address),ISBLANK(BuildingsBuilding14City),ISBLANK(BuildingsBuilding14Zip)),\"\",lat_lon(BuildingsBuilding14Address,BuildingsBuilding14City,\"MN\",\"USA\",BuildingsBuilding14Zip,\"Lat\"))","v":""},{"$f":"IF(OR(ISBLANK(BuildingsBuilding14Address),ISBLANK(BuildingsBuilding14City),ISBLANK(BuildingsBuilding14Zip)),\"\",lat_lon(BuildingsBuilding14Address,BuildingsBuilding14City,\"MN\",\"USA\",BuildingsBuilding14Zip,\"Lon\"))","v":""}]
[null,15,null,null,null,null,null,null,null,null,null,null,{"$f":"IF(OR(ISBLANK(BuildingsBuilding15Address),ISBLANK(BuildingsBuilding15City),ISBLANK(BuildingsBuilding15Zip)),\"\",lat_lon(BuildingsBuilding15Address,BuildingsBuilding15City,\"MN\",\"USA\",BuildingsBuilding15Zip,\"Lat\"))","v":""},{"$f":"IF(OR(ISBLANK(BuildingsBuilding15Address),ISBLANK(BuildingsBuilding15City),ISBLANK(BuildingsBuilding15Zip)),\"\",lat_lon(BuildingsBuilding15Address,BuildingsBuilding15City,\"MN\",\"USA\",BuildingsBuilding15Zip,\"Lon\"))","v":""}]
[null,16,null,null,null,null,null,null,null,null,null,null,{"$f":"IF(OR(ISBLANK(BuildingsBuilding16Address),ISBLANK(BuildingsBuilding16City),ISBLANK(BuildingsBuilding16Zip)),\"\",lat_lon(BuildingsBuilding16Address,BuildingsBuilding16City,\"MN\",\"USA\",BuildingsBuilding16Zip,\"Lat\"))","v":""},{"$f":"IF(OR(ISBLANK(BuildingsBuilding16Address),ISBLANK(BuildingsBuilding16City),ISBLANK(BuildingsBuilding16Zip)),\"\",lat_lon(BuildingsBuilding16Address,BuildingsBuilding16City,\"MN\",\"USA\",BuildingsBuilding16Zip,\"Lon\"))","v":""}]
[null,17,null,null,null,null,null,null,null,null,null,null,{"$f":"IF(OR(ISBLANK(BuildingsBuilding17Address),ISBLANK(BuildingsBuilding17City),ISBLANK(BuildingsBuilding17Zip)),\"\",lat_lon(BuildingsBuilding17Address,BuildingsBuilding17City,\"MN\",\"USA\",BuildingsBuilding17Zip,\"Lat\"))","v":""},{"$f":"IF(OR(ISBLANK(BuildingsBuilding17Address),ISBLANK(BuildingsBuilding17City),ISBLANK(BuildingsBuilding17Zip)),\"\",lat_lon(BuildingsBuilding17Address,BuildingsBuilding17City,\"MN\",\"USA\",BuildingsBuilding17Zip,\"Lon\"))","v":""}]
[null,18,null,null,null,null,null,null,null,null,null,null,{"$f":"IF(OR(ISBLANK(BuildingsBuilding18Address),ISBLANK(BuildingsBuilding18City),ISBLANK(BuildingsBuilding18Zip)),\"\",lat_lon(BuildingsBuilding18Address,BuildingsBuilding18City,\"MN\",\"USA\",BuildingsBuilding18Zip,\"Lat\"))","v":""},{"$f":"IF(OR(ISBLANK(BuildingsBuilding18Address),ISBLANK(BuildingsBuilding18City),ISBLANK(BuildingsBuilding18Zip)),\"\",lat_lon(BuildingsBuilding18Address,BuildingsBuilding18City,\"MN\",\"USA\",BuildingsBuilding18Zip,\"Lon\"))","v":""}]

{"sheet":"Amortization","index":24,"n_rows":376,"n_cols":28,"rows_kept":376,"cut":false,"hidden":false,"merged":[[5,0,5,3],[5,6,5,7],[5,14,5,17],[5,20,5,21],[6,0,6,3],[6,14,6,17],[3,0,3,3],[3,6,3,7],[3,14,3,17],[3,20,3,21],[4,0,4,3],[4,6,4,7],[4,14,4,17],[4,20,4,21],[1,0,1,3],[1,6,1,7],[1,14,1,17],[1,20,1,21],[2,0,2,3],[2,6,2,7],[2,14,2,17],[2,20,2,21]]}
["AMORTIZATION SCHEDULE - NOI SUPPORTED DEBT",null,null,null,null,null,null,null,null,null,null,null,null,null,"AMORTIZATION SCHEDULE - TiF SUPPORTED DEBT"]
["Loan amount:",null,null,null,{"$f":"IF('Mortgage Calc'!K31>0,'Mortgage Calc'!K31,'Mortgage Calc'!K30)","v":0},null,"Table starts at date:",null,null,null,null,null,null,null,"Loan amount:",null,null,null,{"$f":"IF('Mortgage Calc'!K43>0,'Mortgage Calc'!K43,'Mortgage Calc'!K42)","v":0},null,"Table starts at date:"]
["Annual interest rate:",null,null,null,{"$f":"MortCalcIntRate","v":0},null,"or at payment number:",null,null,null,null,null,null,null,"Annual interest rate:",null,null,null,{"$f":"TotPermNoteRate","v":0},null,"or at payment number:"]
["MIP Rate:",null,null,null,{"$f":"MortCalcMIP","v":0},null,null,null,null,null,null,null,null,null,"MIP Rate:",null,null,null,{"$f":"MtgInsPremium","v":0}]
["Amortization:",null,null,null,{"$f":"MortCalcAmort","v":0},null,"Calculated payment:",null,{"$f":"IF(ISERR(PMT(Annual_interest_rate/12,Term_In_Years*12,-Loan_amount,)),\"\",PMT(Annual_interest_rate/12,Term_In_Years*12,-Loan_amount,))","v":""},null,null,null,null,null,"Amortization:",null,null,null,{"$f":"'Mortgage Calc'!K37","v":0},null,"Calculated payment:",null,{"$f":"IF(ISERR(PMT(S3/12,S5*12,-S2,)),\"\",PMT(S3/12,S5*12,-S2,))","v":""}]
["Payments per year:",null,null,null,12,null,"Payment Override:",null,null,null,null,null,null,null,"Payments per year:",null,null,null,12,null,"Payment Override:"]
["First payment due:",null,null,null,null,null,null,null,null,null,null,null,null,null,"First payment due:"]
[null,null,null,null,null,null,null,null,null,null,null,null,null,null,null,null,null,null,null,null,null,null,null,null,null,null,null,"Total "]
["Interest ","Payment","Payment","Payment","Beginning",null,null,"Ending","Cumulative","Cumulative","Cumulative","Average","Annual",null,"Interest ","Payment","Payment","Payment","Beginning",null,null,"Ending","Cumulative","Cumulative","Cumulative","Average","Annual","Annual"]
["Rate","Amount","No.","Due","Balance","Interest","Principal","Balance","Interest","Principal","Payments","End Balance","MIP",null,"Rate","Amount","No.","Due","Balance","Interest","Principal","Balance","Interest","Principal","Payments","End Balance","MIP","MIP"]
[]
[null,null,"CALCULATIONS",null,null,null,null,null,null,null,null,null,null,null,null,null,"CALCULATIONS"]
[null,null,null,"Use payment of:",{"$f":"IF(Entered_Payment=0,Calculated_Payment,Entered_Payment)","v":""},null,null,{"$f":"\"Beginning balance at payment \"&TEXT(First_Payment_no,\"0\")&\":\"","v":"Beginning balance at payment 1:"},{"$f":"FV(Annual_interest_rate/Payments_per_year,First_Payment_no-1,Pmt_to_use,-Loan_amount)","v":{"$error":"#VALUE!"}},null,null,null,null,null,null,null,null,"Use payment of:",{"$f":"IF(Entered_Payment=0,Calculated_Payment,Entered_Payment)","v":""},null,null,{"$f":"\"Beginning balance at payment \"&TEXT(First_Payment_no,\"0\")&\":\"","v":"Beginning balance at payment 1:"},{"$f":"FV(Annual_interest_rate/Payments_per_year,First_Payment_no-1,Pmt_to_use,-Loan_amount)","v":{"$error":"#VALUE!"}}]
[null,null,null,"1st payment in table:",{"$f":"IF(I2=0,IF(I3=0,1,I3),1+E6*(YEAR(I2)-YEAR(E7))+INT(E6*(MONTH(I2)-MONTH(E7))/12)+IF(DAY(I2)>DAY(E7),1))","v":1},null,null,{"$f":"\"Cumulative interest prior to payment \"&TEXT(First_Payment_no,\"0\")&\":\"","v":"Cumulative interest prior to payment 1:"},{"$f":"Pmt_to_use*(First_Payment_no-1)-(Loan_amount-Table_beg_bal)","v":{"$error":"#VALUE!"}},null,null,null,null,null,null,null,null,"1st payment in table:",{"$f":"IF(W2=0,IF(W3=0,1,W3),1+S6*(YEAR(W2)-YEAR(S7))+INT(S6*(MONTH(W2)-MONTH(S7))/12)+IF(DAY(W2)>DAY(S7),1))","v":1},null,null,{"$f":"\"Cumulative interest prior to payment \"&TEXT(First_Payment_no,\"0\")&\":\"","v":"Cumulative interest prior to payment 1:"},{"$f":"Pmt_to_use*(First_Payment_no-1)-(Loan_amount-Table_beg_bal)","v":{"$error":"#VALUE!"}}]
[null,null,"Table",null,null,null,null,null,null,null,null,null,null,null,null,null,"Table"]
[]
[{"$f":"$E$3","v":0},{"$f":"$I$5","v":""},{"$f":"IF(First_Payment_no<Total_payments,First_Payment_no,\"\")","v":""},{"$f":"Show.Date","v":""},{"$f":"Loan_amount","v":0},{"$f":"E17*Annual_interest_rate/12","v":0},{"$f":"IF(ROUND(E17,2)>0,IF(I$6>0,I$6-F17,I$5-F17),0)","v":0},{"$f":"E17-G17","v":0},{"$f":"F17","v":0},{"$f":"G17","v":0},{"$f":"F17+G17","v":0},{"$f":"AVERAGE(H17:H28)","v":0},{"$f":"L17*$E$4","v":0},1,{"$f":"$E$3","v":0},{"$f":"IF(W6>0,W6,W5)","v":""},{"$f":"IF(First_Payment_no<Total_payments,First_Payment_no,\"\")","v":""},{"$f":"Show.Date","v":""},{"$f":"S2","v":0},{"$f":"S17*$S$3/12","v":0},{"$f":"IF(ROUND(S17,2)>0,IF(W$6>0,W$6-T17,W$5-T17),0)","v":0},{"$f":"S17-U17","v":0},{"$f":"T17","v":0},{"$f":"U17","v":0},{"$f":"T17+U17","v":0},{"$f":"AVERAGE(V17:V28)","v":0},{"$f":"Z17*$E$4","v":0},{"$f":"MAX(M17,0)+MAX(AA17,0)","v":0}]
[0,"",{"$f":"Payment.num","v":""},{"$f":"Show.Date","v":""},{"$f":"H17","v":0},0,{"$f":"IF(ROUND(E18,2)>0,IF(I$6>0,I$6-F18,I$5-F18),0)","v":0},0,{"$f":"F18+I17","v":0},0,{"$f":"K17+F18+G18","v":0},null,null,null,0,{"$f":"P17","v":""},{"$f":"Payment.num","v":""},{"$f":"Show.Date","v":""},{"$f":"V17","v":0},0,{"$f":"IF(ROUND(S18,2)>0,IF(W$6>0,W$6-T18,W$5-T18),0)","v":0},0,{"$f":"W17+T18","v":0},0,{"$f":"Y17+T18+U18","v":0}]
[0,"",{"$f":"Payment.num","v":""},{"$f":"Show.Date","v":""},0,0,0,0,0,0,0,null,null,null,0,"",{"$f":"Payment.num","v":""},{"$f":"Show.Date","v":""},0,0,0,0,0,0,0]
[0,"",{"$f":"Payment.num","v":""},{"$f":"Show.Date","v":""},0,0,0,0,0,0,0,null,null,null,0,"",{"$f":"Payment.num","v":""},{"$f":"Show.Date","v":""},0,0,0,0,0,0,0]
[0,"",{"$f":"Payment.num","v":""},{"$f":"Show.Date","v":""},0,0,0,0,0,0,0,null,null,null,0,"",{"$f":"Payment.num","v":""},{"$f":"Show.Date","v":""},0,0,0,0,0,0,0]
[0,"",{"$f":"Payment.num","v":""},{"$f":"Show.Date","v":""},0,0,0,0,0,0,0,null,null,null,0,"",{"$f":"Payment.num","v":""},{"$f":"Show.Date","v":""},0,0,0,0,0,0,0]
[0,"",{"$f":"Payment.num","v":""},{"$f":"Show.Date","v":""},0,0,0,0,0,0,0,null,null,null,0,"",{"$f":"Payment.num","v":""},{"$f":"Show.Date","v":""},0,0,0,0,0,0,0]
[0,"",{"$f":"Payment.num","v":""},{"$f":"Show.Date","v":""},0,0,0,0,0,0,0,null,null,null,0,"",{"$f":"Payment.num","v":""},{"$f":"Show.Date","v":""},0,0,0,0,0,0,0]
[0,"",{"$f":"Payment.num","v":""},{"$f":"Show.Date","v":""},0,0,0,0,0,0,0,null,null,null,0,"",{"$f":"Payment.num","v":""},{"$f":"Show.Date","v":""},0,0,0,0,0,0,0]
[0,"",{"$f":"Payment.num","v":""},{"$f":"Show.Date","v":""},0,0,0,0,0,0,0,null,null,null,0,"",{"$f":"Payment.num","v":""},{"$f":"Show.Date","v":""},0,0,0,0,0,0,0]
[0,"",{"$f":"Payment.num","v":""},{"$f":"Show.Date","v":""},0,0,0,0,0,0,0,null,null,null,0,"",{"$f":"Payment.num","v":""},{"$f":"Show.Date","v":""},0,0,0,0,0,0,0]
[0,"",{"$f":"Payment.num","v":""},{"$f":"Show.Date","v":""},0,0,0,0,0,0,0,null,null,null,0,"",{"$f":"Payment.num","v":""},{"$f":"Show.Date","v":""},0,0,0,0,0,0,0]
[0,"",{"$f":"Payment.num","v":""},{"$f":"Show.Date","v":""},0,0,0,0,0,0,0,{"$f":"AVERAGE(H29:H40)","v":0},{"$f":"L29*$E$4","v":0},2,0,"",{"$f":"Payment.num","v":""},{"$f":"Show.Date","v":""},0,0,0,0,0,0,0,{"$f":"AVERAGE(V29:V40)","v":0},{"$f":"Z29*$E$4","v":0},{"$f":"MAX(M29,0)+MAX(AA29,0)","v":0}]
[0,"",{"$f":"Payment.num","v":""},{"$f":"Show.Date","v":""},0,0,0,0,0,0,0,null,null,null,0,"",{"$f":"Payment.num","v":""},{"$f":"Show.Date","v":""},0,0,0,0,0,0,0]
[0,"",{"$f":"Payment.num","v":""},{"$f":"Show.Date","v":""},0,0,0,0,0,0,0,null,null,null,0,"",{"$f":"Payment.num","v":""},{"$f":"Show.Date","v":""},0,0,0,0,0,0,0]
[0,"",{"$f":"Payment.num","v":""},{"$f":"Show.Date","v":""},0,0,0,0,0,0,0,null,null,null,0,"",{"$f":"Payment.num","v":""},{"$f":"Show.Date","v":""},0,0,0,0,0,0,0]
[0,"",{"$f":"Payment.num","v":""},{"$f":"Show.Date","v":""},0,0,0,0,0,0,0,null,null,null,0,"",{"$f":"Payment.num","v":""},{"$f":"Show.Date","v":""},0,0,0,0,0,0,0]
[0,"",{"$f":"Payment.num","v":""},{"$f":"Show.Date","v":""},0,0,0,0,{"$f":"F34+I33","v":0},0,0,null,null,null,0,"",{"$f":"Payment.num","v":""},{"$f":"Show.Date","v":""},0,0,0,0,{"$f":"W33+T34","v":0},0,0]
[0,"",{"$f":"Payment.num","v":""},{"$f":"Show.Date","v":""},0,0,0,0,0,0,0,null,null,null,0,"",{"$f":"Payment.num","v":""},{"$f":"Show.Date","v":""},0,0,0,0,0,0,0]
[0,"",{"$f":"Payment.num","v":""},{"$f":"Show.Date","v":""},0,0,0,0,0,0,0,null,null,null,0,"",{"$f":"Payment.num","v":""},{"$f":"Show.Date","v":""},0,0,0,0,0,0,0]
[0,"",{"$f":"Payment.num","v":""},{"$f":"Show.Date","v":""},0,0,0,0,0,0,0,null,null,null,0,"",{"$f":"Payment.num","v":""},{"$f":"Show.Date","v":""},0,0,0,0,0,0,0]
[0,"",{"$f":"Payment.num","v":""},{"$f":"Show.Date","v":""},0,0,0,0,0,0,0,null,null,null,0,"",{"$f":"Payment.num","v":""},{"$f":"Show.Date","v":""},0,0,0,0,0,0,0]
[0,"",{"$f":"Payment.num","v":""},{"$f":"Show.Date","v":""},0,0,0,0,0,0,0,null,null,null,0,"",{"$f":"Payment.num","v":""},{"$f":"Show.Date","v":""},0,0,0,0,0,0,0]
[0,"",{"$f":"Payment.num","v":""},{"$f":"Show.Date","v":""},0,0,0,0,0,0,0,null,null,null,0,"",{"$f":"Payment.num","v":""},{"$f":"Show.Date","v":""},0,0,0,0,0,0,0]
[0,"",{"$f":"Payment.num","v":""},{"$f":"Show.Date","v":""},0,0,0,0,0,0,0,{"$f":"AVERAGE(H41:H52)","v":0},{"$f":"L41*$E$4","v":0},3,0,"",{"$f":"Payment.num","v":""},{"$f":"Show.Date","v":""},0,0,0,0,0,0,0,{"$f":"AVERAGE(V41:V52)","v":0},{"$f":"Z41*$E$4","v":0},{"$f":"MAX(M41,0)+MAX(AA41,0)","v":0}]
[0,"",{"$f":"Payment.num","v":""},{"$f":"Show.Date","v":""},0,0,0,0,0,0,0,null,null,null,0,"",{"$f":"Payment.num","v":""},{"$f":"Show.Date","v":""},0,0,0,0,0,0,0]
[0,"",{"$f":"Payment.num","v":""},{"$f":"Show.Date","v":""},0,0,0,0,0,0,0,null,null,null,0,"",{"$f":"Payment.num","v":""},{"$f":"Show.Date","v":""},0,0,0,0,0,0,0]
[0,"",{"$f":"Payment.num","v":""},{"$f":"Show.Date","v":""},0,0,0,0,0,0,0,null,null,null,0,"",{"$f":"Payment.num","v":""},{"$f":"Show.Date","v":""},0,0,0,0,0,0,0]
[0,"",{"$f":"Payment.num","v":""},{"$f":"Show.Date","v":""},0,0,0,0,0,0,0,null,null,null,0,"",{"$f":"Payment.num","v":""},{"$f":"Show.Date","v":""},0,0,0,0,0,0,0]
[0,"",{"$f":"Payment.num","v":""},{"$f":"Show.Date","v":""},0,0,0,0,0,0,0,null,null,null,0,"",{"$f":"Payment.num","v":""},{"$f":"Show.Date","v":""},0,0,0,0,0,0,0]
[0,"",{"$f":"Payment.num","v":""},{"$f":"Show.Date","v":""},0,0,0,0,0,0,0,null,null,null,0,"",{"$f":"Payment.num","v":""},{"$f":"Show.Date","v":""},0,0,0,0,0,0,0]
[0,"",{"$f":"Payment.num","v":""},{"$f":"Show.Date","v":""},0,0,0,0,0,0,0,null,null,null,0,"",{"$f":"Payment.num","v":""},{"$f":"Show.Date","v":""},0,0,0,0,0,0,0]
[0,"",{"$f":"Payment.num","v":""},{"$f":"Show.Date","v":""},0,0,0,0,0,0,0,null,null,null,0,"",{"$f":"Payment.num","v":""},{"$f":"Show.Date","v":""},0,0,0,0,0,0,0]
[0,"",{"$f":"Payment.num","v":""},{"$f":"Show.Date","v":""},0,0,0,0,{"$f":"F50+I49","v":0},0,0,null,null,null,0,"",{"$f":"Payment.num","v":""},{"$f":"Show.Date","v":""},0,0,0,0,{"$f":"W49+T50","v":0},0,0]
[0,"",{"$f":"Payment.num","v":""},{"$f":"Show.Date","v":""},0,0,0,0,0,0,0,null,null,null,0,"",{"$f":"Payment.num","v":""},{"$f":"Show.Date","v":""},0,0,0,0,0,0,0]
[0,"",{"$f":"Payment.num","v":""},{"$f":"Show.Date","v":""},0,0,0,0,0,0,0,null,null,null,0,"",{"$f":"Payment.num","v":""},{"$f":"Show.Date","v":""},0,0,0,0,0,0,0]
[0,"",{"$f":"Payment.num","v":""},{"$f":"Show.Date","v":""},0,0,0,0,0,0,0,{"$f":"AVERAGE(H53:H64)","v":0},{"$f":"L53*$E$4","v":0},4,0,"",{"$f":"Payment.num","v":""},{"$f":"Show.Date","v":""},0,0,0,0,0,0,0,{"$f":"AVERAGE(V53:V64)","v":0},{"$f":"Z53*$E$4","v":0},{"$f":"MAX(M53,0)+MAX(AA53,0)","v":0}]
[0,"",{"$f":"Payment.num","v":""},{"$f":"Show.Date","v":""},0,0,0,0,0,0,0,null,null,null,0,"",{"$f":"Payment.num","v":""},{"$f":"Show.Date","v":""},0,0,0,0,0,0,0]
[0,"",{"$f":"Payment.num","v":""},{"$f":"Show.Date","v":""},0,0,0,0,0,0,0,null,null,null,0,"",{"$f":"Payment.num","v":""},{"$f":"Show.Date","v":""},0,0,0,0,0,0,0]
[0,"",{"$f":"Payment.num","v":""},{"$f":"Show.Date","v":""},0,0,0,0,0,0,0,null,null,null,0,"",{"$f":"Payment.num","v":""},{"$f":"Show.Date","v":""},0,0,0,0,0,0,0]
[0,"",{"$f":"Payment.num","v":""},{"$f":"Show.Date","v":""},0,0,0,0,0,0,0,null,null,null,0,"",{"$f":"Payment.num","v":""},{"$f":"Show.Date","v":""},0,0,0,0,0,0,0]
[0,"",{"$f":"Payment.num","v":""},{"$f":"Show.Date","v":""},0,0,0,0,0,0,0,null,null,null,0,"",{"$f":"Payment.num","v":""},{"$f":"Show.Date","v":""},0,0,0,0,0,0,0]
[0,"",{"$f":"Payment.num","v":""},{"$f":"Show.Date","v":""},0,0,0,0,0,0,0,null,null,null,0,"",{"$f":"Payment.num","v":""},{"$f":"Show.Date","v":""},0,0,0,0,0,0,0]
[0,"",{"$f":"Payment.num","v":""},{"$f":"Show.Date","v":""},0,0,0,0,0,0,0,null,null,null,0,"",{"$f":"Payment.num","v":""},{"$f":"Show.Date","v":""},0,0,0,0,0,0,0]
[0,"",{"$f":"Payment.num","v":""},{"$f":"Show.Date","v":""},0,0,0,0,0,0,0,null,null,null,0,"",{"$f":"Payment.num","v":""},{"$f":"Show.Date","v":""},0,0,0,0,0,0,0]
[0,"",{"$f":"Payment.num","v":""},{"$f":"Show.Date","v":""},0,0,0,0,0,0,0,null,null,null,0,"",{"$f":"Payment.num","v":""},{"$f":"Show.Date","v":""},0,0,0,0,0,0,0]
[0,"",{"$f":"Payment.num","v":""},{"$f":"Show.Date","v":""},0,0,0,0,0,0,0,null,null,null,0,"",{"$f":"Payment.num","v":""},{"$f":"Show.Date","v":""},0,0,0,0,0,0,0]
[0,"",{"$f":"Payment.num","v":""},{"$f":"Show.Date","v":""},0,0,0,0,0,0,0,null,null,null,0,"",{"$f":"Payment.num","v":""},{"$f":"Show.Date","v":""},0,0,0,0,0,0,0]
[0,"",{"$f":"Payment.num","v":""},{"$f":"Show.Date","v":""},0,0,0,0,0,0,0,{"$f":"AVERAGE(H65:H76)","v":0},{"$f":"L65*$E$4","v":0},5,0,"",{"$f":"Payment.num","v":""},{"$f":"Show.Date","v":""},0,0,0,0,0,0,0,{"$f":"AVERAGE(V65:V76)","v":0},{"$f":"Z65*$E$4","v":0},{"$f":"MAX(M65,0)+MAX(AA65,0)","v":0}]
[0,"",{"$f":"Payment.num","v":""},{"$f":"Show.Date","v":""},0,0,0,0,{"$f":"F66+I65","v":0},0,0,null,null,null,0,"",{"$f":"Payment.num","v":""},{"$f":"Show.Date","v":""},0,0,0,0,{"$f":"W65+T66","v":0},0,0]
[0,"",{"$f":"Payment.num","v":""},{"$f":"Show.Date","v":""},0,0,0,0,0,0,0,null,null,null,0,"",{"$f":"Payment.num","v":""},{"$f":"Show.Date","v":""},0,0,0,0,0,0,0]
[0,"",{"$f":"Payment.num","v":""},{"$f":"Show.Date","v":""},0,0,0,0,0,0,0,null,null,null,0,"",{"$f":"Payment.num","v":""},{"$f":"Show.Date","v":""},0,0,0,0,0,0,0]
[0,"",{"$f":"Payment.num","v":""},{"$f":"Show.Date","v":""},0,0,0,0,0,0,0,null,null,null,0,"",{"$f":"Payment.num","v":""},{"$f":"Show.Date","v":""},0,0,0,0,0,0,0]
[0,"",{"$f":"Payment.num","v":""},{"$f":"Show.Date","v":""},0,0,0,0,0,0,0,null,null,null,0,"",{"$f":"Payment.num","v":""},{"$f":"Show.Date","v":""},0,0,0,0,0,0,0]
[0,"",{"$f":"Payment.num","v":""},{"$f":"Show.Date","v":""},0,0,0,0,0,0,0,null,null,null,0,"",{"$f":"Payment.num","v":""},{"$f":"Show.Date","v":""},0,0,0,0,0,0,0]
[0,"",{"$f":"Payment.num","v":""},{"$f":"Show.Date","v":""},0,0,0,0,0,0,0,null,null,null,0,"",{"$f":"Payment.num","v":""},{"$f":"Show.Date","v":""},0,0,0,0,0,0,0]
[0,"",{"$f":"Payment.num","v":""},{"$f":"Show.Date","v":""},0,0,0,0,0,0,0,null,null,null,0,"",{"$f":"Payment.num","v":""},{"$f":"Show.Date","v":""},0,0,0,0,0,0,0]
[0,"",{"$f":"Payment.num","v":""},{"$f":"Show.Date","v":""},0,0,0,0,0,0,0,null,null,null,0,"",{"$f":"Payment.num","v":""},{"$f":"Show.Date","v":""},0,0,0,0,0,0,0]
[0,"",{"$f":"Payment.num","v":""},{"$f":"Show.Date","v":""},0,0,0,0,0,0,0,null,null,null,0,"",{"$f":"Payment.num","v":""},{"$f":"Show.Date","v":""},0,0,0,0,0,0,0]
[0,"",{"$f":"Payment.num","v":""},{"$f":"Show.Date","v":""},0,0,0,0,0,0,0,null,null,null,0,"",{"$f":"Payment.num","v":""},{"$f":"Show.Date","v":""},0,0,0,0,0,0,0]
[0,"",{"$f":"Payment.num","v":""},{"$f":"Show.Date","v":""},0,0,0,0,0,0,0,{"$f":"AVERAGE(H77:H88)","v":0},{"$f":"L77*$E$4","v":0},6,0,"",{"$f":"Payment.num","v":""},{"$f":"Show.Date","v":""},0,0,0,0,0,0,0,{"$f":"AVERAGE(V77:V88)","v":0},{"$f":"Z77*$E$4","v":0},{"$f":"MAX(M77,0)+MAX(AA77,0)","v":0}]
[0,"",{"$f":"Payment.num","v":""},{"$f":"Show.Date","v":""},0,0,0,0,0,0,0,null,null,null,0,"",{"$f":"Payment.num","v":""},{"$f":"Show.Date","v":""},0,0,0,0,0,0,0]
[0,"",{"$f":"Payment.num","v":""},{"$f":"Show.Date","v":""},0,0,0,0,0,0,0,null,null,null,0,"",{"$f":"Payment.num","v":""},{"$f":"Show.Date","v":""},0,0,0,0,0,0,0]
[0,"",{"$f":"Payment.num","v":""},{"$f":"Show.Date","v":""},0,0,0,0,0,0,0,null,null,null,0,"",{"$f":"Payment.num","v":""},{"$f":"Show.Date","v":""},0,0,0,0,0,0,0]
[{"$f":"$E$3","v":0},{"$f":"$I$5","v":""},{"$f":"Payment.num","v":""},{"$f":"Show.Date","v":""},0,{"$f":"E81*Annual_interest_rate/12","v":0},0,{"$f":"E81-G81","v":0},0,0,0,null,null,null,{"$f":"$E$3","v":0},"",{"$f":"Payment.num","v":""},{"$f":"Show.Date","v":""},0,{"$f":"S81*$S$3/12","v":0},0,{"$f":"S81-U81","v":0},0,0,0]
[0,"",{"$f":"Payment.num","v":""},{"$f":"Show.Date","v":""},{"$f":"H81","v":0},0,{"$f":"IF(ROUND(E82,2)>0,IF(I$6>0,I$6-F82,I$5-F82),0)","v":0},0,{"$f":"F82+I81","v":0},0,{"$f":"K81+F82+G82","v":0},null,null,null,0,{"$f":"P81","v":""},{"$f":"Payment.num","v":""},{"$f":"Show.Date","v":""},{"$f":"V81","v":0},0,{"$f":"IF(ROUND(S82,2)>0,IF(W$6>0,W$6-T82,W$5-T82),0)","v":0},0,{"$f":"W81+T82","v":0},0,{"$f":"Y81+T82+U82","v":0}]
[0,"",{"$f":"Payment.num","v":""},{"$f":"Show.Date","v":""},0,0,0,0,0,0,0,null,null,null,0,"",{"$f":"Payment.num","v":""},{"$f":"Show.Date","v":""},0,0,0,0,0,0,0]
[0,"",{"$f":"Payment.num","v":""},{"$f":"Show.Date","v":""},0,0,0,0,0,0,0,null,null,null,0,"",{"$f":"Payment.num","v":""},{"$f":"Show.Date","v":""},0,0,0,0,0,0,0]
[0,"",{"$f":"Payment.num","v":""},{"$f":"Show.Date","v":""},0,0,0,0,0,0,0,null,null,null,0,"",{"$f":"Payment.num","v":""},{"$f":"Show.Date","v":""},0,0,0,0,0,0,0]
[0,"",{"$f":"Payment.num","v":""},{"$f":"Show.Date","v":""},0,0,0,0,0,0,0,null,null,null,0,"",{"$f":"Payment.num","v":""},{"$f":"Show.Date","v":""},0,0,0,0,0,0,0]
[0,"",{"$f":"Payment.num","v":""},{"$f":"Show.Date","v":""},0,0,0,0,0,0,0,null,null,null,0,"",{"$f":"Payment.num","v":""},{"$f":"Show.Date","v":""},0,0,0,0,0,0,0]
[0,"",{"$f":"Payment.num","v":""},{"$f":"Show.Date","v":""},0,0,0,0,0,0,0,null,null,null,0,"",{"$f":"Payment.num","v":""},{"$f":"Show.Date","v":""},0,0,0,0,0,0,0]
[0,"",{"$f":"Payment.num","v":""},{"$f":"Show.Date","v":""},0,0,0,0,0,0,0,{"$f":"AVERAGE(H89:H100)","v":0},{"$f":"L89*$E$4","v":0},7,0,"",{"$f":"Payment.num","v":""},{"$f":"Show.Date","v":""},0,0,0,0,0,0,0,{"$f":"AVERAGE(V89:V100)","v":0},{"$f":"Z89*$E$4","v":0},{"$f":"MAX(M89,0)+MAX(AA89,0)","v":0}]
[0,"",{"$f":"Payment.num","v":""},{"$f":"Show.Date","v":""},0,0,0,0,0,0,0,null,null,null,0,"",{"$f":"Payment.num","v":""},{"$f":"Show.Date","v":""},0,0,0,0,0,0,0]
[0,"",{"$f":"Payment.num","v":""},{"$f":"Show.Date","v":""},0,0,0,0,0,0,0,null,null,null,0,"",{"$f":"Payment.num","v":""},{"$f":"Show.Date","v":""},0,0,0,0,0,0,0]
[0,"",{"$f":"Payment.num","v":""},{"$f":"Show.Date","v":""},0,0,0,0,0,0,0,null,null,null,0,"",{"$f":"Payment.num","v":""},{"$f":"Show.Date","v":""},0,0,0,0,0,0,0]
[0,"",{"$f":"Payment.num","v":""},{"$f":"Show.Date","v":""},0,0,0,0,0,0,0,null,null,null,0,"",{"$f":"Payment.num","v":""},{"$f":"Show.Date","v":""},0,0,0,0,0,0,0]
[0,"",{"$f":"Payment.num","v":""},{"$f":"Show.Date","v":""},0,0,0,0,0,0,0,null,null,null,0,"",{"$f":"Payment.num","v":""},{"$f":"Show.Date","v":""},0,0,0,0,0,0,0]
[0,"",{"$f":"Payment.num","v":""},{"$f":"Show.Date","v":""},0,0,0,0,0,0,0,null,null,null,0,"",{"$f":"Payment.num","v":""},{"$f":"Show.Date","v":""},0,0,0,0,0,0,0]
[0,"",{"$f":"Payment.num","v":""},{"$f":"Show.Date","v":""},0,0,0,0,0,0,0,null,null,null,0,"",{"$f":"Payment.num","v":""},{"$f":"Show.Date","v":""},0,0,0,0,0,0,0]
[0,"",{"$f":"Payment.num","v":""},{"$f":"Show.Date","v":""},0,0,0,0,0,0,0,null,null,null,0,"",{"$f":"Payment.num","v":""},{"$f":"Show.Date","v":""},0,0,0,0,0,0,0]
[0,"",{"$f":"Payment.num","v":""},{"$f":"Show.Date","v":""},0,0,0,0,{"$f":"F98+I97","v":0},0,0,null,null,null,0,"",{"$f":"Payment.num","v":""},{"$f":"Show.Date","v":""},0,0,0,0,{"$f":"W97+T98","v":0},0,0]
[0,"",{"$f":"Payment.num","v":""},{"$f":"Show.Date","v":""},0,0,0,0,0,0,0,null,null,null,0,"",{"$f":"Payment.num","v":""},{"$f":"Show.Date","v":""},0,0,0,0,0,0,0]
[0,"",{"$f":"Payment.num","v":""},{"$f":"Show.Date","v":""},0,0,0,0,0,0,0,null,null,null,0,"",{"$f":"Payment.num","v":""},{"$f":"Show.Date","v":""},0,0,0,0,0,0,0]
[0,"",{"$f":"Payment.num","v":""},{"$f":"Show.Date","v":""},0,0,0,0,0,0,0,{"$f":"AVERAGE(H101:H112)","v":0},{"$f":"L101*$E$4","v":0},8,0,"",{"$f":"Payment.num","v":""},{"$f":"Show.Date","v":""},0,0,0,0,0,0,0,{"$f":"AVERAGE(V101:V112)","v":0},{"$f":"Z101*$E$4","v":0},{"$f":"MAX(M101,0)+MAX(AA101,0)","v":0}]
[0,"",{"$f":"Payment.num","v":""},{"$f":"Show.Date","v":""},0,0,0,0,0,0,0,null,null,null,0,"",{"$f":"Payment.num","v":""},{"$f":"Show.Date","v":""},0,0,0,0,0,0,0]
[0,"",{"$f":"Payment.num","v":""},{"$f":"Show.Date","v":""},0,0,0,0,0,0,0,null,null,null,0,"",{"$f":"Payment.num","v":""},{"$f":"Show.Date","v":""},0,0,0,0,0,0,0]
[0,"",{"$f":"Payment.num","v":""},{"$f":"Show.Date","v":""},0,0,0,0,0,0,0,null,null,null,0,"",{"$f":"Payment.num","v":""},{"$f":"Show.Date","v":""},0,0,0,0,0,0,0]
[0,"",{"$f":"Payment.num","v":""},{"$f":"Show.Date","v":""},0,0,0,0,0,0,0,null,null,null,0,"",{"$f":"Payment.num","v":""},{"$f":"Show.Date","v":""},0,0,0,0,0,0,0]
[0,"",{"$f":"Payment.num","v":""},{"$f":"Show.Date","v":""},0,0,0,0,0,0,0,null,null,null,0,"",{"$f":"Payment.num","v":""},{"$f":"Show.Date","v":""},0,0,0,0,0,0,0]
[0,"",{"$f":"Payment.num","v":""},{"$f":"Show.Date","v":""},0,0,0,0,0,0,0,null,null,null,0,"",{"$f":"Payment.num","v":""},{"$f":"Show.Date","v":""},0,0,0,0,0,0,0]
[0,"",{"$f":"Payment.num","v":""},{"$f":"Show.Date","v":""},0,0,0,0,0,0,0,null,null,null,0,"",{"$f":"Payment.num","v":""},{"$f":"Show.Date","v":""},0,0,0,0,0,0,0]
[0,"",{"$f":"Payment.num","v":""},{"$f":"Show.Date","v":""},0,0,0,0,0,0,0,null,null,null,0,"",{"$f":"Payment.num","v":""},{"$f":"Show.Date","v":""},0,0,0,0,0,0,0]
[0,"",{"$f":"Payment.num","v":""},{"$f":"Show.Date","v":""},0,0,0,0,0,0,0,null,null,null,0,"",{"$f":"Payment.num","v":""},{"$f":"Show.Date","v":""},0,0,0,0,0,0,0]
[0,"",{"$f":"Payment.num","v":""},{"$f":"Show.Date","v":""},0,0,0,0,0,0,0,null,null,null,0,"",{"$f":"Payment.num","v":""},{"$f":"Show.Date","v":""},0,0,0,0,0,0,0]
[0,"",{"$f":"Payment.num","v":""},{"$f":"Show.Date","v":""},0,0,0,0,0,0,0,null,null,null,0,"",{"$f":"Payment.num","v":""},{"$f":"Show.Date","v":""},0,0,0,0,0,0,0]
[0,"",{"$f":"Payment.num","v":""},{"$f":"Show.Date","v":""},0,0,0,0,0,0,0,{"$f":"AVERAGE(H113:H124)","v":0},{"$f":"L113*$E$4","v":0},9,0,"",{"$f":"Payment.num","v":""},{"$f":"Show.Date","v":""},0,0,0,0,0,0,0,{"$f":"AVERAGE(V113:V124)","v":0},{"$f":"Z113*$E$4","v":0},{"$f":"MAX(M113,0)+MAX(AA113,0)","v":0}]
[0,"",{"$f":"Payment.num","v":""},{"$f":"Show.Date","v":""},0,0,0,0,{"$f":"F114+I113","v":0},0,0,null,null,null,0,"",{"$f":"Payment.num","v":""},{"$f":"Show.Date","v":""},0,0,0,0,{"$f":"W113+T114","v":0},0,0]
[0,"",{"$f":"Payment.num","v":""},{"$f":"Show.Date","v":""},0,0,0,0,0,0,0,null,null,null,0,"",{"$f":"Payment.num","v":""},{"$f":"Show.Date","v":""},0,0,0,0,0,0,0]
[0,"",{"$f":"Payment.num","v":""},{"$f":"Show.Date","v":""},0,0,0,0,0,0,0,null,null,null,0,"",{"$f":"Payment.num","v":""},{"$f":"Show.Date","v":""},0,0,0,0,0,0,0]
[0,"",{"$f":"Payment.num","v":""},{"$f":"Show.Date","v":""},0,0,0,0,0,0,0,null,null,null,0,"",{"$f":"Payment.num","v":""},{"$f":"Show.Date","v":""},0,0,0,0,0,0,0]
[0,"",{"$f":"Payment.num","v":""},{"$f":"Show.Date","v":""},0,0,0,0,0,0,0,null,null,null,0,"",{"$f":"Payment.num","v":""},{"$f":"Show.Date","v":""},0,0,0,0,0,0,0]
[0,"",{"$f":"Payment.num","v":""},{"$f":"Show.Date","v":""},0,0,0,0,0,0,0,null,null,null,0,"",{"$f":"Payment.num","v":""},{"$f":"Show.Date","v":""},0,0,0,0,0,0,0]
[0,"",{"$f":"Payment.num","v":""},{"$f":"Show.Date","v":""},0,0,0,0,0,0,0,null,null,null,0,"",{"$f":"Payment.num","v":""},{"$f":"Show.Date","v":""},0,0,0,0,0,0,0]
[0,"",{"$f":"Payment.num","v":""},{"$f":"Show.Date","v":""},0,0,0,0,0,0,0,null,null,null,0,"",{"$f":"Payment.num","v":""},{"$f":"Show.Date","v":""},0,0,0,0,0,0,0]
[0,"",{"$f":"Payment.num","v":""},{"$f":"Show.Date","v":""},0,0,0,0,0,0,0,null,null,null,0,"",{"$f":"Payment.num","v":""},{"$f":"Show.Date","v":""},0,0,0,0,0,0,0]
[0,"",{"$f":"Payment.num","v":""},{"$f":"Show.Date","v":""},0,0,0,0,0,0,0,null,null,null,0,"",{"$f":"Payment.num","v":""},{"$f":"Show.Date","v":""},0,0,0,0,0,0,0]
[0,"",{"$f":"Payment.num","v":""},{"$f":"Show.Date","v":""},0,0,0,0,0,0,0,null,null,null,0,"",{"$f":"Payment.num","v":""},{"$f":"Show.Date","v":""},0,0,0,0,0,0,0]
[0,"",{"$f":"Payment.num","v":""},{"$f":"Show.Date","v":""},0,0,0,0,0,0,0,{"$f":"AVERAGE(H125:H136)","v":0},{"$f":"L125*$E$4","v":0},10,0,"",{"$f":"Payment.num","v":""},{"$f":"Show.Date","v":""},0,0,0,0,0,0,0,{"$f":"AVERAGE(V125:V136)","v":0},{"$f":"Z125*$E$4","v":0},{"$f":"MAX(M125,0)+MAX(AA125,0)","v":0}]
[0,"",{"$f":"Payment.num","v":""},{"$f":"Show.Date","v":""},0,0,0,0,0,0,0,null,null,null,0,"",{"$f":"Payment.num","v":""},{"$f":"Show.Date","v":""},0,0,0,0,0,0,0]
[0,"",{"$f":"Payment.num","v":""},{"$f":"Show.Date","v":""},0,0,0,0,0,0,0,null,null,null,0,"",{"$f":"Payment.num","v":""},{"$f":"Show.Date","v":""},0,0,0,0,0,0,0]
[0,"",{"$f":"Payment.num","v":""},{"$f":"Show.Date","v":""},0,0,0,0,0,0,0,null,null,null,0,"",{"$f":"Payment.num","v":""},{"$f":"Show.Date","v":""},0,0,0,0,0,0,0]
[0,"",{"$f":"Payment.num","v":""},{"$f":"Show.Date","v":""},0,0,0,0,0,0,0,null,null,null,0,"",{"$f":"Payment.num","v":""},{"$f":"Show.Date","v":""},0,0,0,0,0,0,0]
[0,"",{"$f":"Payment.num","v":""},{"$f":"Show.Date","v":""},0,0,0,0,{"$f":"F130+I129","v":0},0,0,null,null,null,0,"",{"$f":"Payment.num","v":""},{"$f":"Show.Date","v":""},0,0,0,0,{"$f":"W129+T130","v":0},0,0]
[0,"",{"$f":"Payment.num","v":""},{"$f":"Show.Date","v":""},0,0,0,0,0,0,0,null,null,null,0,"",{"$f":"Payment.num","v":""},{"$f":"Show.Date","v":""},0,0,0,0,0,0,0]
[0,"",{"$f":"Payment.num","v":""},{"$f":"Show.Date","v":""},0,0,0,0,0,0,0,null,null,null,0,"",{"$f":"Payment.num","v":""},{"$f":"Show.Date","v":""},0,0,0,0,0,0,0]
[0,"",{"$f":"Payment.num","v":""},{"$f":"Show.Date","v":""},0,0,0,0,0,0,0,null,null,null,0,"",{"$f":"Payment.num","v":""},{"$f":"Show.Date","v":""},0,0,0,0,0,0,0]
[0,"",{"$f":"Payment.num","v":""},{"$f":"Show.Date","v":""},0,0,0,0,0,0,0,null,null,null,0,"",{"$f":"Payment.num","v":""},{"$f":"Show.Date","v":""},0,0,0,0,0,0,0]
[0,"",{"$f":"Payment.num","v":""},{"$f":"Show.Date","v":""},0,0,0,0,0,0,0,null,null,null,0,"",{"$f":"Payment.num","v":""},{"$f":"Show.Date","v":""},0,0,0,0,0,0,0]
[0,"",{"$f":"Payment.num","v":""},{"$f":"Show.Date","v":""},0,0,0,0,0,0,0,null,null,null,0,"",{"$f":"Payment.num","v":""},{"$f":"Show.Date","v":""},0,0,0,0,0,0,0]
[0,"",{"$f":"Payment.num","v":""},{"$f":"Show.Date","v":""},0,0,0,0,0,0,0,{"$f":"AVERAGE(H137:H148)","v":0},{"$f":"L137*$E$4","v":0},11,0,"",{"$f":"Payment.num","v":""},{"$f":"Show.Date","v":""},0,0,0,0,0,0,0,{"$f":"AVERAGE(V137:V148)","v":0},{"$f":"Z137*$E$4","v":0},{"$f":"MAX(M137,0)+MAX(AA137,0)","v":0}]
[0,"",{"$f":"Payment.num","v":""},{"$f":"Show.Date","v":""},0,0,0,0,0,0,0,null,null,null,0,"",{"$f":"Payment.num","v":""},{"$f":"Show.Date","v":""},0,0,0,0,0,0,0]
[0,"",{"$f":"Payment.num","v":""},{"$f":"Show.Date","v":""},0,0,0,0,0,0,0,null,null,null,0,"",{"$f":"Payment.num","v":""},{"$f":"Show.Date","v":""},0,0,0,0,0,0,0]
[0,"",{"$f":"Payment.num","v":""},{"$f":"Show.Date","v":""},0,0,0,0,0,0,0,null,null,null,0,"",{"$f":"Payment.num","v":""},{"$f":"Show.Date","v":""},0,0,0,0,0,0,0]
[0,"",{"$f":"Payment.num","v":""},{"$f":"Show.Date","v":""},0,0,0,0,0,0,0,null,null,null,0,"",{"$f":"Payment.num","v":""},{"$f":"Show.Date","v":""},0,0,0,0,0,0,0]
[0,"",{"$f":"Payment.num","v":""},{"$f":"Show.Date","v":""},0,0,0,0,0,0,0,null,null,null,0,"",{"$f":"Payment.num","v":""},{"$f":"Show.Date","v":""},0,0,0,0,0,0,0]
[0,"",{"$f":"Payment.num","v":""},{"$f":"Show.Date","v":""},0,0,0,0,0,0,0,null,null,null,0,"",{"$f":"Payment.num","v":""},{"$f":"Show.Date","v":""},0,0,0,0,0,0,0]
[0,"",{"$f":"Payment.num","v":""},{"$f":"Show.Date","v":""},0,0,0,0,0,0,0,null,null,null,0,"",{"$f":"Payment.num","v":""},{"$f":"Show.Date","v":""},0,0,0,0,0,0,0]
[{"$f":"$E$3","v":0},{"$f":"$I$5","v":""},{"$f":"Payment.num","v":""},{"$f":"Show.Date","v":""},0,{"$f":"E145*Annual_interest_rate/12","v":0},0,{"$f":"E145-G145","v":0},0,0,0,null,null,null,{"$f":"$E$3","v":0},"",{"$f":"Payment.num","v":""},{"$f":"Show.Date","v":""},0,{"$f":"S145*$S$3/12","v":0},0,{"$f":"S145-U145","v":0},0,0,0]
[0,"",{"$f":"Payment.num","v":""},{"$f":"Show.Date","v":""},{"$f":"H145","v":0},0,{"$f":"IF(ROUND(E146,2)>0,IF(I$6>0,I$6-F146,I$5-F146),0)","v":0},0,{"$f":"F146+I145","v":0},0,{"$f":"K145+F146+G146","v":0},null,null,null,0,{"$f":"P145","v":""},{"$f":"Payment.num","v":""},{"$f":"Show.Date","v":""},{"$f":"V145","v":0},0,{"$f":"IF(ROUND(S146,2)>0,IF(W$6>0,W$6-T146,W$5-T146),0)","v":0},0,{"$f":"W145+T146","v":0},0,{"$f":"Y145+T146+U146","v":0}]
[0,"",{"$f":"Payment.num","v":""},{"$f":"Show.Date","v":""},0,0,0,0,0,0,0,null,null,null,0,"",{"$f":"Payment.num","v":""},{"$f":"Show.Date","v":""},0,0,0,0,0,0,0]
[0,"",{"$f":"Payment.num","v":""},{"$f":"Show.Date","v":""},0,0,0,0,0,0,0,null,null,null,0,"",{"$f":"Payment.num","v":""},{"$f":"Show.Date","v":""},0,0,0,0,0,0,0]
[0,"",{"$f":"Payment.num","v":""},{"$f":"Show.Date","v":""},0,0,0,0,0,0,0,{"$f":"AVERAGE(H149:H160)","v":0},{"$f":"L149*$E$4","v":0},12,0,"",{"$f":"Payment.num","v":""},{"$f":"Show.Date","v":""},0,0,0,0,0,0,0,{"$f":"AVERAGE(V149:V160)","v":0},{"$f":"Z149*$E$4","v":0},{"$f":"MAX(M149,0)+MAX(AA149,0)","v":0}]
[0,"",{"$f":"Payment.num","v":""},{"$f":"Show.Date","v":""},0,0,0,0,0,0,0,null,null,null,0,"",{"$f":"Payment.num","v":""},{"$f":"Show.Date","v":""},0,0,0,0,0,0,0]
[0,"",{"$f":"Payment.num","v":""},{"$f":"Show.Date","v":""},0,0,0,0,0,0,0,null,null,null,0,"",{"$f":"Payment.num","v":""},{"$f":"Show.Date","v":""},0,0,0,0,0,0,0]
[0,"",{"$f":"Payment.num","v":""},{"$f":"Show.Date","v":""},0,0,0,0,0,0,0,null,null,null,0,"",{"$f":"Payment.num","v":""},{"$f":"Show.Date","v":""},0,0,0,0,0,0,0]
[0,"",{"$f":"Payment.num","v":""},{"$f":"Show.Date","v":""},0,0,0,0,0,0,0,null,null,null,0,"",{"$f":"Payment.num","v":""},{"$f":"Show.Date","v":""},0,0,0,0,0,0,0]
[0,"",{"$f":"Payment.num","v":""},{"$f":"Show.Date","v":""},0,0,0,0,0,0,0,null,null,null,0,"",{"$f":"Payment.num","v":""},{"$f":"Show.Date","v":""},0,0,0,0,0,0,0]
[0,"",{"$f":"Payment.num","v":""},{"$f":"Show.Date","v":""},0,0,0,0,0,0,0,null,null,null,0,"",{"$f":"Payment.num","v":""},{"$f":"Show.Date","v":""},0,0,0,0,0,0,0]
[0,"",{"$f":"Payment.num","v":""},{"$f":"Show.Date","v":""},0,0,0,0,0,0,0,null,null,null,0,"",{"$f":"Payment.num","v":""},{"$f":"Show.Date","v":""},0,0,0,0,0,0,0]
[0,"",{"$f":"Payment.num","v":""},{"$f":"Show.Date","v":""},0,0,0,0,0,0,0,null,null,null,0,"",{"$f":"Payment.num","v":""},{"$f":"Show.Date","v":""},0,0,0,0,0,0,0]
[0,"",{"$f":"Payment.num","v":""},{"$f":"Show.Date","v":""},0,0,0,0,0,0,0,null,null,null,0,"",{"$f":"Payment.num","v":""},{"$f":"Show.Date","v":""},0,0,0,0,0,0,0]
[0,"",{"$f":"Payment.num","v":""},{"$f":"Show.Date","v":""},0,0,0,0,0,0,0,null,null,null,0,"",{"$f":"Payment.num","v":""},{"$f":"Show.Date","v":""},0,0,0,0,0,0,0]
[0,"",{"$f":"Payment.num","v":""},{"$f":"Show.Date","v":""},0,0,0,0,0,0,0,null,null,null,0,"",{"$f":"Payment.num","v":""},{"$f":"Show.Date","v":""},0,0,0,0,0,0,0]
[0,"",{"$f":"Payment.num","v":""},{"$f":"Show.Date","v":""},0,0,0,0,0,0,0,{"$f":"AVERAGE(H161:H172)","v":0},{"$f":"L161*$E$4","v":0},13,0,"",{"$f":"Payment.num","v":""},{"$f":"Show.Date","v":""},0,0,0,0,0,0,0,{"$f":"AVERAGE(V161:V172)","v":0},{"$f":"Z161*$E$4","v":0},{"$f":"MAX(M161,0)+MAX(AA161,0)","v":0}]
[0,"",{"$f":"Payment.num","v":""},{"$f":"Show.Date","v":""},0,0,0,0,{"$f":"F162+I161","v":0},0,0,null,null,null,0,"",{"$f":"Payment.num","v":""},{"$f":"Show.Date","v":""},0,0,0,0,{"$f":"W161+T162","v":0},0,0]
[0,"",{"$f":"Payment.num","v":""},{"$f":"Show.Date","v":""},0,0,0,0,0,0,0,null,null,null,0,"",{"$f":"Payment.num","v":""},{"$f":"Show.Date","v":""},0,0,0,0,0,0,0]
[0,"",{"$f":"Payment.num","v":""},{"$f":"Show.Date","v":""},0,0,0,0,0,0,0,null,null,null,0,"",{"$f":"Payment.num","v":""},{"$f":"Show.Date","v":""},0,0,0,0,0,0,0]
[0,"",{"$f":"Payment.num","v":""},{"$f":"Show.Date","v":""},0,0,0,0,0,0,0,null,null,null,0,"",{"$f":"Payment.num","v":""},{"$f":"Show.Date","v":""},0,0,0,0,0,0,0]
[0,"",{"$f":"Payment.num","v":""},{"$f":"Show.Date","v":""},0,0,0,0,0,0,0,null,null,null,0,"",{"$f":"Payment.num","v":""},{"$f":"Show.Date","v":""},0,0,0,0,0,0,0]
[0,"",{"$f":"Payment.num","v":""},{"$f":"Show.Date","v":""},0,0,0,0,0,0,0,null,null,null,0,"",{"$f":"Payment.num","v":""},{"$f":"Show.Date","v":""},0,0,0,0,0,0,0]
[0,"",{"$f":"Payment.num","v":""},{"$f":"Show.Date","v":""},0,0,0,0,0,0,0,null,null,null,0,"",{"$f":"Payment.num","v":""},{"$f":"Show.Date","v":""},0,0,0,0,0,0,0]
[0,"",{"$f":"Payment.num","v":""},{"$f":"Show.Date","v":""},0,0,0,0,0,0,0,null,null,null,0,"",{"$f":"Payment.num","v":""},{"$f":"Show.Date","v":""},0,0,0,0,0,0,0]
[0,"",{"$f":"Payment.num","v":""},{"$f":"Show.Date","v":""},0,0,0,0,0,0,0,null,null,null,0,"",{"$f":"Payment.num","v":""},{"$f":"Show.Date","v":""},0,0,0,0,0,0,0]
[0,"",{"$f":"Payment.num","v":""},{"$f":"Show.Date","v":""},0,0,0,0,0,0,0,null,null,null,0,"",{"$f":"Payment.num","v":""},{"$f":"Show.Date","v":""},0,0,0,0,0,0,0]
[0,"",{"$f":"Payment.num","v":""},{"$f":"Show.Date","v":""},0,0,0,0,0,0,0,null,null,null,0,"",{"$f":"Payment.num","v":""},{"$f":"Show.Date","v":""},0,0,0,0,0,0,0]
[0,"",{"$f":"Payment.num","v":""},{"$f":"Show.Date","v":""},0,0,0,0,0,0,0,{"$f":"AVERAGE(H173:H184)","v":0},{"$f":"L173*$E$4","v":0},14,0,"",{"$f":"Payment.num","v":""},{"$f":"Show.Date","v":""},0,0,0,0,0,0,0,{"$f":"AVERAGE(V173:V184)","v":0},{"$f":"Z173*$E$4","v":0},{"$f":"MAX(M173,0)+MAX(AA173,0)","v":0}]
[0,"",{"$f":"Payment.num","v":""},{"$f":"Show.Date","v":""},0,0,0,0,0,0,0,null,null,null,0,"",{"$f":"Payment.num","v":""},{"$f":"Show.Date","v":""},0,0,0,0,0,0,0]
[0,"",{"$f":"Payment.num","v":""},{"$f":"Show.Date","v":""},0,0,0,0,0,0,0,null,null,null,0,"",{"$f":"Payment.num","v":""},{"$f":"Show.Date","v":""},0,0,0,0,0,0,0]
[0,"",{"$f":"Payment.num","v":""},{"$f":"Show.Date","v":""},0,0,0,0,0,0,0,null,null,null,0,"",{"$f":"Payment.num","v":""},{"$f":"Show.Date","v":""},0,0,0,0,0,0,0]
[0,"",{"$f":"Payment.num","v":""},{"$f":"Show.Date","v":""},0,0,0,0,0,0,0,null,null,null,0,"",{"$f":"Payment.num","v":""},{"$f":"Show.Date","v":""},0,0,0,0,0,0,0]
[0,"",{"$f":"Payment.num","v":""},{"$f":"Show.Date","v":""},0,0,0,0,{"$f":"F178+I177","v":0},0,0,null,null,null,0,"",{"$f":"Payment.num","v":""},{"$f":"Show.Date","v":""},0,0,0,0,{"$f":"W177+T178","v":0},0,0]
[0,"",{"$f":"Payment.num","v":""},{"$f":"Show.Date","v":""},0,0,0,0,0,0,0,null,null,null,0,"",{"$f":"Payment.num","v":""},{"$f":"Show.Date","v":""},0,0,0,0,0,0,0]
[0,"",{"$f":"Payment.num","v":""},{"$f":"Show.Date","v":""},0,0,0,0,0,0,0,null,null,null,0,"",{"$f":"Payment.num","v":""},{"$f":"Show.Date","v":""},0,0,0,0,0,0,0]
[0,"",{"$f":"Payment.num","v":""},{"$f":"Show.Date","v":""},0,0,0,0,0,0,0,null,null,null,0,"",{"$f":"Payment.num","v":""},{"$f":"Show.Date","v":""},0,0,0,0,0,0,0]
[0,"",{"$f":"Payment.num","v":""},{"$f":"Show.Date","v":""},0,0,0,0,0,0,0,null,null,null,0,"",{"$f":"Payment.num","v":""},{"$f":"Show.Date","v":""},0,0,0,0,0,0,0]
[0,"",{"$f":"Payment.num","v":""},{"$f":"Show.Date","v":""},0,0,0,0,0,0,0,null,null,null,0,"",{"$f":"Payment.num","v":""},{"$f":"Show.Date","v":""},0,0,0,0,0,0,0]
[0,"",{"$f":"Payment.num","v":""},{"$f":"Show.Date","v":""},0,0,0,0,0,0,0,null,null,null,0,"",{"$f":"Payment.num","v":""},{"$f":"Show.Date","v":""},0,0,0,0,0,0,0]
[0,"",{"$f":"Payment.num","v":""},{"$f":"Show.Date","v":""},0,0,0,0,0,0,0,{"$f":"AVERAGE(H185:H196)","v":0},{"$f":"L185*$E$4","v":0},15,0,"",{"$f":"Payment.num","v":""},{"$f":"Show.Date","v":""},0,0,0,0,0,0,0,{"$f":"AVERAGE(V185:V196)","v":0},{"$f":"Z185*$E$4","v":0},{"$f":"MAX(M185,0)+MAX(AA185,0)","v":0}]
[0,"",{"$f":"Payment.num","v":""},{"$f":"Show.Date","v":""},0,0,0,0,0,0,0,null,null,null,0,"",{"$f":"Payment.num","v":""},{"$f":"Show.Date","v":""},0,0,0,0,0,0,0]
[0,"",{"$f":"Payment.num","v":""},{"$f":"Show.Date","v":""},0,0,0,0,0,0,0,null,null,null,0,"",{"$f":"Payment.num","v":""},{"$f":"Show.Date","v":""},0,0,0,0,0,0,0]
[0,"",{"$f":"Payment.num","v":""},{"$f":"Show.Date","v":""},0,0,0,0,0,0,0,null,null,null,0,"",{"$f":"Payment.num","v":""},{"$f":"Show.Date","v":""},0,0,0,0,0,0,0]
[0,"",{"$f":"Payment.num","v":""},{"$f":"Show.Date","v":""},0,0,0,0,0,0,0,null,null,null,0,"",{"$f":"Payment.num","v":""},{"$f":"Show.Date","v":""},0,0,0,0,0,0,0]
[0,"",{"$f":"Payment.num","v":""},{"$f":"Show.Date","v":""},0,0,0,0,0,0,0,null,null,null,0,"",{"$f":"Payment.num","v":""},{"$f":"Show.Date","v":""},0,0,0,0,0,0,0]
[0,"",{"$f":"Payment.num","v":""},{"$f":"Show.Date","v":""},0,0,0,0,0,0,0,null,null,null,0,"",{"$f":"Payment.num","v":""},{"$f":"Show.Date","v":""},0,0,0,0,0,0,0]
[0,"",{"$f":"Payment.num","v":""},{"$f":"Show.Date","v":""},0,0,0,0,0,0,0,null,null,null,0,"",{"$f":"Payment.num","v":""},{"$f":"Show.Date","v":""},0,0,0,0,0,0,0]
[0,"",{"$f":"Payment.num","v":""},{"$f":"Show.Date","v":""},0,0,0,0,0,0,0,null,null,null,0,"",{"$f":"Payment.num","v":""},{"$f":"Show.Date","v":""},0,0,0,0,0,0,0]
[0,"",{"$f":"Payment.num","v":""},{"$f":"Show.Date","v":""},0,0,0,0,{"$f":"F194+I193","v":0},0,0,null,null,null,0,"",{"$f":"Payment.num","v":""},{"$f":"Show.Date","v":""},0,0,0,0,{"$f":"W193+T194","v":0},0,0]
[0,"",{"$f":"Payment.num","v":""},{"$f":"Show.Date","v":""},0,0,0,0,0,0,0,null,null,null,0,"",{"$f":"Payment.num","v":""},{"$f":"Show.Date","v":""},0,0,0,0,0,0,0]
[0,"",{"$f":"Payment.num","v":""},{"$f":"Show.Date","v":""},0,0,0,0,0,0,0,null,null,null,0,"",{"$f":"Payment.num","v":""},{"$f":"Show.Date","v":""},0,0,0,0,0,0,0]
[0,"",{"$f":"Payment.num","v":""},{"$f":"Show.Date","v":""},0,0,0,0,0,0,0,{"$f":"AVERAGE(H197:H208)","v":0},{"$f":"L197*$E$4","v":0},16,0,"",{"$f":"Payment.num","v":""},{"$f":"Show.Date","v":""},0,0,0,0,0,0,0,{"$f":"AVERAGE(V197:V208)","v":0},{"$f":"Z197*$E$4","v":0},{"$f":"MAX(M197,0)+MAX(AA197,0)","v":0}]
[0,"",{"$f":"Payment.num","v":""},{"$f":"Show.Date","v":""},0,0,0,0,0,0,0,null,null,null,0,"",{"$f":"Payment.num","v":""},{"$f":"Show.Date","v":""},0,0,0,0,0,0,0]
[0,"",{"$f":"Payment.num","v":""},{"$f":"Show.Date","v":""},0,0,0,0,0,0,0,null,null,null,0,"",{"$f":"Payment.num","v":""},{"$f":"Show.Date","v":""},0,0,0,0,0,0,0]
[0,"",{"$f":"Payment.num","v":""},{"$f":"Show.Date","v":""},0,0,0,0,0,0,0,null,null,null,0,"",{"$f":"Payment.num","v":""},{"$f":"Show.Date","v":""},0,0,0,0,0,0,0]
[0,"",{"$f":"Payment.num","v":""},{"$f":"Show.Date","v":""},0,0,0,0,0,0,0,null,null,null,0,"",{"$f":"Payment.num","v":""},{"$f":"Show.Date","v":""},0,0,0,0,0,0,0]
[0,"",{"$f":"Payment.num","v":""},{"$f":"Show.Date","v":""},0,0,0,0,0,0,0,null,null,null,0,"",{"$f":"Payment.num","v":""},{"$f":"Show.Date","v":""},0,0,0,0,0,0,0]
[0,"",{"$f":"Payment.num","v":""},{"$f":"Show.Date","v":""},0,0,0,0,0,0,0,null,null,null,0,"",{"$f":"Payment.num","v":""},{"$f":"Show.Date","v":""},0,0,0,0,0,0,0]
[0,"",{"$f":"Payment.num","v":""},{"$f":"Show.Date","v":""},0,0,0,0,0,0,0,null,null,null,0,"",{"$f":"Payment.num","v":""},{"$f":"Show.Date","v":""},0,0,0,0,0,0,0]
[0,"",{"$f":"Payment.num","v":""},{"$f":"Show.Date","v":""},0,0,0,0,0,0,0,null,null,null,0,"",{"$f":"Payment.num","v":""},{"$f":"Show.Date","v":""},0,0,0,0,0,0,0]
[0,"",{"$f":"Payment.num","v":""},{"$f":"Show.Date","v":""},0,0,0,0,0,0,0,null,null,null,0,"",{"$f":"Payment.num","v":""},{"$f":"Show.Date","v":""},0,0,0,0,0,0,0]
[0,"",{"$f":"Payment.num","v":""},{"$f":"Show.Date","v":""},0,0,0,0,0,0,0,null,null,null,0,"",{"$f":"Payment.num","v":""},{"$f":"Show.Date","v":""},0,0,0,0,0,0,0]
[0,"",{"$f":"Payment.num","v":""},{"$f":"Show.Date","v":""},0,0,0,0,0,0,0,null,null,null,0,"",{"$f":"Payment.num","v":""},{"$f":"Show.Date","v":""},0,0,0,0,0,0,0]
[{"$f":"$E$3","v":0},{"$f":"$I$5","v":""},{"$f":"Payment.num","v":""},{"$f":"Show.Date","v":""},0,{"$f":"E209*Annual_interest_rate/12","v":0},0,{"$f":"E209-G209","v":0},0,0,0,{"$f":"AVERAGE(H209:H220)","v":0},{"$f":"L209*$E$4","v":0},17,{"$f":"$E$3","v":0},"",{"$f":"Payment.num","v":""},{"$f":"Show.Date","v":""},0,{"$f":"S209*$S$3/12","v":0},0,{"$f":"S209-U209","v":0},0,0,0,{"$f":"AVERAGE(V209:V220)","v":0},{"$f":"Z209*$E$4","v":0},{"$f":"MAX(M209,0)+MAX(AA209,0)","v":0}]
[0,"",{"$f":"Payment.num","v":""},{"$f":"Show.Date","v":""},{"$f":"H209","v":0},0,{"$f":"IF(ROUND(E210,2)>0,IF(I$6>0,I$6-F210,I$5-F210),0)","v":0},0,{"$f":"F210+I209","v":0},0,{"$f":"K209+F210+G210","v":0},null,null,null,0,{"$f":"P209","v":""},{"$f":"Payment.num","v":""},{"$f":"Show.Date","v":""},{"$f":"V209","v":0},0,{"$f":"IF(ROUND(S210,2)>0,IF(W$6>0,W$6-T210,W$5-T210),0)","v":0},0,{"$f":"W209+T210","v":0},0,{"$f":"Y209+T210+U210","v":0}]
[0,"",{"$f":"Payment.num","v":""},{"$f":"Show.Date","v":""},0,0,0,0,0,0,0,null,null,null,0,"",{"$f":"Payment.num","v":""},{"$f":"Show.Date","v":""},0,0,0,0,0,0,0]
[0,"",{"$f":"Payment.num","v":""},{"$f":"Show.Date","v":""},0,0,0,0,0,0,0,null,null,null,0,"",{"$f":"Payment.num","v":""},{"$f":"Show.Date","v":""},0,0,0,0,0,0,0]
[0,"",{"$f":"Payment.num","v":""},{"$f":"Show.Date","v":""},0,0,0,0,0,0,0,null,null,null,0,"",{"$f":"Payment.num","v":""},{"$f":"Show.Date","v":""},0,0,0,0,0,0,0]
[0,"",{"$f":"Payment.num","v":""},{"$f":"Show.Date","v":""},0,0,0,0,0,0,0,null,null,null,0,"",{"$f":"Payment.num","v":""},{"$f":"Show.Date","v":""},0,0,0,0,0,0,0]
[0,"",{"$f":"Payment.num","v":""},{"$f":"Show.Date","v":""},0,0,0,0,0,0,0,null,null,null,0,"",{"$f":"Payment.num","v":""},{"$f":"Show.Date","v":""},0,0,0,0,0,0,0]
[0,"",{"$f":"Payment.num","v":""},{"$f":"Show.Date","v":""},0,0,0,0,0,0,0,null,null,null,0,"",{"$f":"Payment.num","v":""},{"$f":"Show.Date","v":""},0,0,0,0,0,0,0]
[0,"",{"$f":"Payment.num","v":""},{"$f":"Show.Date","v":""},0,0,0,0,0,0,0,null,null,null,0,"",{"$f":"Payment.num","v":""},{"$f":"Show.Date","v":""},0,0,0,0,0,0,0]
[0,"",{"$f":"Payment.num","v":""},{"$f":"Show.Date","v":""},0,0,0,0,0,0,0,null,null,null,0,"",{"$f":"Payment.num","v":""},{"$f":"Show.Date","v":""},0,0,0,0,0,0,0]
[0,"",{"$f":"Payment.num","v":""},{"$f":"Show.Date","v":""},0,0,0,0,0,0,0,null,null,null,0,"",{"$f":"Payment.num","v":""},{"$f":"Show.Date","v":""},0,0,0,0,0,0,0]
[0,"",{"$f":"Payment.num","v":""},{"$f":"Show.Date","v":""},0,0,0,0,0,0,0,null,null,null,0,"",{"$f":"Payment.num","v":""},{"$f":"Show.Date","v":""},0,0,0,0,0,0,0]
[0,"",{"$f":"Payment.num","v":""},{"$f":"Show.Date","v":""},0,0,0,0,0,0,0,{"$f":"AVERAGE(H221:H232)","v":0},{"$f":"L221*$E$4","v":0},18,0,"",{"$f":"Payment.num","v":""},{"$f":"Show.Date","v":""},0,0,0,0,0,0,0,{"$f":"AVERAGE(V221:V232)","v":0},{"$f":"Z221*$E$4","v":0},{"$f":"MAX(M221,0)+MAX(AA221,0)","v":0}]
[0,"",{"$f":"Payment.num","v":""},{"$f":"Show.Date","v":""},0,0,0,0,0,0,0,null,null,null,0,"",{"$f":"Payment.num","v":""},{"$f":"Show.Date","v":""},0,0,0,0,0,0,0]
[0,"",{"$f":"Payment.num","v":""},{"$f":"Show.Date","v":""},0,0,0,0,0,0,0,null,null,null,0,"",{"$f":"Payment.num","v":""},{"$f":"Show.Date","v":""},0,0,0,0,0,0,0]
[0,"",{"$f":"Payment.num","v":""},{"$f":"Show.Date","v":""},0,0,0,0,0,0,0,null,null,null,0,"",{"$f":"Payment.num","v":""},{"$f":"Show.Date","v":""},0,0,0,0,0,0,0]
[0,"",{"$f":"Payment.num","v":""},{"$f":"Show.Date","v":""},0,0,0,0,0,0,0,null,null,null,0,"",{"$f":"Payment.num","v":""},{"$f":"Show.Date","v":""},0,0,0,0,0,0,0]
[0,"",{"$f":"Payment.num","v":""},{"$f":"Show.Date","v":""},0,0,0,0,{"$f":"F226+I225","v":0},0,0,null,null,null,0,"",{"$f":"Payment.num","v":""},{"$f":"Show.Date","v":""},0,0,0,0,{"$f":"W225+T226","v":0},0,0]
[0,"",{"$f":"Payment.num","v":""},{"$f":"Show.Date","v":""},0,0,0,0,0,0,0,null,null,null,0,"",{"$f":"Payment.num","v":""},{"$f":"Show.Date","v":""},0,0,0,0,0,0,0]
[0,"",{"$f":"Payment.num","v":""},{"$f":"Show.Date","v":""},0,0,0,0,0,0,0,null,null,null,0,"",{"$f":"Payment.num","v":""},{"$f":"Show.Date","v":""},0,0,0,0,0,0,0]
[0,"",{"$f":"Payment.num","v":""},{"$f":"Show.Date","v":""},0,0,0,0,0,0,0,null,null,null,0,"",{"$f":"Payment.num","v":""},{"$f":"Show.Date","v":""},0,0,0,0,0,0,0]
[0,"",{"$f":"Payment.num","v":""},{"$f":"Show.Date","v":""},0,0,0,0,0,0,0,null,null,null,0,"",{"$f":"Payment.num","v":""},{"$f":"Show.Date","v":""},0,0,0,0,0,0,0]
[0,"",{"$f":"Payment.num","v":""},{"$f":"Show.Date","v":""},0,0,0,0,0,0,0,null,null,null,0,"",{"$f":"Payment.num","v":""},{"$f":"Show.Date","v":""},0,0,0,0,0,0,0]
[0,"",{"$f":"Payment.num","v":""},{"$f":"Show.Date","v":""},0,0,0,0,0,0,0,null,null,null,0,"",{"$f":"Payment.num","v":""},{"$f":"Show.Date","v":""},0,0,0,0,0,0,0]
[0,"",{"$f":"Payment.num","v":""},{"$f":"Show.Date","v":""},0,0,0,0,0,0,0,{"$f":"AVERAGE(H233:H244)","v":0},{"$f":"L233*$E$4","v":0},19,0,"",{"$f":"Payment.num","v":""},{"$f":"Show.Date","v":""},0,0,0,0,0,0,0,{"$f":"AVERAGE(V233:V244)","v":0},{"$f":"Z233*$E$4","v":0},{"$f":"MAX(M233,0)+MAX(AA233,0)","v":0}]
[0,"",{"$f":"Payment.num","v":""},{"$f":"Show.Date","v":""},0,0,0,0,0,0,0,null,null,null,0,"",{"$f":"Payment.num","v":""},{"$f":"Show.Date","v":""},0,0,0,0,0,0,0]
[0,"",{"$f":"Payment.num","v":""},{"$f":"Show.Date","v":""},0,0,0,0,0,0,0,null,null,null,0,"",{"$f":"Payment.num","v":""},{"$f":"Show.Date","v":""},0,0,0,0,0,0,0]
[0,"",{"$f":"Payment.num","v":""},{"$f":"Show.Date","v":""},0,0,0,0,0,0,0,null,null,null,0,"",{"$f":"Payment.num","v":""},{"$f":"Show.Date","v":""},0,0,0,0,0,0,0]
[0,"",{"$f":"Payment.num","v":""},{"$f":"Show.Date","v":""},0,0,0,0,0,0,0,null,null,null,0,"",{"$f":"Payment.num","v":""},{"$f":"Show.Date","v":""},0,0,0,0,0,0,0]
[0,"",{"$f":"Payment.num","v":""},{"$f":"Show.Date","v":""},0,0,0,0,0,0,0,null,null,null,0,"",{"$f":"Payment.num","v":""},{"$f":"Show.Date","v":""},0,0,0,0,0,0,0]
[0,"",{"$f":"Payment.num","v":""},{"$f":"Show.Date","v":""},0,0,0,0,0,0,0,null,null,null,0,"",{"$f":"Payment.num","v":""},{"$f":"Show.Date","v":""},0,0,0,0,0,0,0]
[0,"",{"$f":"Payment.num","v":""},{"$f":"Show.Date","v":""},0,0,0,0,0,0,0,null,null,null,0,"",{"$f":"Payment.num","v":""},{"$f":"Show.Date","v":""},0,0,0,0,0,0,0]
[0,"",{"$f":"Payment.num","v":""},{"$f":"Show.Date","v":""},0,0,0,0,0,0,0,null,null,null,0,"",{"$f":"Payment.num","v":""},{"$f":"Show.Date","v":""},0,0,0,0,0,0,0]
[0,"",{"$f":"Payment.num","v":""},{"$f":"Show.Date","v":""},0,0,0,0,{"$f":"F242+I241","v":0},0,0,null,null,null,0,"",{"$f":"Payment.num","v":""},{"$f":"Show.Date","v":""},0,0,0,0,{"$f":"W241+T242","v":0},0,0]
[0,"",{"$f":"Payment.num","v":""},{"$f":"Show.Date","v":""},0,0,0,0,0,0,0,null,null,null,0,"",{"$f":"Payment.num","v":""},{"$f":"Show.Date","v":""},0,0,0,0,0,0,0]
[0,"",{"$f":"Payment.num","v":""},{"$f":"Show.Date","v":""},0,0,0,0,0,0,0,null,null,null,0,"",{"$f":"Payment.num","v":""},{"$f":"Show.Date","v":""},0,0,0,0,0,0,0]
[0,"",{"$f":"Payment.num","v":""},{"$f":"Show.Date","v":""},0,0,0,0,0,0,0,{"$f":"AVERAGE(H245:H256)","v":0},{"$f":"L245*$E$4","v":0},20,0,"",{"$f":"Payment.num","v":""},{"$f":"Show.Date","v":""},0,0,0,0,0,0,0,{"$f":"AVERAGE(V245:V256)","v":0},{"$f":"Z245*$E$4","v":0},{"$f":"MAX(M245,0)+MAX(AA245,0)","v":0}]
[0,"",{"$f":"Payment.num","v":""},{"$f":"Show.Date","v":""},0,0,0,0,0,0,0,null,null,null,0,"",{"$f":"Payment.num","v":""},{"$f":"Show.Date","v":""},0,0,0,0,0,0,0]
[0,"",{"$f":"Payment.num","v":""},{"$f":"Show.Date","v":""},0,0,0,0,0,0,0,null,null,null,0,"",{"$f":"Payment.num","v":""},{"$f":"Show.Date","v":""},0,0,0,0,0,0,0]
[0,"",{"$f":"Payment.num","v":""},{"$f":"Show.Date","v":""},0,0,0,0,0,0,0,null,null,null,0,"",{"$f":"Payment.num","v":""},{"$f":"Show.Date","v":""},0,0,0,0,0,0,0]
[0,"",{"$f":"Payment.num","v":""},{"$f":"Show.Date","v":""},0,0,0,0,0,0,0,null,null,null,0,"",{"$f":"Payment.num","v":""},{"$f":"Show.Date","v":""},0,0,0,0,0,0,0]
[0,"",{"$f":"Payment.num","v":""},{"$f":"Show.Date","v":""},0,0,0,0,0,0,0,null,null,null,0,"",{"$f":"Payment.num","v":""},{"$f":"Show.Date","v":""},0,0,0,0,0,0,0]
[0,"",{"$f":"Payment.num","v":""},{"$f":"Show.Date","v":""},0,0,0,0,0,0,0,null,null,null,0,"",{"$f":"Payment.num","v":""},{"$f":"Show.Date","v":""},0,0,0,0,0,0,0]
[0,"",{"$f":"Payment.num","v":""},{"$f":"Show.Date","v":""},0,0,0,0,0,0,0,null,null,null,0,"",{"$f":"Payment.num","v":""},{"$f":"Show.Date","v":""},0,0,0,0,0,0,0]
[0,"",{"$f":"Payment.num","v":""},{"$f":"Show.Date","v":""},0,0,0,0,0,0,0,null,null,null,0,"",{"$f":"Payment.num","v":""},{"$f":"Show.Date","v":""},0,0,0,0,0,0,0]
[0,"",{"$f":"Payment.num","v":""},{"$f":"Show.Date","v":""},0,0,0,0,0,0,0,null,null,null,0,"",{"$f":"Payment.num","v":""},{"$f":"Show.Date","v":""},0,0,0,0,0,0,0]
[0,"",{"$f":"Payment.num","v":""},{"$f":"Show.Date","v":""},0,0,0,0,0,0,0,null,null,null,0,"",{"$f":"Payment.num","v":""},{"$f":"Show.Date","v":""},0,0,0,0,0,0,0]
[0,"",{"$f":"Payment.num","v":""},{"$f":"Show.Date","v":""},0,0,0,0,0,0,0,null,null,null,0,"",{"$f":"Payment.num","v":""},{"$f":"Show.Date","v":""},0,0,0,0,0,0,0]
[0,"",{"$f":"Payment.num","v":""},{"$f":"Show.Date","v":""},0,0,0,0,0,0,0,{"$f":"AVERAGE(H257:H268)","v":0},{"$f":"L257*$E$4","v":0},21,0,"",{"$f":"Payment.num","v":""},{"$f":"Show.Date","v":""},0,0,0,0,0,0,0,{"$f":"AVERAGE(V257:V268)","v":0},{"$f":"Z257*$E$4","v":0},{"$f":"MAX(M257,0)+MAX(AA257,0)","v":0}]
[0,"",{"$f":"Payment.num","v":""},{"$f":"Show.Date","v":""},0,0,0,0,{"$f":"F258+I257","v":0},0,0,null,null,null,0,"",{"$f":"Payment.num","v":""},{"$f":"Show.Date","v":""},0,0,0,0,{"$f":"W257+T258","v":0},0,0]
[0,"",{"$f":"Payment.num","v":""},{"$f":"Show.Date","v":""},0,0,0,0,0,0,0,null,null,null,0,"",{"$f":"Payment.num","v":""},{"$f":"Show.Date","v":""},0,0,0,0,0,0,0]
[0,"",{"$f":"Payment.num","v":""},{"$f":"Show.Date","v":""},0,0,0,0,0,0,0,null,null,null,0,"",{"$f":"Payment.num","v":""},{"$f":"Show.Date","v":""},0,0,0,0,0,0,0]
[0,"",{"$f":"Payment.num","v":""},{"$f":"Show.Date","v":""},0,0,0,0,0,0,0,null,null,null,0,"",{"$f":"Payment.num","v":""},{"$f":"Show.Date","v":""},0,0,0,0,0,0,0]
[0,"",{"$f":"Payment.num","v":""},{"$f":"Show.Date","v":""},0,0,0,0,0,0,0,null,null,null,0,"",{"$f":"Payment.num","v":""},{"$f":"Show.Date","v":""},0,0,0,0,0,0,0]
[0,"",{"$f":"Payment.num","v":""},{"$f":"Show.Date","v":""},0,0,0,0,0,0,0,null,null,null,0,"",{"$f":"Payment.num","v":""},{"$f":"Show.Date","v":""},0,0,0,0,0,0,0]
[0,"",{"$f":"Payment.num","v":""},{"$f":"Show.Date","v":""},0,0,0,0,0,0,0,null,null,null,0,"",{"$f":"Payment.num","v":""},{"$f":"Show.Date","v":""},0,0,0,0,0,0,0]
[0,"",{"$f":"Payment.num","v":""},{"$f":"Show.Date","v":""},0,0,0,0,0,0,0,null,null,null,0,"",{"$f":"Payment.num","v":""},{"$f":"Show.Date","v":""},0,0,0,0,0,0,0]
[0,"",{"$f":"Payment.num","v":""},{"$f":"Show.Date","v":""},0,0,0,0,0,0,0,null,null,null,0,"",{"$f":"Payment.num","v":""},{"$f":"Show.Date","v":""},0,0,0,0,0,0,0]
[0,"",{"$f":"Payment.num","v":""},{"$f":"Show.Date","v":""},0,0,0,0,0,0,0,null,null,null,0,"",{"$f":"Payment.num","v":""},{"$f":"Show.Date","v":""},0,0,0,0,0,0,0]
[0,"",{"$f":"Payment.num","v":""},{"$f":"Show.Date","v":""},0,0,0,0,0,0,0,null,null,null,0,"",{"$f":"Payment.num","v":""},{"$f":"Show.Date","v":""},0,0,0,0,0,0,0]
[0,"",{"$f":"Payment.num","v":""},{"$f":"Show.Date","v":""},0,0,0,0,0,0,0,{"$f":"AVERAGE(H269:H280)","v":0},{"$f":"L269*$E$4","v":0},22,0,"",{"$f":"Payment.num","v":""},{"$f":"Show.Date","v":""},0,0,0,0,0,0,0,{"$f":"AVERAGE(V269:V280)","v":0},{"$f":"Z269*$E$4","v":0},{"$f":"MAX(M269,0)+MAX(AA269,0)","v":0}]
[0,"",{"$f":"Payment.num","v":""},{"$f":"Show.Date","v":""},0,0,0,0,0,0,0,null,null,null,0,"",{"$f":"Payment.num","v":""},{"$f":"Show.Date","v":""},0,0,0,0,0,0,0]
[0,"",{"$f":"Payment.num","v":""},{"$f":"Show.Date","v":""},0,0,0,0,0,0,0,null,null,null,0,"",{"$f":"Payment.num","v":""},{"$f":"Show.Date","v":""},0,0,0,0,0,0,0]
[0,"",{"$f":"Payment.num","v":""},{"$f":"Show.Date","v":""},0,0,0,0,0,0,0,null,null,null,0,"",{"$f":"Payment.num","v":""},{"$f":"Show.Date","v":""},0,0,0,0,0,0,0]
[{"$f":"$E$3","v":0},{"$f":"$I$5","v":""},{"$f":"Payment.num","v":""},{"$f":"Show.Date","v":""},0,{"$f":"E273*Annual_interest_rate/12","v":0},0,{"$f":"E273-G273","v":0},0,0,0,null,null,null,{"$f":"$E$3","v":0},"",{"$f":"Payment.num","v":""},{"$f":"Show.Date","v":""},0,{"$f":"S273*$S$3/12","v":0},0,{"$f":"S273-U273","v":0},0,0,0]
[0,"",{"$f":"Payment.num","v":""},{"$f":"Show.Date","v":""},{"$f":"H273","v":0},0,{"$f":"IF(ROUND(E274,2)>0,IF(I$6>0,I$6-F274,I$5-F274),0)","v":0},0,{"$f":"F274+I273","v":0},0,{"$f":"K273+F274+G274","v":0},null,null,null,0,{"$f":"P273","v":""},{"$f":"Payment.num","v":""},{"$f":"Show.Date","v":""},{"$f":"V273","v":0},0,{"$f":"IF(ROUND(S274,2)>0,IF(W$6>0,W$6-T274,W$5-T274),0)","v":0},0,{"$f":"W273+T274","v":0},0,{"$f":"Y273+T274+U274","v":0}]
[0,"",{"$f":"Payment.num","v":""},{"$f":"Show.Date","v":""},0,0,0,0,0,0,0,null,null,null,0,"",{"$f":"Payment.num","v":""},{"$f":"Show.Date","v":""},0,0,0,0,0,0,0]
[0,"",{"$f":"Payment.num","v":""},{"$f":"Show.Date","v":""},0,0,0,0,0,0,0,null,null,null,0,"",{"$f":"Payment.num","v":""},{"$f":"Show.Date","v":""},0,0,0,0,0,0,0]
[0,"",{"$f":"Payment.num","v":""},{"$f":"Show.Date","v":""},0,0,0,0,0,0,0,null,null,null,0,"",{"$f":"Payment.num","v":""},{"$f":"Show.Date","v":""},0,0,0,0,0,0,0]
[0,"",{"$f":"Payment.num","v":""},{"$f":"Show.Date","v":""},0,0,0,0,0,0,0,null,null,null,0,"",{"$f":"Payment.num","v":""},{"$f":"Show.Date","v":""},0,0,0,0,0,0,0]
[0,"",{"$f":"Payment.num","v":""},{"$f":"Show.Date","v":""},0,0,0,0,0,0,0,null,null,null,0,"",{"$f":"Payment.num","v":""},{"$f":"Show.Date","v":""},0,0,0,0,0,0,0]
[0,"",{"$f":"Payment.num","v":""},{"$f":"Show.Date","v":""},0,0,0,0,0,0,0,null,null,null,0,"",{"$f":"Payment.num","v":""},{"$f":"Show.Date","v":""},0,0,0,0,0,0,0]
[0,"",{"$f":"Payment.num","v":""},{"$f":"Show.Date","v":""},0,0,0,0,0,0,0,{"$f":"AVERAGE(H281:H292)","v":0},{"$f":"L281*$E$4","v":0},23,0,"",{"$f":"Payment.num","v":""},{"$f":"Show.Date","v":""},0,0,0,0,0,0,0,{"$f":"AVERAGE(V281:V292)","v":0},{"$f":"Z281*$E$4","v":0},{"$f":"MAX(M281,0)+MAX(AA281,0)","v":0}]
[0,"",{"$f":"Payment.num","v":""},{"$f":"Show.Date","v":""},0,0,0,0,0,0,0,null,null,null,0,"",{"$f":"Payment.num","v":""},{"$f":"Show.Date","v":""},0,0,0,0,0,0,0]
[0,"",{"$f":"Payment.num","v":""},{"$f":"Show.Date","v":""},0,0,0,0,0,0,0,null,null,null,0,"",{"$f":"Payment.num","v":""},{"$f":"Show.Date","v":""},0,0,0,0,0,0,0]
[0,"",{"$f":"Payment.num","v":""},{"$f":"Show.Date","v":""},0,0,0,0,0,0,0,null,null,null,0,"",{"$f":"Payment.num","v":""},{"$f":"Show.Date","v":""},0,0,0,0,0,0,0]
[0,"",{"$f":"Payment.num","v":""},{"$f":"Show.Date","v":""},0,0,0,0,0,0,0,null,null,null,0,"",{"$f":"Payment.num","v":""},{"$f":"Show.Date","v":""},0,0,0,0,0,0,0]
[0,"",{"$f":"Payment.num","v":""},{"$f":"Show.Date","v":""},0,0,0,0,0,0,0,null,null,null,0,"",{"$f":"Payment.num","v":""},{"$f":"Show.Date","v":""},0,0,0,0,0,0,0]
[0,"",{"$f":"Payment.num","v":""},{"$f":"Show.Date","v":""},0,0,0,0,0,0,0,null,null,null,0,"",{"$f":"Payment.num","v":""},{"$f":"Show.Date","v":""},0,0,0,0,0,0,0]
[0,"",{"$f":"Payment.num","v":""},{"$f":"Show.Date","v":""},0,0,0,0,0,0,0,null,null,null,0,"",{"$f":"Payment.num","v":""},{"$f":"Show.Date","v":""},0,0,0,0,0,0,0]
[0,"",{"$f":"Payment.num","v":""},{"$f":"Show.Date","v":""},0,0,0,0,0,0,0,null,null,null,0,"",{"$f":"Payment.num","v":""},{"$f":"Show.Date","v":""},0,0,0,0,0,0,0]
[0,"",{"$f":"Payment.num","v":""},{"$f":"Show.Date","v":""},0,0,0,0,{"$f":"F290+I289","v":0},0,0,null,null,null,0,"",{"$f":"Payment.num","v":""},{"$f":"Show.Date","v":""},0,0,0,0,{"$f":"W289+T290","v":0},0,0]
[0,"",{"$f":"Payment.num","v":""},{"$f":"Show.Date","v":""},0,0,0,0,0,0,0,null,null,null,0,"",{"$f":"Payment.num","v":""},{"$f":"Show.Date","v":""},0,0,0,0,0,0,0]
[0,"",{"$f":"Payment.num","v":""},{"$f":"Show.Date","v":""},0,0,0,0,0,0,0,null,null,null,0,"",{"$f":"Payment.num","v":""},{"$f":"Show.Date","v":""},0,0,0,0,0,0,0]
[0,"",{"$f":"Payment.num","v":""},{"$f":"Show.Date","v":""},0,0,0,0,0,0,0,{"$f":"AVERAGE(H293:H304)","v":0},{"$f":"L293*$E$4","v":0},24,0,"",{"$f":"Payment.num","v":""},{"$f":"Show.Date","v":""},0,0,0,0,0,0,0,{"$f":"AVERAGE(V293:V304)","v":0},{"$f":"Z293*$E$4","v":0},{"$f":"MAX(M293,0)+MAX(AA293,0)","v":0}]
[0,"",{"$f":"Payment.num","v":""},{"$f":"Show.Date","v":""},0,0,0,0,0,0,0,null,null,null,0,"",{"$f":"Payment.num","v":""},{"$f":"Show.Date","v":""},0,0,0,0,0,0,0]
[0,"",{"$f":"Payment.num","v":""},{"$f":"Show.Date","v":""},0,0,0,0,0,0,0,null,null,null,0,"",{"$f":"Payment.num","v":""},{"$f":"Show.Date","v":""},0,0,0,0,0,0,0]
[0,"",{"$f":"Payment.num","v":""},{"$f":"Show.Date","v":""},0,0,0,0,0,0,0,null,null,null,0,"",{"$f":"Payment.num","v":""},{"$f":"Show.Date","v":""},0,0,0,0,0,0,0]
[0,"",{"$f":"Payment.num","v":""},{"$f":"Show.Date","v":""},0,0,0,0,0,0,0,null,null,null,0,"",{"$f":"Payment.num","v":""},{"$f":"Show.Date","v":""},0,0,0,0,0,0,0]
[0,"",{"$f":"Payment.num","v":""},{"$f":"Show.Date","v":""},0,0,0,0,0,0,0,null,null,null,0,"",{"$f":"Payment.num","v":""},{"$f":"Show.Date","v":""},0,0,0,0,0,0,0]
[0,"",{"$f":"Payment.num","v":""},{"$f":"Show.Date","v":""},0,0,0,0,0,0,0,null,null,null,0,"",{"$f":"Payment.num","v":""},{"$f":"Show.Date","v":""},0,0,0,0,0,0,0]
[0,"",{"$f":"Payment.num","v":""},{"$f":"Show.Date","v":""},0,0,0,0,0,0,0,null,null,null,0,"",{"$f":"Payment.num","v":""},{"$f":"Show.Date","v":""},0,0,0,0,0,0,0]
[0,"",{"$f":"Payment.num","v":""},{"$f":"Show.Date","v":""},0,0,0,0,0,0,0,null,null,null,0,"",{"$f":"Payment.num","v":""},{"$f":"Show.Date","v":""},0,0,0,0,0,0,0]
[0,"",{"$f":"Payment.num","v":""},{"$f":"Show.Date","v":""},0,0,0,0,0,0,0,null,null,null,0,"",{"$f":"Payment.num","v":""},{"$f":"Show.Date","v":""},0,0,0,0,0,0,0]
[0,"",{"$f":"Payment.num","v":""},{"$f":"Show.Date","v":""},0,0,0,0,0,0,0,null,null,null,0,"",{"$f":"Payment.num","v":""},{"$f":"Show.Date","v":""},0,0,0,0,0,0,0]
[0,"",{"$f":"Payment.num","v":""},{"$f":"Show.Date","v":""},0,0,0,0,0,0,0,null,null,null,0,"",{"$f":"Payment.num","v":""},{"$f":"Show.Date","v":""},0,0,0,0,0,0,0]
[0,"",{"$f":"Payment.num","v":""},{"$f":"Show.Date","v":""},0,0,0,0,0,0,0,{"$f":"AVERAGE(H305:H316)","v":0},{"$f":"L305*$E$4","v":0},25,0,"",{"$f":"Payment.num","v":""},{"$f":"Show.Date","v":""},0,0,0,0,0,0,0,{"$f":"AVERAGE(V305:V316)","v":0},{"$f":"Z305*$E$4","v":0},{"$f":"MAX(M305,0)+MAX(AA305,0)","v":0}]
[0,"",{"$f":"Payment.num","v":""},{"$f":"Show.Date","v":""},0,0,0,0,{"$f":"F306+I305","v":0},0,0,null,null,null,0,"",{"$f":"Payment.num","v":""},{"$f":"Show.Date","v":""},0,0,0,0,{"$f":"W305+T306","v":0},0,0]
[0,"",{"$f":"Payment.num","v":""},{"$f":"Show.Date","v":""},0,0,0,0,0,0,0,null,null,null,0,"",{"$f":"Payment.num","v":""},{"$f":"Show.Date","v":""},0,0,0,0,0,0,0]
[0,"",{"$f":"Payment.num","v":""},{"$f":"Show.Date","v":""},0,0,0,0,0,0,0,null,null,null,0,"",{"$f":"Payment.num","v":""},{"$f":"Show.Date","v":""},0,0,0,0,0,0,0]
[0,"",{"$f":"Payment.num","v":""},{"$f":"Show.Date","v":""},0,0,0,0,0,0,0,null,null,null,0,"",{"$f":"Payment.num","v":""},{"$f":"Show.Date","v":""},0,0,0,0,0,0,0]
[0,"",{"$f":"Payment.num","v":""},{"$f":"Show.Date","v":""},0,0,0,0,0,0,0,null,null,null,0,"",{"$f":"Payment.num","v":""},{"$f":"Show.Date","v":""},0,0,0,0,0,0,0]
[0,"",{"$f":"Payment.num","v":""},{"$f":"Show.Date","v":""},0,0,0,0,0,0,0,null,null,null,0,"",{"$f":"Payment.num","v":""},{"$f":"Show.Date","v":""},0,0,0,0,0,0,0]
[0,"",{"$f":"Payment.num","v":""},{"$f":"Show.Date","v":""},0,0,0,0,0,0,0,null,null,null,0,"",{"$f":"Payment.num","v":""},{"$f":"Show.Date","v":""},0,0,0,0,0,0,0]
[0,"",{"$f":"Payment.num","v":""},{"$f":"Show.Date","v":""},0,0,0,0,0,0,0,null,null,null,0,"",{"$f":"Payment.num","v":""},{"$f":"Show.Date","v":""},0,0,0,0,0,0,0]
[0,"",{"$f":"Payment.num","v":""},{"$f":"Show.Date","v":""},0,0,0,0,0,0,0,null,null,null,0,"",{"$f":"Payment.num","v":""},{"$f":"Show.Date","v":""},0,0,0,0,0,0,0]
[0,"",{"$f":"Payment.num","v":""},{"$f":"Show.Date","v":""},0,0,0,0,0,0,0,null,null,null,0,"",{"$f":"Payment.num","v":""},{"$f":"Show.Date","v":""},0,0,0,0,0,0,0]
[0,"",{"$f":"Payment.num","v":""},{"$f":"Show.Date","v":""},0,0,0,0,0,0,0,null,null,null,0,"",{"$f":"Payment.num","v":""},{"$f":"Show.Date","v":""},0,0,0,0,0,0,0]
[0,"",{"$f":"Payment.num","v":""},{"$f":"Show.Date","v":""},0,0,0,0,0,0,0,{"$f":"AVERAGE(H317:H328)","v":0},{"$f":"L317*$E$4","v":0},26,0,"",{"$f":"Payment.num","v":""},{"$f":"Show.Date","v":""},0,0,0,0,0,0,0,{"$f":"AVERAGE(V317:V328)","v":0},{"$f":"Z317*$E$4","v":0},{"$f":"MAX(M317,0)+MAX(AA317,0)","v":0}]
[0,"",{"$f":"Payment.num","v":""},{"$f":"Show.Date","v":""},0,0,0,0,0,0,0,null,null,null,0,"",{"$f":"Payment.num","v":""},{"$f":"Show.Date","v":""},0,0,0,0,0,0,0]
[0,"",{"$f":"Payment.num","v":""},{"$f":"Show.Date","v":""},0,0,0,0,0,0,0,null,null,null,0,"",{"$f":"Payment.num","v":""},{"$f":"Show.Date","v":""},0,0,0,0,0,0,0]
[0,"",{"$f":"Payment.num","v":""},{"$f":"Show.Date","v":""},0,0,0,0,0,0,0,null,null,null,0,"",{"$f":"Payment.num","v":""},{"$f":"Show.Date","v":""},0,0,0,0,0,0,0]
[0,"",{"$f":"Payment.num","v":""},{"$f":"Show.Date","v":""},0,0,0,0,0,0,0,null,null,null,0,"",{"$f":"Payment.num","v":""},{"$f":"Show.Date","v":""},0,0,0,0,0,0,0]
[0,"",{"$f":"Payment.num","v":""},{"$f":"Show.Date","v":""},0,0,0,0,{"$f":"F322+I321","v":0},0,0,null,null,null,0,"",{"$f":"Payment.num","v":""},{"$f":"Show.Date","v":""},0,0,0,0,{"$f":"W321+T322","v":0},0,0]
[0,"",{"$f":"Payment.num","v":""},{"$f":"Show.Date","v":""},0,0,0,0,0,0,0,null,null,null,0,"",{"$f":"Payment.num","v":""},{"$f":"Show.Date","v":""},0,0,0,0,0,0,0]
[0,"",{"$f":"Payment.num","v":""},{"$f":"Show.Date","v":""},0,0,0,0,0,0,0,null,null,null,0,"",{"$f":"Payment.num","v":""},{"$f":"Show.Date","v":""},0,0,0,0,0,0,0]
[0,"",{"$f":"Payment.num","v":""},{"$f":"Show.Date","v":""},0,0,0,0,0,0,0,null,null,null,0,"",{"$f":"Payment.num","v":""},{"$f":"Show.Date","v":""},0,0,0,0,0,0,0]
[0,"",{"$f":"Payment.num","v":""},{"$f":"Show.Date","v":""},0,0,0,0,0,0,0,null,null,null,0,"",{"$f":"Payment.num","v":""},{"$f":"Show.Date","v":""},0,0,0,0,0,0,0]
[0,"",{"$f":"Payment.num","v":""},{"$f":"Show.Date","v":""},0,0,0,0,0,0,0,null,null,null,0,"",{"$f":"Payment.num","v":""},{"$f":"Show.Date","v":""},0,0,0,0,0,0,0]
[0,"",{"$f":"Payment.num","v":""},{"$f":"Show.Date","v":""},0,0,0,0,0,0,0,null,null,null,0,"",{"$f":"Payment.num","v":""},{"$f":"Show.Date","v":""},0,0,0,0,0,0,0]
[0,"",{"$f":"Payment.num","v":""},{"$f":"Show.Date","v":""},0,0,0,0,0,0,0,{"$f":"AVERAGE(H329:H340)","v":0},{"$f":"L329*$E$4","v":0},27,0,"",{"$f":"Payment.num","v":""},{"$f":"Show.Date","v":""},0,0,0,0,0,0,0,{"$f":"AVERAGE(V329:V340)","v":0},{"$f":"Z329*$E$4","v":0},{"$f":"MAX(M329,0)+MAX(AA329,0)","v":0}]
[0,"",{"$f":"Payment.num","v":""},{"$f":"Show.Date","v":""},0,0,0,0,0,0,0,null,null,null,0,"",{"$f":"Payment.num","v":""},{"$f":"Show.Date","v":""},0,0,0,0,0,0,0]
[0,"",{"$f":"Payment.num","v":""},{"$f":"Show.Date","v":""},0,0,0,0,0,0,0,null,null,null,0,"",{"$f":"Payment.num","v":""},{"$f":"Show.Date","v":""},0,0,0,0,0,0,0]
[0,"",{"$f":"Payment.num","v":""},{"$f":"Show.Date","v":""},0,0,0,0,0,0,0,null,null,null,0,"",{"$f":"Payment.num","v":""},{"$f":"Show.Date","v":""},0,0,0,0,0,0,0]
[0,"",{"$f":"Payment.num","v":""},{"$f":"Show.Date","v":""},0,0,0,0,0,0,0,null,null,null,0,"",{"$f":"Payment.num","v":""},{"$f":"Show.Date","v":""},0,0,0,0,0,0,0]
[0,"",{"$f":"Payment.num","v":""},{"$f":"Show.Date","v":""},0,0,0,0,0,0,0,null,null,null,0,"",{"$f":"Payment.num","v":""},{"$f":"Show.Date","v":""},0,0,0,0,0,0,0]
[0,"",{"$f":"Payment.num","v":""},{"$f":"Show.Date","v":""},0,0,0,0,0,0,0,null,null,null,0,"",{"$f":"Payment.num","v":""},{"$f":"Show.Date","v":""},0,0,0,0,0,0,0]
[0,"",{"$f":"Payment.num","v":""},{"$f":"Show.Date","v":""},0,0,0,0,0,0,0,null,null,null,0,"",{"$f":"Payment.num","v":""},{"$f":"Show.Date","v":""},0,0,0,0,0,0,0]
[{"$f":"$E$3","v":0},{"$f":"$I$5","v":""},{"$f":"Payment.num","v":""},{"$f":"Show.Date","v":""},0,{"$f":"E337*Annual_interest_rate/12","v":0},0,{"$f":"E337-G337","v":0},0,0,0,null,null,null,{"$f":"$E$3","v":0},"",{"$f":"Payment.num","v":""},{"$f":"Show.Date","v":""},0,{"$f":"S337*$S$3/12","v":0},0,{"$f":"S337-U337","v":0},0,0,0]
[0,"",{"$f":"Payment.num","v":""},{"$f":"Show.Date","v":""},{"$f":"H337","v":0},0,{"$f":"IF(ROUND(E338,2)>0,IF(I$6>0,I$6-F338,I$5-F338),0)","v":0},0,{"$f":"F338+I337","v":0},0,{"$f":"K337+F338+G338","v":0},null,null,null,0,{"$f":"P337","v":""},{"$f":"Payment.num","v":""},{"$f":"Show.Date","v":""},{"$f":"V337","v":0},0,{"$f":"IF(ROUND(S338,2)>0,IF(W$6>0,W$6-T338,W$5-T338),0)","v":0},0,{"$f":"W337+T338","v":0},0,{"$f":"Y337+T338+U338","v":0}]
[0,"",{"$f":"Payment.num","v":""},{"$f":"Show.Date","v":""},0,0,0,0,0,0,0,null,null,null,0,"",{"$f":"Payment.num","v":""},{"$f":"Show.Date","v":""},0,0,0,0,0,0,0]
[0,"",{"$f":"Payment.num","v":""},{"$f":"Show.Date","v":""},0,0,0,0,0,0,0,null,null,null,0,"",{"$f":"Payment.num","v":""},{"$f":"Show.Date","v":""},0,0,0,0,0,0,0]
[0,"",{"$f":"Payment.num","v":""},{"$f":"Show.Date","v":""},0,0,0,0,0,0,0,{"$f":"AVERAGE(H341:H352)","v":0},{"$f":"L341*$E$4","v":0},28,0,"",{"$f":"Payment.num","v":""},{"$f":"Show.Date","v":""},0,0,0,0,0,0,0,{"$f":"AVERAGE(V341:V352)","v":0},{"$f":"Z341*$E$4","v":0},{"$f":"MAX(M341,0)+MAX(AA341,0)","v":0}]
[0,"",{"$f":"Payment.num","v":""},{"$f":"Show.Date","v":""},0,0,0,0,0,0,0,null,null,null,0,"",{"$f":"Payment.num","v":""},{"$f":"Show.Date","v":""},0,0,0,0,0,0,0]
[0,"",{"$f":"Payment.num","v":""},{"$f":"Show.Date","v":""},0,0,0,0,0,0,0,null,null,null,0,"",{"$f":"Payment.num","v":""},{"$f":"Show.Date","v":""},0,0,0,0,0,0,0]
[0,"",{"$f":"Payment.num","v":""},{"$f":"Show.Date","v":""},0,0,0,0,0,0,0,null,null,null,0,"",{"$f":"Payment.num","v":""},{"$f":"Show.Date","v":""},0,0,0,0,0,0,0]
[0,"",{"$f":"Payment.num","v":""},{"$f":"Show.Date","v":""},0,0,0,0,0,0,0,null,null,null,0,"",{"$f":"Payment.num","v":""},{"$f":"Show.Date","v":""},0,0,0,0,0,0,0]
[0,"",{"$f":"Payment.num","v":""},{"$f":"Show.Date","v":""},0,0,0,0,0,0,0,null,null,null,0,"",{"$f":"Payment.num","v":""},{"$f":"Show.Date","v":""},0,0,0,0,0,0,0]
[0,"",{"$f":"Payment.num","v":""},{"$f":"Show.Date","v":""},0,0,0,0,0,0,0,null,null,null,0,"",{"$f":"Payment.num","v":""},{"$f":"Show.Date","v":""},0,0,0,0,0,0,0]
[0,"",{"$f":"Payment.num","v":""},{"$f":"Show.Date","v":""},0,0,0,0,0,0,0,null,null,null,0,"",{"$f":"Payment.num","v":""},{"$f":"Show.Date","v":""},0,0,0,0,0,0,0]
[0,"",{"$f":"Payment.num","v":""},{"$f":"Show.Date","v":""},0,0,0,0,0,0,0,null,null,null,0,"",{"$f":"Payment.num","v":""},{"$f":"Show.Date","v":""},0,0,0,0,0,0,0]
[0,"",{"$f":"Payment.num","v":""},{"$f":"Show.Date","v":""},0,0,0,0,0,0,0,null,null,null,0,"",{"$f":"Payment.num","v":""},{"$f":"Show.Date","v":""},0,0,0,0,0,0,0]
[0,"",{"$f":"Payment.num","v":""},{"$f":"Show.Date","v":""},0,0,0,0,0,0,0,null,null,null,0,"",{"$f":"Payment.num","v":""},{"$f":"Show.Date","v":""},0,0,0,0,0,0,0]
[0,"",{"$f":"Payment.num","v":""},{"$f":"Show.Date","v":""},0,0,0,0,0,0,0,null,null,null,0,"",{"$f":"Payment.num","v":""},{"$f":"Show.Date","v":""},0,0,0,0,0,0,0]
[0,"",{"$f":"Payment.num","v":""},{"$f":"Show.Date","v":""},0,0,0,0,0,0,0,{"$f":"AVERAGE(H353:H364)","v":0},{"$f":"L353*$E$4","v":0},29,0,"",{"$f":"Payment.num","v":""},{"$f":"Show.Date","v":""},0,0,0,0,0,0,0,{"$f":"AVERAGE(V353:V364)","v":0},{"$f":"Z353*$E$4","v":0},{"$f":"MAX(M353,0)+MAX(AA353,0)","v":0}]
[0,"",{"$f":"Payment.num","v":""},{"$f":"Show.Date","v":""},0,0,0,0,{"$f":"F354+I353","v":0},0,0,null,null,null,0,"",{"$f":"Payment.num","v":""},{"$f":"Show.Date","v":""},0,0,0,0,{"$f":"W353+T354","v":0},0,0]
[0,"",{"$f":"Payment.num","v":""},{"$f":"Show.Date","v":""},0,0,0,0,0,0,0,null,null,null,0,"",{"$f":"Payment.num","v":""},{"$f":"Show.Date","v":""},0,0,0,0,0,0,0]
[0,"",{"$f":"Payment.num","v":""},{"$f":"Show.Date","v":""},0,0,0,0,0,0,0,null,null,null,0,"",{"$f":"Payment.num","v":""},{"$f":"Show.Date","v":""},0,0,0,0,0,0,0]
[0,"",{"$f":"Payment.num","v":""},{"$f":"Show.Date","v":""},0,0,0,0,0,0,0,null,null,null,0,"",{"$f":"Payment.num","v":""},{"$f":"Show.Date","v":""},0,0,0,0,0,0,0]
[0,"",{"$f":"Payment.num","v":""},{"$f":"Show.Date","v":""},0,0,0,0,0,0,0,null,null,null,0,"",{"$f":"Payment.num","v":""},{"$f":"Show.Date","v":""},0,0,0,0,0,0,0]
[0,"",{"$f":"Payment.num","v":""},{"$f":"Show.Date","v":""},0,0,0,0,0,0,0,null,null,null,0,"",{"$f":"Payment.num","v":""},{"$f":"Show.Date","v":""},0,0,0,0,0,0,0]
[0,"",{"$f":"Payment.num","v":""},{"$f":"Show.Date","v":""},0,0,0,0,0,0,0,null,null,null,0,"",{"$f":"Payment.num","v":""},{"$f":"Show.Date","v":""},0,0,0,0,0,0,0]
[0,"",{"$f":"Payment.num","v":""},{"$f":"Show.Date","v":""},0,0,0,0,0,0,0,null,null,null,0,"",{"$f":"Payment.num","v":""},{"$f":"Show.Date","v":""},0,0,0,0,0,0,0]
[0,"",{"$f":"Payment.num","v":""},{"$f":"Show.Date","v":""},0,0,0,0,0,0,0,null,null,null,0,"",{"$f":"Payment.num","v":""},{"$f":"Show.Date","v":""},0,0,0,0,0,0,0]
[0,"",{"$f":"Payment.num","v":""},{"$f":"Show.Date","v":""},0,0,0,0,0,0,0,null,null,null,0,"",{"$f":"Payment.num","v":""},{"$f":"Show.Date","v":""},0,0,0,0,0,0,0]
[0,"",{"$f":"Payment.num","v":""},{"$f":"Show.Date","v":""},0,0,0,0,0,0,0,null,null,null,0,"",{"$f":"Payment.num","v":""},{"$f":"Show.Date","v":""},0,0,0,0,0,0,0]
[0,"",{"$f":"Payment.num","v":""},{"$f":"Show.Date","v":""},0,0,0,0,0,0,0,{"$f":"AVERAGE(H365:H376)","v":0},{"$f":"L365*$E$4","v":0},30,0,"",{"$f":"Payment.num","v":""},{"$f":"Show.Date","v":""},0,0,0,0,0,0,0,{"$f":"AVERAGE(V365:V376)","v":0},{"$f":"Z365*$E$4","v":0},{"$f":"MAX(M365,0)+MAX(AA365,0)","v":0}]
[0,"",{"$f":"Payment.num","v":""},{"$f":"Show.Date","v":""},0,0,0,0,0,0,0,null,null,null,0,"",{"$f":"Payment.num","v":""},{"$f":"Show.Date","v":""},0,0,0,0,0,0,0]
[0,"",{"$f":"Payment.num","v":""},{"$f":"Show.Date","v":""},0,0,0,0,0,0,0,null,null,null,0,"",{"$f":"Payment.num","v":""},{"$f":"Show.Date","v":""},0,0,0,0,0,0,0]
[0,"",{"$f":"Payment.num","v":""},{"$f":"Show.Date","v":""},0,0,0,0,0,0,0,null,null,null,0,"",{"$f":"Payment.num","v":""},{"$f":"Show.Date","v":""},0,0,0,0,0,0,0]
[0,"",{"$f":"Payment.num","v":""},{"$f":"Show.Date","v":""},0,0,0,0,0,0,0,null,null,null,0,"",{"$f":"Payment.num","v":""},{"$f":"Show.Date","v":""},0,0,0,0,0,0,0]
[0,"",{"$f":"Payment.num","v":""},{"$f":"Show.Date","v":""},0,0,0,0,{"$f":"F370+I369","v":0},0,0,null,null,null,0,"",{"$f":"Payment.num","v":""},{"$f":"Show.Date","v":""},0,0,0,0,{"$f":"W369+T370","v":0},0,0]
[0,"",{"$f":"Payment.num","v":""},{"$f":"Show.Date","v":""},0,0,0,0,0,0,0,null,null,null,0,"",{"$f":"Payment.num","v":""},{"$f":"Show.Date","v":""},0,0,0,0,0,0,0]
[0,"",{"$f":"Payment.num","v":""},{"$f":"Show.Date","v":""},0,0,0,0,0,0,0,null,null,null,0,"",{"$f":"Payment.num","v":""},{"$f":"Show.Date","v":""},0,0,0,0,0,0,0]
[0,"",{"$f":"Payment.num","v":""},{"$f":"Show.Date","v":""},0,0,0,0,0,0,0,null,null,null,0,"",{"$f":"Payment.num","v":""},{"$f":"Show.Date","v":""},0,0,0,0,0,0,0]
[0,"",{"$f":"Payment.num","v":""},{"$f":"Show.Date","v":""},0,0,0,0,0,0,0,null,null,null,0,"",{"$f":"Payment.num","v":""},{"$f":"Show.Date","v":""},0,0,0,0,0,0,0]
[0,"",{"$f":"Payment.num","v":""},{"$f":"Show.Date","v":""},0,0,0,0,0,0,0,null,null,null,0,"",{"$f":"Payment.num","v":""},{"$f":"Show.Date","v":""},0,0,0,0,0,0,0]
[0,"",{"$f":"Payment.num","v":""},{"$f":"Show.Date","v":""},0,0,0,0,0,0,0,null,null,null,0,"",{"$f":"Payment.num","v":""},{"$f":"Show.Date","v":""},0,0,0,0,0,0,0]

{"sheet":"Controls Properties","index":25,"n_rows":1572,"n_cols":6,"rows_kept":1572,"cut":false,"hidden":true,"merged":[]}
["Formula","Sheet Name","Cell Address","Height","Left","Top"]
["Straight Arrow Connector 2","Controls",432,12.749920845031738,3560.25,244.50007629394531]
["Picture 1","Intro",163.5,120.75,192.75,48]
["btnGotoInstructionsBottom","Intro",109.5,27,411,575.25]
["btnGotoInstructionsTop","Intro",109.5,25.5,411,63]
["btnDevTeamPrevPage","RA Calc",108,21.75,383.25,725.25]
["btnMortCalcSave","RA Calc",54,21.75,496.5,725.25]
["btnSimEndUser","Instructions",106.5,26.25,662.25,1.5]
["btnSimMHFAUser","Instructions",106.5,26.25,662.25,39.75]
["chkInstructDefLoanTaxExLngTrm","Instructions",18.75,16.5,39.75,212.25]
["chkInstructDefLoanTaxExShtTrm","Instructions",18.75,16.5,39.75,225]
["chkInstructDefLoanDefLoans","Instructions",18.75,16.5,39.75,237.75]
["chkInstructDefLoan1stMtg","Instructions",18.75,16.5,39.75,198.75]
["chkTaxCredType9Pct","Instructions",18.75,16.5,39.75,360]
["InstructHTC4Pct","Instructions",18.75,16.5,39.75,345]
["chkTaxCredTypeDual4_9Pct","Instructions",18.75,16.5,39.75,375]
["OptionButton1","Instructions",9.75,9.75,279,348]
["OptionButton2","Instructions",9.75,9.75,279,363.75]
["InstrHTCTaxCrPoolNA","Instructions",9.75,9.75,279,378.75]
["OptionButton4","Instructions",9.75,9.75,404.25,348]
["OptionButton5","Instructions",9.75,9.75,404.25,363]
["OptionButton6","Instructions",9.75,9.75,404.25,378]
["OptionButton7","Instructions",9.75,9.75,404.25,393]
["OptionButton8","Instructions",9.75,9.75,404.25,408]
["OptionButton9","Instructions",9.75,9.75,404.25,423]
["OptionButton10","Instructions",9.75,9.75,42,423]
["OptionButton11","Instructions",9.75,9.75]
["Straight Arrow Connector 2","Controls",432,12.749920845031738,3560.25,244.50007629394531]
["Picture 1","Intro",163.5,120.75,192.75,48]
["btnGotoInstructionsBottom","Intro",109.5,27,411,575.25]
["btnGotoInstructionsTop","Intro",109.5,25.5,411,63]
["btnDevTeamPrevPage","RA Calc",108,21.75,383.25,725.25]
["btnMortCalcSave","RA Calc",54,21.75,496.5,725.25]
["btnSimEndUser","Instructions",106.5,26.25,662.25,1.5]
["btnSimMHFAUser","Instructions",106.5,26.25,662.25,39.75]
["chkInstructDefLoanTaxExLngTrm","Instructions",18.75,16.5,39.75,212.25]
["chkInstructDefLoanTaxExShtTrm","Instructions",18.75,16.5,39.75,225]
["chkInstructDefLoanDefLoans","Instructions",18.75,16.5,39.75,237.75]
["chkInstructDefLoan1stMtg","Instructions",18.75,16.5,39.75,198.75]
["chkTaxCredType9Pct","Instructions",18.75,16.5,39.75,360]
["InstructHTC4Pct","Instructions",18.75,16.5,39.75,345]
["chkTaxCredTypeDual4_9Pct","Instructions",18.75,16.5,39.75,375]
["OptionButton1","Instructions",9.75,9.75,279,348]
["OptionButton2","Instructions",9.75,9.75,279,363.75]
["InstrHTCTaxCrPoolNA","Instructions",9.75,9.75,279,378.75]
["OptionButton4","Instructions",9.75,9.75,404.25,348]
["OptionButton5","Instructions",9.75,9.75,404.25,363]
["OptionButton6","Instructions",9.75,9.75,404.25,378]
["OptionButton7","Instructions",9.75,9.75,404.25,393]
["OptionButton8","Instructions",9.75,9.75,404.25,408]
["OptionButton9","Instructions",9.75,9.75,404.25,423]
["OptionButton10","Instructions",9.75,9.75,42,423]
["OptionButton11","Instructions",9.75,9.75,42,438]
["OptionButton13","Instructions",9.75,9.75,42,453]
["OptionButton14","Instructions",9.75,9.75,42,468]
["OptionButton15","Instructions",9.75,9.75,278.25,423]
["OptionButton16","Instructions",9.75,9.75,278.25,438]
["OptionButton17","Instructions",9.75,9.75,278.25,453]
["optStPaulPHAPBV","Instructions",9.75,9.75,44.25,681.75]
["otpHRAMetroPBV","Instructions",9.75,9.75,44.25,696.75]
["btnContinue_1","Instructions",64.5,24.75,549,0]
["btnContinue_2","Instructions",64.5,24.75,279,1340.25]
["optPBVNA","Instructions",9.75,9.75,44.25,711.75]
["InstructHOPWA","Instructions",9.75,9.75,44.25,776.25]
["optHTFRA","Instructions",9.75,9.75,44.25,789.75]
["obNA","Instructions",9.75,9.75,44.25,836.25]
["OptionButton12","Instructions",9.75,9.75,44.25,806.25]
["optRRDLProjSpecific","Instructions",9.75,9.75,44.25,255]
["optRRDLBorrower","Instructions",9.75,9.75,44.25,267]
["optRRDLAdministrator","Instructions",9.75,9.75,44.25,279.75]
["OptionButton18","Instructions",9.75,9.75,44.25,291.75]
["obBridge","Instructions",9.75,9.75,44.25,819.75]
["operatingSubsidy","Instructions",9.75,9.75,44.25,918.75]
["lblCover","Instructions",116.25,33,491.25,822]
["cb4per","Instructions",31.5,14.25,527.25,494.25]
["cb9per","Instructions",31.5,14.25,571.5,494.25]
["Comment 65","Instructions",210,52.5,379.5,454.5]
["chkHIUnitTypeHTC1","Summary",13.5,20.25,348.75,849.75]
["chkHIUnitTypeHTC2","Summary",13.5,20.25,348.75,861.75]
["chkHIUnitTypeHTC10","Summary",13.5,20.25,348.75,963.75]
["chkHIUnitTypeHTC11","Summary",13.5,20.25,348.75,976.5]
["chkHIUnitTypeHTC12","Summary",13.5,20.25,348.75,989.25]
["chkHIUnitTypeHTC13","Summary",13.5,20.25,348.75,1002]
["chkHIUnitTypeHTC15","Summary",13.5,20.25,348.75,1028.25]
["chkHIUnitTypeHTC16","Summary",13.5,20.25,348.75,1040.25]
["chkHIUnitTypeHTC17","Summary",13.5,20.25,348.75,1053]
["chkHIUnitTypeHTC18","Summary",13.5,20.25,348.75,1065.75]
["chkHIUnitTypeHTC19","Summary",13.5,20.25,348.75,1078.5]
["chkHIUnitTypeHTC20","Summary",13.5,20.25,348.75,1091.25]
["chkHIUnitTypeHTC21","Summary",13.5,20.25,348.75,1104]
["chkHIUnitTypeHTC6","Summary",13.5,20.25,348.75,912.75]
["chkHIUnitTypeHTC7","Summary",13.5,20.25,348.75,925.5]
["chkHIUnitTypeHTC4","Summary",13.5,20.25,348.75,887.25]
["chkHIUnitTypeHTC5","Summary",13.5,20.25,348.75,900]
["chkHIUnitTypeHTC8","Summary",13.5,20.25,348.75,938.25]
["chkHIUnitTypeHTC9","Summary",13.5,20.25,348.75,951]
["chkHIUnitTypeHTC14","Summary",13.5,20.25,348.75,1015.5]
["chkHIUnitTypeHTC3","Summary",13.5,20.25,348.75,874.5]
["chkHIUnitTypeHOME2","Summary",13.5,20.25,363,861.75]
["chkHIUnitTypeHOME3","Summary",13.5,20.25,363,874.5]
["chkHIUnitTypeHOME4","Summary",13.5,20.25,363,887.25]
["chkHIUnitTypeHOME5","Summary",13.5,20.25,363,900]
["chkHIUnitTypeHOME6","Summary",13.5,20.25,363,912.75]
["chkHIUnitTypeHOME7","Summary",13.5,20.25,363,925.5]
["chkHIUnitTypeHOME8","Summary",13.5,20.25,363,938.25]
["chkHIUnitTypeHOME9","Summary",13.5,20.25,363,951]
["chkHIUnitTypeHOME10","Summary",13.5,20.25,363,963.75]
["chkHIUnitTypeHOME11","Summary",13.5,20.25,363,976.5]
["chkHIUnitTypeHOME12","Summary",13.5,20.25,363,989.25]
["chkHIUnitTypeHOME13","Summary",13.5,20.25,363,1002]
["chkHIUnitTypeHOME14","Summary",13.5,20.25,363,1015.5]
["chkHIUnitTypeHOME15","Summary",13.5,20.25,363,1028.25]
["chkHIUnitTypeHOME16","Summary",13.5,20.25,363,1040.25]
["chkHIUnitTypeHOME17","Summary",13.5,20.25,363,1053]
["chkHIUnitTypeHOME18","Summary",13.5,20.25,363,1065.75]
["chkHIUnitTypeHOME19","Summary",13.5,20.25,363,1078.5]
["chkHIUnitTypeHOME20","Summary",13.5,20.25,363,1091.25]
["chkHIUnitTypeHOME21","Summary",13.5,20.25,363,1104]
["chkHIUnitTypeHOME1","Summary",13.5,20.25,363,849.75]
["chkHIUnitTypeLTH3","Summary",13.5,20.25,377.25,874.5]
["chkHIUnitTypeLTH4","Summary",13.5,20.25,377.25,887.25]
["chkHIUnitTypeLTH5","Summary",13.5,20.25,377.25,900]
["chkHIUnitTypeLTH6","Summary",13.5,20.25,377.25,912.75]
["chkHIUnitTypeLTH7","Summary",13.5,20.25,377.25,925.5]
["chkHIUnitTypeLTH8","Summary",13.5,20.25,377.25,938.25]
["chkHIUnitTypeLTH9","Summary",13.5,20.25,377.25,951]
["chkHIUnitTypeLTH10","Summary",13.5,20.25,377.25,963.75]
["chkHIUnitTypeLTH11","Summary",13.5,20.25,377.25,976.5]
["chkHIUnitTypeLTH12","Summary",13.5,20.25,377.25,989.25]
["chkHIUnitTypeLTH13","Summary",13.5,20.25,377.25,1002]
["chkHIUnitTypeLTH14","Summary",13.5,20.25,377.25,1015.5]
["chkHIUnitTypeLTH15","Summary",13.5,20.25,377.25,1028.25]
["chkHIUnitTypeLTH16","Summary",13.5,20.25,377.25,1040.25]
["chkHIUnitTypeLTH17","Summary",13.5,20.25,377.25,1053]
["chkHIUnitTypeLTH18","Summary",13.5,20.25,377.25,1065.75]
["chkHIUnitTypeLTH19","Summary",13.5,20.25,377.25,1078.5]
["chkHIUnitTypeLTH20","Summary",13.5,20.25,377.25,1091.25]
["chkHIUnitTypeLTH21","Summary",13.5,20.25,377.25,1104]
["chkHIUnitTypeLTH1","Summary",13.5,20.25,377.25,849.75]
["chkHIUnitTypeLTH2","Summary",13.5,20.25,377.25,861.75]
["chkHousIncomeUnitTypeRRDL4","Summary",13.5,20.25,390.75,887.25]
["chkHousIncomeUnitTypeRRDL5","Summary",13.5,20.25,390.75,900]
["chkHousIncomeUnitTypeRRDL6","Summary",13.5,20.25,390.75,912.75]
["chkHousIncomeUnitTypeRRDL7","Summary",13.5,20.25,390.75,925.5]
["chkHousIncomeUnitTypeRRDL8","Summary",13.5,20.25,390.75,938.25]
["chkHousIncomeUnitTypeRRDL9","Summary",13.5,20.25,390.75,951]
["chkHousIncomeUnitTypeRRDL10","Summary",13.5,20.25,390.75,963.75]
["chkHousIncomeUnitTypeRRDL11","Summary",13.5,20.25,390.75,976.5]
["chkHousIncomeUnitTypeRRDL12","Summary",13.5,20.25,390.75,989.25]
["chkHousIncomeUnitTypeRRDL13","Summary",13.5,20.25,390.75,1002]
["chkHousIncomeUnitTypeRRDL14","Summary",13.5,20.25,390.75,1015.5]
["chkHousIncomeUnitTypeRRDL15","Summary",13.5,20.25,390.75,1028.25]
["chkHousIncomeUnitTypeRRDL16","Summary",13.5,20.25,390.75,1040.25]
["chkHousIncomeUnitTypeRRDL17","Summary",13.5,20.25,390.75,1053]
["chkHousIncomeUnitTypeRRDL18","Summary",13.5,20.25,390.75,1065.75]
["chkHousIncomeUnitTypeRRDL19","Summary",13.5,20.25,390.75,1078.5]
["chkHousIncomeUnitTypeRRDL20","Summary",13.5,20.25,390.75,1091.25]
["chkHousIncomeUnitTypeRRDL21","Summary",13.5,20.25,390.75,1104]
["chkHousIncomeUnitTypeRRDL1","Summary",13.5,20.25,390.75,849.75]
["chkHousIncomeUnitTypeRRDL2","Summary",13.5,20.25,390.75,861.75]
["chkHousIncomeUnitTypeRRDL3","Summary",13.5,20.25,390.75,874.5]
["chkHIUnitTypeEmplOcc4","Summary",13.5,20.25,418.5,887.25]
["chkHIUnitTypeEmplOcc6","Summary",13.5,20.25,418.5,912.75]
["chkHIUnitTypeEmplOcc7","Summary",13.5,20.25,418.5,925.5]
["chkHIUnitTypeEmplOcc8","Summary",13.5,20.25,418.5,938.25]
["chkHIUnitTypeEmplOcc9","Summary",13.5,20.25,418.5,951]
["chkHIUnitTypeEmplOcc10","Summary",13.5,20.25,418.5,963.75]
["chkProjDescAquisition","Summary",13.5,20.25,418.5,976.5]
["chkHIUnitTypeEmplOcc12","Summary",13.5,20.25,418.5,989.25]
["chkHIUnitTypeEmplOcc13","Summary",13.5,20.25,418.5,1002]
["chkHIUnitTypeEmplOcc14","Summary",13.5,20.25,418.5,1015.5]
["chkHIUnitTypeEmplOcc15","Summary",13.5,20.25,418.5,1028.25]
["chkHIUnitTypeEmplOcc16","Summary",13.5,20.25,418.5,1040.25]
["chkHIUnitTypeEmplOcc18","Summary",13.5,20.25,418.5,1065.75]
["chkHIUnitTypeEmplOcc19","Summary",13.5,20.25,418.5,1078.5]
["chkHIUnitTypeEmplOcc20","Summary",13.5,20.25,418.5,1091.25]
["chkHIUnitTypeEmplOcc21","Summary",13.5,20.25,418.5,1104]
["chkHIUnitTypeEmplOcc1","Summary",13.5,20.25,418.5,849.75]
["chkHIUnitTypeEmplOcc2","Summary",13.5,20.25,418.5,861.75]
["chkHIUnitTypeEmplOcc3","Summary",13.5,20.25,418.5,874.5]
["chkHIUnitTypeEmplOcc5","Summary",13.5,20.25,418.5,900]
["chkHIUnitTypeEmplOcc17","Summary",13.5,20.25,418.5,1053]
["chkHIUnitTypeOwner6","Summary",13.5,20.25,404.25,912.75]
["chkHIUnitTypeOwner7","Summary",13.5,20.25,404.25,925.5]
["chkHIUnitTypeOwner8","Summary",13.5,20.25,404.25,938.25]
["chkHIUnitTypeOwner9","Summary",13.5,20.25,404.25,951]
["chkHIUnitTypeOwner10","Summary",13.5,20.25,404.25,963.75]
["chkHIUnitTypeOwner11","Summary",13.5,20.25,404.25,976.5]
["chkHIUnitTypeOwner12","Summary",13.5,20.25,404.25,989.25]
["chkHIUnitTypeOwner13","Summary",15,23.25,404.25,1000.5]
["chkHIUnitTypeOwner14","Summary",13.5,20.25,404.25,1015.5]
["chkHIUnitTypeOwner15","Summary",13.5,20.25,404.25,1028.25]
["chkHIUnitTypeOwner16","Summary",13.5,20.25,404.25,1040.25]
["chkHIUnitTypeOwner17","Summary",13.5,20.25,404.25,1053]
["chkHIUnitTypeOwner18","Summary",13.5,20.25,404.25,1065.75]
["chkHIUnitTypeOwner19","Summary",13.5,20.25,404.25,1078.5]
["chkHIUnitTypeOwner20","Summary",13.5,20.25,404.25,1091.25]
["chkHIUnitTypeOwner21","Summary",13.5,20.25,404.25,1104]
["chkHIUnitTypeOwner1","Summary",13.5,20.25,405,849.75]
["chkHIUnitTypeOwner2","Summary",13.5,20.25,405,861.75]
["chkHIUnitTypeOwner3","Summary",13.5,20.25,405,874.5]
["chkHIUnitTypeOwner4","Summary",13.5,20.25,404.25,887.25]
["chkHIUnitTypeOwner5","Summary",13.5,20.25,404.25,900]
["chkSourcesPermCap1stMortComm","Summary",14.25,12,296.25,1278]
["chkSourcesPermCapSyndProComm","Summary",14.25,12,296.25,1308]
["chkSourcesPermCapStHistProcComm","Summary",14.25,12,296.25,1323]
["chkSourcesPermCapFedHisProcComm","Summary",14.25,12,296.25,1338]
["chkSourcesPermCapTaxExBondsComm","Summary",14.25,12,296.25,1368]
["chkSourcesPermCapOther2Comm","Summary",14.25,12,296.25,1398]
["chkSourcesPermCapOther3Comm","Summary",14.25,12,296.25,1413]
["chkSourcesPermCapOther4Comm","Summary",14.25,12,296.25,1428]
["chkSourcesPermCapOther5Comm","Summary",14.25,12,296.25,1443]
["chkSourcesPermCapOther6Comm","Summary",14.25,12,296.25,1458]
["chkSourcesPermCapOther7Comm","Summary",14.25,12,296.25,1473]
["chkSourcesPermCapOther8Comm","Summary",14.25,12,296.25,1488]
["chkSourcesPermCapGapRemComm","Summary",14.25,12,296.25,1542.75]
["chkSourcesPermCapOther1Comm","Summary",14.25,12,296.25,1383]
["Check Box 269","Summary",13.5,13.5,671.25,1617.75]
["chkRentAssistSourcType2","Summary",13.5,12.75,671.25,1631.25]
["chkRentAssistSourcType3","Summary",13.5,14.25,671.25,1642.5]
["chkRentAssistSourcType4","Summary",13.5,14.25,671.25,1655.25]
["chkSummaryConstrSources1","Summary",13.5,12,296.25,1618.5]
["chkSummaryConstrSources2","Summary",13.5,12,296.25,1631.25]
["chkSummaryConstrSources3","Summary",13.5,12,296.25,1644.75]
["chkSummaryConstrSources4","Summary",13.5,12,296.25,1657.5]
["chkSummaryConstrSources5","Summary",13.5,12,296.25,1670.25]
["btnSummaryPrevPage","Summary",103.5,21.75,249,1730.25]
["btnSummarySave","Summary",54,21.75,453.75,1730.25]
["chkHIUnitTypeRentAssist4","Summary",13.5,20.25,432.75,887.25]
["chkHIUnitTypeRentAssist7","Summary",13.5,20.25,432.75,925.5]
["chkHIUnitTypeRentAssist8","Summary",13.5,20.25,432.75,938.25]
["Check Box 306","Summary",13.5,20.25,432.75,951]
["chkHIUnitTypeRentAssist10","Summary",13.5,20.25,432.75,963.75]
["Check Box 308","Summary",13.5,20.25,432.75,976.5]
["chkHIUnitTypeRentAssist12","Summary",13.5,20.25,432.75,989.25]
["chkHIUnitTypeRentAssist13","Summary",13.5,20.25,432.75,1002]
["chkHIUnitTypeRentAssist14","Summary",13.5,20.25,432.75,1015.5]
["chkHIUnitTypeRentAssist15","Summary",13.5,20.25,432.75,1028.25]
["chkHIUnitTypeRentAssist16","Summary",13.5,20.25,432.75,1040.25]
["chkHIUnitTypeRentAssist19","Summary",13.5,20.25,432.75,1078.5]
["chkHIUnitTypeRentAssist20","Summary",13.5,20.25,432.75,1091.25]
["chkHIUnitTypeRentAssist21","Summary",13.5,20.25,432.75,1104]
["chkHIUnitTypeRentAssist1","Summary",13.5,20.25,432.75,849.75]
["chkHIUnitTypeRentAssist2","Summary",13.5,20.25,432.75,861.75]
["chkHIUnitTypeRentAssist3","Summary",13.5,20.25,432.75,874.5]
["chkHIUnitTypeRentAssist5","Summary",13.5,20.25,432.75,900]
["chkHIUnitTypeRentAssist17","Summary",13.5,20.25,432.75,1053]
["chkHousIncomeUnitTypeOpSubs7","Summary",13.5,20.25,446.25,925.5]
["chkHousIncomeUnitTypeOpSubs8","Summary",13.5,20.25,446.25,938.25]
["chkHousIncomeUnitTypeOpSubs9","Summary",13.5,20.25,446.25,951]
["chkHousIncomeUnitTypeOpSubs10","Summary",15.75,24.75,447,961.5]
["chkHousIncomeUnitTypeOpSubs11","Summary",13.5,20.25,446.25,976.5]
["chkHousIncomeUnitTypeOpSubs12","Summary",13.5,20.25,446.25,989.25]
["chkHousIncomeUnitTypeOpSubs13","Summary",13.5,20.25,446.25,1002]
["chkHousIncomeUnitTypeOpSubs14","Summary",13.5,20.25,446.25,1015.5]
["chkHousIncomeUnitTypeOpSubs15","Summary",13.5,20.25,446.25,1028.25]
["chkHousIncomeUnitTypeOpSubs16","Summary",13.5,20.25,446.25,1040.25]
["chkHousIncomeUnitTypeOpSubs17","Summary",13.5,20.25,446.25,1053]
["chkHousIncomeUnitTypeOpSubs18","Summary",13.5,20.25,446.25,1065.75]
["chkHousIncomeUnitTypeOpSubs19","Summary",13.5,20.25,446.25,1078.5]
["chkHousIncomeUnitTypeOpSubs20","Summary",13.5,20.25,446.25,1091.25]
["chkHousIncomeUnitTypeOpSubs21","Summary",13.5,20.25,446.25,1104]
["chkHIUnitTypeOpSubs1","Summary",13.5,20.25,447,849.75]
["chkHIUnitTypeOpSubs2","Summary",13.5,20.25,447,861.75]
["chkHIUnitTypeOpSubs3","Summary",13.5,20.25,447,874.5]
["chkHousIncomeUnitTypeOpSubs4","Summary",13.5,20.25,446.25,887.25]
["chkHousIncomeUnitTypeOpSubs5","Summary",13.5,20.25,446.25,900]
["chkHIUnitTypeRentAssist6","Summary",13.5,20.25,432.75,912.75]
["chkHousIncomeUnitTypeOpSubs6","Summary",13.5,20.25,446.25,912.75]
["chkHIUnitTypeRentAssist18","Summary",13.5,20.25,432.75,1065.75]
["chkSourcesPermPartCashComm","Summary",14.25,12,296.25,1293]
["chk=SourcesPermCapDefLoanComm","Summary",14.25,12,296.25,1353]
["chkSourcesPermCapOther9Comm","Summary",14.25,12,296.25,1503]
["chkSourcesPermCapOther10Comm","Summary",14.25,11.25,296.25,1517.25]
["chkSourcesPermCapOther11Comm","Summary",14.25,11.25,296.25,1530]
["chkSummDefLoanTaxExLngTrm","Summary",24,17.25,33,440.25]
["chkSummDefLoanTaxExShtTrm","Summary",24,17.25,33,453.75]
["chkSummDefLoanDefLoans","Summary",24,17.25,33,468.75]
["chkSummDefLoanRRDL","Summary",24,17.25,33,484.5]
["chkSummDefLoan1stMtg","Summary",24,20.25,33,421.5]
["chkTaxCredType9Pct","Summary",24,17.25,419.25,423.75]
["chkTaxCredType4Pct","Summary",24,17.25,419.25,409.5]
["chkTaxCredTypeDual4_9Pct","Summary",24,17.25,419.25,440.25]
["btnPreservationNextPage","Summary",93,21.75,356.25,1730.25]
["OptionButton1","Summary",9.75,9.75,422.25,501.75]
["OptionButton2","Summary",9.75,9.75,422.25,513.75]
["OptionButton3","Summary",9.75,9.75,567.75,501.75]
["OptionButton4","Summary",9.75,9.75,567.75,513.75]
["OptionButton5","Summary",9.75,9.75,567.75,527.25]
["OptionButton6","Summary",9.75,9.75,567.75,540]
["OptionButton7","Summary",9.75,9.75,567.75,552.75]
["OptionButton8","Summary",9.75,9.75,422.25,591.75]
["OptionButton9","Summary",9.75,9.75,422.25,603.75]
["OptionButton10","Summary",9.75,9.75,422.25,617.25]
["OptionButton11","Summary",9.75,9.75,567.75,591]
["OptionButton12","Summary",9.75,9.75,567.75,603.75]
["OptionButton13","Summary",9.75,9.75,567.75,615.75]
["btnPrint","Summary",83.25,25.5,603,2.25]
["cbBasis","Summary",72.75,15,420,539.25]
["Comment 371","Summary",210,231,638.25,584.25]
["chkSummaryConstrSources1","RRDL_Summary",13.5,12,296.25,1062.75]
["chkSummaryConstrSources2","RRDL_Summary",13.5,12,296.25,1075.5]
["chkSummaryConstrSources3","RRDL_Summary",13.5,12,296.25,1089]
["chkSummaryConstrSources4","RRDL_Summary",13.5,12,296.25,1101.75]
["chkSummaryConstrSources5","RRDL_Summary",13.5,12,296.25,1114.5]
["btnSummaryPrevPage","RRDL_Summary",103.5,21.75,249,1158.75]
["btnSummarySave","RRDL_Summary",54,21.75,453.75,1158.75]
["btnPreservationNextPage","RRDL_Summary",93,21.75,356.25,1158.75]
["chkSourcesPermCapTaxExBondsComm","RRDL_Summary",14.25,11.25,296.25,629.25]
["chkSourcesPermCapOther2Comm","RRDL_Summary",14.25,11.25,296.25,654.75]
["chkSourcesPermCapOther3Comm","RRDL_Summary",14.25,11.25,296.25,667.5]
["chkSourcesPermCapOther4Comm","RRDL_Summary",14.25,11.25,296.25,680.25]
["chkSourcesPermCapOther5Comm","RRDL_Summary",14.25,11.25,296.25,693]
["chkSourcesPermCapOther6Comm","RRDL_Summary",14.25,11.25,296.25,705.75]
["chkSourcesPermCapOther1Comm","RRDL_Summary",14.25,11.25,296.25,642]
["chkSourcesPermCapDefLoanComm","RRDL_Summary",14.25,11.25,296.25,616.5]
["btnPrint","RRDL_Summary",83.25,25.5,597.75,2.25]
["RRDL_btnAddUnits","RRDL",66,13.5,21,1331.25]
["btnRRDLSave","RRDL",54,21.75,327.75,4038.75]
["optCurrOwnBuildingYes","RRDL",35.25,14.25,333.75,861.75]
["optCurrOwnBuildingNo","RRDL",35.25,14.25,369,861.75]
["optPriorMHFAFundingYes","RRDL",35.25,14.25,333.75,873.75]
["optPriorMHFAFundingNo","RRDL",35.25,14.25,369,873.75]
["optCompleteComplianceYes","RRDL",35.25,14.25,333.75,902.25]
["optCompleteComplianceNo","RRDL",35.25,14.25,369,902.25]
["optRRDLDesigHistoricBuildYes","RRDL",35.25,14.25,404.25,914.25]
["optRRDLDesigHistoricBuildNo","RRDL",35.25,14.25,438,914.25]
["optTempRelocationYes","RRDL",35.25,14.25,489.75,3066.75]
["optTempRelocationNo","RRDL",35.25,14.25,524.25,3066.75]
["optPermanentDisplacementYes","RRDL",35.25,14.25,489.75,3054]
["optPermanentDisplacementNo","RRDL",35.25,14.25,524.25,3054]
["cboRRDLApplicantState","RRDL",84.75,18,123,105]
["cboRRDLCoApplicantCity","RRDL",240.75,18,485.25,87.75]
["cboRRDLCoApplicantState","RRDL",84.75,18,485.25,105]
["cboRRDLDevelopmentCity","RRDL",240.75,18,122.25,690.75]
["cboRRDL_OwnerMortgagorState","RRDL",103.5,18,468,228.75]
["cboRRDLAttorneyCity","RRDL",240.75,18,123,417.75]
["cboRRDLAttorneyState","RRDL",84.75,18,123,435]
["cboRRDLArchitectCity","RRDL",240.75,18,485.25,417.75]
["cboRRDLArchitectState","RRDL",84.75,18,485.25,435]
["cboRRDLGenContrCity","RRDL",240.75,18,123,542.25]
["cboRRDLGenContrState","RRDL",84.75,18,123,558.75]
["cboRRDLManagementCoCity","RRDL",240.75,18,485.25,542.25]
["cboRRDLManagementCoState","RRDL",84.75,18,485.25,558.75]
["cboRRDLAddBuildings1City","RRDL",240.75,18,122.25,752.25]
["cboRRDLDevelopmentCounty","RRDL",154.5,18,570.75,690.75]
["cboRRDLAddBuildings1County","RRDL",154.5,18,570,753]
["btnRRDLAddBuildings","RRDL",96.75,20.25,155.25,716.25]
["cboRRDLApplicantCity","RRDL",240.75,17.25,123,87.75]
["btnRRDLPrint","RRDL",59.25,23.25,645.75,2.25]
["OptionButton2","RRDL",32.25,17.25,249.75,618]
["OptionButton3","RRDL",32.25,17.25,281.25,618]
["OptionButton1","RRDL",32.25,16.5,489.75,620.25]
["OptionButton4","RRDL",29.25,18,524.25,620.25]
["cboRRDL_OwnerMortgagorCity","RRDL",240.75,17.25,158.25,228.75]
["cbHeat","RRDL",44.25,16.5,36.75,1497.75]
["cbCooking","RRDL",54.75,16.5,36.75,1509.75]
["cbWater","RRDL",76.5,16.5,90,1497.75]
["cbElectric","RRDL",54.75,16.5,90,1509.75]
["cbAC","RRDL",44.25,16.5,168,1497.75]
["cbWaterSewer","RRDL",73.5,15,168,1509.75]
["cbServiceFee","RRDL",76.5,16.5,240.75,1497.75]
["cbOther","RRDL",54.75,16.5,240.75,1509.75]
["btnAffirmativeActionNextPage","Signature - Affirm. Action Stmt",93,21.75,282.75,452.25]
["btnProjDescPrevPage","Signature - Affirm. Action Stmt",93,21.75,184.5,452.25]
["btnAffirmativeActionSave","Signature - Affirm. Action Stmt",54,21.75,380.25,452.25]
["btnHTCOwnerCertNextPage","HTC Owner Cert",93,21.75,280.5,1019.25]
["btnProjDescPrevPage","HTC Owner Cert",93,21.75,182.25,1019.25]
["btnHTCOwnerCertSave","HTC Owner Cert",54,21.75,378,1019.25]
["Button 1","Project Description",112.5,17.25,119.25,92.25]
["cboCounty","Project Description",194.25,15,119.25,213]
["ComboBox1","Project Description",240,18,119.25,177]
["btnPipelineApplication","Project Description",112.5,17.25,119.25,92.25]
["chkProjDescAquisition","Project Description",14.25,12,36,293.25]
["chkProjDescRefinance","Project Description",14.25,12,36,308.25]
["chkProjDescRehabilitation","Project Description",14.25,12,36,323.25]
["chkProjDescHistoricPres","Project Description",14.25,12,36,338.25]
["chkProjDescNewConstruction","Project Description",14.25,12,296.25,293.25]
["chkProjDescConversion","Project Description",14.25,12,296.25,308.25]
["chkProjDescStabilization","Project Description",14.25,12,296.25,323.25]
["chkProjDescScatteredSite","Project Description",14.25,12,296.25,338.25]
["chkStratPriorPresAssistHousing","Project Description",14.25,12,36,429]
["chkStratPriorLTHomeless","Project Description",14.25,12,36,443.25]
["chkStratPriorNewAffordHousing","Project Description",14.25,12,36,458.25]
["chkStratPriorPreTaxCredits","Project Description",14.25,12,296.25,429]
["chkStratPriorForclosure","Project Description",14.25,12,296.25,443.25]
["chkStratPriorCriticalNeed","Project Description",14.25,12,296.25,458.25]
["cboCounty","Project Description",162.75,15,119.25,213]
["ComboBox1","Project Description",208.5,18,119.25,177]
["btnProjDescSave","Project Description",54,21.75,393.75,832.5]
["btnProjDescNextPage","Project Description",93,21.75,297,832.5]
["btnPropInfoPrevPage","Project Description",93,21.75,200.25,832.5]
["chkProjDescDevLocMultBuildings","Project Description",14.25,12,439.5,216]
["chkProjDescDemolition","Project Description",14.25,12,36,353.25]
["chkProjDescRentalSubsidy","Project Description",14.25,12,36,368.25]
["chkProjDescOther1","Project Description",14.25,12,296.25,353.25]
["chkProjDescOther2","Project Description",14.25,12,296.25,368.25]
["cboProjectDescCounty","Project Description",176.25,18,117.75,213]
["cboProjectDescCity","Project Description",224.25,18,117.75,180]
["lblHide","Project Description",189,51.75,420,188.25]
["OptionButton1","Property Information",33,13.5,485.25,252.75]
["OptionButton2","Property Information",33.75,13.5,522.75,252.75]
["optExistinBuildingsOccupied","Property Information",58.5,16.5,577.5,252.75]
["optExistinBuildingsVacant","Property Information",47.25,16.5,639.75,252.75]
["OptionButton5","Property Information",33,14.25,485.25,252.75]
["OptionButton6","Property Information",33.75,13.5,522.75,252.75]
["OptionButton7","Property Information",33,14.25,485.25,252.75]
["OptionButton8","Property Information",33.75,14.25,522.75,252.75]
["OptionButton9","Property Information",30,14.25,423.75,252.75]
["OptionButton10","Property Information",33.75,13.5,470.25,252.75]
["OptionButton11","Property Information",30,14.25,423.75,252.75]
["OptionButton12","Property Information",33.75,13.5,470.25,252.75]
["OptionButton13","Property Information",30,14.25,423.75,252.75]
["OptionButton14","Property Information",33.75,13.5,470.25,252.75]
["OptionButton15","Property Information",30,14.25,423.75,252.75]
["OptionButton16","Property Information",33.75,13.5,470.25,252.75]
["OptionButton17","Property Information",33,14.25,539.25,252.75]
["OptionButton18","Property Information",33.75,13.5,580.5,252.75]
["OptionButton19","Property Information",33,14.25,539.25,252.75]
["OptionButton20","Property Information",33.75,13.5,580.5,252.75]
["OptionButton21","Property Information",33,14.25,539.25,252.75]
["OptionButton22","Property Information",33.75,13.5,580.5,252.75]
["OptionButton23","Property Information",33,14.25,539.25,252.75]
["OptionButton24","Property Information",33.75,13.5,580.5,252.75]
["OptionButton25","Property Information",33,12.75,417.75,252.75]
["OptionButton26","Property Information",30.75,12.75,451.5,252.75]
["OptionButton27","Property Information",22.5,14.25,358.5,252.75]
["OptionButton28","Property Information",33.75,13.5,404.25,252.75]
["OptionButton29","Property Information",22.5,14.25,358.5,252.75]
["OptionButton30","Property Information",33.75,13.5,404.25,252.75]
["OptionButton1","Property Information",33,13.5,485.25,639]
["OptionButton2","Property Information",33.75,13.5,522.75,639]
["OptionButton5","Property Information",33,14.25,485.25,639]
["OptionButton6","Property Information",33.75,13.5,522.75,639]
["OptionButton7","Property Information",33,14.25,485.25,639]
["OptionButton8","Property Information",33.75,14.25,522.75,639]
["OptionButton9","Property Information",30,14.25,423.75,639]
["OptionButton10","Property Information",33.75,13.5,470.25,639]
["OptionButton11","Property Information",30,14.25,423.75,639]
["OptionButton12","Property Information",33.75,13.5,470.25,639]
["OptionButton13","Property Information",30,14.25,423.75,639]
["OptionButton14","Property Information",33.75,13.5,470.25,639]
["OptionButton15","Property Information",30,14.25,423.75,639]
["OptionButton16","Property Information",33.75,13.5,470.25,639]
["OptionButton17","Property Information",33,14.25,539.25,639]
["OptionButton18","Property Information",33.75,13.5,580.5,639]
["OptionButton19","Property Information",33,14.25,539.25,639]
["OptionButton20","Property Information",33.75,13.5,580.5,639]
["OptionButton21","Property Information",33,14.25,539.25,639]
["OptionButton22","Property Information",33.75,13.5,580.5,639]
["OptionButton23","Property Information",33,14.25,539.25,639]
["OptionButton24","Property Information",33.75,13.5,580.5,639]
["OptionButton25","Property Information",33,12.75,417.75,639]
["OptionButton26","Property Information",30.75,12.75,451.5,639]
["OptionButton27","Property Information",22.5,14.25,358.5,656.25]
["OptionButton28","Property Information",33.75,13.5,404.25,657]
["OptionButton29","Property Information",22.5,14.25,358.5,671.25]
["OptionButton30","Property Information",33.75,13.5,404.25,672]
["btnPropInfoNextPage","Property Information",102,21.75,391.5,1153.5]
["btnPropInfoPrevPage","Property Information",93,21.75,293.25,1153.5]
["Group 2","Property Information",32.25,40.409999847412109,331.49990844726562,57.75]
["chkPropInfoSiteDescQualCenTr","Property Information",15.75,12.75,339.75,57.75]
["chkPropInfoSiteDescDiffDevArea","Property Information",15.75,12.75,339.75,71.25]
["chkPropInfoSiteDescDesBasisBoost","Property Information",15.75,12.75,339.75,84.75]
["chkPropInfoSiteFeatures1000FtRR","Property Information",15.75,12.75,35.25,133.5]
["chkPropInfoSiteFeatures3000FtAP","Property Information",15.75,12.75,35.25,148.5]
["chkPropInfoSiteFeatures5MiCivAP","Property Information",15.75,12.75,35.25,163.5]
["chkPropInfoSiteFeatures15MiMilAP","Property Information",15.75,12.75,35.25,178.5]
["chkPropInfoSiteFeaturesHiTensWi","Property Information",15.75,12.75,35.25,193.5]
["chkPropInfoSiteFeaturesTowers","Property Information",15.75,12.75,289.5,133.5]
["chkPropInfoSiteFeaturesEnvHaz","Property Information",15.75,12.75,289.5,148.5]
["chkPropInfoSiteFeaturesRockForm","Property Information",15.75,12.75,289.5,163.5]
["chkPropInfoSiteFeaturesRavines","Property Information",15.75,12.75,289.5,178.5]
["chkPropInfoSiteFeaturesFloodPl","Property Information",15.75,12.75,289.5,192.75]
["chkPropInfoSiteFeaturesCreek","Property Information",15.75,12.75,591.75,132.75]
["chkPropInfoSiteFeaturesWtrTab","Property Information",15.75,12.75,591.75,147.75]
["chkPropInfoSiteFeaturesDrainage","Property Information",15.75,12.75,591.75,162.75]
["chkPropInfoSiteFeaturesUnStSoil","Property Information",15.75,12.75,591.75,177.75]
["chkPropInfoSiteFeaturesFill","Property Information",15.75,12.75,591.75,192.75]
["btnPropInfoSave","Property Information",54,21.75,498.75,1153.5]
["OptionButton1","Property Information",30,14.25,433.5,654.75]
["OptionButton2","Property Information",30,14.25,465.75,654.75]
["OptionButton3","Property Information",30,14.25,433.5,684.75]
["OptionButton4","Property Information",30,14.25,465.75,684.75]
["OptionButton5","Property Information",30,14.25,433.5,669.75]
["OptionButton6","Property Information",30,14.25,465.75,669.75]
["Comment 56","Property Information",117.75,34.5,696.75,908.25]
["chkHIUnitTypeHTC1","Housing Income",13.5,20.25,507,308.25]
["chkHIUnitTypeHTC2","Housing Income",13.5,20.25,507,323.25]
["chkHIUnitTypeHTC3","Housing Income",13.5,20.25,507,338.25]
["chkHIUnitTypeHTC10","Housing Income",13.5,20.25,507,443.25]
["chkHIUnitTypeHTC11","Housing Income",13.5,20.25,507,458.25]
["chkHIUnitTypeHTC12","Housing Income",13.5,20.25,507,473.25]
["chkHIUnitTypeHTC13","Housing Income",13.5,20.25,507,488.25]
["chkHIUnitTypeHTC15","Housing Income",13.5,20.25,507,518.25]
["chkHIUnitTypeHTC16","Housing Income",13.5,20.25,507,533.25]
["chkHIUnitTypeHTC17","Housing Income",13.5,20.25,507,548.25]
["chkHIUnitTypeHTC18","Housing Income",13.5,20.25,507,563.25]
["chkHIUnitTypeHTC19","Housing Income",13.5,20.25,507,578.25]
["chkHIUnitTypeHTC20","Housing Income",13.5,20.25,507,593.25]
["chkHIUnitTypeHTC21","Housing Income",13.5,20.25,507,608.25]
["chkHIUnitTypeHOME2","Housing Income",13.5,20.25,521.25,323.25]
["chkHIUnitTypeHOME3","Housing Income",13.5,20.25,521.25,338.25]
["chkHIUnitTypeHOME4","Housing Income",13.5,20.25,521.25,353.25]
["chkHIUnitTypeHOME5","Housing Income",13.5,20.25,521.25,368.25]
["chkHIUnitTypeHOME6","Housing Income",13.5,20.25,521.25,383.25]
["chkHIUnitTypeHOME7","Housing Income",13.5,20.25,521.25,398.25]
["chkHIUnitTypeHOME8","Housing Income",13.5,20.25,521.25,413.25]
["chkHIUnitTypeHOME9","Housing Income",13.5,20.25,521.25,428.25]
["chkHIUnitTypeHOME10","Housing Income",13.5,20.25,521.25,443.25]
["chkHIUnitTypeHOME11","Housing Income",13.5,20.25,521.25,458.25]
["chkHIUnitTypeHOME12","Housing Income",13.5,20.25,521.25,473.25]
["chkHIUnitTypeHOME13","Housing Income",13.5,20.25,521.25,488.25]
["chkHIUnitTypeHOME14","Housing Income",13.5,20.25,521.25,503.25]
["chkHIUnitTypeHOME15","Housing Income",13.5,20.25,521.25,518.25]
["chkHIUnitTypeHOME16","Housing Income",13.5,20.25,521.25,533.25]
["chkHIUnitTypeHOME17","Housing Income",13.5,20.25,521.25,548.25]
["chkHIUnitTypeHOME18","Housing Income",13.5,20.25,521.25,563.25]
["chkHIUnitTypeHOME19","Housing Income",13.5,20.25,521.25,578.25]
["chkHIUnitTypeHOME20","Housing Income",13.5,20.25,521.25,593.25]
["chkHIUnitTypeHOME21","Housing Income",13.5,20.25,521.25,608.25]
["chkHIUnitTypeHOME1","Housing Income",13.5,20.25,521.25,308.25]
["chkHIUnitTypeLTH3","Housing Income",13.5,20.25,535.5,338.25]
["chkHIUnitTypeLTH4","Housing Income",13.5,20.25,535.5,353.25]
["chkHIUnitTypeLTH5","Housing Income",13.5,20.25,535.5,368.25]
["chkHIUnitTypeLTH6","Housing Income",13.5,20.25,535.5,383.25]
["chkHIUnitTypeLTH7","Housing Income",13.5,20.25,535.5,398.25]
["chkHIUnitTypeLTH8","Housing Income",13.5,20.25,535.5,413.25]
["chkHIUnitTypeLTH9","Housing Income",13.5,20.25,535.5,428.25]
["chkHIUnitTypeLTH10","Housing Income",13.5,20.25,535.5,443.25]
["chkHIUnitTypeLTH11","Housing Income",13.5,20.25,535.5,458.25]
["chkHIUnitTypeLTH12","Housing Income",13.5,20.25,535.5,473.25]
["chkHIUnitTypeLTH13","Housing Income",13.5,20.25,535.5,488.25]
["chkHIUnitTypeLTH14","Housing Income",13.5,20.25,535.5,503.25]
["chkHIUnitTypeLTH15","Housing Income",13.5,20.25,535.5,518.25]
["chkHIUnitTypeLTH16","Housing Income",13.5,20.25,535.5,533.25]
["chkHIUnitTypeLTH17","Housing Income",13.5,20.25,535.5,548.25]
["chkHIUnitTypeLTH18","Housing Income",13.5,20.25,535.5,563.25]
["chkHIUnitTypeLTH19","Housing Income",13.5,20.25,535.5,578.25]
["chkHIUnitTypeLTH20","Housing Income",13.5,20.25,535.5,593.25]
["chkHIUnitTypeLTH21","Housing Income",13.5,20.25,535.5,608.25]
["chkHIUnitTypeLTH1","Housing Income",13.5,20.25,535.5,308.25]
["chkHousIncomeUnitTypeRRDL4","Housing Income",13.5,20.25,549.75,353.25]
["chkHIUnitTypeRRDL5","Housing Income",13.5,20.25,549.75,368.25]
["chkHIUnitTypeRRDL6","Housing Income",13.5,20.25,549.75,383.25]
["chkHIUnitTypeRRDL7","Housing Income",13.5,20.25,549.75,398.25]
["chkHIUnitTypeRRDL8","Housing Income",13.5,20.25,549.75,413.25]
["chkHIUnitTypeRRDL9","Housing Income",13.5,20.25,549.75,428.25]
["chkHIUnitTypeRRDL10","Housing Income",13.5,20.25,549.75,443.25]
["chkHIUnitTypeRRDL11","Housing Income",13.5,20.25,549.75,458.25]
["chkHIUnitTypeRRDL12","Housing Income",13.5,20.25,549.75,473.25]
["chkHIUnitTypeRRDL13","Housing Income",13.5,20.25,549.75,488.25]
["chkHIUnitTypeRRDL14","Housing Income",13.5,20.25,549.75,503.25]
["chkHIUnitTypeRRDL15","Housing Income",13.5,20.25,549.75,518.25]
["chkHIUnitTypeRRDL16","Housing Income",13.5,20.25,549.75,533.25]
["chkHIUnitTypeRRDL17","Housing Income",13.5,20.25,549.75,548.25]
["chkHIUnitTypeRRDL18","Housing Income",13.5,20.25,549.75,563.25]
["chkHIUnitTypeRRDL19","Housing Income",13.5,20.25,549.75,578.25]
["chkHIUnitTypeRRDL20","Housing Income",13.5,20.25,549.75,593.25]
["chkHIUnitTypeRRDL21","Housing Income",13.5,20.25,549.75,608.25]
["chkHIUnitTypeRRDL1","Housing Income",13.5,20.25,549.75,308.25]
["chkHIUnitTypeRRDL2","Housing Income",13.5,20.25,549.75,323.25]
["chkHIUnitTypeEmplOcc4","Housing Income",13.5,20.25,564.75,353.25]
["chkHIUnitTypeEmplOcc6","Housing Income",13.5,20.25,564.75,383.25]
["chkHIUnitTypeEmplOcc7","Housing Income",13.5,20.25,564.75,398.25]
["chkHIUnitTypeEmplOcc8","Housing Income",13.5,20.25,564.75,413.25]
["chkHIUnitTypeEmplOcc9","Housing Income",13.5,20.25,564.75,428.25]
["chkHIUnitTypeEmplOcc10","Housing Income",13.5,20.25,564.75,443.25]
["chkProjDescAquisition","Housing Income",13.5,20.25,564.75,458.25]
["chkHIUnitTypeEmplOcc12","Housing Income",13.5,20.25,564.75,473.25]
["chkHIUnitTypeEmplOcc13","Housing Income",13.5,20.25,564.75,488.25]
["chkHIUnitTypeEmplOcc14","Housing Income",13.5,20.25,564.75,503.25]
["chkHIUnitTypeEmplOcc15","Housing Income",13.5,20.25,564.75,518.25]
["chkHIUnitTypeEmplOcc16","Housing Income",13.5,20.25,564.75,533.25]
["chkHIUnitTypeEmplOcc18","Housing Income",13.5,20.25,564.75,563.25]
["chkHIUnitTypeEmplOcc19","Housing Income",13.5,20.25,564.75,578.25]
["chkHIUnitTypeEmplOcc20","Housing Income",13.5,20.25,564.75,593.25]
["chkHIUnitTypeEmplOcc21","Housing Income",13.5,20.25,564.75,608.25]
["chkHIUnitTypeEmplOcc1","Housing Income",13.5,20.25,564.75,308.25]
["chkHIUnitTypeOwner6","Housing Income",13.5,20.25,578.25,383.25]
["chkHIUnitTypeOwner7","Housing Income",13.5,20.25,578.25,398.25]
["chkHIUnitTypeOwner8","Housing Income",13.5,20.25,578.25,413.25]
["chkHIUnitTypeOwner9","Housing Income",13.5,20.25,578.25,428.25]
["chkHIUnitTypeOwner10","Housing Income",13.5,20.25,578.25,443.25]
["chkHIUnitTypeOwner11","Housing Income",13.5,20.25,578.25,458.25]
["chkHIUnitTypeOwner12","Housing Income",13.5,20.25,578.25,473.25]
["chkHIUnitTypeOwner13","Housing Income",13.5,20.25,578.25,488.25]
["chkHIUnitTypeOwner14","Housing Income",13.5,20.25,578.25,503.25]
["chkHIUnitTypeOwner15","Housing Income",13.5,20.25,578.25,518.25]
["chkHIUnitTypeOwner16","Housing Income",13.5,20.25,578.25,533.25]
["chkHIUnitTypeOwner17","Housing Income",13.5,20.25,578.25,548.25]
["chkHIUnitTypeOwner18","Housing Income",13.5,20.25,578.25,563.25]
["chkHIUnitTypeOwner19","Housing Income",13.5,20.25,578.25,578.25]
["chkHIUnitTypeOwner20","Housing Income",13.5,20.25,578.25,593.25]
["chkHIUnitTypeOwner21","Housing Income",13.5,20.25,578.25,608.25]
["chkHIUnitTypeOwner1","Housing Income",13.5,20.25,579,308.25]
["chkHIUnitTypeRentAsst7","Housing Income",13.5,20.25,593.25,398.25]
["chkHIUnitTypeOwner2","Housing Income",13.5,20.25,579,323.25]
["chkHIUnitTypeRentAsst8","Housing Income",13.5,20.25,592.5,413.25]
["chkHIUnitTypeRentAsst9","Housing Income",13.5,20.25,592.5,428.25]
["chkHIUnitTypeRentAsst10","Housing Income",13.5,20.25,592.5,443.25]
["chkHIUnitTypeRentAsst11","Housing Income",13.5,20.25,592.5,458.25]
["chkHIUnitTypeRentAsst12","Housing Income",13.5,20.25,592.5,473.25]
["chkHIUnitTypeRentAsst13","Housing Income",13.5,20.25,592.5,488.25]
["chkHIUnitTypeRentAsst14","Housing Income",13.5,20.25,592.5,503.25]
["chkHIUnitTypeRentAsst15","Housing Income",13.5,20.25,592.5,518.25]
["chkHIUnitTypeRentAsst16","Housing Income",13.5,20.25,592.5,533.25]
["chkHIUnitTypeRentAsst17","Housing Income",13.5,20.25,592.5,548.25]
["chkHIUnitTypeRentAsst18","Housing Income",13.5,20.25,592.5,563.25]
["Check Box 179","Housing Income",13.5,20.25,592.5,578.25]
["chkHIUnitTypeRentAsst20","Housing Income",13.5,20.25,592.5,593.25]
["chkHIUnitTypeRentAsst21","Housing Income",13.5,20.25,592.5,608.25]
["chkHIUnitTypeRentAsst1","Housing Income",13.5,20.25,593.25,308.25]
["chkHIUnitTypeOpSubs8","Housing Income",13.5,20.25,606.75,413.25]
["chkHIUnitTypeOpSubs9","Housing Income",13.5,20.25,606.75,428.25]
["chkHIUnitTypeOpSubs10","Housing Income",13.5,20.25,606.75,443.25]
["chkHIUnitTypeOpSubs11","Housing Income",13.5,20.25,606.75,458.25]
["chkHIUnitTypeOpSubs12","Housing Income",13.5,20.25,606.75,473.25]
["chkHIUnitTypeOpSubs13","Housing Income",13.5,20.25,606.75,488.25]
["chkHIUnitTypeOpSubs14","Housing Income",13.5,20.25,606.75,503.25]
["chkHIUnitTypeOpSubs15","Housing Income",13.5,20.25,606.75,518.25]
["chkHIUnitTypeOpSubs16","Housing Income",13.5,20.25,606.75,533.25]
["chkHIUnitTypeOpSubs17","Housing Income",13.5,20.25,606.75,548.25]
["chkHIUnitTypeOpSubs18","Housing Income",13.5,20.25,606.75,563.25]
["chkHIUnitTypeOpSubs19","Housing Income",13.5,20.25,606.75,578.25]
["chkHIUnitTypeOpSubs20","Housing Income",13.5,20.25,606.75,593.25]
["chkHIUnitTypeOpSubs21","Housing Income",13.5,20.25,606.75,608.25]
["chkHIUnitTypeOpSubs1","Housing Income",13.5,20.25,606.75,308.25]
["chkHIUnitTypeOpSubs2","Housing Income",13.5,20.25,606.75,323.25]
["chkHIUnitTypeOpSubs3","Housing Income",13.5,20.25,606.75,338.25]
["chkHIUnitTypeOpSubs4","Housing Income",13.5,20.25,606.75,353.25]
["chkHIUnitTypeOpSubs5","Housing Income",13.5,20.25,606.75,368.25]
["chkHIUnitTypeOpSubs6","Housing Income",13.5,20.25,606.75,383.25]
["chkHIUnitTypeOpSubs7","Housing Income",13.5,20.25,606.75,398.25]
["chkHIUnitTypeLTH2","Housing Income",13.5,20.25,535.5,323.25]
["chkHIUnitTypeRentAsst2","Housing Income",13.5,20.25,593.25,323.25]
["chkHIUnitTypeEmplOcc2","Housing Income",13.5,20.25,564.75,323.25]
["chkHIUnitTypeRRDL3","Housing Income",13.5,20.25,549.75,338.25]
["chkHIUnitTypeOwner3","Housing Income",13.5,20.25,579,338.25]
["chkHIUnitTypeRentAsst3","Housing Income",13.5,20.25,593.25,338.25]
["chkHIUnitTypeEmplOcc3","Housing Income",13.5,20.25,564.75,338.25]
["chkHIUnitTypeEmplOcc5","Housing Income",13.5,20.25,564.75,368.25]
["chkHIUnitTypeOwner4","Housing Income",13.5,20.25,578.25,353.25]
["chkHIUnitTypeRentAsst4","Housing Income",13.5,20.25,593.25,353.25]
["chkHIUnitTypeOwner5","Housing Income",13.5,20.25,578.25,368.25]
["chkHIUnitTypeRentAsst5","Housing Income",13.5,20.25,593.25,368.25]
["chkHIUnitTypeRentAsst6","Housing Income",13.5,20.25,593.25,383.25]
["chkHIUnitTypeHTC6","Housing Income",13.5,20.25,507,383.25]
["chkHIUnitTypeHTC7","Housing Income",13.5,20.25,507,398.25]
["chkHIUnitTypeHTC4","Housing Income",13.5,20.25,507,353.25]
["chkHIUnitTypeHTC5","Housing Income",13.5,20.25,507,368.25]
["chkHIUnitTypeHTC8","Housing Income",13.5,20.25,507,413.25]
["chkHIUnitTypeHTC9","Housing Income",13.5,20.25,507,428.25]
["chkHIUnitTypeHTC14","Housing Income",13.5,20.25,507,503.25]
["chkHIUnitTypeEmplOcc17","Housing Income",13.5,20.25,564.75,548.25]
["btnHousIncNextPage","Housing Income",93,21.75,321,774]
["btnHousIncPrevPage","Housing Income",93,21.75,222.75,774]
["btnHousIncSave","Housing Income",54,21.75,419.25,774]
["btnRevUtilToOrig1","Housing Income",76.5,15.75,705,311.25]
["btnRevUtilToOrig2","Housing Income",76.5,15.75,705,326.25]
["btnRevUtilToOrig3","Housing Income",76.5,15.75,705,341.25]
["btnRevUtilToOrig4","Housing Income",76.5,15.75,705,356.25]
["btnRevUtilToOrig5","Housing Income",76.5,15.75,705,371.25]
["btnRevUtilToOrig6","Housing Income",76.5,15.75,705,386.25]
["btnRevUtilToOrig7","Housing Income",76.5,15.75,705,401.25]
["btnRevUtilToOrig8","Housing Income",76.5,15.75,705,416.25]
["btnRevUtilToOrig9","Housing Income",76.5,15.75,705,431.25]
["btnRevUtilToOrig10","Housing Income",76.5,15.75,705,446.25]
["btnRevUtilToOrig11","Housing Income",76.5,15.75,705,461.25]
["btnRevUtilToOrig12","Housing Income",76.5,15.75,705,476.25]
["btnRevUtilToOrig13","Housing Income",76.5,15.75,705,491.25]
["btnRevUtilToOrig14","Housing Income",76.5,15.75,705,506.25]
["btnRevUtilToOrig15","Housing Income",76.5,15.75,705,521.25]
["btnRevUtilToOrig16","Housing Income",76.5,15.75,705,536.25]
["btnRevUtilToOrig17","Housing Income",76.5,15.75,705,551.25]
["btnRevUtilToOrig18","Housing Income",76.5,15.75,705,566.25]
["btnRevUtilToOrig19","Housing Income",76.5,15.75,705,581.25]
["btnRevUtilToOrig20","Housing Income",76.5,15.75,705,596.25]
["btnRevUtilToOrig21","Housing Income",76.5,15.75,705,611.25]
["Comment 244","Housing Income",159,35.25,123,142.5]
["btnIncExpNextPage","Income & Expense",93,21.75,302.25,1224]
["btnIncExpPrevPage","Income & Expense",93,21.75,204,1224]
["btnIncExpSave","Income & Expense",54,21.75,400.5,1224]
["Comment 3","Income & Expense",189.75,70.5,162,920.25]
["Comment 6","Income & Expense",108,21,162,417.75]
["Comment 7","Income & Expense",147.75,35.25,287.25,460.5]
["Comment 8","Income & Expense",144.75,35.25,333,473.25]
["Comment 9","Income & Expense",108,25.5,162,447.75]
["Comment 10","Income & Expense",96,34.5,246,578.25]
["Comment 11","Income & Expense",94.5,35.25,246,773.25]
["Comment 12","Income & Expense",108,45,333,908.25]
["chkMortCalcSubDebtMNHsgLend1","Mortgage Calc",25.5,18,177,148.5]
["chkMortCalcSubDebtMNHsgLend2","Mortgage Calc",25.5,18,177,163.5]
["chkMortCalcSubDebtMNHsgLend3","Mortgage Calc",25.5,18,177,178.5]
["chkMortCalcSubDebtMNHsgLend4","Mortgage Calc",25.5,18,177,193.5]
["chkMortCalcSubDebtMNHsgLend5","Mortgage Calc",25.5,18,177,208.5]
["chkMortCalcSubDebtMNHsgLend6","Mortgage Calc",25.5,16.5,177,223.5]
["chkMortCalc1stMortMNHsg","Mortgage Calc",25.5,0,326.25,651]
["btnMortCalcNextPage","Mortgage Calc",74.25,21.75,243.75,690.75]
["btnMortCalcPrevPage","Mortgage Calc",93,21.75,145.5,690.75]
["btnMortCalcSave","Mortgage Calc",54,21.75,323.25,690.75]
["btnMortCalcPrincReturnToOrigVal","Mortgage Calc",72,18.75,387,694.5]
["Check Box 20","Mortgage Calc",84.75,18,219,435]
["btnCashFlowNextPage","Cash Flow",93,21.75,755.25,1127.25]
["btnCashFlowPrevPage","Cash Flow",93,21.75,657,1127.25]
["btnCashFlowSave","Cash Flow",54,21.75,853.5,1127.25]
["Comment 4","Cash Flow",190.5,51.75,612.75,526.5]
["chkDevCostsProfFeesArchFeeDesign","Development Costs",24,18.75,615,754.5]
["chkDevCostsProfFeesArchFeeSuper","Development Costs",24,15.75,615,770.25]
["chkDevCostsProfFeesArchReimb","Development Costs",24,18.75,615,784.5]
["chkDevCostsProfFeesMktg","Development Costs",24,24,615,797.25]
["chkDevCostsProfFeesSurveys","Development Costs",24,24,615,812.25]
["chkDevCostsProfFeesSoilBorings","Development Costs",24,24,615,827.25]
["chkDevCostsProfFeesPayment","Development Costs",24,24,615,840.75]
["chkDevCostsProfFeesBuildPermit","Development Costs",24,24,615,856.5]
["chkDevCostsProfFeesSewerChg","Development Costs",24,24,615,872.25]
["chkDevCostsProfFeesLocalFees","Development Costs",24,24,615,888]
["chkDevCostsProfFeesApraisFee","Development Costs",24,24,615,903]
["chkDevCostsEnergyAudit","Development Costs",24,24,615,918]
["chkDevCostsProfFeesEnergyCons","Development Costs",24,24,615,932.25]
["chkDevCostsProfFeesEnvAssess","Development Costs",24,24,615,947.25]
["chkDevCostsProfFeesMktStudy","Development Costs",24,24,615,977.25]
["chkDevCostsProfFeesComplFees","Development Costs",24,24,615,1007.25]
["chkDevCostsProfFeesFurnishings","Development Costs",24,24,615,1023]
["chkDevCostsProfFeesLegalFees","Development Costs",24,24,615,1037.25]
["chkDevCostsProfFeesRelocCosts","Development Costs",24,24,615,1052.25]
["chkDevCostsProfFeesOther1","Development Costs",24,24,615,1068]
["chkDevCostsProfFeesOther3","Development Costs",24,24,615,1097.25]
["chkDevCostsProfFeesOther4","Development Costs",24,24,615,1112.25]
["chkDevCostsProfFeesCostCert","Development Costs",24,24,615,963]
["chkDevCostsProfFeesTaxCrFees","Development Costs",24,24,615,992.25]
["chkDevCostsDevelperFee","Development Costs",27,15.75,615,1158.75]
["chkDevCostsProcAgent","Development Costs",27,19.5,615,1170.75]
["chkDevCostsOwnerConstRep","Development Costs",27,18.75,615,1186.5]
["chkDevCostsOtherConsFees","Development Costs",27,18.75,615,1200.75]
["chkDevCostsDevFeeOther1","Development Costs",27,18.75,615,1215.75]
["chkDevCostsOrgFees","Development Costs",27,17.25,615,1260.75]
["chkDevCostsBridgeLoan","Development Costs",27,18,615,1276.5]
["chkDevCostsTaxOpinion","Development Costs",24,23.25,615,1288.5]
["chkDevCostsSyndFeesOtherFees","Development Costs",24,23.25,615,1318.5]
["chkDevCostsFinCostsRiskIns","Development Costs",27,18.75,615,1407.75]
["chkDevCostsFinCostsConstrTaxes","Development Costs",27,15.75,615,1424.25]
["chkDevCostsFinCostsBridgeLoan","Development Costs",27,18.75,615,1438.5]
["chkDevCostsFinCostsOrigFee","Development Costs",27,18.75,615,1453.5]
["chkDevCostsFinCostsBondIssFee","Development Costs",27,19.5,615,1632.75]
["chkDevCostsFinCostsTrusteeFee","Development Costs",24,23.25,615,1675.5]
["chkDevCostsFinCostsHazardIns","Development Costs",27,19.5,615,1378.5]
["chkDevCostsFinCostsConstrInt","Development Costs",27,18.75,615,1393.5]
["chkDevCostsFinCostsMortOrig","Development Costs",27,15,615,1544.25]
["chkDevCostsFinCostsMortIns","Development Costs",24,23.25,615,1615.5]
["chkDevCostsFinCostsTitleRec","Development Costs",27,18.75,615,1722.75]
["chkDevCostsFinCostsMortAppl","Development Costs",27,18.75,615,1527.75]
["chkDevCostsMortResOther1","Development Costs",27,15.75,615,1738.5]
["chkDevCostsMortResOther2","Development Costs",27,15.75,615,1753.5]
["chkDevCostsMortResOther3","Development Costs",27,18,615,1767]
["chkDevCostsProfFeesOther2","Development Costs",24,24,615,1083]
["btnDevCostsNextPage","Development Costs",79.5,21.75,327.75,2001]
["btnDevCostsPrevPage","Development Costs",84,21.75,238.5,2001]
["btnDevCostsSave","Development Costs",54,21.75,413.25,2001]
["chkDevCostsAquisRefHodCosts1","Development Costs",24,19.5,615,184.5]
["chkDevCostsAquisRefHodCosts2","Development Costs",24,18.75,615,199.5]
["chkDevCostsDueDilFees","Development Costs",24,23.25,615,1303.5]
["chkDevCostsFinCostsBondCounsel","Development Costs",27,19.5,615,1647.75]
["chkDevCostsFinCostsUndWCounsel","Development Costs",27,19.5,615,1662.75]
["chkDevCostsFinCostsRatingAgy","Development Costs",27,19.5,615,1692.75]
["chkDevCostsFinCostsOtherBondFees","Development Costs",27,19.5,615,1707.75]
["chkDevCostsFinCostsOther","Development Costs",27,15.75,615,1499.25]
["chkDevCostsFinCostsHUDMIP","Development Costs",24,23.25,615,1555.5]
["chkDevCostsFinCostsHUDInspFee","Development Costs",24,23.25,615,1585.5]
["chkDevCostsFinCostsMNHsgInspFee","Development Costs",27,18.75,615,1468.5]
["chkDevCostsFinCostsOtherInspFee","Development Costs",27,18.75,615,1483.5]
["chkDevCostsFinCostsOtherOrigFee","Development Costs",24,23.25,615,1600.5]
["chkDevCostsFinCostsHUDExamFee","Development Costs",24,23.25,615,1570.5]
["lblArchitectsFee","Development Costs",53.25,14.25,105.75,741.75]
["Comment 5","Development Costs",158.25,24.75,288.75,532.5]
["Comment 6","Development Costs",154.5,27.75,288.75,547.5]
["Comment 7","Development Costs",153.75,24,288.75,563.25]
["Comment 67","Development Costs",143.25,16.5,432.75,1468.5]
["Comment 69","Development Costs",223.5,66.75,288.75,1200.75]
["Comment 77","Development Costs",28.5,13.5,222.75,1353]
["Comment 78","Development Costs",30,13.5,288,1353]
["Comment 662","Development Costs",108,27,378,971.25]
["Comment 683","Development Costs",108,23.25,378.75,984]
["Comment 689","Development Costs",135,23.25,378.75,774.75]
["Comment 690","Development Costs",90,23.25,378.75,756.75]
["Comment 693","Development Costs",108,57.75,174,693.75]
["chkSourcesConstSourcesName1","Sources",27,15.75,399,75]
["chkSourcesConstSourcesName2","Sources",27,20.25,399,85.5]
["chkSourcesConstSourcesName3","Sources",27,20.25,399,100.5]
["chkSourcesConstSourcesName4","Sources",27,20.25,399,115.5]
["chkSourcesConstSourcesName5","Sources",27,20.25,399,130.5]
["chkSourcesPermCap1stMortComm","Sources",27,17.25,399.75,228]
["chkSourcesPermCapSyndProComm","Sources",27,17.25,399.75,258]
["chkSourcesPermCapStHistProcComm","Sources",27,21.75,399.75,270]
["chkSourcesPermCapStHistProHTCGp","Sources",27,21.75,449.25,270]
["chkSourcesPermCapFedHisProcComm","Sources",27,20.25,399.75,285.75]
["chkSourcesPermCapFedHisProHTCGp","Sources",27,20.25,449.25,285.75]
["chkSourcesPermCapPartCashComm","Sources",27,21.75,399.75,240.75]
["chkSourcesPermCapDefLoanComm","Sources",27,18.75,399.75,301.5]
["chkSourcesPermCapDefLoanHTCGap","Sources",27,18.75,449.25,301.5]
["chkSourcesPermCapOther2Comm","Sources",27,21.75,399.75,345]
["chkSourcesPermCapOther1HTCGap","Sources",27,21.75,449.25,330]
["chkSourcesPermCapOther3Comm","Sources",27,21.75,399.75,360]
["chkSourcesPermCapOther4Comm","Sources",27,21.75,399.75,375]
["chkSourcesPermCapOther2HTCGap","Sources",27,21.75,449.25,345]
["chkSourcesPermCapOther5Comm","Sources",27,21.75,399.75,390]
["chkSourcesPermCapOther3HTCGap","Sources",27,21.75,449.25,360]
["chkSourcesPermCapOther6Comm","Sources",27,21.75,399.75,405]
["chkSourcesPermCapOther4HTCGap","Sources",27,21.75,449.25,375]
["chkSourcesPermCapOther7Comm","Sources",27,21.75,399.75,420]
["chkSourcesPermCapOther5HTCGap","Sources",27,21.75,449.25,390]
["chkSourcesPermCapOther8Comm","Sources",27,21.75,399.75,435]
["chkSourcesPermCapOther6HTCGap","Sources",27,21.75,449.25,405]
["chkSourcesPermCapOther7HTCGap","Sources",27,21.75,449.25,420]
["chkSourcesPermCapOther8HTCGap","Sources",27,21.75,449.25,435]
["chk=SourcesPermCapOther9Comm","Sources",27,21.75,399.75,450.75]
["chk=SourcesPermCapOther9HTCGap","Sources",27,21.75,449.25,450.75]
["chkSourcesPermCapOther1Comm","Sources",27,21.75,399.75,330]
["Check Box 75","Sources",25.5,19.5,602.25,592.5]
["chkRentAssistSourcType2","Sources",25.5,21.75,602.25,605.25]
["chkRentAssistSourcType3","Sources",25.5,21.75,602.25,620.25]
["chkRentAssistSourcType4","Sources",25.5,21.75,602.25,635.25]
["chkSourcesContributionsComm1","Sources",26.25,0,453,825.75]
["chkSourcesContributionsComm2","Sources",26.25,0,453,825.75]
["chkSourcesContributionsComm3","Sources",26.25,0,453,825.75]
["chkSourcesContributionsComm4","Sources",26.25,0,453,825.75]
["chkSourcesContributionsComm5","Sources",26.25,0,453,825.75]
["chkSourcesContributionsComm6","Sources",26.25,0,453,825.75]
["chkSourcesPermCapOther10Comm","Sources",27,21.75,399.75,465]
["chkSourcesPermCapOther11Comm","Sources",27,21.75,399.75,480]
["chkSourcesPermCapOther10HTCGap","Sources",27,21.75,449.25,465]
["chkSourcesPermCapOther11HTCGap","Sources",27,21.75,449.25,480]
["chkSourcesPermCapGapRemComm","Sources",27,21.75,399.75,495.75]
["btnSourcesNextPage","Sources",71.25,21.75,324,1780.5]
["btnSourcesPrevPage","Sources",85.5,21.75,233.25,1780.5]
["btnSourcesSave","Sources",44.25,21.75,400.5,1780.5]
["btnSourcesEscrowTypeCapRevert","Sources",71.25,16.5,359.25,715.5]
["btnSourcesEscrowTypeRentRevert","Sources",71.25,16.5,360,734.25]
["chkSourcesPermCapTaxExBondsComm","Sources",27,21.75,399.75,315]
["Check Box 115","Sources",27,21.75,449.25,315]
["chkSourcesPermCap1stMortHTCGap","Sources",27,21.75,449.25,225.75]
["chkEndLoanFirstMort","Sources",27,21.75,503.25,225.75]
["Check Box 119","Sources",27,21.75,503.25,316.5]
["Check Box 120","Sources",27,21.75,503.25,330.75]
["obSynd","Sources",11.25,15,45,989.25]
["obNoSynd","Sources",11.25,15,45,1004.25]
["obMin","Sources",11.25,15,45,1020]
["obMan","Sources",11.25,15,45,1034.25]
["Check Box 126","Sources",27,21.75,503.25,345.75]
["Check Box 127","Sources",27,21.75,503.25,360.75]
["Check Box 128","Sources",27,21.75,503.25,375.75]
["Check Box 129","Sources",27,21.75,503.25,390.75]
["Check Box 130","Sources",27,21.75,503.25,405.75]
["Check Box 131","Sources",27,21.75,503.25,420.75]
["Check Box 132","Sources",27,21.75,503.25,435.75]
["Check Box 133","Sources",27,21.75,503.25,450.75]
["Check Box 134","Sources",27,21.75,503.25,465.75]
["Check Box 135","Sources",27,21.75,503.25,480.75]
["Check Box 136","Sources",27,21.75,503.25,495.75]
["chkHTCInfoCreditTypeNewNotFed","HTC Info",17.25,15.75,34.5,59.25]
["chkHTCInfoCreditTypeNewFed","HTC Info",17.25,15.75,34.5,74.25]
["chkHTCInfoCreditTypeRehabNotFed","HTC Info",17.25,15.75,34.5,89.25]
["chkHTCInfoCreditTypeRehabFed","HTC Info",17.25,15.75,34.5,104.25]
["chkHTCInfoCreditTypeExistHousing","HTC Info",17.25,15.75,34.5,119.25]
["optHTCInfoMinSetAside20pct","HTC Info",18.75,14.25,38.25,180.75]
["optHTCInfoMinSetAside40pct","HTC Info",18.75,14.25,38.25,195.75]
["optHTCInfoCodeSec103Yes","HTC Info",39.75,15.75,183,416.25]
["optHTCInfoCodeSec103No","HTC Info",32.25,15.75,221.25,416.25]
["chkHTCInfoFacilitiesParking","HTC Info",17.25,15.75,411.75,265.5]
["chkHTCInfoFacilitiesLockers","HTC Info",17.25,15.75,411.75,280.5]
["chkHTCInfoFacilitiesClubHouse","HTC Info",17.25,15.75,411.75,295.5]
["chkHTCInfoFacilitiesPool","HTC Info",17.25,15.75,411.75,310.5]
["chkHTCInfoFacilitiesServiceFac","HTC Info",17.25,15.75,411.75,325.5]
["chkHTCInfoFacilitiesOffice","HTC Info",17.25,15.75,411.75,340.5]
["chkHTCInfoFacilitiesOther1","HTC Info",17.25,15.75,411.75,355.5]
["optHTCInfoOtherConsidAmtNA1","HTC Info",18.75,15,134.25,492]
["optHTCInfoOtherConsid4pct1","HTC Info",18.75,15,134.25,507]
["optHTCInfoOtherConsidSubBasis1","HTC Info",18.75,15,134.25,522.75]
["optHTCInfoOtherConsidAmtNA2","HTC Info",18.75,15,414,492]
["optHTCInfoOtherConsid4pct2","HTC Info",18.75,15,414,507]
["optHTCInfoOtherConsidSubBasis2","HTC Info",18.75,15,414,522.75]
["optHTCTaxExemptBondFinancingYes","HTC Info",39.75,15.75,240,566.25]
["optHTCTaxExemptBondFinancingNo","HTC Info",32.25,15.75,278.25,566.25]
["optTreasuryWaiverYes","HTC Info",33,17.25,81,1203.75]
["optTreasuryWaiverExempt","HTC Info",31.5,16.5,82.5,1235.25]
["optTreasuryWaiverNo","HTC Info",30.75,16.5,84,1264.5]
["btnHTCInfoNextPage","HTC Info",93,21.75,288,1332.75]
["btnHTCInfoPrevPage","HTC Info",93,21.75,189.75,1332.75]
["btnHTCInfoSave","HTC Info",54,21.75,386.25,1332.75]
["chkHTCInfoCreditTypeAllocNonProf","HTC Info",17.25,15.75,34.5,134.25]
["optTreasuryWaiverNA","HTC Info",37.5,15.75,1503,1178.25]
["chkDetOfCredLimitWaivReq","Determination of Credit",17.25,12.75,507,1029]
["Rectangle 1","Determination of Credit",10.5,10.5,140.25,1186.5]
["optTypeOfOfferingPublic","Determination of Credit",110.25,15,140.25,1185]
["Rectangle 8","Determination of Credit",10.5,10.5,208.5,1188]
["optTypeOfOfferingPrivate","Determination of Credit",176.25,14.25,208.5,1186.5]
["btnDetOfCrNextPage","Determination of Credit",130.5,21.75,342,1644]
["btnDetOfCrPrevPage","Determination of Credit",93,21.75,243.75,1644]
["btnDetOfCrSave","Determination of Credit",54,21.75,477,1644]
["Comment 1","Determination of Credit",160.5,20.25,170.25,435]
["Comment 154","Determination of Credit",103.5,32.25,423.75,5.25]
["Comment 155","Determination of Credit",106.5,36,561,49.5]
["btnAddNewRole","Development Team",31.5,27,16.5,0]
["btnDevTeamNextPage","Development Team",82.5,17.25,371.25,1318.5]
["btnDevTeamPrevPage","Development Team",108,17.25,263.25,1318.5]
["btnMortCalcSave","Development Team",54,17.25,458.25,1318.5]
["cboDevTeamProjSpnsCity","Development Team",211.5,18.75,119.25,87.75]
["cboDevTeamDeveloperCity","Development Team",247.5,17.25,119.25,302.25]
["cboDevTeamArchitectCity","Development Team",247.5,18,501.75,302.25]
["DevTeamOwnerMortCity","Development Team",247.5,18,119.25,458.25]
["cboDevTeamGenPart1City","Development Team",247.5,18,119.25,615.75]
["cboDevTeamGenPart2City","Development Team",247.5,18,119.25,776.25]
["cboDevTeamGenPart3City","Development Team",247.5,18,119.25,932.25]
["cboDevTeamProcAgentCity","Development Team",247.5,18,119.25,1088.25]
["cboDevTeamMgmtCoCity","Development Team",247.5,18,501.75,458.25]
["cboDevTeamServProvCity","Development Team",247.5,18,501.75,615.75]
["cboDevTeamTaxCrSyndCity","Development Team",247.5,18,501.75,776.25]
["cboDevTeamGenContrCity","Development Team",247.5,18,501.75,932.25]
["cboDevTeamAttorneyCity","Development Team",247.5,18,501.75,1088.25]
["cboDevTeamProjSpnsState","Development Team",57,18,371.25,87.75]
["cboDevTeamDeveloperState","Development Team",69,18,119.25,320.25]
["cboDevTeamArchitectState","Development Team",69,18,501.75,320.25]
["cboDevTeamMgmtCoState","Development Team",69,18,501.75,476.25]
["cboDevTeamOwnerMortState","Development Team",69,18,119.25,476.25]
["cboDevTeamGenPart1State","Development Team",69,18,119.25,633.75]
["cboDevTeamServProvState","Development Team",69,18,501.75,633.75]
["cboDevTeamGenPart2State","Development Team",69,18,119.25,794.25]
["cboDevTeamTaxCrSyndState","Development Team",69,18,501.75,794.25]
["cboDevTeamGenPart3State","Development Team",69,18,119.25,950.25]
["cboDevTeamGenContrState","Development Team",69,18,501.75,950.25]
["cboDevTeamAttorneyState","Development Team",69,18,501.75,1106.25]
["cboDevTeamProcAgentState","Development Team",69,18,119.25,1106.25]
["cmdNext","Development Team",75,21,378,1318.5]
["cboRACity","Development Team",252,15,119.25,1228.5]
["cboHMIScity","Development Team",252,15,502.5,1228.5]
["cboMHIScity","Development Team",250.5,0.75,119.25,1318.5]
["cboRAstate","Development Team",69,15,119.25,1243.5]
["cboHMISstate","Development Team",69,15,502.5,1243.5]
["cboMHISstate","Development Team",67.5,0.75,119.25,1318.5]
["Comment 2","Development Team",134.25,22.5,130.5,252]
["Button 1","RRDL_Project Description",112.5,17.25,119.25,92.25]
["cboCounty","RRDL_Project Description",194.25,15,119.25,213]
["ComboBox1","RRDL_Project Description",240,18,119.25,177]
["btnPipelineApplication","RRDL_Project Description",112.5,17.25,119.25,92.25]
["chkProjDescRefinance","RRDL_Project Description",14.25,12,36,293.25]
["chkProjDescRehabilitation","RRDL_Project Description",14.25,12,36,308.25]
["chkProjDescHistoricPres","RRDL_Project Description",14.25,12,36,323.25]
["chkProjDescStabilization","RRDL_Project Description",14.25,12,296.25,292.5]
["chkProjDescScatteredSite","RRDL_Project Description",14.25,12,296.25,307.5]
["chkStratPriorPresAssistHousing","RRDL_Project Description",14.25,12,36,384]
["chkStratPriorLTHomeless","RRDL_Project Description",14.25,12,36,398.25]
["chkStratPriorNewAffordHousing","RRDL_Project Description",14.25,12,36,413.25]
["chkStratPriorPreTaxCredits","RRDL_Project Description",14.25,12,296.25,384]
["chkStratPriorForclosure","RRDL_Project Description",14.25,12,296.25,398.25]
["chkStratPriorCriticalNeed","RRDL_Project Description",14.25,12,296.25,413.25]
["cboCounty","RRDL_Project Description",162.75,15,119.25,213]
["ComboBox1","RRDL_Project Description",208.5,18,119.25,177]
["btnProjDescSave","RRDL_Project Description",54,21.75,393.75,742.5]
["btnProjDescNextPage","RRDL_Project Description",93,21.75,297,742.5]
["btnPropInfoPrevPage","RRDL_Project Description",93,21.75,200.25,742.5]
["chkProjDescDevLocMultBuildings","RRDL_Project Description",14.25,12,439.5,216]
["chkProjDescOther1","RRDL_Project Description",14.25,12,296.25,322.5]
["chkProjDescOther2","RRDL_Project Description",14.25,12,296.25,337.5]
["cboProjectDescCounty","RRDL_Project Description",176.25,18,117.75,213]
["cboProjectDescCity","RRDL_Project Description",224.25,18,117.75,180]
["OptionButton1","RRDL_Property Information",33,13.5,467.25,252.75]
["OptionButton2","RRDL_Property Information",33.75,13.5,529.5,252.75]
["optExistinBuildingsOccupied","RRDL_Property Information",58.5,16.5,558,252.75]
["optExistinBuildingsVacant","RRDL_Property Information",47.25,16.5,624.75,252.75]
["OptionButton5","RRDL_Property Information",33,14.25,467.25,252.75]
["OptionButton6","RRDL_Property Information",33.75,13.5,529.5,252.75]
["OptionButton7","RRDL_Property Information",33,14.25,467.25,252.75]
["OptionButton8","RRDL_Property Information",33.75,14.25,529.5,252.75]
["OptionButton9","RRDL_Property Information",30,14.25,393,252.75]
["OptionButton10","RRDL_Property Information",33.75,13.5,452.25,252.75]
["OptionButton11","RRDL_Property Information",30,14.25,393,252.75]
["OptionButton12","RRDL_Property Information",33.75,13.5,452.25,252.75]
["OptionButton13","RRDL_Property Information",30,14.25,393,252.75]
["OptionButton14","RRDL_Property Information",33.75,13.5,452.25,252.75]
["OptionButton15","RRDL_Property Information",30,14.25,393,252.75]
["OptionButton16","RRDL_Property Information",33.75,13.5,452.25,252.75]
["OptionButton17","RRDL_Property Information",33,14.25,546,252.75]
["OptionButton18","RRDL_Property Information",33.75,13.5,561,252.75]
["OptionButton19","RRDL_Property Information",33,14.25,546,252.75]
["OptionButton20","RRDL_Property Information",33.75,13.5,561,252.75]
["OptionButton21","RRDL_Property Information",33,14.25,546,252.75]
["OptionButton22","RRDL_Property Information",33.75,13.5,561,252.75]
["OptionButton23","RRDL_Property Information",33,14.25,546,252.75]
["OptionButton24","RRDL_Property Information",33.75,13.5,561,252.75]
["OptionButton25","RRDL_Property Information",33,12.75,387,252.75]
["OptionButton26","RRDL_Property Information",30.75,12.75,420.75,252.75]
["OptionButton27","RRDL_Property Information",22.5,14.25,327.75,252.75]
["OptionButton28","RRDL_Property Information",33.75,13.5,373.5,252.75]
["OptionButton29","RRDL_Property Information",22.5,14.25,327.75,252.75]
["OptionButton30","RRDL_Property Information",33.75,13.5,373.5,252.75]
["OptionButton1","RRDL_Property Information",33,13.5,467.25,594]
["OptionButton2","RRDL_Property Information",33.75,13.5,529.5,594]
["OptionButton5","RRDL_Property Information",33,14.25,467.25,594]
["OptionButton6","RRDL_Property Information",33.75,13.5,529.5,594]
["OptionButton7","RRDL_Property Information",33,14.25,467.25,594]
["OptionButton8","RRDL_Property Information",33.75,14.25,529.5,594]
["OptionButton9","RRDL_Property Information",30,14.25,393,594]
["OptionButton10","RRDL_Property Information",33.75,13.5,452.25,594]
["OptionButton11","RRDL_Property Information",30,14.25,393,594]
["OptionButton12","RRDL_Property Information",33.75,13.5,452.25,594]
["OptionButton13","RRDL_Property Information",30,14.25,393,594]
["OptionButton14","RRDL_Property Information",33.75,13.5,452.25,594]
["OptionButton15","RRDL_Property Information",30,14.25,393,594]
["OptionButton16","RRDL_Property Information",33.75,13.5,452.25,594]
["OptionButton17","RRDL_Property Information",33,14.25,546,594]
["OptionButton18","RRDL_Property Information",33.75,13.5,561,594]
["OptionButton19","RRDL_Property Information",33,14.25,546,594]
["OptionButton20","RRDL_Property Information",33.75,13.5,561,594]
["OptionButton21","RRDL_Property Information",33,14.25,546,594]
["OptionButton22","RRDL_Property Information",33.75,13.5,561,594]
["OptionButton23","RRDL_Property Information",33,14.25,546,594]
["OptionButton24","RRDL_Property Information",33.75,13.5,561,594]
["OptionButton25","RRDL_Property Information",33,12.75,387,594]
["OptionButton26","RRDL_Property Information",30.75,12.75,420.75,594]
["OptionButton27","RRDL_Property Information",22.5,14.25,327.75,609]
["OptionButton28","RRDL_Property Information",33.75,13.5,373.5,609]
["OptionButton29","RRDL_Property Information",22.5,14.25,327.75,609]
["OptionButton30","RRDL_Property Information",33.75,13.5,373.5,609]
["btnPropInfoNextPage","RRDL_Property Information",114.75,21.75,360.75,1116.75]
["btnPropInfoPrevPage","RRDL_Property Information",84.75,21.75,270.75,1116.75]
["chkPropInfoSiteFeatures1000FtRR","RRDL_Property Information",15.75,12.75,35.25,133.5]
["chkPropInfoSiteFeatures3000FtAP","RRDL_Property Information",15.75,12.75,35.25,148.5]
["chkPropInfoSiteFeatures5MiCivAP","RRDL_Property Information",15.75,12.75,35.25,163.5]
["chkPropInfoSiteFeatures15MiMilAP","RRDL_Property Information",15.75,12.75,35.25,178.5]
["chkPropInfoSiteFeaturesHiTensWi","RRDL_Property Information",15.75,12.75,35.25,193.5]
["chkPropInfoSiteFeaturesTowers","RRDL_Property Information",15.75,12.75,264,133.5]
["chkPropInfoSiteFeaturesEnvHaz","RRDL_Property Information",15.75,12.75,264,148.5]
["chkPropInfoSiteFeaturesRockForm","RRDL_Property Information",15.75,12.75,264,163.5]
["chkPropInfoSiteFeaturesRavines","RRDL_Property Information",15.75,12.75,264,178.5]
["chkPropInfoSiteFeaturesFloodPl","RRDL_Property Information",15.75,12.75,264,192.75]
["chkPropInfoSiteFeaturesCreek","RRDL_Property Information",15.75,12.75,575.25,132.75]
["chkPropInfoSiteFeaturesWtrTab","RRDL_Property Information",15.75,12.75,575.25,147.75]
["chkPropInfoSiteFeaturesDrainage","RRDL_Property Information",15.75,12.75,575.25,162.75]
["chkPropInfoSiteFeaturesUnStSoil","RRDL_Property Information",15.75,12.75,575.25,177.75]
["chkPropInfoSiteFeaturesFill","RRDL_Property Information",15.75,12.75,575.25,192.75]
["btnPropInfoSave","RRDL_Property Information",75.75,21.75,480.75,1116.75]
["Comment 29","RRDL_Property Information",117.75,34.5,531,804]
["chkHIUnitTypeHTC1","RRDL_Housing Income",13.5,20.25,507,308.25]
["chkHIUnitTypeHTC2","RRDL_Housing Income",13.5,20.25,507,323.25]
["chkHIUnitTypeHTC3","RRDL_Housing Income",13.5,20.25,507,338.25]
["chkHIUnitTypeHTC10","RRDL_Housing Income",13.5,20.25,507,443.25]
["chkHIUnitTypeHTC11","RRDL_Housing Income",13.5,20.25,507,458.25]
["chkHIUnitTypeHTC12","RRDL_Housing Income",13.5,20.25,507,473.25]
["chkHIUnitTypeHTC13","RRDL_Housing Income",13.5,20.25,507,488.25]
["chkHIUnitTypeHTC15","RRDL_Housing Income",13.5,20.25,507,518.25]
["chkHIUnitTypeHTC16","RRDL_Housing Income",13.5,20.25,507,533.25]
["chkHIUnitTypeHTC17","RRDL_Housing Income",13.5,20.25,507,548.25]
["chkHIUnitTypeHTC18","RRDL_Housing Income",13.5,20.25,507,563.25]
["chkHIUnitTypeHTC19","RRDL_Housing Income",13.5,20.25,507,578.25]
["chkHIUnitTypeHTC20","RRDL_Housing Income",13.5,20.25,507,593.25]
["chkHIUnitTypeHTC21","RRDL_Housing Income",13.5,20.25,507,608.25]
["chkHIUnitTypeHOME2","RRDL_Housing Income",13.5,20.25,521.25,323.25]
["chkHIUnitTypeHOME3","RRDL_Housing Income",13.5,20.25,521.25,338.25]
["chkHIUnitTypeHOME4","RRDL_Housing Income",13.5,20.25,521.25,353.25]
["chkHIUnitTypeHOME5","RRDL_Housing Income",13.5,20.25,521.25,368.25]
["chkHIUnitTypeHOME6","RRDL_Housing Income",13.5,20.25,521.25,383.25]
["chkHIUnitTypeHOME7","RRDL_Housing Income",13.5,20.25,521.25,398.25]
["chkHIUnitTypeHOME8","RRDL_Housing Income",13.5,20.25,521.25,413.25]
["chkHIUnitTypeHOME9","RRDL_Housing Income",13.5,20.25,521.25,428.25]
["chkHIUnitTypeHOME10","RRDL_Housing Income",13.5,20.25,521.25,443.25]
["chkHIUnitTypeHOME11","RRDL_Housing Income",13.5,20.25,521.25,458.25]
["chkHIUnitTypeHOME12","RRDL_Housing Income",13.5,20.25,521.25,473.25]
["chkHIUnitTypeHOME13","RRDL_Housing Income",13.5,20.25,521.25,488.25]
["chkHIUnitTypeHOME14","RRDL_Housing Income",13.5,20.25,521.25,503.25]
["chkHIUnitTypeHOME15","RRDL_Housing Income",13.5,20.25,521.25,518.25]
["chkHIUnitTypeHOME16","RRDL_Housing Income",13.5,20.25,521.25,533.25]
["chkHIUnitTypeHOME17","RRDL_Housing Income",13.5,20.25,521.25,548.25]
["chkHIUnitTypeHOME18","RRDL_Housing Income",13.5,20.25,521.25,563.25]
["chkHIUnitTypeHOME19","RRDL_Housing Income",13.5,20.25,521.25,578.25]
["chkHIUnitTypeHOME20","RRDL_Housing Income",13.5,20.25,521.25,593.25]
["chkHIUnitTypeHOME21","RRDL_Housing Income",13.5,20.25,521.25,608.25]
["chkHIUnitTypeHOME1","RRDL_Housing Income",13.5,20.25,521.25,308.25]
["chkHIUnitTypeLTH3","RRDL_Housing Income",13.5,20.25,535.5,338.25]
["chkHIUnitTypeLTH4","RRDL_Housing Income",13.5,20.25,535.5,353.25]
["chkHIUnitTypeLTH5","RRDL_Housing Income",13.5,20.25,535.5,368.25]
["chkHIUnitTypeLTH6","RRDL_Housing Income",13.5,20.25,535.5,383.25]
["chkHIUnitTypeLTH7","RRDL_Housing Income",13.5,20.25,535.5,398.25]
["chkHIUnitTypeLTH8","RRDL_Housing Income",13.5,20.25,535.5,413.25]
["chkHIUnitTypeLTH9","RRDL_Housing Income",13.5,20.25,535.5,428.25]
["chkHIUnitTypeLTH10","RRDL_Housing Income",13.5,20.25,535.5,443.25]
["chkHIUnitTypeLTH11","RRDL_Housing Income",13.5,20.25,535.5,458.25]
["chkHIUnitTypeLTH12","RRDL_Housing Income",13.5,20.25,535.5,473.25]
["chkHIUnitTypeLTH13","RRDL_Housing Income",13.5,20.25,535.5,488.25]
["chkHIUnitTypeLTH14","RRDL_Housing Income",13.5,20.25,535.5,503.25]
["chkHIUnitTypeLTH15","RRDL_Housing Income",13.5,20.25,535.5,518.25]
["chkHIUnitTypeLTH16","RRDL_Housing Income",13.5,20.25,535.5,533.25]
["chkHIUnitTypeLTH17","RRDL_Housing Income",13.5,20.25,535.5,548.25]
["chkHIUnitTypeLTH18","RRDL_Housing Income",13.5,20.25,535.5,563.25]
["chkHIUnitTypeLTH19","RRDL_Housing Income",13.5,20.25,535.5,578.25]
["chkHIUnitTypeLTH20","RRDL_Housing Income",13.5,20.25,535.5,593.25]
["chkHIUnitTypeLTH21","RRDL_Housing Income",13.5,20.25,535.5,608.25]
["chkHIUnitTypeLTH1","RRDL_Housing Income",13.5,20.25,535.5,308.25]
["chkHousIncomeUnitTypeRRDL4","RRDL_Housing Income",13.5,20.25,549.75,353.25]
["chkHIUnitTypeRRDL5","RRDL_Housing Income",13.5,20.25,549.75,368.25]
["chkHIUnitTypeRRDL6","RRDL_Housing Income",13.5,20.25,549.75,383.25]
["chkHIUnitTypeRRDL7","RRDL_Housing Income",13.5,20.25,549.75,398.25]
["chkHIUnitTypeRRDL8","RRDL_Housing Income",13.5,20.25,549.75,413.25]
["chkHIUnitTypeRRDL9","RRDL_Housing Income",13.5,20.25,549.75,428.25]
["chkHIUnitTypeRRDL10","RRDL_Housing Income",13.5,20.25,549.75,443.25]
["chkHIUnitTypeRRDL11","RRDL_Housing Income",13.5,20.25,549.75,458.25]
["chkHIUnitTypeRRDL12","RRDL_Housing Income",13.5,20.25,549.75,473.25]
["chkHIUnitTypeRRDL13","RRDL_Housing Income",13.5,20.25,549.75,488.25]
["chkHIUnitTypeRRDL14","RRDL_Housing Income",13.5,20.25,549.75,503.25]
["chkHIUnitTypeRRDL15","RRDL_Housing Income",13.5,20.25,549.75,518.25]
["chkHIUnitTypeRRDL16","RRDL_Housing Income",13.5,20.25,549.75,533.25]
["chkHIUnitTypeRRDL17","RRDL_Housing Income",13.5,20.25,549.75,548.25]
["chkHIUnitTypeRRDL18","RRDL_Housing Income",13.5,20.25,549.75,563.25]
["chkHIUnitTypeRRDL19","RRDL_Housing Income",13.5,20.25,549.75,578.25]
["chkHIUnitTypeRRDL20","RRDL_Housing Income",13.5,20.25,549.75,593.25]
["chkHIUnitTypeRRDL21","RRDL_Housing Income",13.5,20.25,549.75,608.25]
["chkHIUnitTypeRRDL1","RRDL_Housing Income",13.5,20.25,549.75,308.25]
["chkHIUnitTypeRRDL2","RRDL_Housing Income",13.5,20.25,549.75,323.25]
["chkHIUnitTypeEmplOcc4","RRDL_Housing Income",13.5,20.25,564.75,353.25]
["chkHIUnitTypeEmplOcc6","RRDL_Housing Income",13.5,20.25,564.75,383.25]
["chkHIUnitTypeEmplOcc7","RRDL_Housing Income",13.5,20.25,564.75,398.25]
["chkHIUnitTypeEmplOcc8","RRDL_Housing Income",13.5,20.25,564.75,413.25]
["chkHIUnitTypeEmplOcc9","RRDL_Housing Income",13.5,20.25,564.75,428.25]
["chkHIUnitTypeEmplOcc10","RRDL_Housing Income",13.5,20.25,564.75,443.25]
["chkProjDescAquisition","RRDL_Housing Income",13.5,20.25,564.75,458.25]
["chkHIUnitTypeEmplOcc12","RRDL_Housing Income",13.5,20.25,564.75,473.25]
["chkHIUnitTypeEmplOcc13","RRDL_Housing Income",13.5,20.25,564.75,488.25]
["chkHIUnitTypeEmplOcc14","RRDL_Housing Income",13.5,20.25,564.75,503.25]
["chkHIUnitTypeEmplOcc15","RRDL_Housing Income",13.5,20.25,564.75,518.25]
["chkHIUnitTypeEmplOcc16","RRDL_Housing Income",13.5,20.25,564.75,533.25]
["chkHIUnitTypeEmplOcc18","RRDL_Housing Income",13.5,20.25,564.75,563.25]
["chkHIUnitTypeEmplOcc19","RRDL_Housing Income",13.5,20.25,564.75,578.25]
["chkHIUnitTypeEmplOcc20","RRDL_Housing Income",13.5,20.25,564.75,593.25]
["chkHIUnitTypeEmplOcc21","RRDL_Housing Income",13.5,20.25,564.75,608.25]
["chkHIUnitTypeEmplOcc1","RRDL_Housing Income",13.5,20.25,564.75,308.25]
["chkHIUnitTypeOwner6","RRDL_Housing Income",13.5,20.25,578.25,383.25]
["chkHIUnitTypeOwner7","RRDL_Housing Income",13.5,20.25,578.25,398.25]
["chkHIUnitTypeOwner8","RRDL_Housing Income",13.5,20.25,578.25,413.25]
["chkHIUnitTypeOwner9","RRDL_Housing Income",13.5,20.25,578.25,428.25]
["chkHIUnitTypeOwner10","RRDL_Housing Income",13.5,20.25,578.25,443.25]
["chkHIUnitTypeOwner11","RRDL_Housing Income",13.5,20.25,578.25,458.25]
["chkHIUnitTypeOwner12","RRDL_Housing Income",13.5,20.25,578.25,473.25]
["chkHIUnitTypeOwner13","RRDL_Housing Income",13.5,20.25,578.25,488.25]
["chkHIUnitTypeOwner14","RRDL_Housing Income",13.5,20.25,578.25,503.25]
["chkHIUnitTypeOwner15","RRDL_Housing Income",13.5,20.25,578.25,518.25]
["chkHIUnitTypeOwner16","RRDL_Housing Income",13.5,20.25,578.25,533.25]
["chkHIUnitTypeOwner17","RRDL_Housing Income",13.5,20.25,578.25,548.25]
["chkHIUnitTypeOwner18","RRDL_Housing Income",13.5,20.25,578.25,563.25]
["chkHIUnitTypeOwner19","RRDL_Housing Income",13.5,20.25,578.25,578.25]
["chkHIUnitTypeOwner20","RRDL_Housing Income",13.5,20.25,578.25,593.25]
["chkHIUnitTypeOwner21","RRDL_Housing Income",13.5,20.25,578.25,608.25]
["chkHIUnitTypeOwner1","RRDL_Housing Income",13.5,20.25,579,308.25]
["chkHIUnitTypeRentAsst7","RRDL_Housing Income",13.5,20.25,593.25,398.25]
["chkHIUnitTypeOwner2","RRDL_Housing Income",13.5,20.25,579,323.25]
["chkHIUnitTypeRentAsst8","RRDL_Housing Income",13.5,20.25,592.5,413.25]
["chkHIUnitTypeRentAsst9","RRDL_Housing Income",13.5,20.25,592.5,428.25]
["chkHIUnitTypeRentAsst10","RRDL_Housing Income",13.5,20.25,592.5,443.25]
["chkHIUnitTypeRentAsst11","RRDL_Housing Income",13.5,20.25,592.5,458.25]
["chkHIUnitTypeRentAsst12","RRDL_Housing Income",13.5,20.25,592.5,473.25]
["chkHIUnitTypeRentAsst13","RRDL_Housing Income",13.5,20.25,592.5,488.25]
["chkHIUnitTypeRentAsst14","RRDL_Housing Income",13.5,20.25,592.5,503.25]
["chkHIUnitTypeRentAsst15","RRDL_Housing Income",13.5,20.25,592.5,518.25]
["chkHIUnitTypeRentAsst16","RRDL_Housing Income",13.5,20.25,592.5,533.25]
["chkHIUnitTypeRentAsst17","RRDL_Housing Income",13.5,20.25,592.5,548.25]
["chkHIUnitTypeRentAsst18","RRDL_Housing Income",13.5,20.25,592.5,563.25]
["Check Box 123","RRDL_Housing Income",13.5,20.25,592.5,578.25]
["chkHIUnitTypeRentAsst20","RRDL_Housing Income",13.5,20.25,592.5,593.25]
["chkHIUnitTypeRentAsst21","RRDL_Housing Income",13.5,20.25,592.5,608.25]
["chkHIUnitTypeRentAsst1","RRDL_Housing Income",13.5,20.25,593.25,308.25]
["chkHIUnitTypeOpSubs8","RRDL_Housing Income",13.5,20.25,606.75,413.25]
["chkHIUnitTypeOpSubs9","RRDL_Housing Income",13.5,20.25,606.75,428.25]
["chkHIUnitTypeOpSubs10","RRDL_Housing Income",13.5,20.25,606.75,443.25]
["chkHIUnitTypeOpSubs11","RRDL_Housing Income",13.5,20.25,606.75,458.25]
["chkHIUnitTypeOpSubs12","RRDL_Housing Income",13.5,20.25,606.75,473.25]
["chkHIUnitTypeOpSubs13","RRDL_Housing Income",13.5,20.25,606.75,488.25]
["chkHIUnitTypeOpSubs14","RRDL_Housing Income",13.5,20.25,606.75,503.25]
["chkHIUnitTypeOpSubs15","RRDL_Housing Income",13.5,20.25,606.75,518.25]
["chkHIUnitTypeOpSubs16","RRDL_Housing Income",13.5,20.25,606.75,533.25]
["chkHIUnitTypeOpSubs17","RRDL_Housing Income",13.5,20.25,606.75,548.25]
["chkHIUnitTypeOpSubs18","RRDL_Housing Income",13.5,20.25,606.75,563.25]
["chkHIUnitTypeOpSubs19","RRDL_Housing Income",13.5,20.25,606.75,578.25]
["chkHIUnitTypeOpSubs20","RRDL_Housing Income",13.5,20.25,606.75,593.25]
["chkHIUnitTypeOpSubs21","RRDL_Housing Income",13.5,20.25,606.75,608.25]
["chkHIUnitTypeOpSubs1","RRDL_Housing Income",13.5,20.25,606.75,308.25]
["chkHIUnitTypeOpSubs2","RRDL_Housing Income",13.5,20.25,606.75,323.25]
["chkHIUnitTypeOpSubs3","RRDL_Housing Income",13.5,20.25,606.75,338.25]
["chkHIUnitTypeOpSubs4","RRDL_Housing Income",13.5,20.25,606.75,353.25]
["chkHIUnitTypeOpSubs5","RRDL_Housing Income",13.5,20.25,606.75,368.25]
["chkHIUnitTypeOpSubs6","RRDL_Housing Income",13.5,20.25,606.75,383.25]
["chkHIUnitTypeOpSubs7","RRDL_Housing Income",13.5,20.25,606.75,398.25]
["chkHIUnitTypeLTH2","RRDL_Housing Income",13.5,20.25,535.5,323.25]
["chkHIUnitTypeRentAsst2","RRDL_Housing Income",13.5,20.25,593.25,323.25]
["chkHIUnitTypeEmplOcc2","RRDL_Housing Income",13.5,20.25,564.75,323.25]
["chkHIUnitTypeRRDL3","RRDL_Housing Income",13.5,20.25,549.75,338.25]
["chkHIUnitTypeOwner3","RRDL_Housing Income",13.5,20.25,579,338.25]
["chkHIUnitTypeRentAsst3","RRDL_Housing Income",13.5,20.25,593.25,338.25]
["chkHIUnitTypeEmplOcc3","RRDL_Housing Income",13.5,20.25,564.75,338.25]
["chkHIUnitTypeEmplOcc5","RRDL_Housing Income",13.5,20.25,564.75,368.25]
["chkHIUnitTypeOwner4","RRDL_Housing Income",13.5,20.25,578.25,353.25]
["chkHIUnitTypeRentAsst4","RRDL_Housing Income",13.5,20.25,593.25,353.25]
["chkHIUnitTypeOwner5","RRDL_Housing Income",13.5,20.25,578.25,368.25]
["chkHIUnitTypeRentAsst5","RRDL_Housing Income",13.5,20.25,593.25,368.25]
["chkHIUnitTypeRentAsst6","RRDL_Housing Income",13.5,20.25,593.25,383.25]
["chkHIUnitTypeHTC6","RRDL_Housing Income",13.5,20.25,507,383.25]
["chkHIUnitTypeHTC7","RRDL_Housing Income",13.5,20.25,507,398.25]
["chkHIUnitTypeHTC4","RRDL_Housing Income",13.5,20.25,507,353.25]
["chkHIUnitTypeHTC5","RRDL_Housing Income",13.5,20.25,507,368.25]
["chkHIUnitTypeHTC8","RRDL_Housing Income",13.5,20.25,507,413.25]
["chkHIUnitTypeHTC9","RRDL_Housing Income",13.5,20.25,507,428.25]
["chkHIUnitTypeHTC14","RRDL_Housing Income",13.5,20.25,507,503.25]
["chkHIUnitTypeEmplOcc17","RRDL_Housing Income",13.5,20.25,564.75,548.25]
["btnHousIncNextPage","RRDL_Housing Income",93,21.75,321,684]
["btnHousIncPrevPage","RRDL_Housing Income",93,21.75,222.75,684]
["btnHousIncSave","RRDL_Housing Income",54,21.75,419.25,684]
["btnRevUtilToOrig1","RRDL_Housing Income",76.5,15.75,705,311.25]
["btnRevUtilToOrig2","RRDL_Housing Income",76.5,15.75,705,326.25]
["btnRevUtilToOrig3","RRDL_Housing Income",76.5,15.75,705,341.25]
["btnRevUtilToOrig4","RRDL_Housing Income",76.5,15.75,705,356.25]
["btnRevUtilToOrig5","RRDL_Housing Income",76.5,15.75,705,371.25]
["btnRevUtilToOrig6","RRDL_Housing Income",76.5,15.75,705,386.25]
["btnRevUtilToOrig7","RRDL_Housing Income",76.5,15.75,705,401.25]
["btnRevUtilToOrig8","RRDL_Housing Income",76.5,15.75,705,416.25]
["btnRevUtilToOrig9","RRDL_Housing Income",76.5,15.75,705,431.25]
["btnRevUtilToOrig10","RRDL_Housing Income",76.5,15.75,705,446.25]
["btnRevUtilToOrig11","RRDL_Housing Income",76.5,15.75,705,461.25]
["btnRevUtilToOrig12","RRDL_Housing Income",76.5,15.75,705,476.25]
["btnRevUtilToOrig13","RRDL_Housing Income",76.5,15.75,705,491.25]
["btnRevUtilToOrig14","RRDL_Housing Income",76.5,15.75,705,506.25]
["btnRevUtilToOrig15","RRDL_Housing Income",76.5,15.75,705,521.25]
["btnRevUtilToOrig16","RRDL_Housing Income",76.5,15.75,705,536.25]
["btnRevUtilToOrig17","RRDL_Housing Income",76.5,15.75,705,551.25]
["btnRevUtilToOrig18","RRDL_Housing Income",76.5,15.75,705,566.25]
["btnRevUtilToOrig19","RRDL_Housing Income",76.5,15.75,705,581.25]
["btnRevUtilToOrig20","RRDL_Housing Income",76.5,15.75,705,596.25]
["btnRevUtilToOrig21","RRDL_Housing Income",76.5,15.75,705,611.25]
["btnIncExpNextPage","RRDL_Income & Expense",93,21.75,302.25,1224]
["btnIncExpPrevPage","RRDL_Income & Expense",93,21.75,204,1224]
["btnIncExpSave","RRDL_Income & Expense",54,21.75,400.5,1224]
["Comment 4","RRDL_Income & Expense",108,21,162,417.75]
["Comment 5","RRDL_Income & Expense",108,25.5,162,447.75]
["Comment 6","RRDL_Income & Expense",147.75,35.25,287.25,460.5]
["Comment 7","RRDL_Income & Expense",144.75,35.25,333,473.25]
["Comment 8","RRDL_Income & Expense",96,34.5,246,578.25]
["Comment 9","RRDL_Income & Expense",94.5,35.25,246,773.25]
["Comment 10","RRDL_Income & Expense",108,45,333,908.25]
["Comment 11","RRDL_Income & Expense",189.75,70.5,162,920.25]
["chkMortCalcSubDebtMNHsgLend1","RRDL_Mortgage Calc",25.5,18,177,148.5]
["chkMortCalcSubDebtMNHsgLend2","RRDL_Mortgage Calc",25.5,18,177,163.5]
["chkMortCalcSubDebtMNHsgLend3","RRDL_Mortgage Calc",25.5,18,177,178.5]
["chkMortCalcSubDebtMNHsgLend4","RRDL_Mortgage Calc",25.5,18,177,193.5]
["chkMortCalcSubDebtMNHsgLend5","RRDL_Mortgage Calc",25.5,18,177,208.5]
["chkMortCalcSubDebtMNHsgLend6","RRDL_Mortgage Calc",25.5,16.5,177,223.5]
["btnMortCalcNextPage","RRDL_Mortgage Calc",74.25,21.75,243.75,340.5]
["btnMortCalcPrevPage","RRDL_Mortgage Calc",93,21.75,145.5,340.5]
["btnMortCalcSave","RRDL_Mortgage Calc",54,21.75,323.25,340.5]
["btnCashFlowNextPage","RRDL_Cash Flow",93,21.75,755.25,1082.25]
["btnCashFlowPrevPage","RRDL_Cash Flow",93,21.75,657,1082.25]
["btnCashFlowSave","RRDL_Cash Flow",54,21.75,853.5,1082.25]
["btnDevCostsNextPage","RRDL_Development Costs",79.5,21.75,270.75,1128.75]
["btnDevCostsPrevPage","RRDL_Development Costs",84,21.75,181.5,1128.75]
["btnDevCostsSave","RRDL_Development Costs",52.5,21.75,356.25,1128.75]
["lblArchitectsFee","RRDL_Development Costs",53.25,14.25,105.75,420.75]
["Comment 68","RRDL_Development Costs",158.25,24.75,288.75,232.5]
["Comment 69","RRDL_Development Costs",154.5,27.75,288.75,247.5]
["Comment 70","RRDL_Development Costs",153.75,24,288.75,263.25]
["Comment 71","RRDL_Development Costs",108,57.75,174,393.75]
["Comment 72","RRDL_Development Costs",90,23.25,378.75,456.75]
["Comment 73","RRDL_Development Costs",135,23.25,378.75,474.75]
["Comment 76","RRDL_Development Costs",185.25,23.25,288.75,742.5]
["Comment 77","RRDL_Development Costs",28.5,18,222.75,797.25]
["Comment 78","RRDL_Development Costs",30,18,288,797.25]
["chkSourcesConstSourcesName1","RRDL_Sources",27,15.75,434.25,75]
["chkSourcesConstSourcesName2","RRDL_Sources",27,20.25,434.25,87]
["chkSourcesConstSourcesName3","RRDL_Sources",27,20.25,434.25,102]
["chkSourcesConstSourcesName4","RRDL_Sources",27,20.25,434.25,117]
["chkSourcesConstSourcesName5","RRDL_Sources",27,20.25,434.25,132]
["chkSourcesPermCapOther2Comm","RRDL_Sources",27,21.75,434.25,260.25]
["chkSourcesPermCapOther3Comm","RRDL_Sources",27,21.75,434.25,275.25]
["chkSourcesPermCapOther4Comm","RRDL_Sources",27,21.75,434.25,290.25]
["chkSourcesPermCapOther5Comm","RRDL_Sources",27,21.75,434.25,305.25]
["chkSourcesPermCapOther6Comm","RRDL_Sources",27,18.75,434.25,320.25]
["chkSourcesPermCapOther1Comm","RRDL_Sources",27,21.75,434.25,245.25]
["btnSourcesNextPage","RRDL_Sources",93,21.75,332.25,390]
["btnSourcesPrevPage","RRDL_Sources",93,21.75,234,390]
["btnSourcesSave","RRDL_Sources",54,21.75,430.5,390]
["chkSourcesPermCapTaxExBondsComm","RRDL_Sources",27,17.25,434.25,231.75]
["chkSourcesPermCapDefLoanComm","RRDL_Sources",27,18.75,434.25,216]
["btnAddNewRole","RRDL_Development Team",31.5,27,16.5,0]
["btnDevTeamNextPage","RRDL_Development Team",82.5,21.75,384,1035]
["btnDevTeamPrevPage","RRDL_Development Team",108,21.75,276,1035]
["btnMortCalcSave","RRDL_Development Team",54,21.75,471,1035]
["cboDevTeamProjSpnsCity","RRDL_Development Team",216,18.75,132,87.75]
["cboDevTeamDeveloperCity","RRDL_Development Team",252,17.25,132,302.25]
["cboDevTeamArchitectCity","RRDL_Development Team",252,18,515.25,302.25]
["cboDevTeamOwnerMortCity","RRDL_Development Team",252,18,132,458.25]
["cboDevTeamGenPart1City","RRDL_Development Team",252,18,132,615.75]
["cboDevTeamGenPart2City","RRDL_Development Team",252,18,515.25,615.75]
["cboDevTeamGenPart3City","RRDL_Development Team",252,18,132,771.75]
["cboDevTeamProcAgentCity","RRDL_Development Team",252,18,132,927.75]
["cboDevTeamMgmtCoCity","RRDL_Development Team",252,18,515.25,458.25]
["cboDevTeamGenContrCity","RRDL_Development Team",252,18,515.25,771.75]
["cboDevTeamAttorneyCity","RRDL_Development Team",252,18,515.25,927.75]
["cboDevTeamProjSpnsState","RRDL_Development Team",57,18,384,87.75]
["cboDevTeamDeveloperState","RRDL_Development Team",69.75,18,132,320.25]
["cboDevTeamArchitectState","RRDL_Development Team",69.75,18,515.25,320.25]
["cboDevTeamMgmtCoState","RRDL_Development Team",69.75,18,515.25,476.25]
["cboDevTeamOwnerMortState","RRDL_Development Team",69.75,18,132,476.25]
["cboDevTeamGenPart1State","RRDL_Development Team",69.75,18,132,633.75]
["cboDevTeamGenPart2State","RRDL_Development Team",69.75,18,515.25,633.75]
["cboDevTeamGenPart3State","RRDL_Development Team",69.75,18,132,789.75]
["cboDevTeamGenContrState","RRDL_Development Team",69.75,18,515.25,789.75]
["cboDevTeamAttorneyState","RRDL_Development Team",69.75,18,515.25,945.75]
["cboDevTeamProcAgentState","RRDL_Development Team",69.75,18,132,945.75]
["Comment 30","RRDL_Development Team",134.25,22.5,130.5,252]
["chkDevelopProject","Identity of Interest",17.25,15.75,259.5,245.25]
["chkOwnerProject","Identity of Interest",17.25,15.75,259.5,260.25]
["chkGeneralPart1Project","Identity of Interest",17.25,15.75,259.5,275.25]
["chkGeneralPart2Project","Identity of Interest",17.25,15.75,259.5,290.25]
["chkSellerOwnersh","Identity of Interest",17.25,15.75,259.5,305.25]
["chkTaxCredProject","Identity of Interest",17.25,15.75,259.5,365.25]
["chkManagemProject","Identity of Interest",17.25,15.75,259.5,335.25]
["chkServiceProject","Identity of Interest",17.25,15.75,259.5,350.25]
["chkArchiteDevelop","Identity of Interest",17.25,15.75,276,320.25]
["chkProcessProject","Identity of Interest",17.25,14.25,259.5,381.75]
["chkGenConProject","Identity of Interest",17.25,15.75,259.5,395.25]
["chkAttorneProject","Identity of Interest",17.25,14.25,259.5,410.25]
["chkOtherDevelope","Identity of Interest",17.25,15.75,276,425.25]
["chkOwnerDevelop","Identity of Interest",17.25,15.75,276,260.25]
["chkGeneralPart1Develop","Identity of Interest",17.25,15.75,276,275.25]
["chkGeneralPart2Develop","Identity of Interest",17.25,15.75,276,290.25]
["chkGeneralPart3Develop","Identity of Interest",17.25,15.75,276,305.25]
["chkTaxCredDevelop","Identity of Interest",17.25,15.75,276,365.25]
["chkManagemDevelop","Identity of Interest",17.25,15.75,276,335.25]
["chkServiceDevelop","Identity of Interest",17.25,15.75,276,350.25]
["chkArchiteProject","Identity of Interest",17.25,15.75,259.5,320.25]
["chkProcessDevelop","Identity of Interest",17.25,14.25,276,381.75]
["chkGenConDevelop","Identity of Interest",17.25,15.75,276,395.25]
["chkAttorneDevelop","Identity of Interest",17.25,14.25,276,410.25]
["chkOtherOwnrMo","Identity of Interest",17.25,15.75,292.5,425.25]
["chkGeneralPart1OwnerM","Identity of Interest",17.25,15.75,292.5,275.25]
["chkGeneralPart2OwnerM","Identity of Interest",17.25,15.75,292.5,290.25]
["chkGeneralPart3OwnerM","Identity of Interest",17.25,15.75,292.5,305.25]
["chkTaxCredOwnerM","Identity of Interest",17.25,15.75,292.5,365.25]
["chkManagemOwnerM","Identity of Interest",17.25,15.75,292.5,335.25]
["chkServiceOwnerM","Identity of Interest",17.25,15.75,292.5,350.25]
["chkArchiteOwnerM","Identity of Interest",17.25,15.75,292.5,320.25]
["chkProcessOwnerM","Identity of Interest",17.25,14.25,292.5,381.75]
["chkGenConOwnerM","Identity of Interest",17.25,15.75,292.5,395.25]
["chkAttorneOwnerM","Identity of Interest",17.25,14.25,292.5,410.25]
["chkOtherGenral1","Identity of Interest",17.25,15.75,309,425.25]
["chkGeneralPart2GeneralPart1","Identity of Interest",17.25,15.75,309,290.25]
["chkGeneralPart3GeneralPart1","Identity of Interest",17.25,15.75,309,305.25]
["chkTaxCredGeneralPart1","Identity of Interest",17.25,15.75,309,365.25]
["chkManagemGeneralPart1","Identity of Interest",17.25,15.75,309,335.25]
["chkServiceGeneralPart1","Identity of Interest",17.25,15.75,309,350.25]
["chkArchitGeneralPart1","Identity of Interest",17.25,15.75,309,320.25]
["chkProcessGeneralPart1","Identity of Interest",17.25,14.25,309,381.75]
["chkGenConGeneralPart1","Identity of Interest",17.25,15.75,309,395.25]
["chkAttorneGeneralPart1","Identity of Interest",17.25,14.25,309,410.25]
["chkOtherGenral2","Identity of Interest",17.25,15.75,326.25,425.25]
["chkGeneralPart3GeneralPart2","Identity of Interest",17.25,15.75,326.25,305.25]
["chkTaxCredGeneralPart2","Identity of Interest",17.25,15.75,326.25,365.25]
["chkManagemGeneralPart2","Identity of Interest",17.25,15.75,326.25,335.25]
["chkServiceGeneralPart2","Identity of Interest",17.25,15.75,326.25,350.25]
["chkArchitGeneralPart2","Identity of Interest",17.25,15.75,326.25,320.25]
["chkProcessGeneralPart2","Identity of Interest",17.25,14.25,326.25,381.75]
["chkGenConGeneralPart2","Identity of Interest",17.25,15.75,326.25,395.25]
["chkAttorneGeneralPart2","Identity of Interest",17.25,14.25,326.25,410.25]
["chkOtherGenral3","Identity of Interest",17.25,15.75,342,425.25]
["chkTaxCredGeneralPart3","Identity of Interest",17.25,15.75,342,365.25]
["chkManagemGeneralPart3","Identity of Interest",17.25,15.75,342,335.25]
["chkEngineeCompany","Identity of Interest",17.25,15.75,342,350.25]
["chkArchitGeneralPart3","Identity of Interest",17.25,15.75,342,320.25]
["chkProcessGeneralPart3","Identity of Interest",17.25,14.25,342,381.75]
["chkGenConGeneralPart3","Identity of Interest",17.25,15.75,342,395.25]
["chkAttorneGeneralPart3","Identity of Interest",17.25,14.25,342,410.25]
["chkArchiteArchite","Identity of Interest",17.25,15.75,358.5,425.25]
["chkManagemArchite","Identity of Interest",17.25,15.75,358.5,335.25]
["chkServiceArchite","Identity of Interest",17.25,15.75,358.5,350.25]
["chkTaxCredArchite","Identity of Interest",17.25,15.75,358.5,365.25]
["chkProcessArchite","Identity of Interest",17.25,14.25,358.5,381.75]
["chkGenConArchite","Identity of Interest",17.25,15.75,358.5,395.25]
["chkAttorneArchite","Identity of Interest",17.25,14.25,358.5,410.25]
["chkManagemManagem","Identity of Interest",17.25,15.75,375,425.25]
["chkServiceManagem","Identity of Interest",17.25,15.75,375,350.25]
["chkArchiteGeneralContr","Identity of Interest",17.25,15.75,375,365.25]
["chkProcessManagem","Identity of Interest",17.25,14.25,375,381.75]
["chkGenConManagem","Identity of Interest",17.25,15.75,375,395.25]
["chkAttorneManagem","Identity of Interest",17.25,14.25,375,410.25]
["chkServiceService","Identity of Interest",17.25,15.75,391.5,425.25]
["chkTaxCredService","Identity of Interest",17.25,15.75,391.5,365.25]
["chkProcessService","Identity of Interest",17.25,14.25,391.5,381.75]
["chkGenConService","Identity of Interest",17.25,15.75,391.5,395.25]
["chkAttorneService","Identity of Interest",17.25,14.25,391.5,410.25]
["chkTaxCredTaxCred","Identity of Interest",16.5,15.75,408,425.25]
["chkProcessTaxCred","Identity of Interest",16.5,14.25,408,381.75]
["chkGenConTaxCred","Identity of Interest",16.5,15.75,408,395.25]
["chkAttorneTaxCred","Identity of Interest",16.5,14.25,408,410.25]
["chkProcessProcess","Identity of Interest",17.25,15.75,424.5,425.25]
["chkGenConProgent","Identity of Interest",17.25,15.75,424.5,395.25]
["chkAttorneProcess","Identity of Interest",17.25,14.25,424.5,410.25]
["chkGenConGenCon","Identity of Interest",16.5,15.75,441.75,425.25]
["chkAttorneGenral","Identity of Interest",16.5,14.25,441,410.25]
["chkAttorneAttorne","Identity of Interest",16.5,15.75,459,425.25]
["btnIdentOfIntNextPage","Identity of Interest",93,21.75,269.25,558]
["btnIdentOfIntPrevPage","Identity of Interest",93,21.75,171,558]
["btnIdentOfIntSave","Identity of Interest",54,21.75,366.75,558]
["chkOtherProect","Identity of Interest",17.25,15.75,259.5,425.25]
["cboCity2","Buildings",159.75,14.25,480,180]
["cboCounty2","Buildings",159.75,14.25,480,180]
["cboCity3","Buildings",159.75,14.25,76.5,180]
["cboCounty3","Buildings",159.75,14.25,76.5,180]
["cboCity4","Buildings",159.75,14.25,480,180]
["cboCounty4","Buildings",159.75,14.25,480,180]
["btnBuildingsNextPage","Buildings",93,21.75,513,392.25]
["btnBuildingsPrevPage","Buildings",74.25,21.75,432.75,392.25]
["btnAddBuildings","Buildings",96.75,22.5,18.75,35.25]
["btnBuildingsSave","Buildings",29.25,21.75,623.25,392.25]
["btnBuildingsRtnProjDesc","Buildings",181.5,21.75,248.25,393]
["chkPreservExistHTCImmRisk","Preservation",24,18,630.75,297.75]
["chkPreservExistHTCHighRisk","Preservation",24,18,630.75,312.75]
["chkPreservStabilizationPlan","Preservation",13.5,22.5,759,296.25]
["chkPreservFedAssistOptOut","Preservation",24,18,26.25,404.25]
["chkPreservFedAssistPrePay","Preservation",24,18,26.25,419.25]
["chkPreservFedAssistMortMaturity","Preservation",24,18,26.25,433.5]
["chkPreservFedAssistContrEligib","Preservation",24,18,26.25,448.5]
["chkHIUnitTypeHTC1","Preservation",13.5,20.25,537,745.5]
["chkHIUnitTypeHTC2","Preservation",13.5,20.25,537,758.25]
["chkHIUnitTypeHTC10","Preservation",13.5,20.25,537,860.25]
["chkHIUnitTypeHTC11","Preservation",13.5,20.25,537,873]
["chkHIUnitTypeHTC12","Preservation",13.5,20.25,537,885.75]
["chkHIUnitTypeHTC13","Preservation",13.5,20.25,537,898.5]
["chkHIUnitTypeHTC15","Preservation",13.5,20.25,537,924]
["chkHIUnitTypeHTC16","Preservation",13.5,20.25,537,936.75]
["chkHIUnitTypeHTC17","Preservation",13.5,20.25,537,949.5]
["chkHIUnitTypeHTC18","Preservation",13.5,20.25,537,962.25]
["chkHIUnitTypeHTC19","Preservation",13.5,20.25,537,975]
["chkHIUnitTypeHTC20","Preservation",13.5,20.25,537,987.75]
["chkHIUnitTypeHTC21","Preservation",13.5,20.25,537,1000.5]
["chkHIUnitTypeHTC6","Preservation",13.5,20.25,537,809.25]
["chkHIUnitTypeHTC7","Preservation",13.5,20.25,537,822]
["chkHIUnitTypeHTC4","Preservation",13.5,20.25,537,783.75]
["chkHIUnitTypeHTC5","Preservation",13.5,20.25,537,796.5]
["chkHIUnitTypeHTC8","Preservation",13.5,20.25,537,834.75]
["chkHIUnitTypeHTC9","Preservation",13.5,20.25,537,847.5]
["chkHIUnitTypeHTC14","Preservation",13.5,20.25,537,911.25]
["chkHIUnitTypeHTC3","Preservation",13.5,20.25,537,771]
["chkHIUnitTypeHOME2","Preservation",13.5,20.25,552,758.25]
["chkHIUnitTypeHOME3","Preservation",13.5,20.25,552,771]
["chkHIUnitTypeHOME4","Preservation",13.5,20.25,552,783.75]
["chkHIUnitTypeHOME5","Preservation",13.5,20.25,552,796.5]
["chkHIUnitTypeHOME6","Preservation",13.5,20.25,552,809.25]
["chkHIUnitTypeHOME7","Preservation",13.5,20.25,552,822]
["chkHIUnitTypeHOME8","Preservation",13.5,20.25,552,834.75]
["chkHIUnitTypeHOME9","Preservation",13.5,20.25,552,847.5]
["chkHIUnitTypeHOME10","Preservation",13.5,20.25,552,860.25]
["chkHIUnitTypeHOME11","Preservation",13.5,20.25,552,873]
["chkHIUnitTypeHOME12","Preservation",13.5,20.25,552,885.75]
["chkHIUnitTypeHOME13","Preservation",13.5,20.25,552,898.5]
["chkHIUnitTypeHOME14","Preservation",13.5,20.25,552,911.25]
["chkHIUnitTypeHOME15","Preservation",13.5,20.25,552,924]
["chkHIUnitTypeHOME16","Preservation",13.5,20.25,552,936.75]
["chkHIUnitTypeHOME17","Preservation",13.5,20.25,552,949.5]
["chkHIUnitTypeHOME18","Preservation",13.5,20.25,552,962.25]
["chkHIUnitTypeHOME19","Preservation",13.5,20.25,552,975]
["chkHIUnitTypeHOME20","Preservation",13.5,20.25,552,987.75]
["chkHIUnitTypeHOME21","Preservation",13.5,20.25,552,1000.5]
["chkHIUnitTypeHOME1","Preservation",13.5,20.25,552,745.5]
["chkHIUnitTypeLTH3","Preservation",13.5,20.25,566.25,771]
["chkHIUnitTypeLTH4","Preservation",13.5,20.25,566.25,783.75]
["chkHIUnitTypeLTH5","Preservation",13.5,20.25,566.25,796.5]
["chkHIUnitTypeLTH6","Preservation",13.5,20.25,566.25,809.25]
["chkHIUnitTypeLTH7","Preservation",13.5,20.25,566.25,822]
["chkHIUnitTypeLTH8","Preservation",13.5,20.25,566.25,834.75]
["chkHIUnitTypeLTH9","Preservation",13.5,20.25,566.25,847.5]
["chkHIUnitTypeLTH10","Preservation",13.5,20.25,566.25,860.25]
["chkHIUnitTypeLTH11","Preservation",13.5,20.25,566.25,873]
["chkHIUnitTypeLTH12","Preservation",13.5,20.25,566.25,885.75]
["chkHIUnitTypeLTH13","Preservation",13.5,20.25,566.25,898.5]
["chkHIUnitTypeLTH14","Preservation",13.5,20.25,566.25,911.25]
["chkHIUnitTypeLTH15","Preservation",13.5,20.25,566.25,924]
["chkHIUnitTypeLTH16","Preservation",13.5,20.25,566.25,936.75]
["chkHIUnitTypeLTH17","Preservation",13.5,20.25,566.25,949.5]
["chkHIUnitTypeLTH18","Preservation",13.5,20.25,566.25,962.25]
["chkHIUnitTypeLTH19","Preservation",13.5,20.25,566.25,975]
["chkHIUnitTypeLTH20","Preservation",13.5,20.25,566.25,987.75]
["chkHIUnitTypeLTH21","Preservation",13.5,20.25,566.25,1000.5]
["chkHIUnitTypeLTH1","Preservation",13.5,20.25,566.25,745.5]
["chkHIUnitTypeLTH2","Preservation",13.5,20.25,566.25,758.25]
["chkHIncUnitTypeRRDL4","Preservation",13.5,20.25,579.75,783.75]
["chkHIncUnitTypeRRDL5","Preservation",13.5,20.25,579.75,796.5]
["chkHIncUnitTypeRRDL6","Preservation",13.5,20.25,579.75,809.25]
["chkHIncUnitTypeRRDL7","Preservation",13.5,20.25,579.75,822]
["chkHIncUnitTypeRRDL8","Preservation",13.5,20.25,579.75,834.75]
["chkHIncUnitTypeRRDL9","Preservation",13.5,20.25,579.75,847.5]
["chkHIncUnitTypeRRDL10","Preservation",13.5,20.25,579.75,860.25]
["chkHIncUnitTypeRRDL11","Preservation",13.5,20.25,579.75,873]
["chkHIncUnitTypeRRDL12","Preservation",13.5,20.25,579.75,885.75]
["chkHIncUnitTypeRRDL13","Preservation",13.5,20.25,579.75,898.5]
["chkHIncUnitTypeRRDL14","Preservation",13.5,20.25,579.75,911.25]
["chkHIncUnitTypeRRDL15","Preservation",13.5,20.25,579.75,924]
["chkHIncUnitTypeRRDL16","Preservation",13.5,20.25,579.75,936.75]
["chkHIncUnitTypeRRDL17","Preservation",13.5,20.25,579.75,949.5]
["chkHIncUnitTypeRRDL18","Preservation",13.5,20.25,579.75,962.25]
["chkHIncUnitTypeRRDL19","Preservation",13.5,20.25,579.75,975]
["chkHIncUnitTypeRRDL20","Preservation",13.5,20.25,579.75,987.75]
["chkHIncUnitTypeRRDL21","Preservation",13.5,20.25,579.75,1000.5]
["chkHIncUnitTypeMR1","Preservation",13.5,20.25,579.75,745.5]
["chkHIncUnitTypeRRDL2","Preservation",13.5,20.25,579.75,758.25]
["chkHIncUnitTypeRRDL3","Preservation",13.5,20.25,579.75,771]
["chkHIUnitTypeEmplOcc4","Preservation",13.5,20.25,594,783.75]
["chkHIUnitTypeEmplOcc6","Preservation",13.5,20.25,594,809.25]
["chkHIUnitTypeEmplOcc7","Preservation",13.5,20.25,594,822]
["chkHIUnitTypeEmplOcc8","Preservation",13.5,20.25,594,834.75]
["chkHIUnitTypeEmplOcc9","Preservation",13.5,20.25,594,847.5]
["chkHIUnitTypeEmplOcc10","Preservation",13.5,20.25,594,860.25]
["chkProjDescAquisition","Preservation",13.5,20.25,594,873]
["chkHIUnitTypeEmplOcc12","Preservation",13.5,20.25,594,885.75]
["chkHIUnitTypeEmplOcc13","Preservation",13.5,20.25,594,898.5]
["chkHIUnitTypeEmplOcc14","Preservation",13.5,20.25,594,911.25]
["chkHIUnitTypeEmplOcc15","Preservation",13.5,20.25,594,924]
["chkHIUnitTypeEmplOcc16","Preservation",13.5,20.25,594,936.75]
["chkHIUnitTypeEmplOcc18","Preservation",13.5,20.25,594,962.25]
["chkHIUnitTypeEmplOcc19","Preservation",13.5,20.25,594,975]
["chkHIUnitTypeEmplOcc20","Preservation",13.5,20.25,594,987.75]
["chkHIUnitTypeEmplOcc21","Preservation",13.5,20.25,594,1000.5]
["chkHIUnitTypeEmplOcc1","Preservation",13.5,20.25,594,745.5]
["chkHIUnitTypeEmplOcc2","Preservation",13.5,20.25,594,758.25]
["chkHIUnitTypeEmplOcc3","Preservation",13.5,20.25,594,771]
["chkHIUnitTypeEmplOcc5","Preservation",13.5,20.25,594,796.5]
["chkHIUnitTypeEmplOcc17","Preservation",13.5,20.25,594,949.5]
["chkHIUnitTypeOwner6","Preservation",13.5,20.25,607.5,809.25]
["chkHIUnitTypeOwner7","Preservation",13.5,20.25,607.5,822]
["chkHIUnitTypeOwner8","Preservation",13.5,20.25,607.5,834.75]
["chkHIUnitTypeOwner9","Preservation",13.5,20.25,607.5,847.5]
["chkHIUnitTypeOwner10","Preservation",13.5,20.25,607.5,860.25]
["chkHIUnitTypeOwner11","Preservation",13.5,20.25,607.5,873]
["chkHIUnitTypeOwner12","Preservation",13.5,20.25,607.5,885.75]
["chkHIUnitTypeOwner13","Preservation",13.5,20.25,607.5,898.5]
["chkHIUnitTypeOwner14","Preservation",13.5,20.25,607.5,911.25]
["chkHIUnitTypeOwner15","Preservation",13.5,20.25,607.5,924]
["chkHIUnitTypeOwner16","Preservation",13.5,20.25,607.5,936.75]
["chkHIUnitTypeOwner17","Preservation",13.5,20.25,607.5,949.5]
["chkHIUnitTypeOwner18","Preservation",13.5,20.25,607.5,962.25]
["chkHIUnitTypeOwner19","Preservation",13.5,20.25,607.5,975]
["chkHIUnitTypeOwner20","Preservation",13.5,20.25,607.5,987.75]
["chkHIUnitTypeOwner21","Preservation",13.5,20.25,607.5,1000.5]
["chkHIUnitTypeOwner1","Preservation",13.5,20.25,608.25,745.5]
["chkHIUnitTypeOwner2","Preservation",13.5,20.25,608.25,758.25]
["chkHIUnitTypeOwner3","Preservation",13.5,20.25,608.25,771]
["chkHIUnitTypeOwner4","Preservation",13.5,20.25,607.5,783.75]
["chkHIUnitTypeOwner5","Preservation",13.5,20.25,607.5,796.5]
["chkPreservAgencyAllocation","Preservation",24,18,32.25,553.5]
["chkPreservSuballocator","Preservation",24,18,32.25,568.5]
["btnPreservationPrevPage","Preservation",135.75,21.75,357,1072.5]
["btnPreservationSave","Preservation",54,21.75,497.25,1072.5]
["Comment 163","Preservation",108,48,934.5,738.75]
["Comment 165","Preservation",77.25,22.5,934.5,666]
["Comment 166","Preservation",108,47.25,720.75,124.5]
["Comment 167","Preservation",108,57.75,720.75,137.25]
["Comment 168","Preservation",108,59.25,720.75,150]
["cboCity2","RRDL_Buildings",159.75,14.25,556.5,180]
["cboCounty2","RRDL_Buildings",159.75,14.25,556.5,180]
["cboCity3","RRDL_Buildings",159.75,14.25,249.75,180]
["cboCounty3","RRDL_Buildings",159.75,14.25,249.75,180]
["cboCity4","RRDL_Buildings",159.75,14.25,556.5,180]
["cboCounty4","RRDL_Buildings",159.75,14.25,556.5,180]
["btnBuildingsNextPage","RRDL_Buildings",93,21.75,476.25,392.25]
["btnBuildingsPrevPage","RRDL_Buildings",74.25,21.75,396,392.25]
["btnAddBuildings","RRDL_Buildings",96.75,22.5,18.75,35.25]
["btnBuildingsSave","RRDL_Buildings",48,21.75,575.25,392.25]
["btnBuildingsRtnProjDesc","RRDL_Buildings",84,21.75,306.75,392.25]
["btnRRDLBuildingsRtnProjDesc","RRDL_Buildings",142.5,21.75,249,392.25]